{"text_format":"1","workbook":"xlsx","n_sheets":21,"sheets":["Instructions","Revision History","Changes","Order By Size","Room Layout (Inputs)","Calcs","LU Table","LU Table-Gutter","Order BOM's","New Order BOM's","Purchase Order (RL)","Bulk Order Parts List","Room Layout Summary","Order Summary","Layout Dimensions","Room Layout Image","Bench Pictures","Existing Comparison","Slope-Fractional","Slope-Decimal","Slope-Metric"],"not_rendered":{"charts":4,"images":22,"macros":0,"external_links":0,"defined_names":14,"comments":2,"pivot_tables":0},"unopened":[{"sheet":"Room Layout Image","index":15,"reason":"not_a_worksheet"}],"bounds":{"document_bytes":16777216,"sheet_cells":100000,"rows_first":2000,"rows_last":500,"rows_between":2000,"halvings":0,"cell_chars":16384,"cell_head_chars":4096},"cells_cut":0,"cells_raw":0,"read":"whole","date_system":"1900"}

{"sheet":"Instructions","index":0,"n_rows":25,"n_cols":2,"rows_kept":25,"cut":false,"hidden":true,"merged":[[0,0,0,1],[14,0,14,1]]}
["How to Create the Order By Size File"]
[1,"Save a copy of the master file.  Format is YYYY.MM.DD US Order By Size.xlsm.  The Date should be the same date as the master file."]
[2,"Go to the calcs tab and set Active Tool Being Used to 2.  This is the number in the red highlighted cell."]
[3,"Hide all tabs that are colored green"]
[4,"Hide all tabs that are colored gray"]
[5,"The packing list tab will stay visible"]
[6,"One at a time, apply protection to the turquoise colored tabs.  Verify options are checked like this image."]
[7,"Apply protection to the packing list tab."]
[8,"Hide the instructions tab"]
[9,"Apply protection to the entire Workbook"]
[10,"Save the file."]
[]
[]
[]
["How to Create the Room Layout File"]
[1,"Save a copy of the master file.  Format is YYYY.MM.DD US Room Layout.xlsm.  The Date should be the same date as the master file."]
[2,"Go to the calcs tab and set Active Tool Being Used to 1.  This is the number in the red highlighted cell."]
[3,"Hide all tabs that are colored turquoise"]
[4,"Hide all tabs that are colored gray"]
[5,"The packing list tab will stay visible"]
[6,"One at a time, apply protection to the green colored tabs.  Verify options are checked like this image."]
[7,"Apply protection to the packing list tab."]
[8,"Hide the instructions tab"]
[9,"Apply protection to the entire Workbook"]
[10,"Save the file."]

{"sheet":"Revision History","index":1,"n_rows":14,"n_cols":5,"rows_kept":14,"cut":false,"hidden":true,"merged":[]}
["Date","File Name Date","Description","OBS File","RLO File"]
["2019-01-08","2019.01.08","Fixing a print selection area on the bulk order parts list","X","X"]
["2019-02-11","2019.02.11","Fixed the B dimension for 5' benches.  This needs to be an additional 6\" when there is a 5' Bench."]
["2019-02-11","2019.02.11","Updated part numbers that were in 10102-xxxxx format to the latest 7xxxxx format"]
["2019-02-11","2019.02.11","Upated price of Bond Three Sealant from $12 to $13"]
["2019-02-12","2019.02.12","Changed reference for B dimension to number of 5' benches, Calcs Cell F71"]
["2019-04-08","2019.04.08","Fixed BOM calculation error for individual parts for trellis mount,  thumb screw & 1\" screws.  It didn't account for the 5' bench.  Also added calculation descriptions for most of the remaing parts."]
["2019-07-22","2019.07.22","Added capability for 2', 3' & 4' end sections to the bench to provide for added capability."]
["2019-10-16","2019.10.14","Removed reference to Box Kits.  Updated calculations on the order BOM tabs.  Added new part numbers.  Changed slightly the amount of spare screws due to BOM calculation changes"]
["2019-10-29","2019.10.29","Added End Cap PN, fixed calculations.  Added 5' summary to Room Layout PO"]
["2020-04-15","2020.04.15","1. Corrected the middle tray count for OBS 65'6\" length from 12 to 11.\n2. Added logic to calcs C41 to prevent values below 24.\n3. Removed logic from calcs C54 that was left over from full length bench calcs.  This caused area to zero out on short benches.\n4. Room Layout B7 Reduced room width to 6' min (changed data validation requirements)\n5. Unlocked specific description cells on Room Layout Tab.\n6. Trellis mount PN updated to MS3783 (this is the rev B of the part).\n7. Added screw kits, outlined SKU for each kit.\n8. Updated bulk kit SKU numbers & resale prices."]
["2022-03-28",null,"Updated pricing (Josh C.)"]
["2022-09-07","2022.09.07","Updating images and verbiage, updated layout and print margins, added Gutter Tray Area comparison, updated so room name goes to top of charts"]
["2022-09-20","2022.09.20","1. Height \"H\" callout images being incorrect\n2. Printable pages\n3. Room dims on \"Room Layout Summary\" tab\n4. Benching Area callouts for Slide Bench on \"Room Layout Summary\" tab\n5. Benching and Planting Area callouts for Gutter Tray on \"Room Layout Summary\" tab\n6. Gutter tray % of potential airflow callout only when Gutter tray is selected on \"Room Layout Summary\" tab (marketing, please let me know if verbiage needs updated)\n7. \"Room name\" input from first page can be reflected on each layout chart/graph\n8. Room dimension inputs to the nearest decimal inch\n9. Minimum and Maximum Center Aisles calculated and pushed to multiple tabs\n10. Updating Botanicare logo so it's got correct aspect ratio\n11. Removing \"IFS\" function and replacing with nested \"IF\" so this is backwards compatible with older versions of excel\n12. Making values shrink to size in cell in \"Room Layout Summary\" tab."]

{"sheet":"Changes","index":2,"n_rows":39,"n_cols":3,"rows_kept":39,"cut":false,"hidden":true,"merged":[]}
[null,null,"Changes on the other sheets are highlighted in pink"]
[]
["Sheet - field","Cell","Formula"]
["Calcs","O4","=VLOOKUP(C53,'LU Table'!D4:F79,3)"]
["Bench Design Parameters",null,"Add columns for tri-lock sizes, add if statements to calcs below that, or at the top dimensions so I don't have to change too many things"]
["LU Table",null,"arches # to actual, not n-1"]
[]
["Calcs - Seams/Arches",null,"Lookup table had n-1 arches, but +1 arch added in later calc, adjusted table to correct number and removed +1. Seams calc'd as (arches-1), but I'm thinking that is incorrect because arches already lower by 1"]
["Calcs - Anti-tip calc was blank for 5'",null,"Updated to include anti-tip for 5' changed in Calcs and Order BOM"]
["Calcs",null,"Added Gutter Tray specific dimensions/ values"]
["Calcs",null,"Updated width calcs"]
["Calcs",null,"Updated Math to calc tray numbers"]
["Order BOMs",null,"Updated kits math"]
["Calcs",null,"Updated Plot calculation"]
["Calcs",null,"Updated New-Math to make bench part number"]
["New Order BOMs",null,"Added Gutter tray PNs"]
["Order BOMs",null,"Added Gutter tray line items"]
["Purchase Order/Purchase Order(RL)",null,"Updated line items to include Gutter trays"]
["Calcs",null,"Updated Order by Size logic"]
["Calcs/Order BOMs",null,"Added Tri-lock calculations "]
["Room Layout/Calcs",null,"Added dropdown for 3 bench options, updated all logic in Calcs to "]
["Calcs",null,"Add new plot columns for Gutter tray to be able to show different color"]
["Room Layout/Bench Pictures",null,"Added summary of bench selection and added pictures in \"Bench Pictures\" tab to dynamic display what is chosen"]
[]
["TODO"]
["New Order BOMs",null,"Add prices"]
[]
[]
["NOT CHANGED"]
["Order BOM's",null,"Most SKU/ part logic not updated, quickly added gutter tray placeholder then left alone"]
["Bulk Part Order"]
[]
[]
[]
["Changes 2022/3/22",null,"Updated Room Layout to remove # of instructions"]
[null,null,"Created \"Order Summary\" which fully summarizes room/bench dimensions and includes bench graphics in a printable format"]
[null,null,"Modified \"Room Layout Summary\" to include bench LxWxH and quantity, in printable format"]
[null,null,"Add duplicate tabs for Order Summary and Room Layout Summary that remove gutter references in graphs"]
[null,null,"Changed Room Layout to not include Gutter trays in dropdown \n             This is done by going to Formulas Tab> Name Manager > Modify range of BenchType, can easily be adjusted to include Gutters again"]

{"sheet":"Order By Size","index":3,"n_rows":32,"n_cols":6,"rows_kept":32,"cut":false,"hidden":true,"merged":[[27,5,27,7],[28,5,28,7],[29,5,29,7],[31,1,31,3],[22,5,22,7],[23,5,23,7],[24,5,24,7],[25,5,25,7],[26,5,26,7],[16,5,16,7],[17,5,17,7],[18,5,18,7],[20,5,20,7],[21,5,21,7],[11,5,11,7],[12,5,12,7],[13,5,13,7],[14,5,14,7],[15,5,15,7],[1,4,1,8],[7,1,7,7],[8,5,8,7],[9,5,9,7],[10,5,10,7]]}
[]
[null,null,null,null,"Order By Size"]
[]
[]
[]
[]
[]
[null,"Bench Selections"]
[null,"Width","Length","Height","Qty","Notes"]
[null,"4'",null,null,2]
[null,"4'"]
[null,"4'"]
[null,"4'"]
[null,"4'"]
[null,"4'"]
[null,"4'"]
[null,"4'"]
[null,"4'"]
[null,"4'"]
[]
[null,"5'"]
[null,"5'"]
[null,"5'"]
[null,"5'"]
[null,"5'"]
[null,"5'"]
[null,"5'"]
[null,"5'"]
[null,"5'"]
[null,"5'"]
[]
[null,"Number of Instructions",null,null,1]

{"sheet":"Room Layout (Inputs)","index":4,"n_rows":62,"n_cols":6,"rows_kept":62,"cut":false,"hidden":false,"merged":[[55,1,55,2],[14,0,14,5],[60,1,60,2],[21,0,21,5],[54,1,54,2],[34,1,34,2],[34,3,34,4],[51,1,51,2],[24,3,24,5],[22,3,22,5],[34,5,37,5],[27,1,27,2],[26,3,26,5],[26,1,26,2],[27,3,27,5],[48,1,48,2],[61,1,61,2],[57,1,57,2],[41,0,41,20],[23,3,23,4],[28,0,28,5],[58,1,58,2],[59,1,59,2],[43,0,43,3],[46,0,46,3],[56,0,56,3],[44,1,44,2],[45,1,45,2],[49,1,49,2],[50,1,50,2],[52,1,52,2],[53,1,53,2],[25,4,25,5],[20,3,20,5],[17,3,17,5],[1,1,1,5],[3,0,3,5],[4,1,4,4],[4,5,8,5],[10,1,10,5],[11,1,11,5],[12,1,12,5],[13,1,13,5],[17,1,17,2],[9,1,9,5]]}
[]
[null,"Track Bench Room Layout Calculator"]
[]
["Room Size"]
["Room Name","Update in \"Room Layout\" Tab",null,null,null,"For the best user experience, Botanicare recommends a max bench length of 60.5' - exceeding this length requires customer acknowledgement."]
["Room Length",40,"Feet",0,"Inches"]
["Room Width",40,"Feet",0,"Inches"]
["Rotate Room Layout 90 Degrees"]
["Number of Identical Rooms",1]
["Worksheet Name For Room Side","Specific Description for Room Side"]
["Drain Side"]
["Front Side"]
["Left Side"]
["Right Side"]
["Bench, Aisle & Wall Spacing"]
["Bench Dist to Left Wall at End of Track",0,"Inches"]
["Bench Dist to Right Wall at End of Track",0,"Inches"]
["Handle Location"]
["Bench Distance to Drain Wall",0,"Inches"]
["Bench Distance to Front Wall",0,"Inches"]
["Target Min Aisle Between Benches",null,"Inches"]
["Bench Configuration Selections"]
["Bench Type Desired"]
["Bench Height",null,"Inches",{"$f":"IF(Calcs!P4=1,\"SELECT HEIGHT\",\"\")","v":"SELECT HEIGHT"}]
["Bench Widths Desired"]
["Maximum 5' Bench Qty (Override)",3,null,null,"Mixed only - adjust to maximize bench area"]
["Select width of left bench",null,null,{"$f":"IF(Calcs!C111=1,\"Please select the width of bench on the left side of the room.\",\"\")","v":"Please select the width of bench on the left side of the room."}]
["Select width of right bench",null,null,{"$f":"IF(Calcs!C112=1,\"Please select the width of bench on the right side of the room.\",\"\")","v":"Please select the width of bench on the right side of the room."}]
["Details of the Actual Room & Bench Configuration"]
[null,"4' Wide","5' Wide","Total"]
["Bench Width Types",{"$f":"Calcs!E63","v":9},{"$f":"Calcs!F63","v":0},{"$f":"Calcs!G63","v":9}]
["Planting Area",{"$f":"Calcs!E66","v":1309.0784999999998},{"$f":"Calcs!F66","v":0},{"$f":"Calcs!G66","v":1309.0784999999998},"Sq Feet"]
["Bench Area",{"$f":"(Calcs!E63*(Calcs!C53*Calcs!C9))/144","v":1496.0625},{"$f":"(Calcs!F63*(Calcs!C53*Calcs!D9))/144","v":0},{"$f":"B33+C33","v":1496.0625},"Sq Feet"]
["Bench Lengths for Room",null,null,{"$f":"Calcs!C54","v":39.5},"Feet"]
[null,"Minimum",null,"Maximum"]
["Left Side Actual Aisle Widths",{"$f":"Calcs!C106","v":0},"Inches",{"$f":"Calcs!C107","v":25.5},"Inches"]
["Right Side Actual Aisle Widths",{"$f":"Calcs!C108","v":0},"Inches",{"$f":"Calcs!C109","v":25.5},"Inches"]
["Room Center Aisle Widths",0,"Inches",{"$f":"Calcs!C100","v":25.5},"Inches"]
["Drain Side Aisle Actual Width",{"$f":"B19","v":0},"Inches"]
["Front Side Aisle Actual Width",{"$f":"Calcs!C57","v":3},"Inches"]
[]
["Summary"]
[]
["Room"]
["Length",{"$f":"Calcs!$C$35/12","v":40},null,"Feet"]
["Width",{"$f":"Calcs!$C$36/12","v":40},null,"Feet"]
["Bench"]
["Type",null,{"$f":"INDEX(Calcs!$J$38:$J$40,Calcs!$C$41)","v":"Track Bench w/ OG"}]
["Bench Length",{"$f":"D34","v":39.5},null,"Feet"]
["# of 4' Wide",{"$f":"Calcs!$E$63","v":9},null,"Benches"]
["# of 5' Wide",{"$f":"Calcs!$F$63","v":0},null,"Benches"]
["Total Benches",{"$f":"Calcs!$G$63","v":9},null,"Benches"]
["Height (H)",{"$f":"INDEX(Calcs!$I$31:$I$34,Calcs!$P$4,1)","v":"--"},null,"Inches"]
["Max Center Aisle - W(A)",{"$f":"D38","v":25.5},null,"Inches"]
[{"$f":"IF(Calcs!$C$60=3,\"Width1 (W1)\",\"Width (W)\")","v":"Width (W)"},{"$f":"IF(Calcs!$C$41=1, IF(Calcs!$C$60=2, Calcs!$D$9,Calcs!$C$9), IF(Calcs!$C$60=2, Calcs!$F$9,Calcs!$E$9))","v":50.5},null,"Inches"]
[{"$f":"IF(A55=\"Width1 (W1)\",\"Width2 (W2)\",\"\")","v":""},{"$f":"IF(A55=\"Width1 (W1)\",Calcs!D9,\"\")","v":""},null,{"$f":"IF(A55=\"Width1 (W1)\",\"Inches\",\"\")","v":""}]
["Trays"]
["Planting Area",{"$f":"Calcs!$G$66","v":1309.0784999999998},null,"Sq Feet"]
["# of 4' rows",{"$f":"IF(Calcs!$C$41=1,Calcs!$E$63,0)","v":9},null,"Rows"]
["# of 5' rows",{"$f":"IF(Calcs!$C$41=1,Calcs!$F$63,0)","v":0},null,"Rows"]
["# of Gutter rows",{"$f":"IF(Calcs!$C$41=2,Calcs!$E$63*3 + Calcs!$F$63*4, 0)","v":0},null,"Rows"]
["Total rows",{"$f":"SUM(B59:C61)","v":9},null,"Rows"]

{"sheet":"Calcs","index":5,"n_rows":368,"n_cols":38,"rows_kept":368,"cut":false,"hidden":true,"merged":[[93,0,93,6],[60,2,60,3],[60,4,60,6],[70,0,70,6],[86,0,86,6],[3,8,14,8],[15,8,26,8],[32,0,32,6],[39,0,39,6],[58,0,58,6],[5,0,5,3],[6,2,6,3],[6,4,6,5],[29,16,29,19],[35,9,35,12],[2,42,2,43],[2,44,2,45],[2,46,2,47],[0,0,0,1],[0,5,0,6],[0,10,0,31],[1,12,1,13],[2,18,2,19],[2,20,2,21],[2,22,2,23]]}
["Activate Tool Being Used",null,1,null,null,"Front End Short Tray Lookup",null,null,null,null,"Math to calculate quantities to drive PO & BOM"]
["Room Layout",1,null,null,null,"Fractional","Length [in]",null,null,null,null,null,"Length"]
["Order by Size",2,null,null,null,0,0,null,null,null,"Chart Row","Active","Length (ft)","Index#","Arch#","Height","Bench QTY","# of Rooms","# of 12 Arches",null,"# of 20 Arches",null,"# of 30 Arches",null,"Drain","Middle","5' End ","4' End ","3' End ","2' End ","+Anti-tip","Seams","Trilock"]
[null,null,null,null,null,0.4,24,null,"4 Foot Wide","Room Layout",0,{"$f":"IF($C$1=1,1,0)","v":1},{"$f":"C54","v":39.5},null,{"$f":"VLOOKUP(C54,'LU Table'!D4:F79,3)","v":9},1,{"$f":"IF(OR(L4=0,P4=1),0,E63)","v":0},{"$f":"'Room Layout (Inputs)'!B9","v":1},{"$f":"IF($P4=2,1,0)","v":0},{"$f":"($O4)*$Q4*S4*R4","v":0},{"$f":"IF($P4=3,1,0)","v":0},{"$f":"($O4)*$Q4*U4*R4","v":0},{"$f":"IF($P4=4,1,0)","v":0},{"$f":"($O4)*$Q4*W4*R4","v":0},{"$f":"Q4*R4","v":0},{"$f":"C48*Q4*R4","v":0},{"$f":"C49*Q4*R4","v":0},{"$f":"C52*Q4*R4","v":0},{"$f":"C51*Q4*R4","v":0},{"$f":"C50*Q4*R4","v":0},{"$f":"VLOOKUP(C54,'LU Table'!D4:L79,9)*Q4*R4","v":0},{"$f":"(O4-2)*Q4*R4","v":0},{"$f":"IF(OR($C$41=2,$C$41=3), O4*Q4*R4, 0)","v":0}]
[null,null,null,null,null,0.6,36,null,null,"Order by Size",1,{"$f":"IF($C$1=1,0,1)","v":0},{"$f":"VLOOKUP(N5,LookUp,2)","v":10.5},5,{"$f":"VLOOKUP(N5,'LU Table'!$C$3:$F$79,4)","v":3},3,{"$f":"IF(OR(N5=1,P5=1,L5=0),0,'Order By Size'!E10)","v":0},"NA",{"$f":"IF($P5=2,1,0)","v":0},{"$f":"($O5)*$Q5*S5","v":0},{"$f":"IF($P5=3,1,0)","v":1},{"$f":"($O5)*$Q5*U5","v":0},{"$f":"IF($P5=4,1,0)","v":0},{"$f":"($O5)*$Q5*W5","v":0},{"$f":"Q5","v":0},{"$f":"VLOOKUP(N5,LookUp,5)*Q5","v":0},{"$f":"VLOOKUP(N5,LookUp,6)*Q5","v":0},{"$f":"VLOOKUP(N5,LookUp,7)*Q5","v":0},{"$f":"VLOOKUP(N5,LookUp,8)*Q5","v":0},{"$f":"VLOOKUP(N5,LookUp,9)*Q5","v":0},{"$f":"VLOOKUP(N5,LookUp,10)*Q5","v":0},{"$f":"(O5-2)*Q5","v":0},{"$f":"IF(OR($C$41=2,$C$41=3), VLOOKUP(N5,LookUp_Gutter,14)*Q5, 0)","v":0}]
["Bench Design Parameters",null,null,null,null,0.8,48,null,null,"Order by Size",2,0,"--",1,{"$f":"VLOOKUP(N6,'LU Table'!$C$3:$F$79,4)","v":0},1,{"$f":"IF(OR(N6=1,P6=1,L6=0),0,'Order By Size'!E11)","v":0},"NA",0,{"$f":"($O6)*$Q6*S6","v":0},0,{"$f":"($O6)*$Q6*U6","v":0},0,{"$f":"($O6)*$Q6*W6","v":0},{"$f":"Q6","v":0},0,0,0,0,0,0,{"$f":"(O6-2)*Q6","v":0},{"$f":"IF(OR($C$41=2,$C$41=3), VLOOKUP(N6,LookUp_Gutter,14)*Q6, 0)","v":0}]
[null,null,"OG Tray",null,"Gutter Tray",null,null,null,null,"Order by Size",3,0,"--",1,{"$f":"VLOOKUP(N7,'LU Table'!$C$3:$F$79,4)","v":0},1,{"$f":"IF(OR(N7=1,P7=1,L7=0),0,'Order By Size'!E12)","v":0},"NA",0,0,0,0,0,0,0,0,0,0,0,0,{"$f":"VLOOKUP(N7,LookUp,10)*Q7","v":0},0,0]
[null,null,"4'","5'","4'","5'",null,null,null,"Order by Size",4,0,"--",1,{"$f":"VLOOKUP(N8,'LU Table'!$C$3:$F$79,4)","v":0},1,{"$f":"IF(OR(N8=1,P8=1,L8=0),0,'Order By Size'!E13)","v":0},"NA",0,0,0,0,0,0,0,0,0,0,0,0,0,0,0]
["Bench Widths, Max Outside Dim","[in]",50.5,62.5,50.5,62.5,null,null,null,"Order by Size",5,0,"--",1,{"$f":"VLOOKUP(N9,'LU Table'!$C$3:$F$79,4)","v":0},1,{"$f":"IF(OR(N9=1,P9=1,L9=0),0,'Order By Size'!E14)","v":0},"NA",0,0,0,0,0,0,0,0,0,0,0,0,0,0,0]
["Width Border, Per Side","[in]",3.05,3.05,null,null,null,null,null,"Order by Size",6,0,"--",1,{"$f":"VLOOKUP(N10,'LU Table'!$C$3:$F$79,4)","v":0},1,{"$f":"IF(OR(N10=1,P10=1,L10=0),0,'Order By Size'!E15)","v":0},"NA",0,0,0,0,0,0,{"$f":"Q10","v":0},0,0,0,0,0,0,0,0]
["Available Tray Planting Width","[in]",{"$f":"C9-(2*C10)","v":44.4},{"$f":"D9-(2*D10)","v":56.4},{"$f":"9.5*3","v":28.5},{"$f":"9.5*4","v":38},null,null,null,"Order by Size",7,0,"--",1,{"$f":"VLOOKUP(N11,'LU Table'!$C$3:$F$79,4)","v":0},1,{"$f":"IF(OR(N11=1,P11=1,L11=0),0,'Order By Size'!E16)","v":0},"NA",0,0,0,0,0,0,0,0,0,0,0,0,0,0,0]
["Tray Slide Distance","[in]",17,null,17,null,null,null,null,"Order by Size",8,0,"--",1,{"$f":"VLOOKUP(N12,'LU Table'!$C$3:$F$79,4)","v":0},1,{"$f":"IF(OR(N12=1,P12=1,L12=0),0,'Order By Size'!E17)","v":0},"NA",0,0,0,0,0,0,0,0,0,0,0,0,0,0,0]
["Middle Tray Length","[in]",60,null,60,null,null,null,null,"Order by Size",9,0,"--",1,{"$f":"VLOOKUP(N13,'LU Table'!$C$3:$F$79,4)","v":0},1,{"$f":"IF(OR(N13=1,P13=1,L13=0),0,'Order By Size'!E18)","v":0},"NA",0,0,0,0,0,0,0,0,0,0,0,0,0,0,0]
["Drain End Tray Length","[in]",66,null,66,null,null,null,null,"Order by Size",10,0,"--",1,{"$f":"VLOOKUP(N14,'LU Table'!$C$3:$F$79,4)","v":0},1,{"$f":"IF(OR(N14=1,P14=1,L14=0),0,'Order By Size'!E19)","v":0},"NA",0,0,0,0,0,0,0,0,0,0,0,0,0,0,0]
["Drain End Tray Length Border","[in]",1.1299999999999999,null,1.5,null,null,null,null,null,"Totals",null,null,null,null,null,{"$f":"SUM(Q4:Q14)","v":0},null,null,{"$f":"SUM(T4:T14)","v":0},null,{"$f":"SUM(V4:V14)","v":0},null,{"$f":"SUM(X4:X14)","v":0},0,0,0,0,0,0,{"$f":"SUM(AE4:AE14)","v":0},0,0]
["Available Drain Tray Planting Length","[in]",{"$f":"C14-C15","v":64.87},null,{"$f":"E14-E15","v":64.5},null,null,null,"5 Foot Wide","Room Layout",0,{"$f":"IF($C$1=1,1,0)","v":1},{"$f":"M4","v":39.5},null,{"$f":"O4","v":9},{"$f":"P4","v":1},{"$f":"IF(OR(L16=0,P16=1),0,F63)","v":0},{"$f":"'Room Layout (Inputs)'!B9","v":1},{"$f":"IF($P16=2,1,0)","v":0},{"$f":"($O16)*$Q16*S16*R16","v":0},{"$f":"IF($P16=3,1,0)","v":0},{"$f":"($O16)*$Q16*U16*R16","v":0},{"$f":"IF($P16=4,1,0)","v":0},{"$f":"($O16)*$Q16*W16*R16","v":0},{"$f":"Q16*R16","v":0},{"$f":"C48*Q16*R16","v":0},{"$f":"C49*Q16*R16","v":0},{"$f":"C52*Q16*R16","v":0},{"$f":"C51*Q16*R16","v":0},{"$f":"C50*Q16*R16","v":0},{"$f":"O16*Q16*R16*0","v":0},{"$f":"(O16-2)*Q16*R16","v":0},{"$f":"IF(OR($C$41=2,$C$41=3),O16*Q16*R16, 0)","v":0},null,"Forced 5' Anti-tip to zero"]
["Front End Full Tray Length","[in]",60,null,60,null,null,null,null,"Order by Size",1,{"$f":"IF($C$1=1,0,1)","v":0},{"$f":"VLOOKUP(N17,LookUp,2)","v":"--"},1,{"$f":"VLOOKUP(N17,'LU Table'!$C$3:$F$79,4)","v":0},1,{"$f":"IF(OR(N17=1,P17=1,L17=0),0,'Order By Size'!E21)","v":0},"NA",{"$f":"IF($P17=2,1,0)","v":0},{"$f":"($O17)*$Q17*S17","v":0},{"$f":"IF($P17=3,1,0)","v":0},{"$f":"($O17)*$Q17*U17","v":0},{"$f":"IF($P17=4,1,0)","v":0},{"$f":"($O17)*$Q17*W17","v":0},{"$f":"Q17","v":0},{"$f":"VLOOKUP(N17,LookUp,5)*Q17","v":0},{"$f":"VLOOKUP(N17,LookUp,6)*Q17","v":0},{"$f":"VLOOKUP(N17,LookUp,7)*Q17","v":0},{"$f":"VLOOKUP(N17,LookUp,8)*Q17","v":0},{"$f":"VLOOKUP(N17,LookUp,9)*Q17","v":0},{"$f":"O17*Q17","v":0},{"$f":"(O17-2)*Q17","v":0},{"$f":"IF(OR($C$41=2,$C$41=3), VLOOKUP(N17,LookUp_Gutter,14)*Q17, 0)","v":0}]
["Front End Tray Length Border","[in]",1.1299999999999999,null,1.5,null,null,null,null,"Order by Size",2,0,"--",1,{"$f":"VLOOKUP(N18,'LU Table'!$C$3:$F$79,4)","v":0},1,{"$f":"IF(OR(N18=1,P18=1,L18=0),0,'Order By Size'!E22)","v":0},"NA",0,{"$f":"($O18)*$Q18*S18","v":0},0,{"$f":"($O18)*$Q18*U18","v":0},0,{"$f":"($O18)*$Q18*W18","v":0},{"$f":"Q18","v":0},0,0,0,0,0,{"$f":"O18*Q18","v":0},{"$f":"(O18-2)*Q18","v":0},0]
["Available Front Tray Planting Length","[in]",{"$f":"C17-C18","v":58.87},null,{"$f":"E17-E18","v":58.5},null,null,null,null,"Order by Size",3,0,"--",1,{"$f":"VLOOKUP(N19,'LU Table'!$C$3:$F$79,4)","v":0},1,{"$f":"IF(OR(N19=1,P19=1,L19=0),0,'Order By Size'!E23)","v":0},"NA",0,0,0,0,0,0,0,0,0,0,0,0,0,0,0]
["Tray Seam Length","[in]",54.92,66.92,{"$f":"19.156*3","v":57.467999999999996},{"$f":"19.156*4","v":76.623999999999995},null,null,null,"Order by Size",4,0,"--",1,{"$f":"VLOOKUP(N20,'LU Table'!$C$3:$F$79,4)","v":0},1,{"$f":"IF(OR(N20=1,P20=1,L20=0),0,'Order By Size'!E24)","v":0},"NA",0,0,0,0,0,0,0,0,0,0,0,0,0,0,0]
["Drain Tray End to Track Edge","[in]",7.5,null,7.5,null,null,null,null,"Order by Size",5,0,"--",1,{"$f":"VLOOKUP(N21,'LU Table'!$C$3:$F$79,4)","v":0},1,{"$f":"IF(OR(N21=1,P21=1,L21=0),0,'Order By Size'!E25)","v":0},"NA",0,0,0,0,0,0,0,0,0,0,0,0,0,0,0]
["Left Tray Edge to Foot Edge w/ Slide","[in]",19.25,25.25,19.25,25.25,null,null,null,"Order by Size",6,0,"--",1,{"$f":"VLOOKUP(N22,'LU Table'!$C$3:$F$79,4)","v":0},1,{"$f":"IF(OR(N22=1,P22=1,L22=0),0,'Order By Size'!E26)","v":0},"NA",0,0,0,0,0,0,{"$f":"Q22","v":0},0,0,0,0,0,0,0,0]
["Foot Edge to Edge, 4' to 4'","[in]",null,null,null,null,null,null,null,"Order by Size",7,0,"--",1,{"$f":"VLOOKUP(N23,'LU Table'!$C$3:$F$79,4)","v":0},1,{"$f":"IF(OR(N23=1,P23=1,L23=0),0,'Order By Size'!E27)","v":0},"NA",0,0,0,0,0,0,0,0,0,0,0,0,0,0,0]
["Foot Edge to Edge, 4' to 5'","[in]",null,null,null,null,null,null,null,"Order by Size",8,0,"--",1,{"$f":"VLOOKUP(N24,'LU Table'!$C$3:$F$79,4)","v":0},1,{"$f":"IF(OR(N24=1,P24=1,L24=0),0,'Order By Size'!E28)","v":0},"NA",0,0,0,0,0,0,0,0,0,0,0,0,0,0,0]
["Foot Edge to Edge, 5' to 5'","[in]",null,null,null,null,null,null,null,"Order by Size",9,0,"--",1,{"$f":"VLOOKUP(N25,'LU Table'!$C$3:$F$79,4)","v":0},1,{"$f":"IF(OR(N25=1,P25=1,L25=0),0,'Order By Size'!E29)","v":0},"NA",0,0,0,0,0,0,0,0,0,0,0,0,0,0,0]
["Foot Edge to Edge, Long Section","[in]",null,null,null,null,null,null,null,"Order by Size",10,0,"--",1,{"$f":"VLOOKUP(N26,'LU Table'!$C$3:$F$79,4)","v":0},1,{"$f":"IF(OR(N26=1,P26=1,L26=0),0,'Order By Size'!E30)","v":0},"NA",0,0,0,0,0,0,0,0,0,0,0,0,0,0,0]
["Foot Edge to Edge, 5' Section","[in]",null,null,null,null,null,null,null,null,"Totals",null,null,null,null,null,{"$f":"SUM(Q16:Q26)","v":0},null,null,{"$f":"SUM(T16:T26)","v":0},null,{"$f":"SUM(V16:V26)","v":0},null,{"$f":"SUM(X16:X26)","v":0},{"$f":"SUM(Y16:Y26)","v":0},{"$f":"SUM(Z16:Z26)","v":0},{"$f":"SUM(AA16:AA26)","v":0},{"$f":"SUM(AB16:AB26)","v":0},0,0,{"$f":"SUM(AE16:AE26)","v":0},0,0]
["Foot Edge to Edge, 4' Section","[in]",null,null,null,null,null,null,"Track","Room Layout",null,null,null,null,null,null,null,{"$f":"'Room Layout (Inputs)'!B9","v":1}]
["Foot Edge to Edge, 3' Section","[in]"]
["Foot Edge to Edge, 2' Section","[in]",null,null,null,null,null,null,"Height","Widths","Bench Type","Bench Abbr","TriLock Abbr",null,null,null,"# of Instructions"]
["Single side overhang","[in]",3,9,3,9,null,null,"--","4' Only","Track Bench w/ OG","TB","BT",null,null,null,null,"From Tab","Active","Qty"]
[null,null,null,null,null,null,null,null,14,"5' Only","Track Bench w/ Gutter","TB","BTG",null,null,null,"Room Layout",1,{"$f":"IF($C$1=1,1,0)","v":1},{"$f":"R32*S32","v":1}]
["Room Size Calculations",null,null,null,null,null,null,null,20,"4' & 5' Mixed",null,null,null,null,null,null,"Order by Size",{"$f":"'Order By Size'!E32","v":1},{"$f":"IF($C$1=1,0,1)","v":0},{"$f":"R33*S33","v":0}]
["Flip Room",false,null,null,null,null,null,null,30]
["Room Length","[in]",{"$f":"IF(B34=FALSE,('Room Layout (Inputs)'!B6*12)+'Room Layout (Inputs)'!D6,('Room Layout (Inputs)'!B7*12)+'Room Layout (Inputs)'!D7)","v":480},null,null,null,null,null,null,null,null,null,null,null,null,null,"NEW-Math to calculate quantities to drive PO"]
["Room Width","[in]",{"$f":"IF(B34=FALSE,('Room Layout (Inputs)'!B7*12)+'Room Layout (Inputs)'!D7,('Room Layout (Inputs)'!B6*12)+'Room Layout (Inputs)'!D6)","v":480},null,null,null,null,null,null,"Picture Lookup Logic",null,null,null,null,null,null,null,null,"Length"]
["Room Length, Usable","[in]",{"$f":"C35-('Room Layout (Inputs)'!B20+'Room Layout (Inputs)'!B19)","v":480},null,null,null,null,null,null,null,"4 ft","5ft","Mixed",null,null,null,"Transfer Filter","Width (ft)","Length (ft)","Height","Bench QTY","Room Multiplier","Total QTY","Generated SKU","Generated Description"]
["Room Width, Usable","[in]",{"$f":"C36-('Room Layout (Inputs)'!B17+'Room Layout (Inputs)'!B16)","v":480},null,null,null,null,null,null,"Track Bench w/ OG",1,2,3,null,null,null,{"$f":"IF(W38=0,0,1)","v":{"$error":"#VALUE!"}},4,{"$f":"M4","v":39.5},{"$f":"IF(P4=2,14,IF(P4=3,20,IF(P4=4,30)))","v":false},{"$f":"IF(T38=FALSE,\"\",Q15)","v":""},{"$f":"R4","v":1},{"$f":"U38*V38","v":{"$error":"#VALUE!"}},{"$f":"IF(T38=FALSE,\"\",INDEX($L$31:$M$33,$C$41,1)&R38*12&\"-\"&S38*12&\"-\"&T38&INDEX($L$31:$M$33,$C$41,2))","v":""},{"$f":"IF(T38=FALSE,\"\",\"TRACK BENCH: \"&R38&\"FTx\"&S38&\"FTx\"&T38&\"IN\"&IF(C$41=1,\"xTRILOCK\",IF(C$41=2,\"xTRILOCK, GUTTER\")))","v":""}]
["Aisle Between Benches","[in]",{"$f":"(1+C99)*6","v":18},0,"Additional Aisle Width",null,null,null,null,"Track Bench w/ Gutter",4,5,6,null,null,null,{"$f":"IF(W39=0,0,MAX(Q38)+1)","v":{"$error":"#VALUE!"}},5,{"$f":"M16","v":39.5},{"$f":"IF(P16=2,14,IF(P16=3,20,IF(P16=4,30)))","v":false},{"$f":"IF(T38=FALSE,\"\",Q27)","v":""},{"$f":"R16","v":1},{"$f":"U39*V39","v":{"$error":"#VALUE!"}},{"$f":"IF(T39=FALSE,\"\",INDEX($L$31:$M$33,$C$41,1)&R39*12&\"-\"&S39*12&\"-\"&T39&INDEX($L$31:$M$33,$C$41,2))","v":""},{"$f":"IF(T39=FALSE,\"\",\"TRACK BENCH: \"&R39&\"FTx\"&S39&\"FTx\"&T39&\"IN\"&IF(C$41=1,\"xTRILOCK\",IF(C$41=2,\"xTRILOCK, GUTTER\")))","v":""}]
["Bench & Tray Length Details (New with Short Ends)",null,null,null,null,null,null,null,null,null,null,null,null,null,null,null,{"$f":"IF(S40=0,0,MAX(Q38:Q39)+1)","v":{"$error":"#VALUE!"}},"Track",{"$f":"C97","v":39.5},null,{"$f":"IF(T38=FALSE,\"\",C95)","v":""},{"$f":"'Room Layout (Inputs)'!B9","v":1},{"$f":"U40*V40","v":{"$error":"#VALUE!"}},{"$f":"IF(T38=FALSE,\"\",CONCATENATE(\"TRK-\",S40*12))","v":""},{"$f":"IF(T38=FALSE,\"\",_xlfn.CONCAT(S40,\" LINEAR FEET OF TRACK\"))","v":""}]
["Bench Type Selection",null,1,"1 = OG TB","2 = GT TB",null,null,null,null,"Reference",{"$f":"INDEX(K38:M40,C41,C60)","v":1}]
["Room Usable Length - Drain Tray length","[in]",{"$f":"IF((C37-C14)<21.2,24,(C37-C14-2.8))","v":411.2}]
["Number of Full Length Trays Remaining","[#]",{"$f":"C42/60","v":6.8533333333333335},null,null,null,null,null,null,"Target Minimum Aisle Width"]
["Rounded Down Whole","[#]",{"$f":"ROUNDDOWN(C43,0)","v":6},null,null,null,null,null,null,12]
["Fractional Full Length Tray",null,{"$f":"ROUNDDOWN((C43-C44),1)","v":0.8},null,null,null,null,null,null,18]
["Fractional Tray Length","[in]",{"$f":"VLOOKUP(C45,F3:G6,2,TRUE)","v":48},null,null,null,null,null,null,24]
["First 5' Tray is end/middle logic",null,{"$f":"IF(C46>0,0,1)","v":0},"For use in Tray quantity calculations",null,null,null,null,null,30]
["Number of Middle Trays","[#]",{"$f":"C44-C47","v":6},null,null,null,null,null,null,36]
["Number of Full End Trays","[#]",{"$f":"C47","v":0},null,null,null,null,null,null,42]
["Number of Short End Trays (24\")","[#]",{"$f":"IF(C46=24,1,0)","v":0},null,null,null,null,null,null,48]
["Number of Short End Trays (36\")","[#]",{"$f":"IF(C46=36,1,0)","v":0},null,null,null,null,null,null,54]
["Number of Short End Trays (48\")","[#]",{"$f":"IF(C46=48,1,0)","v":1}]
["Bench Length","[in]",{"$f":"C14+(C13*C48)+(C49*C17)+C46","v":474}]
["Bench Length","[ft]",{"$f":"C53/12","v":39.5}]
["Bench Length with Handle","[ft]",{"$f":"C54+3/12","v":39.75}]
["Tray Length, Plantable","[in]",{"$f":"IF(C41=2,(C53-E15-E18),(C53-C15-C18))","v":471.74}]
["Front Aisle Actual Width","[in]",{"$f":"C37-C55*12+'Room Layout (Inputs)'!B20","v":3}]
[]
["Bench & Tray Width Details"]
[null,null,1,"1=4'","2=5'","3=Mix"]
[null,null,"Single",null,"Mix"]
[null,null,"4'","5'","4'","5'","Total"]
["Bench/Tray Count (Room Width)","[#]",{"$f":"ROUNDDOWN(($C$38-$C$39)/C9,0)","v":9},{"$f":"ROUNDDOWN(($C$38-$C$39)/D9,0)","v":7},{"$f":"IF(C60=1,C63,IF(C60=2,0,IF(C60=3,ROUNDDOWN(($C$38-(F63*D9)-C39)/C9,0),FALSE)))","v":9},{"$f":"IF(C60=1,0,IF(C60=2,D63,MIN('Room Layout (Inputs)'!B26,D63)))","v":0},{"$f":"E63+F63","v":9}]
["Room Width Occupied, Actual","[in]",{"$f":"C63*(IF(OR($C$41=1,$C$41=2),E9,C9))","v":454.5},{"$f":"D63*(IF(OR($C$41=1,$C$41=2),F9,D9))","v":437.5},{"$f":"IF(E63=0,0,E63*(IF(OR($C$41=2,$C$41=3),E9,C9)))","v":454.5},{"$f":"F63*(IF(OR($C$41=1,$C$41=2),F9,D9))","v":0},{"$f":"E64+F64+D39","v":454.5}]
["Total Plantable Width","[in]",{"$f":"IF($C$41=2,(C63*E11),(C63*C11))","v":399.59999999999997},{"$f":"IF($C$41=2,(D63*F11),(D63*D11))","v":394.8},{"$f":"IF($C$41=2,(E63*E11),(E63*C11))","v":399.59999999999997},{"$f":"IF($C$41=2,(F63*F11),(F63*D11))","v":0},{"$f":"E65+F65","v":399.59999999999997}]
["Total Plantable Area","[ft]",{"$f":"$C$56*C65/144","v":1309.0784999999998},{"$f":"$C$56*D65/144","v":1293.3538333333336},{"$f":"$C$56*E65/144","v":1309.0784999999998},{"$f":"$C$56*F65/144","v":0},{"$f":"E66+F66","v":1309.0784999999998}]
["Left Aisle, Min","[in]",{"$f":"($C36-$C97*12)/2+C31","v":6},{"$f":"($C35-$C97*12)/2+D31","v":12},null,null,{"$f":"D67","v":12},null,"Plotting"]
["Left Aisle, Max","[in]",{"$f":"C67+C39","v":24},{"$f":"D67+C39","v":30},null,null,{"$f":"D68","v":30},null,"Room Outline",null,null,"Proposed Usable Area",null,null,null,"Benches in Sequence",null,null,null,null,"4' Track Benches w/ OG",null,null,null,null,"5' Track Benches w/ OG",null,null,null,null,"4' Track Benches w/ Gutter",null,null,null,null,"5' Track Benches w/ Gutter"]
["Right Aisle, Min","[in]",{"$f":"C67","v":6},{"$f":"D67","v":12},null,null,12,null,"X","Y",null,"X","Y",null,null,null,"X","Y",null,null,null,"X","Y",null,null,null,"X","Y",null,null,null,"X","Y",null,null,null,"X","Y"]
["Right Aisle, Max","[in]",{"$f":"C68","v":24},{"$f":"D68","v":30},null,null,30,null,0,0,null,{"$f":"'Room Layout (Inputs)'!B16/12","v":0},{"$f":"'Room Layout (Inputs)'!B20/12","v":0},null,"Row",1,{"$f":"L78*P71","v":0},{"$f":"M80","v":40},null,"Row",1,{"$f":"$Q70*U71","v":0},{"$f":"$R70*U71","v":40},null,"Row",1,{"$f":"$Q70*Z71","v":0},{"$f":"$R70*Z71","v":0},null,"Row",1,{"$f":"$Q70*AE71","v":0},{"$f":"$R70*AE71","v":0},null,"Row",1,{"$f":"$Q70*AJ71","v":0},{"$f":"$R70*AJ71","v":0}]
["Tray Sealant Usage Calculations",null,null,null,null,null,null,null,{"$f":"I70","v":0},{"$f":"C35/12","v":40},null,{"$f":"(C38)/12+L70","v":40},{"$f":"M70","v":0},null,"On/Off",{"$f":"IF(P70>$G$63,0,1)","v":1},{"$f":"(Q70+(P74/12))*P71","v":4.208333333333333},{"$f":"R70","v":40},null,"4' or 5'",{"$f":"IF($C$41=1,IF($P74<$D$9,1,0),0)","v":1},{"$f":"$Q71*U71","v":4.208333333333333},{"$f":"$R71*U71","v":40},null,"4' or 5'",{"$f":"IF($C$41=1,IF($P74<$D$9,0,1),0)","v":0},{"$f":"$Q71*Z71","v":0},{"$f":"$R71*Z71","v":0},null,"4' or 5'",{"$f":"IF($C$41=2,IF($P74<$D$9,1,0),0)","v":0},{"$f":"$Q71*AE71","v":0},{"$f":"$R71*AE71","v":0},null,"4' or 5'",{"$f":"IF($C$41=2,IF($P74<$D$9,0,1),0)","v":0},{"$f":"$Q71*AJ71","v":0},{"$f":"$R71*AJ71","v":0}]
["Tube Size","[ounces]",10.1,null,null,null,null,null,{"$f":"C36/12","v":40},{"$f":"J71","v":40},null,{"$f":"L71","v":40},{"$f":"M71+(C37/12)","v":40},null,"Inside Reference",null,{"$f":"Q71","v":4.208333333333333},{"$f":"(R71-$C$55)*P71","v":0.25},null,null,null,{"$f":"$Q72*U71","v":4.208333333333333},{"$f":"$R72*U71","v":0.25},null,null,null,{"$f":"$Q72*Z71","v":0},{"$f":"$R72*Z71","v":0},null,null,null,{"$f":"$Q72*AE71","v":0},{"$f":"$R72*AE71","v":0},null,null,null,{"$f":"$Q72*AJ71","v":0},{"$f":"$R72*AJ71","v":0}]
["Tube Volume","[in^3]",{"$f":"C72*1.805","v":18.230499999999999},null,null,null,null,null,{"$f":"I72","v":40},{"$f":"J70","v":0},null,{"$f":"L70","v":0},{"$f":"M72","v":40},null,"Outside Reference",null,{"$f":"Q70","v":0},{"$f":"R72","v":0.25},null,null,null,{"$f":"$Q73*U71","v":0},{"$f":"$R73*U71","v":0.25},null,null,null,{"$f":"$Q73*Z71","v":0},{"$f":"$R73*Z71","v":0},null,null,null,{"$f":"$Q73*AE71","v":0},{"$f":"$R73*AE71","v":0},null,null,null,{"$f":"$Q73*AJ71","v":0},{"$f":"$R73*AJ71","v":0}]
["Usage Efficiency","[%]",0.95,null,null,null,null,null,{"$f":"I70","v":0},{"$f":"J70","v":0},null,{"$f":"L70","v":0},{"$f":"M70","v":0},null,"4' or 5'",{"$f":"IF(OR($C$41=2,$C$41=3),IF(P70>$F$63,$E$9,$F$9),IF(P70>$F$63,$C$9,$D$9))","v":50.5},{"$f":"Q70","v":0},{"$f":"R70","v":40},null,null,null,{"$f":"$Q74*U71","v":0},{"$f":"$R74*U71","v":40},null,null,null,{"$f":"$Q74*Z71","v":0},{"$f":"$R74*Z71","v":0},null,null,null,{"$f":"$Q74*AE71","v":0},{"$f":"$R74*AE71","v":0},null,null,null,{"$f":"$Q74*AJ71","v":0},{"$f":"$R74*AJ71","v":0}]
["Bead Width","[in]",0.35,"Decimal equivalent of a fraction"]
["Bead Height","[in]",0.35,"Decimal equivalent of a fraction",null,null,null,null,"Plot Sizing",null,null,"Actual Usable Area",null,null,"Row",2,{"$f":"(Q71+($D$39/12))*P77","v":4.208333333333333},{"$f":"(R71)*P77","v":40},null,"Row",{"$f":"U70+1","v":2},{"$f":"$Q76*U77","v":4.208333333333333},{"$f":"$R76*U77","v":40},null,"Row",{"$f":"Z70+1","v":2},{"$f":"$Q76*Z77","v":0},{"$f":"$R76*Z77","v":0},null,"Row",{"$f":"AE70+1","v":2},{"$f":"$Q76*AE77","v":0},{"$f":"$R76*AE77","v":0},null,"Row",{"$f":"AJ70+1","v":2},{"$f":"$Q76*AJ77","v":0},{"$f":"$R76*AJ77","v":0}]
["Bead Application Efficiency","[%]",0.7,"How much do they actually install vs required bead size",null,null,null,null,"X","Y",null,"X","Y",null,"On/Off",{"$f":"IF(P76>$G$63,0,1)","v":1},{"$f":"(Q76+(P80/12))*P77","v":8.4166666666666661},{"$f":"R76","v":40},null,"4' or 5'",{"$f":"IF($C$41=1,IF($P80<$D$9,1,0),0)","v":1},{"$f":"$Q77*U77","v":8.4166666666666661},{"$f":"$R77*U77","v":40},null,"4' or 5'",{"$f":"IF($C$41=1,IF($P80<$D$9,0,1),0)","v":0},{"$f":"$Q77*Z77","v":0},{"$f":"$R77*Z77","v":0},null,"4' or 5'",{"$f":"IF($C$41=2,IF($P80<$D$9,1,0),0)","v":0},{"$f":"$Q77*AE77","v":0},{"$f":"$R77*AE77","v":0},null,"4' or 5'",{"$f":"IF($C$41=2,IF($P80<$D$9,0,1),0)","v":0},{"$f":"$Q77*AJ77","v":0},{"$f":"$R77*AJ77","v":0}]
["Volume of a linear inch","[in^3]",{"$f":"(C75*C76)*1*C77","v":8.5749999999999979E-2},null,null,null,null,null,0,0,null,{"$f":"IF(C101=1,L70,IF(C101=2,(AVERAGE(L70:L71)-C97/2-C102/12),IF(C101=3,L71-C97-2*C102/12)))","v":0},{"$f":"M80-C55","v":0.25},null,"Inside Reference",null,{"$f":"Q77","v":8.4166666666666661},{"$f":"(R77-$C$55)*P77","v":0.25},null,null,null,{"$f":"$Q78*U77","v":8.4166666666666661},{"$f":"$R78*U77","v":0.25},null,null,null,{"$f":"$Q78*Z77","v":0},{"$f":"$R78*Z77","v":0},null,null,null,{"$f":"$Q78*AE77","v":0},{"$f":"$R78*AE77","v":0},null,null,null,{"$f":"$Q78*AJ77","v":0},{"$f":"$R78*AJ77","v":0}]
["1 Tube can seal (length)","[in]",{"$f":"(C73/C78)*C74","v":201.9705539358601},null,null,null,null,null,{"$f":"I78","v":0},{"$f":"MAX(I70:J74)+1","v":41},null,{"$f":"L78+C97+C102/12","v":40},{"$f":"M78","v":0.25},null,"Outside Reference",null,{"$f":"Q76","v":4.208333333333333},{"$f":"R78","v":0.25},null,null,null,{"$f":"$Q79*U77","v":4.208333333333333},{"$f":"$R79*U77","v":0.25},null,null,null,{"$f":"$Q79*Z77","v":0},{"$f":"$R79*Z77","v":0},null,null,null,{"$f":"$Q79*AE77","v":0},{"$f":"$R79*AE77","v":0},null,null,null,{"$f":"$Q79*AJ77","v":0},{"$f":"$R79*AJ77","v":0}]
[null,"[ft]",{"$f":"C79/12","v":16.830879494655008},null,null,null,null,null,{"$f":"MAX(I70:J74)+1","v":41},{"$f":"J79","v":41},null,{"$f":"L79","v":40},{"$f":"M72","v":40},null,"4' or 5'",{"$f":"IF(OR($C$41=2,$C$41=3),IF(P76>$F$63,$E$9,$F$9),IF(P76>$F$63,$C$9,$D$9))","v":50.5},{"$f":"Q76","v":4.208333333333333},{"$f":"R76","v":40},null,null,null,{"$f":"$Q80*U77","v":4.208333333333333},{"$f":"$R80*U77","v":40},null,null,null,{"$f":"$Q80*Z77","v":0},{"$f":"$R80*Z77","v":0},null,null,null,{"$f":"$Q80*AE77","v":0},{"$f":"$R80*AE77","v":0},null,null,null,{"$f":"$Q80*AJ77","v":0},{"$f":"$R80*AJ77","v":0}]
["Total 4' Seams","[#]",{"$f":"AF15","v":0},null,null,null,null,null,{"$f":"I80","v":41},{"$f":"J78","v":0},null,{"$f":"L78","v":0},{"$f":"M80","v":40}]
[null,"[ft]",{"$f":"(C81*IF(OR($C$41=1,$C$41=2),C20,E20))/12","v":0},null,null,null,null,null,{"$f":"I78","v":0},{"$f":"J78","v":0},null,{"$f":"L78","v":0},{"$f":"M78","v":0.25},null,"Row",3,{"$f":"(Q77+($D$39/12))*P83","v":8.4166666666666661},{"$f":"(R77)*P83","v":40},null,"Row",{"$f":"U76+1","v":3},{"$f":"$Q82*U83","v":8.4166666666666661},{"$f":"$R82*U83","v":40},null,"Row",{"$f":"Z76+1","v":3},{"$f":"$Q82*Z83","v":0},{"$f":"$R82*Z83","v":0},null,"Row",{"$f":"AE76+1","v":3},{"$f":"$Q82*AE83","v":0},{"$f":"$R82*AE83","v":0},null,"Row",{"$f":"AJ76+1","v":3},{"$f":"$Q82*AJ83","v":0},{"$f":"$R82*AJ83","v":0}]
["Total 5' Seams","[#]",{"$f":"AF27","v":0},null,null,null,null,null,null,null,null,null,null,null,"On/Off",{"$f":"IF(P82>$G$63,0,1)","v":1},{"$f":"(Q82+(P86/12))*P83","v":12.625},{"$f":"R82","v":40},null,"4' or 5'",{"$f":"IF($C$41=1,IF($P86<$D$9,1,0),0)","v":1},{"$f":"$Q83*U83","v":12.625},{"$f":"$R83*U83","v":40},null,"4' or 5'",{"$f":"IF($C$41=1,IF($P86<$D$9,0,1),0)","v":0},{"$f":"$Q83*Z83","v":0},{"$f":"$R83*Z83","v":0},null,"4' or 5'",{"$f":"IF($C$41=2,IF($P86<$D$9,1,0),0)","v":0},{"$f":"$Q83*AE83","v":0},{"$f":"$R83*AE83","v":0},null,"4' or 5'",{"$f":"IF($C$41=2,IF($P86<$D$9,0,1),0)","v":0},{"$f":"$Q83*AJ83","v":0},{"$f":"$R83*AJ83","v":0}]
[null,"[ft]",{"$f":"(C83*IF(OR($C$41=1,$C$41=2),D20,F20))/12","v":0},null,null,null,null,null,null,null,null,"Delta Check",null,null,"Inside Reference",null,{"$f":"Q83","v":12.625},{"$f":"(R83-$C$55)*P83","v":0.25},null,null,null,{"$f":"$Q84*U83","v":12.625},{"$f":"$R84*U83","v":0.25},null,null,null,{"$f":"$Q84*Z83","v":0},{"$f":"$R84*Z83","v":0},null,null,null,{"$f":"$Q84*AE83","v":0},{"$f":"$R84*AE83","v":0},null,null,null,{"$f":"$Q84*AJ83","v":0},{"$f":"$R84*AJ83","v":0}]
["Total Seam Length","[ft]",{"$f":"C82+C84","v":0},null,null,null,null,null,null,null,null,{"$f":"L79-L78","v":40},{"$f":"M80-M79","v":39.75},null,"Outside Reference",null,{"$f":"Q82","v":8.4166666666666661},{"$f":"R84","v":0.25},null,null,null,{"$f":"$Q85*U83","v":8.4166666666666661},{"$f":"$R85*U83","v":0.25},null,null,null,{"$f":"$Q85*Z83","v":0},{"$f":"$R85*Z83","v":0},null,null,null,{"$f":"$Q85*AE83","v":0},{"$f":"$R85*AE83","v":0},null,null,null,{"$f":"$Q85*AJ83","v":0},{"$f":"$R85*AJ83","v":0}]
["Sealant Tubes Required","[#]",{"$f":"ROUNDUP(C85/C80,0)","v":0},{"$f":"C85/C80","v":0},"Raw Number",null,null,null,null,null,null,null,null,null,"4' or 5'",{"$f":"IF(OR($C$41=2,$C$41=3),IF(P82>$F$63,$E$9,$F$9),IF(P82>$F$63,$C$9,$D$9))","v":50.5},{"$f":"Q82","v":8.4166666666666661},{"$f":"R82","v":40},null,null,null,{"$f":"$Q86*U83","v":8.4166666666666661},{"$f":"$R86*U83","v":40},null,null,null,{"$f":"$Q86*Z83","v":0},{"$f":"$R86*Z83","v":0},null,null,null,{"$f":"$Q86*AE83","v":0},{"$f":"$R86*AE83","v":0},null,null,null,{"$f":"$Q86*AJ83","v":0},{"$f":"$R86*AJ83","v":0}]
["Room Layout Calculations"]
["Distance A","[in]",{"$f":"IF(C104=1,'Room Layout (Inputs)'!B19+7.5,IF(C104=2,'Room Layout (Inputs)'!B19+4.5))","v":4.5},null,null,null,null,null,null,null,null,null,null,null,"Row",4,{"$f":"(Q83+($D$39/12))*P89","v":12.625},{"$f":"(R83)*P89","v":40},null,"Row",{"$f":"U82+1","v":4},{"$f":"$Q88*U89","v":12.625},{"$f":"$R88*U89","v":40},null,"Row",{"$f":"Z82+1","v":4},{"$f":"$Q88*Z89","v":0},{"$f":"$R88*Z89","v":0},null,"Row",{"$f":"AE82+1","v":4},{"$f":"$Q88*AE89","v":0},{"$f":"$R88*AE89","v":0},null,"Row",{"$f":"AJ82+1","v":4},{"$f":"$Q88*AJ89","v":0},{"$f":"$R88*AJ89","v":0}]
["Distance B","[in]",{"$f":"IF(C60=1,'Room Layout (Inputs)'!B16+Calcs!C31,IF(C60=2,'Room Layout (Inputs)'!B16+D31,IF(C60=3,IF(C111=2,'Room Layout (Inputs)'!B16+C31,IF(C111=3,'Room Layout (Inputs)'!B16+D31)))))","v":3},null,null,null,null,null,null,null,null,null,null,null,"On/Off",{"$f":"IF(P88>$G$63,0,1)","v":1},{"$f":"(Q88+(P92/12))*P89","v":16.833333333333332},{"$f":"R88","v":40},null,"4' or 5'",{"$f":"IF($C$41=1,IF($P92<$D$9,1,0),0)","v":1},{"$f":"$Q89*U89","v":16.833333333333332},{"$f":"$R89*U89","v":40},null,"4' or 5'",{"$f":"IF($C$41=1,IF($P92<$D$9,0,1),0)","v":0},{"$f":"$Q89*Z89","v":0},{"$f":"$R89*Z89","v":0},null,"4' or 5'",{"$f":"IF($C$41=2,IF($P92<$D$9,1,0),0)","v":0},{"$f":"$Q89*AE89","v":0},{"$f":"$R89*AE89","v":0},null,"4' or 5'",{"$f":"IF($C$41=2,IF($P92<$D$9,0,1),0)","v":0},{"$f":"$Q89*AJ89","v":0},{"$f":"$R89*AJ89","v":0}]
["Distance C","[in]",{"$f":"C97*12","v":474},null,null,null,null,null,null,null,null,null,null,null,"Inside Reference",null,{"$f":"Q89","v":16.833333333333332},{"$f":"(R89-$C$55)*P89","v":0.25},null,null,null,{"$f":"$Q90*U89","v":16.833333333333332},{"$f":"$R90*U89","v":0.25},null,null,null,{"$f":"$Q90*Z89","v":0},{"$f":"$R90*Z89","v":0},null,null,null,{"$f":"$Q90*AE89","v":0},{"$f":"$R90*AE89","v":0},null,null,null,{"$f":"$Q90*AJ89","v":0},{"$f":"$R90*AJ89","v":0}]
["Distance L","[in]",{"$f":"(C54-1)*12","v":462},null,null,null,null,null,null,null,null,null,null,null,"Outside Reference",null,{"$f":"Q88","v":12.625},{"$f":"R90","v":0.25},null,null,null,{"$f":"$Q91*U89","v":12.625},{"$f":"$R91*U89","v":0.25},null,null,null,{"$f":"$Q91*Z89","v":0},{"$f":"$R91*Z89","v":0},null,null,null,{"$f":"$Q91*AE89","v":0},{"$f":"$R91*AE89","v":0},null,null,null,{"$f":"$Q91*AJ89","v":0},{"$f":"$R91*AJ89","v":0}]
["Distance D (not shown, for calculating right aisle)","[in]",{"$f":"C36-C89-C90","v":3},null,null,null,null,null,null,null,null,null,null,null,"4' or 5'",{"$f":"IF(OR($C$41=2,$C$41=3),IF(P88>$F$63,$E$9,$F$9),IF(P88>$F$63,$C$9,$D$9))","v":50.5},{"$f":"Q88","v":12.625},{"$f":"R88","v":40},null,null,null,{"$f":"$Q92*U89","v":12.625},{"$f":"$R92*U89","v":40},null,null,null,{"$f":"$Q92*Z89","v":0},{"$f":"$R92*Z89","v":0},null,null,null,{"$f":"$Q92*AE89","v":0},{"$f":"$R92*AE89","v":0},null,null,null,{"$f":"$Q92*AJ89","v":0},{"$f":"$R92*AJ89","v":0}]
[]
["Track Length Calculations",null,null,null,null,null,null,null,null,null,null,null,null,null,"Row",5,{"$f":"(Q89+($D$39/12))*P95","v":16.833333333333332},{"$f":"(R89)*P95","v":40},null,"Row",{"$f":"U88+1","v":5},{"$f":"$Q94*U95","v":16.833333333333332},{"$f":"$R94*U95","v":40},null,"Row",{"$f":"Z88+1","v":5},{"$f":"$Q94*Z95","v":0},{"$f":"$R94*Z95","v":0},null,"Row",{"$f":"AE88+1","v":5},{"$f":"$Q94*AE95","v":0},{"$f":"$R94*AE95","v":0},null,"Row",{"$f":"AJ88+1","v":5},{"$f":"$Q94*AJ95","v":0},{"$f":"$R94*AJ95","v":0}]
["Number of Tracks (= number of skates)","[#]",{"$f":"O4","v":9},null,null,null,null,null,null,null,null,null,null,null,"On/Off",{"$f":"IF(P94>$G$63,0,1)","v":1},{"$f":"(Q94+(P98/12))*P95","v":21.041666666666664},{"$f":"R94","v":40},null,"4' or 5'",{"$f":"IF($C$41=1,IF($P98<$D$9,1,0),0)","v":1},{"$f":"$Q95*U95","v":21.041666666666664},{"$f":"$R95*U95","v":40},null,"4' or 5'",{"$f":"IF($C$41=1,IF($P98<$D$9,0,1),0)","v":0},{"$f":"$Q95*Z95","v":0},{"$f":"$R95*Z95","v":0},null,"4' or 5'",{"$f":"IF($C$41=2,IF($P98<$D$9,1,0),0)","v":0},{"$f":"$Q95*AE95","v":0},{"$f":"$R95*AE95","v":0},null,"4' or 5'",{"$f":"IF($C$41=2,IF($P98<$D$9,0,1),0)","v":0},{"$f":"$Q95*AJ95","v":0},{"$f":"$R95*AJ95","v":0}]
["Possible Length of Tracks","[ft]",{"$f":"IF(C60=1,C38-C31*2,IF(C60=2,C38-D31*2,IF(C60=3,IF(SUM(C111:C112)=4,C38-C31*2,IF(SUM(C111:C112)=6,C38-D31*2,IF(SUM(C111:C112)=5,C38-D31-C31,NA))))))/12","v":39.5},null,null,null,null,null,null,null,null,null,null,null,"Inside Reference",null,{"$f":"Q95","v":21.041666666666664},{"$f":"(R95-$C$55)*P95","v":0.25},null,null,null,{"$f":"$Q96*U95","v":21.041666666666664},{"$f":"$R96*U95","v":0.25},null,null,null,{"$f":"$Q96*Z95","v":0},{"$f":"$R96*Z95","v":0},null,null,null,{"$f":"$Q96*AE95","v":0},{"$f":"$R96*AE95","v":0},null,null,null,{"$f":"$Q96*AJ95","v":0},{"$f":"$R96*AJ95","v":0}]
["Floor of Length of Tracks","[ft]",{"$f":"FLOOR(C96,0.5)","v":39.5},null,null,null,null,null,null,null,null,null,null,null,"Outside Reference",null,{"$f":"Q94","v":16.833333333333332},{"$f":"R96","v":0.25},null,null,null,{"$f":"$Q97*U95","v":16.833333333333332},{"$f":"$R97*U95","v":0.25},null,null,null,{"$f":"$Q97*Z95","v":0},{"$f":"$R97*Z95","v":0},null,null,null,{"$f":"$Q97*AE95","v":0},{"$f":"$R97*AE95","v":0},null,null,null,{"$f":"$Q97*AJ95","v":0},{"$f":"$R97*AJ95","v":0}]
[null,null,null,null,null,null,null,null,null,null,null,null,null,null,"4' or 5'",{"$f":"IF(OR($C$41=2,$C$41=3),IF(P94>$F$63,$E$9,$F$9),IF(P94>$F$63,$C$9,$D$9))","v":50.5},{"$f":"Q94","v":16.833333333333332},40,null,null,null,{"$f":"$Q98*U95","v":16.833333333333332},{"$f":"$R98*U95","v":40},null,null,null,{"$f":"$Q98*Z95","v":0},{"$f":"$R98*Z95","v":0},null,null,null,{"$f":"$Q98*AE95","v":0},{"$f":"$R98*AE95","v":0},null,null,null,{"$f":"$Q98*AJ95","v":0},{"$f":"$R98*AJ95","v":0}]
["Input Aisle Width Range","[#]",2,null,1,"Left"]
["Middle Aisle, Max","[in]",{"$f":"IF((Q365-Q364)*12<0,NA(),(Q365-Q364)*12)","v":25.5},null,2,"Centered",null,null,null,null,null,null,null,null,"Row",6,{"$f":"(Q95+($D$39/12))*P101","v":21.041666666666664},{"$f":"(R95)*P101","v":40},null,"Row",{"$f":"U94+1","v":6},{"$f":"$Q100*U101","v":21.041666666666664},{"$f":"$R100*U101","v":40},null,"Row",{"$f":"Z94+1","v":6},{"$f":"$Q100*Z101","v":0},{"$f":"$R100*Z101","v":0},null,"Row",{"$f":"AE94+1","v":6},{"$f":"$Q100*AE101","v":0},{"$f":"$R100*AE101","v":0},null,"Row",{"$f":"AJ94+1","v":6},{"$f":"$Q100*AJ101","v":0},{"$f":"$R100*AJ101","v":0}]
["Track Left, Centered, or Right","[#]",1,"<- Hardcoded",3,"Right",null,null,null,null,null,null,null,null,"On/Off",{"$f":"IF(P100>$G$63,0,1)","v":1},{"$f":"(Q100+(P104/12))*P101","v":25.249999999999996},{"$f":"R100","v":40},null,"4' or 5'",{"$f":"IF($C$41=1,IF($P104<$D$9,1,0),0)","v":1},{"$f":"$Q101*U101","v":25.249999999999996},{"$f":"$R101*U101","v":40},null,"4' or 5'",{"$f":"IF($C$41=1,IF($P104<$D$9,0,1),0)","v":0},{"$f":"$Q101*Z101","v":0},{"$f":"$R101*Z101","v":0},null,"4' or 5'",{"$f":"IF($C$41=2,IF($P104<$D$9,1,0),0)","v":0},{"$f":"$Q101*AE101","v":0},{"$f":"$R101*AE101","v":0},null,"4' or 5'",{"$f":"IF($C$41=2,IF($P104<$D$9,0,1),0)","v":0},{"$f":"$Q101*AJ101","v":0},{"$f":"$R101*AJ101","v":0}]
["Total Overhang based on Bench Width (both benches combined)","[in]",{"$f":"IF(C60=1,C31*2,IF(C60=2,D31*2,IF(C60=3,IF(SUM(C111:C112)=4,C31*2,IF(SUM(C111:C112)=5,C31+D31,IF(SUM(C111:C112)=6,D31*2,\"\"))))))","v":6},null,null,null,null,null,null,null,null,null,null,null,"Inside Reference",null,{"$f":"Q101","v":25.249999999999996},{"$f":"(R101-$C$55)*P101","v":0.25},null,null,null,{"$f":"$Q102*U101","v":25.249999999999996},{"$f":"$R102*U101","v":0.25},null,null,null,{"$f":"$Q102*Z101","v":0},{"$f":"$R102*Z101","v":0},null,null,null,{"$f":"$Q102*AE101","v":0},{"$f":"$R102*AE101","v":0},null,null,null,{"$f":"$Q102*AJ101","v":0},{"$f":"$R102*AJ101","v":0}]
[null,null,null,null,1,"On the Drain Side",null,null,null,null,null,null,null,null,"Outside Reference",null,{"$f":"Q100","v":21.041666666666664},{"$f":"R102","v":0.25},null,null,null,{"$f":"$Q103*U101","v":21.041666666666664},{"$f":"$R103*U101","v":0.25},null,null,null,{"$f":"$Q103*Z101","v":0},{"$f":"$R103*Z101","v":0},null,null,null,{"$f":"$Q103*AE101","v":0},{"$f":"$R103*AE101","v":0},null,null,null,{"$f":"$Q103*AJ101","v":0},{"$f":"$R103*AJ101","v":0}]
["Handle Location","[#]",2,null,2,"Opposite the Drain Side",null,null,null,null,null,null,null,null,"4' or 5'",{"$f":"IF(OR($C$41=2,$C$41=3),IF(P100>$F$63,$E$9,$F$9),IF(P100>$F$63,$C$9,$D$9))","v":50.5},{"$f":"Q100","v":21.041666666666664},40,null,null,null,{"$f":"$Q104*U101","v":21.041666666666664},{"$f":"$R104*U101","v":40},null,null,null,{"$f":"$Q104*Z101","v":0},{"$f":"$R104*Z101","v":0},null,null,null,{"$f":"$Q104*AE101","v":0},{"$f":"$R104*AE101","v":0},null,null,null,{"$f":"$Q104*AJ101","v":0},{"$f":"$R104*AJ101","v":0}]
[]
["Left Aisle, Minimum","[in]",{"$f":"IF(C60=1,C89-C31,IF(C60=2,C89-D31,IF(C60=3,IF(C111=2,C89-C31,IF(C111=3,C89-D31)))))","v":0},null,null,null,null,null,null,null,null,null,null,null,"Row",7,{"$f":"(Q101+($D$39/12))*P107","v":25.249999999999996},{"$f":"(R101)*P107","v":40},null,"Row",{"$f":"U100+1","v":7},{"$f":"$Q106*U107","v":25.249999999999996},{"$f":"$R106*U107","v":40},null,"Row",{"$f":"Z100+1","v":7},{"$f":"$Q106*Z107","v":0},{"$f":"$R106*Z107","v":0},null,"Row",{"$f":"AE100+1","v":7},{"$f":"$Q106*AE107","v":0},{"$f":"$R106*AE107","v":0},null,"Row",{"$f":"AJ100+1","v":7},{"$f":"$Q106*AJ107","v":0},{"$f":"$R106*AJ107","v":0}]
["Left Aisle, Maximum","[in]",{"$f":"C106+C100","v":25.5},null,null,null,null,null,null,null,null,null,null,null,"On/Off",{"$f":"IF(P106>$G$63,0,1)","v":1},{"$f":"(Q106+(P110/12))*P107","v":29.458333333333329},{"$f":"R106","v":40},null,"4' or 5'",{"$f":"IF($C$41=1,IF($P110<$D$9,1,0),0)","v":1},{"$f":"$Q107*U107","v":29.458333333333329},{"$f":"$R107*U107","v":40},null,"4' or 5'",{"$f":"IF($C$41=1,IF($P110<$D$9,0,1),0)","v":0},{"$f":"$Q107*Z107","v":0},{"$f":"$R107*Z107","v":0},null,"4' or 5'",{"$f":"IF($C$41=2,IF($P110<$D$9,1,0),0)","v":0},{"$f":"$Q107*AE107","v":0},{"$f":"$R107*AE107","v":0},null,"4' or 5'",{"$f":"IF($C$41=2,IF($P110<$D$9,0,1),0)","v":0},{"$f":"$Q107*AJ107","v":0},{"$f":"$R107*AJ107","v":0}]
["Right Aisle, Minimum","[in]",{"$f":"IF(C60=1,C92-C31,IF(C60=2,C92-D31,IF(C60=3,IF(C112=2,C92-C31,IF(C112=3,C92-D31)))))","v":0},null,null,null,null,null,null,null,null,null,null,null,"Inside Reference",null,{"$f":"Q107","v":29.458333333333329},{"$f":"(R107-$C$55)*P107","v":0.25},null,null,null,{"$f":"$Q108*U107","v":29.458333333333329},{"$f":"$R108*U107","v":0.25},null,null,null,{"$f":"$Q108*Z107","v":0},{"$f":"$R108*Z107","v":0},null,null,null,{"$f":"$Q108*AE107","v":0},{"$f":"$R108*AE107","v":0},null,null,null,{"$f":"$Q108*AJ107","v":0},{"$f":"$R108*AJ107","v":0}]
["Right Aisle, Maximum","[in]",{"$f":"C108+C100","v":25.5},null,1,"--",null,null,null,null,null,null,null,null,"Outside Reference",null,{"$f":"Q106","v":25.249999999999996},{"$f":"R108","v":0.25},null,null,null,{"$f":"$Q109*U107","v":25.249999999999996},{"$f":"$R109*U107","v":0.25},null,null,null,{"$f":"$Q109*Z107","v":0},{"$f":"$R109*Z107","v":0},null,null,null,{"$f":"$Q109*AE107","v":0},{"$f":"$R109*AE107","v":0},null,null,null,{"$f":"$Q109*AJ107","v":0},{"$f":"$R109*AJ107","v":0}]
[null,null,null,null,2,"4ft",null,null,null,null,null,null,null,null,"4' or 5'",{"$f":"IF(OR($C$41=2,$C$41=3),IF(P106>$F$63,$E$9,$F$9),IF(P106>$F$63,$C$9,$D$9))","v":50.5},{"$f":"Q106","v":25.249999999999996},40,null,null,null,{"$f":"$Q110*U107","v":25.249999999999996},{"$f":"$R110*U107","v":40},null,null,null,{"$f":"$Q110*Z107","v":0},{"$f":"$R110*Z107","v":0},null,null,null,{"$f":"$Q110*AE107","v":0},{"$f":"$R110*AE107","v":0},null,null,null,{"$f":"$Q110*AJ107","v":0},{"$f":"$R110*AJ107","v":0}]
["Left Bench","[#]",1,null,3,"5ft"]
["Right Bench","[#]",1,null,null,null,null,null,null,null,null,null,null,null,"Row",8,{"$f":"(Q107+($D$39/12))*P113","v":29.458333333333329},{"$f":"(R107)*P113","v":40},null,"Row",{"$f":"U106+1","v":8},{"$f":"$Q112*U113","v":29.458333333333329},{"$f":"$R112*U113","v":40},null,"Row",{"$f":"Z106+1","v":8},{"$f":"$Q112*Z113","v":0},{"$f":"$R112*Z113","v":0},null,"Row",{"$f":"AE106+1","v":8},{"$f":"$Q112*AE113","v":0},{"$f":"$R112*AE113","v":0},null,"Row",{"$f":"AJ106+1","v":8},{"$f":"$Q112*AJ113","v":0},{"$f":"$R112*AJ113","v":0}]
[null,null,null,null,null,null,null,null,null,null,null,null,null,null,"On/Off",{"$f":"IF(P112>$G$63,0,1)","v":1},{"$f":"(Q112+(P116/12))*P113","v":33.666666666666664},{"$f":"R112","v":40},null,"4' or 5'",{"$f":"IF($C$41=1,IF($P116<$D$9,1,0),0)","v":1},{"$f":"$Q113*U113","v":33.666666666666664},{"$f":"$R113*U113","v":40},null,"4' or 5'",{"$f":"IF($C$41=1,IF($P116<$D$9,0,1),0)","v":0},{"$f":"$Q113*Z113","v":0},{"$f":"$R113*Z113","v":0},null,"4' or 5'",{"$f":"IF($C$41=2,IF($P116<$D$9,1,0),0)","v":0},{"$f":"$Q113*AE113","v":0},{"$f":"$R113*AE113","v":0},null,"4' or 5'",{"$f":"IF($C$41=2,IF($P116<$D$9,0,1),0)","v":0},{"$f":"$Q113*AJ113","v":0},{"$f":"$R113*AJ113","v":0}]
[null,null,null,null,null,null,null,null,null,null,null,null,null,null,"Inside Reference",null,{"$f":"Q113","v":33.666666666666664},{"$f":"(R113-$C$55)*P113","v":0.25},null,null,null,{"$f":"$Q114*U113","v":33.666666666666664},{"$f":"$R114*U113","v":0.25},null,null,null,{"$f":"$Q114*Z113","v":0},{"$f":"$R114*Z113","v":0},null,null,null,{"$f":"$Q114*AE113","v":0},{"$f":"$R114*AE113","v":0},null,null,null,{"$f":"$Q114*AJ113","v":0},{"$f":"$R114*AJ113","v":0}]
[null,null,null,null,null,null,null,null,null,null,null,null,null,null,"Outside Reference",null,{"$f":"Q112","v":29.458333333333329},{"$f":"R114","v":0.25},null,null,null,{"$f":"$Q115*U113","v":29.458333333333329},{"$f":"$R115*U113","v":0.25},null,null,null,{"$f":"$Q115*Z113","v":0},{"$f":"$R115*Z113","v":0},null,null,null,{"$f":"$Q115*AE113","v":0},{"$f":"$R115*AE113","v":0},null,null,null,{"$f":"$Q115*AJ113","v":0},{"$f":"$R115*AJ113","v":0}]
[null,null,null,null,null,null,null,null,null,null,null,null,null,null,"4' or 5'",{"$f":"IF(OR($C$41=2,$C$41=3),IF(P112>$F$63,$E$9,$F$9),IF(P112>$F$63,$C$9,$D$9))","v":50.5},{"$f":"Q112","v":29.458333333333329},40,null,null,null,{"$f":"$Q116*U113","v":29.458333333333329},{"$f":"$R116*U113","v":40},null,null,null,{"$f":"$Q116*Z113","v":0},{"$f":"$R116*Z113","v":0},null,null,null,{"$f":"$Q116*AE113","v":0},{"$f":"$R116*AE113","v":0},null,null,null,{"$f":"$Q116*AJ113","v":0},{"$f":"$R116*AJ113","v":0}]
[]
[null,null,null,null,null,null,null,null,null,null,null,null,null,null,"Row",9,{"$f":"(Q113+($D$39/12))*P119","v":33.666666666666664},{"$f":"(R113)*P119","v":40},null,"Row",{"$f":"U112+1","v":9},{"$f":"$Q118*U119","v":33.666666666666664},{"$f":"$R118*U119","v":40},null,"Row",{"$f":"Z112+1","v":9},{"$f":"$Q118*Z119","v":0},{"$f":"$R118*Z119","v":0},null,"Row",{"$f":"AE112+1","v":9},{"$f":"$Q118*AE119","v":0},{"$f":"$R118*AE119","v":0},null,"Row",{"$f":"AJ112+1","v":9},{"$f":"$Q118*AJ119","v":0},{"$f":"$R118*AJ119","v":0}]
[null,null,null,null,null,null,null,null,null,null,null,null,null,null,"On/Off",{"$f":"IF(P118>$G$63,0,1)","v":1},{"$f":"(Q118+(P122/12))*P119","v":37.875},{"$f":"R118","v":40},null,"4' or 5'",{"$f":"IF($C$41=1,IF($P122<$D$9,1,0),0)","v":1},{"$f":"$Q119*U119","v":37.875},{"$f":"$R119*U119","v":40},null,"4' or 5'",{"$f":"IF($C$41=1,IF($P122<$D$9,0,1),0)","v":0},{"$f":"$Q119*Z119","v":0},{"$f":"$R119*Z119","v":0},null,"4' or 5'",{"$f":"IF($C$41=2,IF($P122<$D$9,1,0),0)","v":0},{"$f":"$Q119*AE119","v":0},{"$f":"$R119*AE119","v":0},null,"4' or 5'",{"$f":"IF($C$41=2,IF($P122<$D$9,0,1),0)","v":0},{"$f":"$Q119*AJ119","v":0},{"$f":"$R119*AJ119","v":0}]
[null,null,null,null,null,null,null,null,null,null,null,null,null,null,"Inside Reference",null,{"$f":"Q119","v":37.875},{"$f":"(R119-$C$55)*P119","v":0.25},null,null,null,{"$f":"$Q120*U119","v":37.875},{"$f":"$R120*U119","v":0.25},null,null,null,{"$f":"$Q120*Z119","v":0},{"$f":"$R120*Z119","v":0},null,null,null,{"$f":"$Q120*AE119","v":0},{"$f":"$R120*AE119","v":0},null,null,null,{"$f":"$Q120*AJ119","v":0},{"$f":"$R120*AJ119","v":0}]
[null,null,null,null,null,null,null,null,null,null,null,null,null,null,"Outside Reference",null,{"$f":"Q118","v":33.666666666666664},{"$f":"R120","v":0.25},null,null,null,{"$f":"$Q121*U119","v":33.666666666666664},{"$f":"$R121*U119","v":0.25},null,null,null,{"$f":"$Q121*Z119","v":0},{"$f":"$R121*Z119","v":0},null,null,null,{"$f":"$Q121*AE119","v":0},{"$f":"$R121*AE119","v":0},null,null,null,{"$f":"$Q121*AJ119","v":0},{"$f":"$R121*AJ119","v":0}]
[null,null,null,null,null,null,null,null,null,null,null,null,null,null,"4' or 5'",{"$f":"IF(OR($C$41=2,$C$41=3),IF(P118>$F$63,$E$9,$F$9),IF(P118>$F$63,$C$9,$D$9))","v":50.5},{"$f":"Q118","v":33.666666666666664},40,null,null,null,{"$f":"$Q122*U119","v":33.666666666666664},{"$f":"$R122*U119","v":40},null,null,null,{"$f":"$Q122*Z119","v":0},{"$f":"$R122*Z119","v":0},null,null,null,{"$f":"$Q122*AE119","v":0},{"$f":"$R122*AE119","v":0},null,null,null,{"$f":"$Q122*AJ119","v":0},{"$f":"$R122*AJ119","v":0}]
[]
[null,null,null,null,null,null,null,null,null,null,null,null,null,null,"Row",10,{"$f":"(Q119+($D$39/12))*P125","v":0},{"$f":"(R119)*P125","v":0},null,"Row",{"$f":"U118+1","v":10},{"$f":"$Q124*U125","v":0},{"$f":"$R124*U125","v":0},null,"Row",{"$f":"Z118+1","v":10},{"$f":"$Q124*Z125","v":0},{"$f":"$R124*Z125","v":0},null,"Row",{"$f":"AE118+1","v":10},{"$f":"$Q124*AE125","v":0},{"$f":"$R124*AE125","v":0},null,"Row",{"$f":"AJ118+1","v":10},{"$f":"$Q124*AJ125","v":0},{"$f":"$R124*AJ125","v":0}]
[null,null,null,null,null,null,null,null,null,null,null,null,null,null,"On/Off",{"$f":"IF(P124>$G$63,0,1)","v":0},{"$f":"(Q124+(P128/12))*P125","v":0},{"$f":"R124","v":0},null,"4' or 5'",{"$f":"IF($C$41=1,IF($P128<$D$9,1,0),0)","v":1},{"$f":"$Q125*U125","v":0},{"$f":"$R125*U125","v":0},null,"4' or 5'",{"$f":"IF($C$41=1,IF($P128<$D$9,0,1),0)","v":0},{"$f":"$Q125*Z125","v":0},{"$f":"$R125*Z125","v":0},null,"4' or 5'",{"$f":"IF($C$41=2,IF($P128<$D$9,1,0),0)","v":0},{"$f":"$Q125*AE125","v":0},{"$f":"$R125*AE125","v":0},null,"4' or 5'",{"$f":"IF($C$41=2,IF($P128<$D$9,0,1),0)","v":0},{"$f":"$Q125*AJ125","v":0},{"$f":"$R125*AJ125","v":0}]
[null,null,null,null,null,null,null,null,null,null,null,null,null,null,"Inside Reference",null,{"$f":"Q125","v":0},{"$f":"(R125-$C$55)*P125","v":0},null,null,null,{"$f":"$Q126*U125","v":0},{"$f":"$R126*U125","v":0},null,null,null,{"$f":"$Q126*Z125","v":0},{"$f":"$R126*Z125","v":0},null,null,null,{"$f":"$Q126*AE125","v":0},{"$f":"$R126*AE125","v":0},null,null,null,{"$f":"$Q126*AJ125","v":0},{"$f":"$R126*AJ125","v":0}]
[null,null,null,null,null,null,null,null,null,null,null,null,null,null,"Outside Reference",null,{"$f":"Q124","v":0},{"$f":"R126","v":0},null,null,null,{"$f":"$Q127*U125","v":0},{"$f":"$R127*U125","v":0},null,null,null,{"$f":"$Q127*Z125","v":0},{"$f":"$R127*Z125","v":0},null,null,null,{"$f":"$Q127*AE125","v":0},{"$f":"$R127*AE125","v":0},null,null,null,{"$f":"$Q127*AJ125","v":0},{"$f":"$R127*AJ125","v":0}]
[null,null,null,null,null,null,null,null,null,null,null,null,null,null,"4' or 5'",{"$f":"IF(OR($C$41=2,$C$41=3),IF(P124>$F$63,$E$9,$F$9),IF(P124>$F$63,$C$9,$D$9))","v":50.5},{"$f":"Q124","v":0},0,null,null,null,{"$f":"$Q128*U125","v":0},{"$f":"$R128*U125","v":0},null,null,null,{"$f":"$Q128*Z125","v":0},{"$f":"$R128*Z125","v":0},null,null,null,{"$f":"$Q128*AE125","v":0},{"$f":"$R128*AE125","v":0},null,null,null,{"$f":"$Q128*AJ125","v":0},{"$f":"$R128*AJ125","v":0}]
[]
[null,null,null,null,null,null,null,null,null,null,null,null,null,null,"Row",11,{"$f":"(Q125+($D$39/12))*P131","v":0},{"$f":"(R125)*P131","v":0},null,"Row",{"$f":"U124+1","v":11},{"$f":"$Q130*U131","v":0},{"$f":"$R130*U131","v":0},null,"Row",{"$f":"Z124+1","v":11},{"$f":"$Q130*Z131","v":0},{"$f":"$R130*Z131","v":0},null,"Row",{"$f":"AE124+1","v":11},{"$f":"$Q130*AE131","v":0},{"$f":"$R130*AE131","v":0},null,"Row",{"$f":"AJ124+1","v":11},{"$f":"$Q130*AJ131","v":0},{"$f":"$R130*AJ131","v":0}]
[null,null,null,null,null,null,null,null,null,null,null,null,null,null,"On/Off",{"$f":"IF(P130>$G$63,0,1)","v":0},{"$f":"(Q130+(P134/12))*P131","v":0},{"$f":"R130","v":0},null,"4' or 5'",{"$f":"IF($C$41=1,IF($P134<$D$9,1,0),0)","v":1},{"$f":"$Q131*U131","v":0},{"$f":"$R131*U131","v":0},null,"4' or 5'",{"$f":"IF($C$41=1,IF($P134<$D$9,0,1),0)","v":0},{"$f":"$Q131*Z131","v":0},{"$f":"$R131*Z131","v":0},null,"4' or 5'",{"$f":"IF($C$41=2,IF($P134<$D$9,1,0),0)","v":0},{"$f":"$Q131*AE131","v":0},{"$f":"$R131*AE131","v":0},null,"4' or 5'",{"$f":"IF($C$41=2,IF($P134<$D$9,0,1),0)","v":0},{"$f":"$Q131*AJ131","v":0},{"$f":"$R131*AJ131","v":0}]
[null,null,null,null,null,null,null,null,null,null,null,null,null,null,"Inside Reference",null,{"$f":"Q131","v":0},{"$f":"(R131-$C$55)*P131","v":0},null,null,null,{"$f":"$Q132*U131","v":0},{"$f":"$R132*U131","v":0},null,null,null,{"$f":"$Q132*Z131","v":0},{"$f":"$R132*Z131","v":0},null,null,null,{"$f":"$Q132*AE131","v":0},{"$f":"$R132*AE131","v":0},null,null,null,{"$f":"$Q132*AJ131","v":0},{"$f":"$R132*AJ131","v":0}]
[null,null,null,null,null,null,null,null,null,null,null,null,null,null,"Outside Reference",null,{"$f":"Q130","v":0},{"$f":"R132","v":0},null,null,null,{"$f":"$Q133*U131","v":0},{"$f":"$R133*U131","v":0},null,null,null,{"$f":"$Q133*Z131","v":0},{"$f":"$R133*Z131","v":0},null,null,null,{"$f":"$Q133*AE131","v":0},{"$f":"$R133*AE131","v":0},null,null,null,{"$f":"$Q133*AJ131","v":0},{"$f":"$R133*AJ131","v":0}]
[null,null,null,null,null,null,null,null,null,null,null,null,null,null,"4' or 5'",{"$f":"IF(OR($C$41=2,$C$41=3),IF(P130>$F$63,$E$9,$F$9),IF(P130>$F$63,$C$9,$D$9))","v":50.5},{"$f":"Q130","v":0},0,null,null,null,{"$f":"$Q134*U131","v":0},{"$f":"$R134*U131","v":0},null,null,null,{"$f":"$Q134*Z131","v":0},{"$f":"$R134*Z131","v":0},null,null,null,{"$f":"$Q134*AE131","v":0},{"$f":"$R134*AE131","v":0},null,null,null,{"$f":"$Q134*AJ131","v":0},{"$f":"$R134*AJ131","v":0}]
[]
[null,null,null,null,null,null,null,null,null,null,null,null,null,null,"Row",12,{"$f":"(Q131+($D$39/12))*P137","v":0},{"$f":"(R131)*P137","v":0},null,"Row",{"$f":"U130+1","v":12},{"$f":"$Q136*U137","v":0},{"$f":"$R136*U137","v":0},null,"Row",{"$f":"Z130+1","v":12},{"$f":"$Q136*Z137","v":0},{"$f":"$R136*Z137","v":0},null,"Row",{"$f":"AE130+1","v":12},{"$f":"$Q136*AE137","v":0},{"$f":"$R136*AE137","v":0},null,"Row",{"$f":"AJ130+1","v":12},{"$f":"$Q136*AJ137","v":0},{"$f":"$R136*AJ137","v":0}]
[null,null,null,null,null,null,null,null,null,null,null,null,null,null,"On/Off",{"$f":"IF(P136>$G$63,0,1)","v":0},{"$f":"(Q136+(P140/12))*P137","v":0},{"$f":"R136","v":0},null,"4' or 5'",{"$f":"IF($C$41=1,IF($P140<$D$9,1,0),0)","v":1},{"$f":"$Q137*U137","v":0},{"$f":"$R137*U137","v":0},null,"4' or 5'",{"$f":"IF($C$41=1,IF($P140<$D$9,0,1),0)","v":0},{"$f":"$Q137*Z137","v":0},{"$f":"$R137*Z137","v":0},null,"4' or 5'",{"$f":"IF($C$41=2,IF($P140<$D$9,1,0),0)","v":0},{"$f":"$Q137*AE137","v":0},{"$f":"$R137*AE137","v":0},null,"4' or 5'",{"$f":"IF($C$41=2,IF($P140<$D$9,0,1),0)","v":0},{"$f":"$Q137*AJ137","v":0},{"$f":"$R137*AJ137","v":0}]
[null,null,null,null,null,null,null,null,null,null,null,null,null,null,"Inside Reference",null,{"$f":"Q137","v":0},{"$f":"(R137-$C$55)*P137","v":0},null,null,null,{"$f":"$Q138*U137","v":0},{"$f":"$R138*U137","v":0},null,null,null,{"$f":"$Q138*Z137","v":0},{"$f":"$R138*Z137","v":0},null,null,null,{"$f":"$Q138*AE137","v":0},{"$f":"$R138*AE137","v":0},null,null,null,{"$f":"$Q138*AJ137","v":0},{"$f":"$R138*AJ137","v":0}]
[null,null,null,null,null,null,null,null,null,null,null,null,null,null,"Outside Reference",null,{"$f":"Q136","v":0},{"$f":"R138","v":0},null,null,null,{"$f":"$Q139*U137","v":0},{"$f":"$R139*U137","v":0},null,null,null,{"$f":"$Q139*Z137","v":0},{"$f":"$R139*Z137","v":0},null,null,null,{"$f":"$Q139*AE137","v":0},{"$f":"$R139*AE137","v":0},null,null,null,{"$f":"$Q139*AJ137","v":0},{"$f":"$R139*AJ137","v":0}]
[null,null,null,null,null,null,null,null,null,null,null,null,null,null,"4' or 5'",{"$f":"IF(OR($C$41=2,$C$41=3),IF(P136>$F$63,$E$9,$F$9),IF(P136>$F$63,$C$9,$D$9))","v":50.5},{"$f":"Q136","v":0},0,null,null,null,{"$f":"$Q140*U137","v":0},{"$f":"$R140*U137","v":0},null,null,null,{"$f":"$Q140*Z137","v":0},{"$f":"$R140*Z137","v":0},null,null,null,{"$f":"$Q140*AE137","v":0},{"$f":"$R140*AE137","v":0},null,null,null,{"$f":"$Q140*AJ137","v":0},{"$f":"$R140*AJ137","v":0}]
[]
[null,null,null,null,null,null,null,null,null,null,null,null,null,null,"Row",13,{"$f":"(Q137+($D$39/12))*P143","v":0},{"$f":"(R137)*P143","v":0},null,"Row",{"$f":"U136+1","v":13},{"$f":"$Q142*U143","v":0},{"$f":"$R142*U143","v":0},null,"Row",{"$f":"Z136+1","v":13},{"$f":"$Q142*Z143","v":0},{"$f":"$R142*Z143","v":0},null,"Row",{"$f":"AE136+1","v":13},{"$f":"$Q142*AE143","v":0},{"$f":"$R142*AE143","v":0},null,"Row",{"$f":"AJ136+1","v":13},{"$f":"$Q142*AJ143","v":0},{"$f":"$R142*AJ143","v":0}]
[null,null,null,null,null,null,null,null,null,null,null,null,null,null,"On/Off",{"$f":"IF(P142>$G$63,0,1)","v":0},{"$f":"(Q142+(P146/12))*P143","v":0},{"$f":"R142","v":0},null,"4' or 5'",{"$f":"IF($C$41=1,IF($P146<$D$9,1,0),0)","v":1},{"$f":"$Q143*U143","v":0},{"$f":"$R143*U143","v":0},null,"4' or 5'",{"$f":"IF($C$41=1,IF($P146<$D$9,0,1),0)","v":0},{"$f":"$Q143*Z143","v":0},{"$f":"$R143*Z143","v":0},null,"4' or 5'",{"$f":"IF($C$41=2,IF($P146<$D$9,1,0),0)","v":0},{"$f":"$Q143*AE143","v":0},{"$f":"$R143*AE143","v":0},null,"4' or 5'",{"$f":"IF($C$41=2,IF($P146<$D$9,0,1),0)","v":0},{"$f":"$Q143*AJ143","v":0},{"$f":"$R143*AJ143","v":0}]
[null,null,null,null,null,null,null,null,null,null,null,null,null,null,"Inside Reference",null,{"$f":"Q143","v":0},{"$f":"(R143-$C$55)*P143","v":0},null,null,null,{"$f":"$Q144*U143","v":0},{"$f":"$R144*U143","v":0},null,null,null,{"$f":"$Q144*Z143","v":0},{"$f":"$R144*Z143","v":0},null,null,null,{"$f":"$Q144*AE143","v":0},{"$f":"$R144*AE143","v":0},null,null,null,{"$f":"$Q144*AJ143","v":0},{"$f":"$R144*AJ143","v":0}]
[null,null,null,null,null,null,null,null,null,null,null,null,null,null,"Outside Reference",null,{"$f":"Q142","v":0},{"$f":"R144","v":0},null,null,null,{"$f":"$Q145*U143","v":0},{"$f":"$R145*U143","v":0},null,null,null,{"$f":"$Q145*Z143","v":0},{"$f":"$R145*Z143","v":0},null,null,null,{"$f":"$Q145*AE143","v":0},{"$f":"$R145*AE143","v":0},null,null,null,{"$f":"$Q145*AJ143","v":0},{"$f":"$R145*AJ143","v":0}]
[null,null,null,null,null,null,null,null,null,null,null,null,null,null,"4' or 5'",{"$f":"IF(OR($C$41=2,$C$41=3),IF(P142>$F$63,$E$9,$F$9),IF(P142>$F$63,$C$9,$D$9))","v":50.5},{"$f":"Q142","v":0},0,null,null,null,{"$f":"$Q146*U143","v":0},{"$f":"$R146*U143","v":0},null,null,null,{"$f":"$Q146*Z143","v":0},{"$f":"$R146*Z143","v":0},null,null,null,{"$f":"$Q146*AE143","v":0},{"$f":"$R146*AE143","v":0},null,null,null,{"$f":"$Q146*AJ143","v":0},{"$f":"$R146*AJ143","v":0}]
[]
[null,null,null,null,null,null,null,null,null,null,null,null,null,null,"Row",14,{"$f":"(Q143+($D$39/12))*P149","v":0},{"$f":"(R143)*P149","v":0},null,"Row",{"$f":"U142+1","v":14},{"$f":"$Q148*U149","v":0},{"$f":"$R148*U149","v":0},null,"Row",{"$f":"Z142+1","v":14},{"$f":"$Q148*Z149","v":0},{"$f":"$R148*Z149","v":0},null,"Row",{"$f":"AE142+1","v":14},{"$f":"$Q148*AE149","v":0},{"$f":"$R148*AE149","v":0},null,"Row",{"$f":"AJ142+1","v":14},{"$f":"$Q148*AJ149","v":0},{"$f":"$R148*AJ149","v":0}]
[null,null,null,null,null,null,null,null,null,null,null,null,null,null,"On/Off",{"$f":"IF(P148>$G$63,0,1)","v":0},{"$f":"(Q148+(P152/12))*P149","v":0},{"$f":"R148","v":0},null,"4' or 5'",{"$f":"IF($C$41=1,IF($P152<$D$9,1,0),0)","v":1},{"$f":"$Q149*U149","v":0},{"$f":"$R149*U149","v":0},null,"4' or 5'",{"$f":"IF($C$41=1,IF($P152<$D$9,0,1),0)","v":0},{"$f":"$Q149*Z149","v":0},{"$f":"$R149*Z149","v":0},null,"4' or 5'",{"$f":"IF($C$41=2,IF($P152<$D$9,1,0),0)","v":0},{"$f":"$Q149*AE149","v":0},{"$f":"$R149*AE149","v":0},null,"4' or 5'",{"$f":"IF($C$41=2,IF($P152<$D$9,0,1),0)","v":0},{"$f":"$Q149*AJ149","v":0},{"$f":"$R149*AJ149","v":0}]
[null,null,null,null,null,null,null,null,null,null,null,null,null,null,"Inside Reference",null,{"$f":"Q149","v":0},{"$f":"(R149-$C$55)*P149","v":0},null,null,null,{"$f":"$Q150*U149","v":0},{"$f":"$R150*U149","v":0},null,null,null,{"$f":"$Q150*Z149","v":0},{"$f":"$R150*Z149","v":0},null,null,null,{"$f":"$Q150*AE149","v":0},{"$f":"$R150*AE149","v":0},null,null,null,{"$f":"$Q150*AJ149","v":0},{"$f":"$R150*AJ149","v":0}]
[null,null,null,null,null,null,null,null,null,null,null,null,null,null,"Outside Reference",null,{"$f":"Q148","v":0},{"$f":"R150","v":0},null,null,null,{"$f":"$Q151*U149","v":0},{"$f":"$R151*U149","v":0},null,null,null,{"$f":"$Q151*Z149","v":0},{"$f":"$R151*Z149","v":0},null,null,null,{"$f":"$Q151*AE149","v":0},{"$f":"$R151*AE149","v":0},null,null,null,{"$f":"$Q151*AJ149","v":0},{"$f":"$R151*AJ149","v":0}]
[null,null,null,null,null,null,null,null,null,null,null,null,null,null,"4' or 5'",{"$f":"IF(OR($C$41=2,$C$41=3),IF(P148>$F$63,$E$9,$F$9),IF(P148>$F$63,$C$9,$D$9))","v":50.5},{"$f":"Q148","v":0},0,null,null,null,{"$f":"$Q152*U149","v":0},{"$f":"$R152*U149","v":0},null,null,null,{"$f":"$Q152*Z149","v":0},{"$f":"$R152*Z149","v":0},null,null,null,{"$f":"$Q152*AE149","v":0},{"$f":"$R152*AE149","v":0},null,null,null,{"$f":"$Q152*AJ149","v":0},{"$f":"$R152*AJ149","v":0}]
[]
[null,null,null,null,null,null,null,null,null,null,null,null,null,null,"Row",15,{"$f":"(Q149+($D$39/12))*P155","v":0},{"$f":"(R149)*P155","v":0},null,"Row",{"$f":"U148+1","v":15},{"$f":"$Q154*U155","v":0},{"$f":"$R154*U155","v":0},null,"Row",{"$f":"Z148+1","v":15},{"$f":"$Q154*Z155","v":0},{"$f":"$R154*Z155","v":0},null,"Row",{"$f":"AE148+1","v":15},{"$f":"$Q154*AE155","v":0},{"$f":"$R154*AE155","v":0},null,"Row",{"$f":"AJ148+1","v":15},{"$f":"$Q154*AJ155","v":0},{"$f":"$R154*AJ155","v":0}]
[null,null,null,null,null,null,null,null,null,null,null,null,null,null,"On/Off",{"$f":"IF(P154>$G$63,0,1)","v":0},{"$f":"(Q154+(P158/12))*P155","v":0},{"$f":"R154","v":0},null,"4' or 5'",{"$f":"IF($C$41=1,IF($P158<$D$9,1,0),0)","v":1},{"$f":"$Q155*U155","v":0},{"$f":"$R155*U155","v":0},null,"4' or 5'",{"$f":"IF($C$41=1,IF($P158<$D$9,0,1),0)","v":0},{"$f":"$Q155*Z155","v":0},{"$f":"$R155*Z155","v":0},null,"4' or 5'",{"$f":"IF($C$41=2,IF($P158<$D$9,1,0),0)","v":0},{"$f":"$Q155*AE155","v":0},{"$f":"$R155*AE155","v":0},null,"4' or 5'",{"$f":"IF($C$41=2,IF($P158<$D$9,0,1),0)","v":0},{"$f":"$Q155*AJ155","v":0},{"$f":"$R155*AJ155","v":0}]
[null,null,null,null,null,null,null,null,null,null,null,null,null,null,"Inside Reference",null,{"$f":"Q155","v":0},{"$f":"(R155-$C$55)*P155","v":0},null,null,null,{"$f":"$Q156*U155","v":0},{"$f":"$R156*U155","v":0},null,null,null,{"$f":"$Q156*Z155","v":0},{"$f":"$R156*Z155","v":0},null,null,null,{"$f":"$Q156*AE155","v":0},{"$f":"$R156*AE155","v":0},null,null,null,{"$f":"$Q156*AJ155","v":0},{"$f":"$R156*AJ155","v":0}]
[null,null,null,null,null,null,null,null,null,null,null,null,null,null,"Outside Reference",null,{"$f":"Q154","v":0},{"$f":"R156","v":0},null,null,null,{"$f":"$Q157*U155","v":0},{"$f":"$R157*U155","v":0},null,null,null,{"$f":"$Q157*Z155","v":0},{"$f":"$R157*Z155","v":0},null,null,null,{"$f":"$Q157*AE155","v":0},{"$f":"$R157*AE155","v":0},null,null,null,{"$f":"$Q157*AJ155","v":0},{"$f":"$R157*AJ155","v":0}]
[null,null,null,null,null,null,null,null,null,null,null,null,null,null,"4' or 5'",{"$f":"IF(OR($C$41=2,$C$41=3),IF(P154>$F$63,$E$9,$F$9),IF(P154>$F$63,$C$9,$D$9))","v":50.5},{"$f":"Q154","v":0},0,null,null,null,{"$f":"$Q158*U155","v":0},{"$f":"$R158*U155","v":0},null,null,null,{"$f":"$Q158*Z155","v":0},{"$f":"$R158*Z155","v":0},null,null,null,{"$f":"$Q158*AE155","v":0},{"$f":"$R158*AE155","v":0},null,null,null,{"$f":"$Q158*AJ155","v":0},{"$f":"$R158*AJ155","v":0}]
[]
[null,null,null,null,null,null,null,null,null,null,null,null,null,null,"Row",16,{"$f":"(Q155+($D$39/12))*P161","v":0},{"$f":"(R155)*P161","v":0},null,"Row",{"$f":"U154+1","v":16},{"$f":"$Q160*U161","v":0},{"$f":"$R160*U161","v":0},null,"Row",{"$f":"Z154+1","v":16},{"$f":"$Q160*Z161","v":0},{"$f":"$R160*Z161","v":0},null,"Row",{"$f":"AE154+1","v":16},{"$f":"$Q160*AE161","v":0},{"$f":"$R160*AE161","v":0},null,"Row",{"$f":"AJ154+1","v":16},{"$f":"$Q160*AJ161","v":0},{"$f":"$R160*AJ161","v":0}]
[null,null,null,null,null,null,null,null,null,null,null,null,null,null,"On/Off",{"$f":"IF(P160>$G$63,0,1)","v":0},{"$f":"(Q160+(P164/12))*P161","v":0},{"$f":"R160","v":0},null,"4' or 5'",{"$f":"IF($C$41=1,IF($P164<$D$9,1,0),0)","v":1},{"$f":"$Q161*U161","v":0},{"$f":"$R161*U161","v":0},null,"4' or 5'",{"$f":"IF($C$41=1,IF($P164<$D$9,0,1),0)","v":0},{"$f":"$Q161*Z161","v":0},{"$f":"$R161*Z161","v":0},null,"4' or 5'",{"$f":"IF($C$41=2,IF($P164<$D$9,1,0),0)","v":0},{"$f":"$Q161*AE161","v":0},{"$f":"$R161*AE161","v":0},null,"4' or 5'",{"$f":"IF($C$41=2,IF($P164<$D$9,0,1),0)","v":0},{"$f":"$Q161*AJ161","v":0},{"$f":"$R161*AJ161","v":0}]
[null,null,null,null,null,null,null,null,null,null,null,null,null,null,"Inside Reference",null,{"$f":"Q161","v":0},{"$f":"(R161-$C$55)*P161","v":0},null,null,null,{"$f":"$Q162*U161","v":0},{"$f":"$R162*U161","v":0},null,null,null,{"$f":"$Q162*Z161","v":0},{"$f":"$R162*Z161","v":0},null,null,null,{"$f":"$Q162*AE161","v":0},{"$f":"$R162*AE161","v":0},null,null,null,{"$f":"$Q162*AJ161","v":0},{"$f":"$R162*AJ161","v":0}]
[null,null,null,null,null,null,null,null,null,null,null,null,null,null,"Outside Reference",null,{"$f":"Q160","v":0},{"$f":"R162","v":0},null,null,null,{"$f":"$Q163*U161","v":0},{"$f":"$R163*U161","v":0},null,null,null,{"$f":"$Q163*Z161","v":0},{"$f":"$R163*Z161","v":0},null,null,null,{"$f":"$Q163*AE161","v":0},{"$f":"$R163*AE161","v":0},null,null,null,{"$f":"$Q163*AJ161","v":0},{"$f":"$R163*AJ161","v":0}]
[null,null,null,null,null,null,null,null,null,null,null,null,null,null,"4' or 5'",{"$f":"IF(OR($C$41=2,$C$41=3),IF(P160>$F$63,$E$9,$F$9),IF(P160>$F$63,$C$9,$D$9))","v":50.5},{"$f":"Q160","v":0},0,null,null,null,{"$f":"$Q164*U161","v":0},{"$f":"$R164*U161","v":0},null,null,null,{"$f":"$Q164*Z161","v":0},{"$f":"$R164*Z161","v":0},null,null,null,{"$f":"$Q164*AE161","v":0},{"$f":"$R164*AE161","v":0},null,null,null,{"$f":"$Q164*AJ161","v":0},{"$f":"$R164*AJ161","v":0}]
[]
[null,null,null,null,null,null,null,null,null,null,null,null,null,null,"Row",17,{"$f":"(Q161+($D$39/12))*P167","v":0},{"$f":"(R161)*P167","v":0},null,"Row",{"$f":"U160+1","v":17},{"$f":"$Q166*U167","v":0},{"$f":"$R166*U167","v":0},null,"Row",{"$f":"Z160+1","v":17},{"$f":"$Q166*Z167","v":0},{"$f":"$R166*Z167","v":0},null,"Row",{"$f":"AE160+1","v":17},{"$f":"$Q166*AE167","v":0},{"$f":"$R166*AE167","v":0},null,"Row",{"$f":"AJ160+1","v":17},{"$f":"$Q166*AJ167","v":0},{"$f":"$R166*AJ167","v":0}]
[null,null,null,null,null,null,null,null,null,null,null,null,null,null,"On/Off",{"$f":"IF(P166>$G$63,0,1)","v":0},{"$f":"(Q166+(P170/12))*P167","v":0},{"$f":"R166","v":0},null,"4' or 5'",{"$f":"IF($C$41=1,IF($P170<$D$9,1,0),0)","v":1},{"$f":"$Q167*U167","v":0},{"$f":"$R167*U167","v":0},null,"4' or 5'",{"$f":"IF($C$41=1,IF($P170<$D$9,0,1),0)","v":0},{"$f":"$Q167*Z167","v":0},{"$f":"$R167*Z167","v":0},null,"4' or 5'",{"$f":"IF($C$41=2,IF($P170<$D$9,1,0),0)","v":0},{"$f":"$Q167*AE167","v":0},{"$f":"$R167*AE167","v":0},null,"4' or 5'",{"$f":"IF($C$41=2,IF($P170<$D$9,0,1),0)","v":0},{"$f":"$Q167*AJ167","v":0},{"$f":"$R167*AJ167","v":0}]
[null,null,null,null,null,null,null,null,null,null,null,null,null,null,"Inside Reference",null,{"$f":"Q167","v":0},{"$f":"(R167-$C$55)*P167","v":0},null,null,null,{"$f":"$Q168*U167","v":0},{"$f":"$R168*U167","v":0},null,null,null,{"$f":"$Q168*Z167","v":0},{"$f":"$R168*Z167","v":0},null,null,null,{"$f":"$Q168*AE167","v":0},{"$f":"$R168*AE167","v":0},null,null,null,{"$f":"$Q168*AJ167","v":0},{"$f":"$R168*AJ167","v":0}]
[null,null,null,null,null,null,null,null,null,null,null,null,null,null,"Outside Reference",null,{"$f":"Q166","v":0},{"$f":"R168","v":0},null,null,null,{"$f":"$Q169*U167","v":0},{"$f":"$R169*U167","v":0},null,null,null,{"$f":"$Q169*Z167","v":0},{"$f":"$R169*Z167","v":0},null,null,null,{"$f":"$Q169*AE167","v":0},{"$f":"$R169*AE167","v":0},null,null,null,{"$f":"$Q169*AJ167","v":0},{"$f":"$R169*AJ167","v":0}]
[null,null,null,null,null,null,null,null,null,null,null,null,null,null,"4' or 5'",{"$f":"IF(OR($C$41=2,$C$41=3),IF(P166>$F$63,$E$9,$F$9),IF(P166>$F$63,$C$9,$D$9))","v":50.5},{"$f":"Q166","v":0},0,null,null,null,{"$f":"$Q170*U167","v":0},{"$f":"$R170*U167","v":0},null,null,null,{"$f":"$Q170*Z167","v":0},{"$f":"$R170*Z167","v":0},null,null,null,{"$f":"$Q170*AE167","v":0},{"$f":"$R170*AE167","v":0},null,null,null,{"$f":"$Q170*AJ167","v":0},{"$f":"$R170*AJ167","v":0}]
[]
[null,null,null,null,null,null,null,null,null,null,null,null,null,null,"Row",18,{"$f":"(Q167+($D$39/12))*P173","v":0},{"$f":"(R167)*P173","v":0},null,"Row",{"$f":"U166+1","v":18},{"$f":"$Q172*U173","v":0},{"$f":"$R172*U173","v":0},null,"Row",{"$f":"Z166+1","v":18},{"$f":"$Q172*Z173","v":0},{"$f":"$R172*Z173","v":0},null,"Row",{"$f":"AE166+1","v":18},{"$f":"$Q172*AE173","v":0},{"$f":"$R172*AE173","v":0},null,"Row",{"$f":"AJ166+1","v":18},{"$f":"$Q172*AJ173","v":0},{"$f":"$R172*AJ173","v":0}]
[null,null,null,null,null,null,null,null,null,null,null,null,null,null,"On/Off",{"$f":"IF(P172>$G$63,0,1)","v":0},{"$f":"(Q172+(P176/12))*P173","v":0},{"$f":"R172","v":0},null,"4' or 5'",{"$f":"IF($C$41=1,IF($P176<$D$9,1,0),0)","v":1},{"$f":"$Q173*U173","v":0},{"$f":"$R173*U173","v":0},null,"4' or 5'",{"$f":"IF($C$41=1,IF($P176<$D$9,0,1),0)","v":0},{"$f":"$Q173*Z173","v":0},{"$f":"$R173*Z173","v":0},null,"4' or 5'",{"$f":"IF($C$41=2,IF($P176<$D$9,1,0),0)","v":0},{"$f":"$Q173*AE173","v":0},{"$f":"$R173*AE173","v":0},null,"4' or 5'",{"$f":"IF($C$41=2,IF($P176<$D$9,0,1),0)","v":0},{"$f":"$Q173*AJ173","v":0},{"$f":"$R173*AJ173","v":0}]
[null,null,null,null,null,null,null,null,null,null,null,null,null,null,"Inside Reference",null,{"$f":"Q173","v":0},{"$f":"(R173-$C$55)*P173","v":0},null,null,null,{"$f":"$Q174*U173","v":0},{"$f":"$R174*U173","v":0},null,null,null,{"$f":"$Q174*Z173","v":0},{"$f":"$R174*Z173","v":0},null,null,null,{"$f":"$Q174*AE173","v":0},{"$f":"$R174*AE173","v":0},null,null,null,{"$f":"$Q174*AJ173","v":0},{"$f":"$R174*AJ173","v":0}]
[null,null,null,null,null,null,null,null,null,null,null,null,null,null,"Outside Reference",null,{"$f":"Q172","v":0},{"$f":"R174","v":0},null,null,null,{"$f":"$Q175*U173","v":0},{"$f":"$R175*U173","v":0},null,null,null,{"$f":"$Q175*Z173","v":0},{"$f":"$R175*Z173","v":0},null,null,null,{"$f":"$Q175*AE173","v":0},{"$f":"$R175*AE173","v":0},null,null,null,{"$f":"$Q175*AJ173","v":0},{"$f":"$R175*AJ173","v":0}]
[null,null,null,null,null,null,null,null,null,null,null,null,null,null,"4' or 5'",{"$f":"IF(OR($C$41=2,$C$41=3),IF(P172>$F$63,$E$9,$F$9),IF(P172>$F$63,$C$9,$D$9))","v":50.5},{"$f":"Q172","v":0},0,null,null,null,{"$f":"$Q176*U173","v":0},{"$f":"$R176*U173","v":0},null,null,null,{"$f":"$Q176*Z173","v":0},{"$f":"$R176*Z173","v":0},null,null,null,{"$f":"$Q176*AE173","v":0},{"$f":"$R176*AE173","v":0},null,null,null,{"$f":"$Q176*AJ173","v":0},{"$f":"$R176*AJ173","v":0}]
[]
[null,null,null,null,null,null,null,null,null,null,null,null,null,null,"Row",19,{"$f":"(Q173+($D$39/12))*P179","v":0},{"$f":"(R173)*P179","v":0},null,"Row",{"$f":"U172+1","v":19},{"$f":"$Q178*U179","v":0},{"$f":"$R178*U179","v":0},null,"Row",{"$f":"Z172+1","v":19},{"$f":"$Q178*Z179","v":0},{"$f":"$R178*Z179","v":0},null,"Row",{"$f":"AE172+1","v":19},{"$f":"$Q178*AE179","v":0},{"$f":"$R178*AE179","v":0},null,"Row",{"$f":"AJ172+1","v":19},{"$f":"$Q178*AJ179","v":0},{"$f":"$R178*AJ179","v":0}]
[null,null,null,null,null,null,null,null,null,null,null,null,null,null,"On/Off",{"$f":"IF(P178>$G$63,0,1)","v":0},{"$f":"(Q178+(P182/12))*P179","v":0},{"$f":"R178","v":0},null,"4' or 5'",{"$f":"IF($C$41=1,IF($P182<$D$9,1,0),0)","v":1},{"$f":"$Q179*U179","v":0},{"$f":"$R179*U179","v":0},null,"4' or 5'",{"$f":"IF($C$41=1,IF($P182<$D$9,0,1),0)","v":0},{"$f":"$Q179*Z179","v":0},{"$f":"$R179*Z179","v":0},null,"4' or 5'",{"$f":"IF($C$41=2,IF($P182<$D$9,1,0),0)","v":0},{"$f":"$Q179*AE179","v":0},{"$f":"$R179*AE179","v":0},null,"4' or 5'",{"$f":"IF($C$41=2,IF($P182<$D$9,0,1),0)","v":0},{"$f":"$Q179*AJ179","v":0},{"$f":"$R179*AJ179","v":0}]
[null,null,null,null,null,null,null,null,null,null,null,null,null,null,"Inside Reference",null,{"$f":"Q179","v":0},{"$f":"(R179-$C$55)*P179","v":0},null,null,null,{"$f":"$Q180*U179","v":0},{"$f":"$R180*U179","v":0},null,null,null,{"$f":"$Q180*Z179","v":0},{"$f":"$R180*Z179","v":0},null,null,null,{"$f":"$Q180*AE179","v":0},{"$f":"$R180*AE179","v":0},null,null,null,{"$f":"$Q180*AJ179","v":0},{"$f":"$R180*AJ179","v":0}]
[null,null,null,null,null,null,null,null,null,null,null,null,null,null,"Outside Reference",null,{"$f":"Q178","v":0},{"$f":"R180","v":0},null,null,null,{"$f":"$Q181*U179","v":0},{"$f":"$R181*U179","v":0},null,null,null,{"$f":"$Q181*Z179","v":0},{"$f":"$R181*Z179","v":0},null,null,null,{"$f":"$Q181*AE179","v":0},{"$f":"$R181*AE179","v":0},null,null,null,{"$f":"$Q181*AJ179","v":0},{"$f":"$R181*AJ179","v":0}]
[null,null,null,null,null,null,null,null,null,null,null,null,null,null,"4' or 5'",{"$f":"IF(OR($C$41=2,$C$41=3),IF(P178>$F$63,$E$9,$F$9),IF(P178>$F$63,$C$9,$D$9))","v":50.5},{"$f":"Q178","v":0},0,null,null,null,{"$f":"$Q182*U179","v":0},{"$f":"$R182*U179","v":0},null,null,null,{"$f":"$Q182*Z179","v":0},{"$f":"$R182*Z179","v":0},null,null,null,{"$f":"$Q182*AE179","v":0},{"$f":"$R182*AE179","v":0},null,null,null,{"$f":"$Q182*AJ179","v":0},{"$f":"$R182*AJ179","v":0}]
[]
[null,null,null,null,null,null,null,null,null,null,null,null,null,null,"Row",20,{"$f":"(Q179+($D$39/12))*P185","v":0},{"$f":"(R179)*P185","v":0},null,"Row",{"$f":"U178+1","v":20},{"$f":"$Q184*U185","v":0},{"$f":"$R184*U185","v":0},null,"Row",{"$f":"Z178+1","v":20},{"$f":"$Q184*Z185","v":0},{"$f":"$R184*Z185","v":0},null,"Row",{"$f":"AE178+1","v":20},{"$f":"$Q184*AE185","v":0},{"$f":"$R184*AE185","v":0},null,"Row",{"$f":"AJ178+1","v":20},{"$f":"$Q184*AJ185","v":0},{"$f":"$R184*AJ185","v":0}]
[null,null,null,null,null,null,null,null,null,null,null,null,null,null,"On/Off",{"$f":"IF(P184>$G$63,0,1)","v":0},{"$f":"(Q184+(P188/12))*P185","v":0},{"$f":"R184","v":0},null,"4' or 5'",{"$f":"IF($C$41=1,IF($P188<$D$9,1,0),0)","v":1},{"$f":"$Q185*U185","v":0},{"$f":"$R185*U185","v":0},null,"4' or 5'",{"$f":"IF($C$41=1,IF($P188<$D$9,0,1),0)","v":0},{"$f":"$Q185*Z185","v":0},{"$f":"$R185*Z185","v":0},null,"4' or 5'",{"$f":"IF($C$41=2,IF($P188<$D$9,1,0),0)","v":0},{"$f":"$Q185*AE185","v":0},{"$f":"$R185*AE185","v":0},null,"4' or 5'",{"$f":"IF($C$41=2,IF($P188<$D$9,0,1),0)","v":0},{"$f":"$Q185*AJ185","v":0},{"$f":"$R185*AJ185","v":0}]
[null,null,null,null,null,null,null,null,null,null,null,null,null,null,"Inside Reference",null,{"$f":"Q185","v":0},{"$f":"(R185-$C$55)*P185","v":0},null,null,null,{"$f":"$Q186*U185","v":0},{"$f":"$R186*U185","v":0},null,null,null,{"$f":"$Q186*Z185","v":0},{"$f":"$R186*Z185","v":0},null,null,null,{"$f":"$Q186*AE185","v":0},{"$f":"$R186*AE185","v":0},null,null,null,{"$f":"$Q186*AJ185","v":0},{"$f":"$R186*AJ185","v":0}]
[null,null,null,null,null,null,null,null,null,null,null,null,null,null,"Outside Reference",null,{"$f":"Q184","v":0},{"$f":"R186","v":0},null,null,null,{"$f":"$Q187*U185","v":0},{"$f":"$R187*U185","v":0},null,null,null,{"$f":"$Q187*Z185","v":0},{"$f":"$R187*Z185","v":0},null,null,null,{"$f":"$Q187*AE185","v":0},{"$f":"$R187*AE185","v":0},null,null,null,{"$f":"$Q187*AJ185","v":0},{"$f":"$R187*AJ185","v":0}]
[null,null,null,null,null,null,null,null,null,null,null,null,null,null,"4' or 5'",{"$f":"IF(OR($C$41=2,$C$41=3),IF(P184>$F$63,$E$9,$F$9),IF(P184>$F$63,$C$9,$D$9))","v":50.5},{"$f":"Q184","v":0},0,null,null,null,{"$f":"$Q188*U185","v":0},{"$f":"$R188*U185","v":0},null,null,null,{"$f":"$Q188*Z185","v":0},{"$f":"$R188*Z185","v":0},null,null,null,{"$f":"$Q188*AE185","v":0},{"$f":"$R188*AE185","v":0},null,null,null,{"$f":"$Q188*AJ185","v":0},{"$f":"$R188*AJ185","v":0}]
[]
[null,null,null,null,null,null,null,null,null,null,null,null,null,null,"Row",21,{"$f":"(Q185+($D$39/12))*P191","v":0},{"$f":"(R185)*P191","v":0},null,"Row",{"$f":"U184+1","v":21},{"$f":"$Q190*U191","v":0},{"$f":"$R190*U191","v":0},null,"Row",{"$f":"Z184+1","v":21},{"$f":"$Q190*Z191","v":0},{"$f":"$R190*Z191","v":0},null,"Row",{"$f":"AE184+1","v":21},{"$f":"$Q190*AE191","v":0},{"$f":"$R190*AE191","v":0},null,"Row",{"$f":"AJ184+1","v":21},{"$f":"$Q190*AJ191","v":0},{"$f":"$R190*AJ191","v":0}]
[null,null,null,null,null,null,null,null,null,null,null,null,null,null,"On/Off",{"$f":"IF(P190>$G$63,0,1)","v":0},{"$f":"(Q190+(P194/12))*P191","v":0},{"$f":"R190","v":0},null,"4' or 5'",{"$f":"IF($C$41=1,IF($P194<$D$9,1,0),0)","v":1},{"$f":"$Q191*U191","v":0},{"$f":"$R191*U191","v":0},null,"4' or 5'",{"$f":"IF($C$41=1,IF($P194<$D$9,0,1),0)","v":0},{"$f":"$Q191*Z191","v":0},{"$f":"$R191*Z191","v":0},null,"4' or 5'",{"$f":"IF($C$41=2,IF($P194<$D$9,1,0),0)","v":0},{"$f":"$Q191*AE191","v":0},{"$f":"$R191*AE191","v":0},null,"4' or 5'",{"$f":"IF($C$41=2,IF($P194<$D$9,0,1),0)","v":0},{"$f":"$Q191*AJ191","v":0},{"$f":"$R191*AJ191","v":0}]
[null,null,null,null,null,null,null,null,null,null,null,null,null,null,"Inside Reference",null,{"$f":"Q191","v":0},{"$f":"(R191-$C$55)*P191","v":0},null,null,null,{"$f":"$Q192*U191","v":0},{"$f":"$R192*U191","v":0},null,null,null,{"$f":"$Q192*Z191","v":0},{"$f":"$R192*Z191","v":0},null,null,null,{"$f":"$Q192*AE191","v":0},{"$f":"$R192*AE191","v":0},null,null,null,{"$f":"$Q192*AJ191","v":0},{"$f":"$R192*AJ191","v":0}]
[null,null,null,null,null,null,null,null,null,null,null,null,null,null,"Outside Reference",null,{"$f":"Q190","v":0},{"$f":"R192","v":0},null,null,null,{"$f":"$Q193*U191","v":0},{"$f":"$R193*U191","v":0},null,null,null,{"$f":"$Q193*Z191","v":0},{"$f":"$R193*Z191","v":0},null,null,null,{"$f":"$Q193*AE191","v":0},{"$f":"$R193*AE191","v":0},null,null,null,{"$f":"$Q193*AJ191","v":0},{"$f":"$R193*AJ191","v":0}]
[null,null,null,null,null,null,null,null,null,null,null,null,null,null,"4' or 5'",{"$f":"IF(OR($C$41=2,$C$41=3),IF(P190>$F$63,$E$9,$F$9),IF(P190>$F$63,$C$9,$D$9))","v":50.5},{"$f":"Q190","v":0},0,null,null,null,{"$f":"$Q194*U191","v":0},{"$f":"$R194*U191","v":0},null,null,null,{"$f":"$Q194*Z191","v":0},{"$f":"$R194*Z191","v":0},null,null,null,{"$f":"$Q194*AE191","v":0},{"$f":"$R194*AE191","v":0},null,null,null,{"$f":"$Q194*AJ191","v":0},{"$f":"$R194*AJ191","v":0}]
[]
[null,null,null,null,null,null,null,null,null,null,null,null,null,null,"Row",22,{"$f":"(Q191+($D$39/12))*P197","v":0},{"$f":"(R191)*P197","v":0},null,"Row",{"$f":"U190+1","v":22},{"$f":"$Q196*U197","v":0},{"$f":"$R196*U197","v":0},null,"Row",{"$f":"Z190+1","v":22},{"$f":"$Q196*Z197","v":0},{"$f":"$R196*Z197","v":0},null,"Row",{"$f":"AE190+1","v":22},{"$f":"$Q196*AE197","v":0},{"$f":"$R196*AE197","v":0},null,"Row",{"$f":"AJ190+1","v":22},{"$f":"$Q196*AJ197","v":0},{"$f":"$R196*AJ197","v":0}]
[null,null,null,null,null,null,null,null,null,null,null,null,null,null,"On/Off",{"$f":"IF(P196>$G$63,0,1)","v":0},{"$f":"(Q196+(P200/12))*P197","v":0},{"$f":"R196","v":0},null,"4' or 5'",{"$f":"IF($C$41=1,IF($P200<$D$9,1,0),0)","v":1},{"$f":"$Q197*U197","v":0},{"$f":"$R197*U197","v":0},null,"4' or 5'",{"$f":"IF($C$41=1,IF($P200<$D$9,0,1),0)","v":0},{"$f":"$Q197*Z197","v":0},{"$f":"$R197*Z197","v":0},null,"4' or 5'",{"$f":"IF($C$41=2,IF($P200<$D$9,1,0),0)","v":0},{"$f":"$Q197*AE197","v":0},{"$f":"$R197*AE197","v":0},null,"4' or 5'",{"$f":"IF($C$41=2,IF($P200<$D$9,0,1),0)","v":0},{"$f":"$Q197*AJ197","v":0},{"$f":"$R197*AJ197","v":0}]
[null,null,null,null,null,null,null,null,null,null,null,null,null,null,"Inside Reference",null,{"$f":"Q197","v":0},{"$f":"(R197-$C$55)*P197","v":0},null,null,null,{"$f":"$Q198*U197","v":0},{"$f":"$R198*U197","v":0},null,null,null,{"$f":"$Q198*Z197","v":0},{"$f":"$R198*Z197","v":0},null,null,null,{"$f":"$Q198*AE197","v":0},{"$f":"$R198*AE197","v":0},null,null,null,{"$f":"$Q198*AJ197","v":0},{"$f":"$R198*AJ197","v":0}]
[null,null,null,null,null,null,null,null,null,null,null,null,null,null,"Outside Reference",null,{"$f":"Q196","v":0},{"$f":"R198","v":0},null,null,null,{"$f":"$Q199*U197","v":0},{"$f":"$R199*U197","v":0},null,null,null,{"$f":"$Q199*Z197","v":0},{"$f":"$R199*Z197","v":0},null,null,null,{"$f":"$Q199*AE197","v":0},{"$f":"$R199*AE197","v":0},null,null,null,{"$f":"$Q199*AJ197","v":0},{"$f":"$R199*AJ197","v":0}]
[null,null,null,null,null,null,null,null,null,null,null,null,null,null,"4' or 5'",{"$f":"IF(OR($C$41=2,$C$41=3),IF(P196>$F$63,$E$9,$F$9),IF(P196>$F$63,$C$9,$D$9))","v":50.5},{"$f":"Q196","v":0},0,null,null,null,{"$f":"$Q200*U197","v":0},{"$f":"$R200*U197","v":0},null,null,null,{"$f":"$Q200*Z197","v":0},{"$f":"$R200*Z197","v":0},null,null,null,{"$f":"$Q200*AE197","v":0},{"$f":"$R200*AE197","v":0},null,null,null,{"$f":"$Q200*AJ197","v":0},{"$f":"$R200*AJ197","v":0}]
[]
[null,null,null,null,null,null,null,null,null,null,null,null,null,null,"Row",23,{"$f":"(Q197+($D$39/12))*P203","v":0},{"$f":"(R197)*P203","v":0},null,"Row",{"$f":"U196+1","v":23},{"$f":"$Q202*U203","v":0},{"$f":"$R202*U203","v":0},null,"Row",{"$f":"Z196+1","v":23},{"$f":"$Q202*Z203","v":0},{"$f":"$R202*Z203","v":0},null,"Row",{"$f":"AE196+1","v":23},{"$f":"$Q202*AE203","v":0},{"$f":"$R202*AE203","v":0},null,"Row",{"$f":"AJ196+1","v":23},{"$f":"$Q202*AJ203","v":0},{"$f":"$R202*AJ203","v":0}]
[null,null,null,null,null,null,null,null,null,null,null,null,null,null,"On/Off",{"$f":"IF(P202>$G$63,0,1)","v":0},{"$f":"(Q202+(P206/12))*P203","v":0},{"$f":"R202","v":0},null,"4' or 5'",{"$f":"IF($C$41=1,IF($P206<$D$9,1,0),0)","v":1},{"$f":"$Q203*U203","v":0},{"$f":"$R203*U203","v":0},null,"4' or 5'",{"$f":"IF($C$41=1,IF($P206<$D$9,0,1),0)","v":0},{"$f":"$Q203*Z203","v":0},{"$f":"$R203*Z203","v":0},null,"4' or 5'",{"$f":"IF($C$41=2,IF($P206<$D$9,1,0),0)","v":0},{"$f":"$Q203*AE203","v":0},{"$f":"$R203*AE203","v":0},null,"4' or 5'",{"$f":"IF($C$41=2,IF($P206<$D$9,0,1),0)","v":0},{"$f":"$Q203*AJ203","v":0},{"$f":"$R203*AJ203","v":0}]
[null,null,null,null,null,null,null,null,null,null,null,null,null,null,"Inside Reference",null,{"$f":"Q203","v":0},{"$f":"(R203-$C$55)*P203","v":0},null,null,null,{"$f":"$Q204*U203","v":0},{"$f":"$R204*U203","v":0},null,null,null,{"$f":"$Q204*Z203","v":0},{"$f":"$R204*Z203","v":0},null,null,null,{"$f":"$Q204*AE203","v":0},{"$f":"$R204*AE203","v":0},null,null,null,{"$f":"$Q204*AJ203","v":0},{"$f":"$R204*AJ203","v":0}]
[null,null,null,null,null,null,null,null,null,null,null,null,null,null,"Outside Reference",null,{"$f":"Q202","v":0},{"$f":"R204","v":0},null,null,null,{"$f":"$Q205*U203","v":0},{"$f":"$R205*U203","v":0},null,null,null,{"$f":"$Q205*Z203","v":0},{"$f":"$R205*Z203","v":0},null,null,null,{"$f":"$Q205*AE203","v":0},{"$f":"$R205*AE203","v":0},null,null,null,{"$f":"$Q205*AJ203","v":0},{"$f":"$R205*AJ203","v":0}]
[null,null,null,null,null,null,null,null,null,null,null,null,null,null,"4' or 5'",{"$f":"IF(OR($C$41=2,$C$41=3),IF(P202>$F$63,$E$9,$F$9),IF(P202>$F$63,$C$9,$D$9))","v":50.5},{"$f":"Q202","v":0},0,null,null,null,{"$f":"$Q206*U203","v":0},{"$f":"$R206*U203","v":0},null,null,null,{"$f":"$Q206*Z203","v":0},{"$f":"$R206*Z203","v":0},null,null,null,{"$f":"$Q206*AE203","v":0},{"$f":"$R206*AE203","v":0},null,null,null,{"$f":"$Q206*AJ203","v":0},{"$f":"$R206*AJ203","v":0}]
[]
[null,null,null,null,null,null,null,null,null,null,null,null,null,null,"Row",24,{"$f":"(Q203+($D$39/12))*P209","v":0},{"$f":"(R203)*P209","v":0},null,"Row",{"$f":"U202+1","v":24},{"$f":"$Q208*U209","v":0},{"$f":"$R208*U209","v":0},null,"Row",{"$f":"Z202+1","v":24},{"$f":"$Q208*Z209","v":0},{"$f":"$R208*Z209","v":0},null,"Row",{"$f":"AE202+1","v":24},{"$f":"$Q208*AE209","v":0},{"$f":"$R208*AE209","v":0},null,"Row",{"$f":"AJ202+1","v":24},{"$f":"$Q208*AJ209","v":0},{"$f":"$R208*AJ209","v":0}]
[null,null,null,null,null,null,null,null,null,null,null,null,null,null,"On/Off",{"$f":"IF(P208>$G$63,0,1)","v":0},{"$f":"(Q208+(P212/12))*P209","v":0},{"$f":"R208","v":0},null,"4' or 5'",{"$f":"IF($C$41=1,IF($P212<$D$9,1,0),0)","v":1},{"$f":"$Q209*U209","v":0},{"$f":"$R209*U209","v":0},null,"4' or 5'",{"$f":"IF($C$41=1,IF($P212<$D$9,0,1),0)","v":0},{"$f":"$Q209*Z209","v":0},{"$f":"$R209*Z209","v":0},null,"4' or 5'",{"$f":"IF($C$41=2,IF($P212<$D$9,1,0),0)","v":0},{"$f":"$Q209*AE209","v":0},{"$f":"$R209*AE209","v":0},null,"4' or 5'",{"$f":"IF($C$41=2,IF($P212<$D$9,0,1),0)","v":0},{"$f":"$Q209*AJ209","v":0},{"$f":"$R209*AJ209","v":0}]
[null,null,null,null,null,null,null,null,null,null,null,null,null,null,"Inside Reference",null,{"$f":"Q209","v":0},{"$f":"(R209-$C$55)*P209","v":0},null,null,null,{"$f":"$Q210*U209","v":0},{"$f":"$R210*U209","v":0},null,null,null,{"$f":"$Q210*Z209","v":0},{"$f":"$R210*Z209","v":0},null,null,null,{"$f":"$Q210*AE209","v":0},{"$f":"$R210*AE209","v":0},null,null,null,{"$f":"$Q210*AJ209","v":0},{"$f":"$R210*AJ209","v":0}]
[null,null,null,null,null,null,null,null,null,null,null,null,null,null,"Outside Reference",null,{"$f":"Q208","v":0},{"$f":"R210","v":0},null,null,null,{"$f":"$Q211*U209","v":0},{"$f":"$R211*U209","v":0},null,null,null,{"$f":"$Q211*Z209","v":0},{"$f":"$R211*Z209","v":0},null,null,null,{"$f":"$Q211*AE209","v":0},{"$f":"$R211*AE209","v":0},null,null,null,{"$f":"$Q211*AJ209","v":0},{"$f":"$R211*AJ209","v":0}]
[null,null,null,null,null,null,null,null,null,null,null,null,null,null,"4' or 5'",{"$f":"IF(OR($C$41=2,$C$41=3),IF(P208>$F$63,$E$9,$F$9),IF(P208>$F$63,$C$9,$D$9))","v":50.5},{"$f":"Q208","v":0},0,null,null,null,{"$f":"$Q212*U209","v":0},{"$f":"$R212*U209","v":0},null,null,null,{"$f":"$Q212*Z209","v":0},{"$f":"$R212*Z209","v":0},null,null,null,{"$f":"$Q212*AE209","v":0},{"$f":"$R212*AE209","v":0},null,null,null,{"$f":"$Q212*AJ209","v":0},{"$f":"$R212*AJ209","v":0}]
[]
[null,null,null,null,null,null,null,null,null,null,null,null,null,null,"Row",25,{"$f":"(Q209+($D$39/12))*P215","v":0},{"$f":"(R209)*P215","v":0},null,"Row",{"$f":"U208+1","v":25},{"$f":"$Q214*U215","v":0},{"$f":"$R214*U215","v":0},null,"Row",{"$f":"Z208+1","v":25},{"$f":"$Q214*Z215","v":0},{"$f":"$R214*Z215","v":0},null,"Row",{"$f":"AE208+1","v":25},{"$f":"$Q214*AE215","v":0},{"$f":"$R214*AE215","v":0},null,"Row",{"$f":"AJ208+1","v":25},{"$f":"$Q214*AJ215","v":0},{"$f":"$R214*AJ215","v":0}]
[null,null,null,null,null,null,null,null,null,null,null,null,null,null,"On/Off",{"$f":"IF(P214>$G$63,0,1)","v":0},{"$f":"(Q214+(P218/12))*P215","v":0},{"$f":"R214","v":0},null,"4' or 5'",{"$f":"IF($C$41=1,IF($P218<$D$9,1,0),0)","v":1},{"$f":"$Q215*U215","v":0},{"$f":"$R215*U215","v":0},null,"4' or 5'",{"$f":"IF($C$41=1,IF($P218<$D$9,0,1),0)","v":0},{"$f":"$Q215*Z215","v":0},{"$f":"$R215*Z215","v":0},null,"4' or 5'",{"$f":"IF($C$41=2,IF($P218<$D$9,1,0),0)","v":0},{"$f":"$Q215*AE215","v":0},{"$f":"$R215*AE215","v":0},null,"4' or 5'",{"$f":"IF($C$41=2,IF($P218<$D$9,0,1),0)","v":0},{"$f":"$Q215*AJ215","v":0},{"$f":"$R215*AJ215","v":0}]
[null,null,null,null,null,null,null,null,null,null,null,null,null,null,"Inside Reference",null,{"$f":"Q215","v":0},{"$f":"(R215-$C$55)*P215","v":0},null,null,null,{"$f":"$Q216*U215","v":0},{"$f":"$R216*U215","v":0},null,null,null,{"$f":"$Q216*Z215","v":0},{"$f":"$R216*Z215","v":0},null,null,null,{"$f":"$Q216*AE215","v":0},{"$f":"$R216*AE215","v":0},null,null,null,{"$f":"$Q216*AJ215","v":0},{"$f":"$R216*AJ215","v":0}]
[null,null,null,null,null,null,null,null,null,null,null,null,null,null,"Outside Reference",null,{"$f":"Q214","v":0},{"$f":"R216","v":0},null,null,null,{"$f":"$Q217*U215","v":0},{"$f":"$R217*U215","v":0},null,null,null,{"$f":"$Q217*Z215","v":0},{"$f":"$R217*Z215","v":0},null,null,null,{"$f":"$Q217*AE215","v":0},{"$f":"$R217*AE215","v":0},null,null,null,{"$f":"$Q217*AJ215","v":0},{"$f":"$R217*AJ215","v":0}]
[null,null,null,null,null,null,null,null,null,null,null,null,null,null,"4' or 5'",{"$f":"IF(OR($C$41=2,$C$41=3),IF(P214>$F$63,$E$9,$F$9),IF(P214>$F$63,$C$9,$D$9))","v":50.5},{"$f":"Q214","v":0},0,null,null,null,{"$f":"$Q218*U215","v":0},{"$f":"$R218*U215","v":0},null,null,null,{"$f":"$Q218*Z215","v":0},{"$f":"$R218*Z215","v":0},null,null,null,{"$f":"$Q218*AE215","v":0},{"$f":"$R218*AE215","v":0},null,null,null,{"$f":"$Q218*AJ215","v":0},{"$f":"$R218*AJ215","v":0}]
[]
[null,null,null,null,null,null,null,null,null,null,null,null,null,null,"Row",26,{"$f":"(Q215+($D$39/12))*P221","v":0},{"$f":"(R215)*P221","v":0},null,"Row",{"$f":"U214+1","v":26},{"$f":"$Q220*U221","v":0},{"$f":"$R220*U221","v":0},null,"Row",{"$f":"Z214+1","v":26},{"$f":"$Q220*Z221","v":0},{"$f":"$R220*Z221","v":0},null,"Row",{"$f":"AE214+1","v":26},{"$f":"$Q220*AE221","v":0},{"$f":"$R220*AE221","v":0},null,"Row",{"$f":"AJ214+1","v":26},{"$f":"$Q220*AJ221","v":0},{"$f":"$R220*AJ221","v":0}]
[null,null,null,null,null,null,null,null,null,null,null,null,null,null,"On/Off",{"$f":"IF(P220>$G$63,0,1)","v":0},{"$f":"(Q220+(P224/12))*P221","v":0},{"$f":"R220","v":0},null,"4' or 5'",{"$f":"IF($C$41=1,IF($P224<$D$9,1,0),0)","v":1},{"$f":"$Q221*U221","v":0},{"$f":"$R221*U221","v":0},null,"4' or 5'",{"$f":"IF($C$41=1,IF($P224<$D$9,0,1),0)","v":0},{"$f":"$Q221*Z221","v":0},{"$f":"$R221*Z221","v":0},null,"4' or 5'",{"$f":"IF($C$41=2,IF($P224<$D$9,1,0),0)","v":0},{"$f":"$Q221*AE221","v":0},{"$f":"$R221*AE221","v":0},null,"4' or 5'",{"$f":"IF($C$41=2,IF($P224<$D$9,0,1),0)","v":0},{"$f":"$Q221*AJ221","v":0},{"$f":"$R221*AJ221","v":0}]
[null,null,null,null,null,null,null,null,null,null,null,null,null,null,"Inside Reference",null,{"$f":"Q221","v":0},{"$f":"(R221-$C$55)*P221","v":0},null,null,null,{"$f":"$Q222*U221","v":0},{"$f":"$R222*U221","v":0},null,null,null,{"$f":"$Q222*Z221","v":0},{"$f":"$R222*Z221","v":0},null,null,null,{"$f":"$Q222*AE221","v":0},{"$f":"$R222*AE221","v":0},null,null,null,{"$f":"$Q222*AJ221","v":0},{"$f":"$R222*AJ221","v":0}]
[null,null,null,null,null,null,null,null,null,null,null,null,null,null,"Outside Reference",null,{"$f":"Q220","v":0},{"$f":"R222","v":0},null,null,null,{"$f":"$Q223*U221","v":0},{"$f":"$R223*U221","v":0},null,null,null,{"$f":"$Q223*Z221","v":0},{"$f":"$R223*Z221","v":0},null,null,null,{"$f":"$Q223*AE221","v":0},{"$f":"$R223*AE221","v":0},null,null,null,{"$f":"$Q223*AJ221","v":0},{"$f":"$R223*AJ221","v":0}]
[null,null,null,null,null,null,null,null,null,null,null,null,null,null,"4' or 5'",{"$f":"IF(OR($C$41=2,$C$41=3),IF(P220>$F$63,$E$9,$F$9),IF(P220>$F$63,$C$9,$D$9))","v":50.5},{"$f":"Q220","v":0},0,null,null,null,{"$f":"$Q224*U221","v":0},{"$f":"$R224*U221","v":0},null,null,null,{"$f":"$Q224*Z221","v":0},{"$f":"$R224*Z221","v":0},null,null,null,{"$f":"$Q224*AE221","v":0},{"$f":"$R224*AE221","v":0},null,null,null,{"$f":"$Q224*AJ221","v":0},{"$f":"$R224*AJ221","v":0}]
[]
[null,null,null,null,null,null,null,null,null,null,null,null,null,null,"Row",27,{"$f":"(Q221+($D$39/12))*P227","v":0},{"$f":"(R221)*P227","v":0},null,"Row",{"$f":"U220+1","v":27},{"$f":"$Q226*U227","v":0},{"$f":"$R226*U227","v":0},null,"Row",{"$f":"Z220+1","v":27},{"$f":"$Q226*Z227","v":0},{"$f":"$R226*Z227","v":0},null,"Row",{"$f":"AE220+1","v":27},{"$f":"$Q226*AE227","v":0},{"$f":"$R226*AE227","v":0},null,"Row",{"$f":"AJ220+1","v":27},{"$f":"$Q226*AJ227","v":0},{"$f":"$R226*AJ227","v":0}]
[null,null,null,null,null,null,null,null,null,null,null,null,null,null,"On/Off",{"$f":"IF(P226>$G$63,0,1)","v":0},{"$f":"(Q226+(P230/12))*P227","v":0},{"$f":"R226","v":0},null,"4' or 5'",{"$f":"IF($C$41=1,IF($P230<$D$9,1,0),0)","v":1},{"$f":"$Q227*U227","v":0},{"$f":"$R227*U227","v":0},null,"4' or 5'",{"$f":"IF($C$41=1,IF($P230<$D$9,0,1),0)","v":0},{"$f":"$Q227*Z227","v":0},{"$f":"$R227*Z227","v":0},null,"4' or 5'",{"$f":"IF($C$41=2,IF($P230<$D$9,1,0),0)","v":0},{"$f":"$Q227*AE227","v":0},{"$f":"$R227*AE227","v":0},null,"4' or 5'",{"$f":"IF($C$41=2,IF($P230<$D$9,0,1),0)","v":0},{"$f":"$Q227*AJ227","v":0},{"$f":"$R227*AJ227","v":0}]
[null,null,null,null,null,null,null,null,null,null,null,null,null,null,"Inside Reference",null,{"$f":"Q227","v":0},{"$f":"(R227-$C$55)*P227","v":0},null,null,null,{"$f":"$Q228*U227","v":0},{"$f":"$R228*U227","v":0},null,null,null,{"$f":"$Q228*Z227","v":0},{"$f":"$R228*Z227","v":0},null,null,null,{"$f":"$Q228*AE227","v":0},{"$f":"$R228*AE227","v":0},null,null,null,{"$f":"$Q228*AJ227","v":0},{"$f":"$R228*AJ227","v":0}]
[null,null,null,null,null,null,null,null,null,null,null,null,null,null,"Outside Reference",null,{"$f":"Q226","v":0},{"$f":"R228","v":0},null,null,null,{"$f":"$Q229*U227","v":0},{"$f":"$R229*U227","v":0},null,null,null,{"$f":"$Q229*Z227","v":0},{"$f":"$R229*Z227","v":0},null,null,null,{"$f":"$Q229*AE227","v":0},{"$f":"$R229*AE227","v":0},null,null,null,{"$f":"$Q229*AJ227","v":0},{"$f":"$R229*AJ227","v":0}]
[null,null,null,null,null,null,null,null,null,null,null,null,null,null,"4' or 5'",{"$f":"IF(OR($C$41=2,$C$41=3),IF(P226>$F$63,$E$9,$F$9),IF(P226>$F$63,$C$9,$D$9))","v":50.5},{"$f":"Q226","v":0},0,null,null,null,{"$f":"$Q230*U227","v":0},{"$f":"$R230*U227","v":0},null,null,null,{"$f":"$Q230*Z227","v":0},{"$f":"$R230*Z227","v":0},null,null,null,{"$f":"$Q230*AE227","v":0},{"$f":"$R230*AE227","v":0},null,null,null,{"$f":"$Q230*AJ227","v":0},{"$f":"$R230*AJ227","v":0}]
[]
[null,null,null,null,null,null,null,null,null,null,null,null,null,null,"Row",28,{"$f":"(Q227+($D$39/12))*P233","v":0},{"$f":"(R227)*P233","v":0},null,"Row",{"$f":"U226+1","v":28},{"$f":"$Q232*U233","v":0},{"$f":"$R232*U233","v":0},null,"Row",{"$f":"Z226+1","v":28},{"$f":"$Q232*Z233","v":0},{"$f":"$R232*Z233","v":0},null,"Row",{"$f":"AE226+1","v":28},{"$f":"$Q232*AE233","v":0},{"$f":"$R232*AE233","v":0},null,"Row",{"$f":"AJ226+1","v":28},{"$f":"$Q232*AJ233","v":0},{"$f":"$R232*AJ233","v":0}]
[null,null,null,null,null,null,null,null,null,null,null,null,null,null,"On/Off",{"$f":"IF(P232>$G$63,0,1)","v":0},{"$f":"(Q232+(P236/12))*P233","v":0},{"$f":"R232","v":0},null,"4' or 5'",{"$f":"IF($C$41=1,IF($P236<$D$9,1,0),0)","v":1},{"$f":"$Q233*U233","v":0},{"$f":"$R233*U233","v":0},null,"4' or 5'",{"$f":"IF($C$41=1,IF($P236<$D$9,0,1),0)","v":0},{"$f":"$Q233*Z233","v":0},{"$f":"$R233*Z233","v":0},null,"4' or 5'",{"$f":"IF($C$41=2,IF($P236<$D$9,1,0),0)","v":0},{"$f":"$Q233*AE233","v":0},{"$f":"$R233*AE233","v":0},null,"4' or 5'",{"$f":"IF($C$41=2,IF($P236<$D$9,0,1),0)","v":0},{"$f":"$Q233*AJ233","v":0},{"$f":"$R233*AJ233","v":0}]
[null,null,null,null,null,null,null,null,null,null,null,null,null,null,"Inside Reference",null,{"$f":"Q233","v":0},{"$f":"(R233-$C$55)*P233","v":0},null,null,null,{"$f":"$Q234*U233","v":0},{"$f":"$R234*U233","v":0},null,null,null,{"$f":"$Q234*Z233","v":0},{"$f":"$R234*Z233","v":0},null,null,null,{"$f":"$Q234*AE233","v":0},{"$f":"$R234*AE233","v":0},null,null,null,{"$f":"$Q234*AJ233","v":0},{"$f":"$R234*AJ233","v":0}]
[null,null,null,null,null,null,null,null,null,null,null,null,null,null,"Outside Reference",null,{"$f":"Q232","v":0},{"$f":"R234","v":0},null,null,null,{"$f":"$Q235*U233","v":0},{"$f":"$R235*U233","v":0},null,null,null,{"$f":"$Q235*Z233","v":0},{"$f":"$R235*Z233","v":0},null,null,null,{"$f":"$Q235*AE233","v":0},{"$f":"$R235*AE233","v":0},null,null,null,{"$f":"$Q235*AJ233","v":0},{"$f":"$R235*AJ233","v":0}]
[null,null,null,null,null,null,null,null,null,null,null,null,null,null,"4' or 5'",{"$f":"IF(OR($C$41=2,$C$41=3),IF(P232>$F$63,$E$9,$F$9),IF(P232>$F$63,$C$9,$D$9))","v":50.5},{"$f":"Q232","v":0},0,null,null,null,{"$f":"$Q236*U233","v":0},{"$f":"$R236*U233","v":0},null,null,null,{"$f":"$Q236*Z233","v":0},{"$f":"$R236*Z233","v":0},null,null,null,{"$f":"$Q236*AE233","v":0},{"$f":"$R236*AE233","v":0},null,null,null,{"$f":"$Q236*AJ233","v":0},{"$f":"$R236*AJ233","v":0}]
[]
[null,null,null,null,null,null,null,null,null,null,null,null,null,null,"Row",29,{"$f":"(Q233+($D$39/12))*P239","v":0},{"$f":"(R233)*P239","v":0},null,"Row",{"$f":"U232+1","v":29},{"$f":"$Q238*U239","v":0},{"$f":"$R238*U239","v":0},null,"Row",{"$f":"Z232+1","v":29},{"$f":"$Q238*Z239","v":0},{"$f":"$R238*Z239","v":0},null,"Row",{"$f":"AE232+1","v":29},{"$f":"$Q238*AE239","v":0},{"$f":"$R238*AE239","v":0},null,"Row",{"$f":"AJ232+1","v":29},{"$f":"$Q238*AJ239","v":0},{"$f":"$R238*AJ239","v":0}]
[null,null,null,null,null,null,null,null,null,null,null,null,null,null,"On/Off",{"$f":"IF(P238>$G$63,0,1)","v":0},{"$f":"(Q238+(P242/12))*P239","v":0},{"$f":"R238","v":0},null,"4' or 5'",{"$f":"IF($C$41=1,IF($P242<$D$9,1,0),0)","v":1},{"$f":"$Q239*U239","v":0},{"$f":"$R239*U239","v":0},null,"4' or 5'",{"$f":"IF($C$41=1,IF($P242<$D$9,0,1),0)","v":0},{"$f":"$Q239*Z239","v":0},{"$f":"$R239*Z239","v":0},null,"4' or 5'",{"$f":"IF($C$41=2,IF($P242<$D$9,1,0),0)","v":0},{"$f":"$Q239*AE239","v":0},{"$f":"$R239*AE239","v":0},null,"4' or 5'",{"$f":"IF($C$41=2,IF($P242<$D$9,0,1),0)","v":0},{"$f":"$Q239*AJ239","v":0},{"$f":"$R239*AJ239","v":0}]
[null,null,null,null,null,null,null,null,null,null,null,null,null,null,"Inside Reference",null,{"$f":"Q239","v":0},{"$f":"(R239-$C$55)*P239","v":0},null,null,null,{"$f":"$Q240*U239","v":0},{"$f":"$R240*U239","v":0},null,null,null,{"$f":"$Q240*Z239","v":0},{"$f":"$R240*Z239","v":0},null,null,null,{"$f":"$Q240*AE239","v":0},{"$f":"$R240*AE239","v":0},null,null,null,{"$f":"$Q240*AJ239","v":0},{"$f":"$R240*AJ239","v":0}]
[null,null,null,null,null,null,null,null,null,null,null,null,null,null,"Outside Reference",null,{"$f":"Q238","v":0},{"$f":"R240","v":0},null,null,null,{"$f":"$Q241*U239","v":0},{"$f":"$R241*U239","v":0},null,null,null,{"$f":"$Q241*Z239","v":0},{"$f":"$R241*Z239","v":0},null,null,null,{"$f":"$Q241*AE239","v":0},{"$f":"$R241*AE239","v":0},null,null,null,{"$f":"$Q241*AJ239","v":0},{"$f":"$R241*AJ239","v":0}]
[null,null,null,null,null,null,null,null,null,null,null,null,null,null,"4' or 5'",{"$f":"IF(OR($C$41=2,$C$41=3),IF(P238>$F$63,$E$9,$F$9),IF(P238>$F$63,$C$9,$D$9))","v":50.5},{"$f":"Q238","v":0},0,null,null,null,{"$f":"$Q242*U239","v":0},{"$f":"$R242*U239","v":0},null,null,null,{"$f":"$Q242*Z239","v":0},{"$f":"$R242*Z239","v":0},null,null,null,{"$f":"$Q242*AE239","v":0},{"$f":"$R242*AE239","v":0},null,null,null,{"$f":"$Q242*AJ239","v":0},{"$f":"$R242*AJ239","v":0}]
[]
[null,null,null,null,null,null,null,null,null,null,null,null,null,null,"Row",30,{"$f":"(Q239+($D$39/12))*P245","v":0},{"$f":"(R239)*P245","v":0},null,"Row",{"$f":"U238+1","v":30},{"$f":"$Q244*U245","v":0},{"$f":"$R244*U245","v":0},null,"Row",{"$f":"Z238+1","v":30},{"$f":"$Q244*Z245","v":0},{"$f":"$R244*Z245","v":0},null,"Row",{"$f":"AE238+1","v":30},{"$f":"$Q244*AE245","v":0},{"$f":"$R244*AE245","v":0},null,"Row",{"$f":"AJ238+1","v":30},{"$f":"$Q244*AJ245","v":0},{"$f":"$R244*AJ245","v":0}]
[null,null,null,null,null,null,null,null,null,null,null,null,null,null,"On/Off",{"$f":"IF(P244>$G$63,0,1)","v":0},{"$f":"(Q244+(P248/12))*P245","v":0},{"$f":"R244","v":0},null,"4' or 5'",{"$f":"IF($C$41=1,IF($P248<$D$9,1,0),0)","v":1},{"$f":"$Q245*U245","v":0},{"$f":"$R245*U245","v":0},null,"4' or 5'",{"$f":"IF($C$41=1,IF($P248<$D$9,0,1),0)","v":0},{"$f":"$Q245*Z245","v":0},{"$f":"$R245*Z245","v":0},null,"4' or 5'",{"$f":"IF($C$41=2,IF($P248<$D$9,1,0),0)","v":0},{"$f":"$Q245*AE245","v":0},{"$f":"$R245*AE245","v":0},null,"4' or 5'",{"$f":"IF($C$41=2,IF($P248<$D$9,0,1),0)","v":0},{"$f":"$Q245*AJ245","v":0},{"$f":"$R245*AJ245","v":0}]
[null,null,null,null,null,null,null,null,null,null,null,null,null,null,"Inside Reference",null,{"$f":"Q245","v":0},{"$f":"(R245-$C$55)*P245","v":0},null,null,null,{"$f":"$Q246*U245","v":0},{"$f":"$R246*U245","v":0},null,null,null,{"$f":"$Q246*Z245","v":0},{"$f":"$R246*Z245","v":0},null,null,null,{"$f":"$Q246*AE245","v":0},{"$f":"$R246*AE245","v":0},null,null,null,{"$f":"$Q246*AJ245","v":0},{"$f":"$R246*AJ245","v":0}]
[null,null,null,null,null,null,null,null,null,null,null,null,null,null,"Outside Reference",null,{"$f":"Q244","v":0},{"$f":"R246","v":0},null,null,null,{"$f":"$Q247*U245","v":0},{"$f":"$R247*U245","v":0},null,null,null,{"$f":"$Q247*Z245","v":0},{"$f":"$R247*Z245","v":0},null,null,null,{"$f":"$Q247*AE245","v":0},{"$f":"$R247*AE245","v":0},null,null,null,{"$f":"$Q247*AJ245","v":0},{"$f":"$R247*AJ245","v":0}]
[null,null,null,null,null,null,null,null,null,null,null,null,null,null,"4' or 5'",{"$f":"IF(OR($C$41=2,$C$41=3),IF(P244>$F$63,$E$9,$F$9),IF(P244>$F$63,$C$9,$D$9))","v":50.5},{"$f":"Q244","v":0},0,null,null,null,{"$f":"$Q248*U245","v":0},{"$f":"$R248*U245","v":0},null,null,null,{"$f":"$Q248*Z245","v":0},{"$f":"$R248*Z245","v":0},null,null,null,{"$f":"$Q248*AE245","v":0},{"$f":"$R248*AE245","v":0},null,null,null,{"$f":"$Q248*AJ245","v":0},{"$f":"$R248*AJ245","v":0}]
[]
[null,null,null,null,null,null,null,null,null,null,null,null,null,null,"Row",{"$f":"P244+1","v":31},{"$f":"(Q245+($D$39/12))*P251","v":0},{"$f":"(R245)*P251","v":0},null,"Row",{"$f":"U244+1","v":31},{"$f":"$Q250*U251","v":0},{"$f":"$R250*U251","v":0},null,"Row",{"$f":"Z244+1","v":31},{"$f":"$Q250*Z251","v":0},{"$f":"$R250*Z251","v":0},null,"Row",{"$f":"AE244+1","v":31},{"$f":"$Q250*AE251","v":0},{"$f":"$R250*AE251","v":0},null,"Row",{"$f":"AJ244+1","v":31},{"$f":"$Q250*AJ251","v":0},{"$f":"$R250*AJ251","v":0}]
[null,null,null,null,null,null,null,null,null,null,null,null,null,null,"On/Off",{"$f":"IF(P250>$G$63,0,1)","v":0},{"$f":"(Q250+(P254/12))*P251","v":0},{"$f":"R250","v":0},null,"4' or 5'",{"$f":"IF($C$41=1,IF($P254<$D$9,1,0),0)","v":1},{"$f":"$Q251*U251","v":0},{"$f":"$R251*U251","v":0},null,"4' or 5'",{"$f":"IF($C$41=1,IF($P254<$D$9,0,1),0)","v":0},{"$f":"$Q251*Z251","v":0},{"$f":"$R251*Z251","v":0},null,"4' or 5'",{"$f":"IF($C$41=2,IF($P254<$D$9,1,0),0)","v":0},{"$f":"$Q251*AE251","v":0},{"$f":"$R251*AE251","v":0},null,"4' or 5'",{"$f":"IF($C$41=2,IF($P254<$D$9,0,1),0)","v":0},{"$f":"$Q251*AJ251","v":0},{"$f":"$R251*AJ251","v":0}]
[null,null,null,null,null,null,null,null,null,null,null,null,null,null,"Inside Reference",null,{"$f":"Q251","v":0},{"$f":"(R251-$C$55)*P251","v":0},null,null,null,{"$f":"$Q252*U251","v":0},{"$f":"$R252*U251","v":0},null,null,null,{"$f":"$Q252*Z251","v":0},{"$f":"$R252*Z251","v":0},null,null,null,{"$f":"$Q252*AE251","v":0},{"$f":"$R252*AE251","v":0},null,null,null,{"$f":"$Q252*AJ251","v":0},{"$f":"$R252*AJ251","v":0}]
[null,null,null,null,null,null,null,null,null,null,null,null,null,null,"Outside Reference",null,{"$f":"Q250","v":0},{"$f":"R252","v":0},null,null,null,{"$f":"$Q253*U251","v":0},{"$f":"$R253*U251","v":0},null,null,null,{"$f":"$Q253*Z251","v":0},{"$f":"$R253*Z251","v":0},null,null,null,{"$f":"$Q253*AE251","v":0},{"$f":"$R253*AE251","v":0},null,null,null,{"$f":"$Q253*AJ251","v":0},{"$f":"$R253*AJ251","v":0}]
[null,null,null,null,null,null,null,null,null,null,null,null,null,null,"4' or 5'",{"$f":"IF(OR($C$41=2,$C$41=3),IF(P250>$F$63,$E$9,$F$9),IF(P250>$F$63,$C$9,$D$9))","v":50.5},{"$f":"Q250","v":0},0,null,null,null,{"$f":"$Q254*U251","v":0},{"$f":"$R254*U251","v":0},null,null,null,{"$f":"$Q254*Z251","v":0},{"$f":"$R254*Z251","v":0},null,null,null,{"$f":"$Q254*AE251","v":0},{"$f":"$R254*AE251","v":0},null,null,null,{"$f":"$Q254*AJ251","v":0},{"$f":"$R254*AJ251","v":0}]
[]
[null,null,null,null,null,null,null,null,null,null,null,null,null,null,"Row",{"$f":"P250+1","v":32},{"$f":"(Q251+($D$39/12))*P257","v":0},{"$f":"(R251)*P257","v":0},null,"Row",{"$f":"U250+1","v":32},{"$f":"$Q256*U257","v":0},{"$f":"$R256*U257","v":0},null,"Row",{"$f":"Z250+1","v":32},{"$f":"$Q256*Z257","v":0},{"$f":"$R256*Z257","v":0},null,"Row",{"$f":"AE250+1","v":32},{"$f":"$Q256*AE257","v":0},{"$f":"$R256*AE257","v":0},null,"Row",{"$f":"AJ250+1","v":32},{"$f":"$Q256*AJ257","v":0},{"$f":"$R256*AJ257","v":0}]
[null,null,null,null,null,null,null,null,null,null,null,null,null,null,"On/Off",{"$f":"IF(P256>$G$63,0,1)","v":0},{"$f":"(Q256+(P260/12))*P257","v":0},{"$f":"R256","v":0},null,"4' or 5'",{"$f":"IF($C$41=1,IF($P260<$D$9,1,0),0)","v":1},{"$f":"$Q257*U257","v":0},{"$f":"$R257*U257","v":0},null,"4' or 5'",{"$f":"IF($C$41=1,IF($P260<$D$9,0,1),0)","v":0},{"$f":"$Q257*Z257","v":0},{"$f":"$R257*Z257","v":0},null,"4' or 5'",{"$f":"IF($C$41=2,IF($P260<$D$9,1,0),0)","v":0},{"$f":"$Q257*AE257","v":0},{"$f":"$R257*AE257","v":0},null,"4' or 5'",{"$f":"IF($C$41=2,IF($P260<$D$9,0,1),0)","v":0},{"$f":"$Q257*AJ257","v":0},{"$f":"$R257*AJ257","v":0}]
[null,null,null,null,null,null,null,null,null,null,null,null,null,null,"Inside Reference",null,{"$f":"Q257","v":0},{"$f":"(R257-$C$55)*P257","v":0},null,null,null,{"$f":"$Q258*U257","v":0},{"$f":"$R258*U257","v":0},null,null,null,{"$f":"$Q258*Z257","v":0},{"$f":"$R258*Z257","v":0},null,null,null,{"$f":"$Q258*AE257","v":0},{"$f":"$R258*AE257","v":0},null,null,null,{"$f":"$Q258*AJ257","v":0},{"$f":"$R258*AJ257","v":0}]
[null,null,null,null,null,null,null,null,null,null,null,null,null,null,"Outside Reference",null,{"$f":"Q256","v":0},{"$f":"R258","v":0},null,null,null,{"$f":"$Q259*U257","v":0},{"$f":"$R259*U257","v":0},null,null,null,{"$f":"$Q259*Z257","v":0},{"$f":"$R259*Z257","v":0},null,null,null,{"$f":"$Q259*AE257","v":0},{"$f":"$R259*AE257","v":0},null,null,null,{"$f":"$Q259*AJ257","v":0},{"$f":"$R259*AJ257","v":0}]
[null,null,null,null,null,null,null,null,null,null,null,null,null,null,"4' or 5'",{"$f":"IF(OR($C$41=2,$C$41=3),IF(P256>$F$63,$E$9,$F$9),IF(P256>$F$63,$C$9,$D$9))","v":50.5},{"$f":"Q256","v":0},0,null,null,null,{"$f":"$Q260*U257","v":0},{"$f":"$R260*U257","v":0},null,null,null,{"$f":"$Q260*Z257","v":0},{"$f":"$R260*Z257","v":0},null,null,null,{"$f":"$Q260*AE257","v":0},{"$f":"$R260*AE257","v":0},null,null,null,{"$f":"$Q260*AJ257","v":0},{"$f":"$R260*AJ257","v":0}]
[]
[null,null,null,null,null,null,null,null,null,null,null,null,null,null,"Row",{"$f":"P256+1","v":33},{"$f":"(Q257+($D$39/12))*P263","v":0},{"$f":"(R257)*P263","v":0},null,"Row",{"$f":"U256+1","v":33},{"$f":"$Q262*U263","v":0},{"$f":"$R262*U263","v":0},null,"Row",{"$f":"Z256+1","v":33},{"$f":"$Q262*Z263","v":0},{"$f":"$R262*Z263","v":0},null,"Row",{"$f":"AE256+1","v":33},{"$f":"$Q262*AE263","v":0},{"$f":"$R262*AE263","v":0},null,"Row",{"$f":"AJ256+1","v":33},{"$f":"$Q262*AJ263","v":0},{"$f":"$R262*AJ263","v":0}]
[null,null,null,null,null,null,null,null,null,null,null,null,null,null,"On/Off",{"$f":"IF(P262>$G$63,0,1)","v":0},{"$f":"(Q262+(P266/12))*P263","v":0},{"$f":"R262","v":0},null,"4' or 5'",{"$f":"IF($C$41=1,IF($P266<$D$9,1,0),0)","v":1},{"$f":"$Q263*U263","v":0},{"$f":"$R263*U263","v":0},null,"4' or 5'",{"$f":"IF($C$41=1,IF($P266<$D$9,0,1),0)","v":0},{"$f":"$Q263*Z263","v":0},{"$f":"$R263*Z263","v":0},null,"4' or 5'",{"$f":"IF($C$41=2,IF($P266<$D$9,1,0),0)","v":0},{"$f":"$Q263*AE263","v":0},{"$f":"$R263*AE263","v":0},null,"4' or 5'",{"$f":"IF($C$41=2,IF($P266<$D$9,0,1),0)","v":0},{"$f":"$Q263*AJ263","v":0},{"$f":"$R263*AJ263","v":0}]
[null,null,null,null,null,null,null,null,null,null,null,null,null,null,"Inside Reference",null,{"$f":"Q263","v":0},{"$f":"(R263-$C$55)*P263","v":0},null,null,null,{"$f":"$Q264*U263","v":0},{"$f":"$R264*U263","v":0},null,null,null,{"$f":"$Q264*Z263","v":0},{"$f":"$R264*Z263","v":0},null,null,null,{"$f":"$Q264*AE263","v":0},{"$f":"$R264*AE263","v":0},null,null,null,{"$f":"$Q264*AJ263","v":0},{"$f":"$R264*AJ263","v":0}]
[null,null,null,null,null,null,null,null,null,null,null,null,null,null,"Outside Reference",null,{"$f":"Q262","v":0},{"$f":"R264","v":0},null,null,null,{"$f":"$Q265*U263","v":0},{"$f":"$R265*U263","v":0},null,null,null,{"$f":"$Q265*Z263","v":0},{"$f":"$R265*Z263","v":0},null,null,null,{"$f":"$Q265*AE263","v":0},{"$f":"$R265*AE263","v":0},null,null,null,{"$f":"$Q265*AJ263","v":0},{"$f":"$R265*AJ263","v":0}]
[null,null,null,null,null,null,null,null,null,null,null,null,null,null,"4' or 5'",{"$f":"IF(OR($C$41=2,$C$41=3),IF(P262>$F$63,$E$9,$F$9),IF(P262>$F$63,$C$9,$D$9))","v":50.5},{"$f":"Q262","v":0},0,null,null,null,{"$f":"$Q266*U263","v":0},{"$f":"$R266*U263","v":0},null,null,null,{"$f":"$Q266*Z263","v":0},{"$f":"$R266*Z263","v":0},null,null,null,{"$f":"$Q266*AE263","v":0},{"$f":"$R266*AE263","v":0},null,null,null,{"$f":"$Q266*AJ263","v":0},{"$f":"$R266*AJ263","v":0}]
[]
[null,null,null,null,null,null,null,null,null,null,null,null,null,null,"Row",{"$f":"P262+1","v":34},{"$f":"(Q263+($D$39/12))*P269","v":0},{"$f":"(R263)*P269","v":0},null,"Row",{"$f":"U262+1","v":34},{"$f":"$Q268*U269","v":0},{"$f":"$R268*U269","v":0},null,"Row",{"$f":"Z262+1","v":34},{"$f":"$Q268*Z269","v":0},{"$f":"$R268*Z269","v":0},null,"Row",{"$f":"AE262+1","v":34},{"$f":"$Q268*AE269","v":0},{"$f":"$R268*AE269","v":0},null,"Row",{"$f":"AJ262+1","v":34},{"$f":"$Q268*AJ269","v":0},{"$f":"$R268*AJ269","v":0}]
[null,null,null,null,null,null,null,null,null,null,null,null,null,null,"On/Off",{"$f":"IF(P268>$G$63,0,1)","v":0},{"$f":"(Q268+(P272/12))*P269","v":0},{"$f":"R268","v":0},null,"4' or 5'",{"$f":"IF($C$41=1,IF($P272<$D$9,1,0),0)","v":1},{"$f":"$Q269*U269","v":0},{"$f":"$R269*U269","v":0},null,"4' or 5'",{"$f":"IF($C$41=1,IF($P272<$D$9,0,1),0)","v":0},{"$f":"$Q269*Z269","v":0},{"$f":"$R269*Z269","v":0},null,"4' or 5'",{"$f":"IF($C$41=2,IF($P272<$D$9,1,0),0)","v":0},{"$f":"$Q269*AE269","v":0},{"$f":"$R269*AE269","v":0},null,"4' or 5'",{"$f":"IF($C$41=2,IF($P272<$D$9,0,1),0)","v":0},{"$f":"$Q269*AJ269","v":0},{"$f":"$R269*AJ269","v":0}]
[null,null,null,null,null,null,null,null,null,null,null,null,null,null,"Inside Reference",null,{"$f":"Q269","v":0},{"$f":"(R269-$C$55)*P269","v":0},null,null,null,{"$f":"$Q270*U269","v":0},{"$f":"$R270*U269","v":0},null,null,null,{"$f":"$Q270*Z269","v":0},{"$f":"$R270*Z269","v":0},null,null,null,{"$f":"$Q270*AE269","v":0},{"$f":"$R270*AE269","v":0},null,null,null,{"$f":"$Q270*AJ269","v":0},{"$f":"$R270*AJ269","v":0}]
[null,null,null,null,null,null,null,null,null,null,null,null,null,null,"Outside Reference",null,{"$f":"Q268","v":0},{"$f":"R270","v":0},null,null,null,{"$f":"$Q271*U269","v":0},{"$f":"$R271*U269","v":0},null,null,null,{"$f":"$Q271*Z269","v":0},{"$f":"$R271*Z269","v":0},null,null,null,{"$f":"$Q271*AE269","v":0},{"$f":"$R271*AE269","v":0},null,null,null,{"$f":"$Q271*AJ269","v":0},{"$f":"$R271*AJ269","v":0}]
[null,null,null,null,null,null,null,null,null,null,null,null,null,null,"4' or 5'",{"$f":"IF(OR($C$41=2,$C$41=3),IF(P268>$F$63,$E$9,$F$9),IF(P268>$F$63,$C$9,$D$9))","v":50.5},{"$f":"Q268","v":0},0,null,null,null,{"$f":"$Q272*U269","v":0},{"$f":"$R272*U269","v":0},null,null,null,{"$f":"$Q272*Z269","v":0},{"$f":"$R272*Z269","v":0},null,null,null,{"$f":"$Q272*AE269","v":0},{"$f":"$R272*AE269","v":0},null,null,null,{"$f":"$Q272*AJ269","v":0},{"$f":"$R272*AJ269","v":0}]
[]
[null,null,null,null,null,null,null,null,null,null,null,null,null,null,"Row",{"$f":"P268+1","v":35},{"$f":"(Q269+($D$39/12))*P275","v":0},{"$f":"(R269)*P275","v":0},null,"Row",{"$f":"U268+1","v":35},{"$f":"$Q274*U275","v":0},{"$f":"$R274*U275","v":0},null,"Row",{"$f":"Z268+1","v":35},{"$f":"$Q274*Z275","v":0},{"$f":"$R274*Z275","v":0},null,"Row",{"$f":"AE268+1","v":35},{"$f":"$Q274*AE275","v":0},{"$f":"$R274*AE275","v":0},null,"Row",{"$f":"AJ268+1","v":35},{"$f":"$Q274*AJ275","v":0},{"$f":"$R274*AJ275","v":0}]
[null,null,null,null,null,null,null,null,null,null,null,null,null,null,"On/Off",{"$f":"IF(P274>$G$63,0,1)","v":0},{"$f":"(Q274+(P278/12))*P275","v":0},{"$f":"R274","v":0},null,"4' or 5'",{"$f":"IF($C$41=1,IF($P278<$D$9,1,0),0)","v":1},{"$f":"$Q275*U275","v":0},{"$f":"$R275*U275","v":0},null,"4' or 5'",{"$f":"IF($C$41=1,IF($P278<$D$9,0,1),0)","v":0},{"$f":"$Q275*Z275","v":0},{"$f":"$R275*Z275","v":0},null,"4' or 5'",{"$f":"IF($C$41=2,IF($P278<$D$9,1,0),0)","v":0},{"$f":"$Q275*AE275","v":0},{"$f":"$R275*AE275","v":0},null,"4' or 5'",{"$f":"IF($C$41=2,IF($P278<$D$9,0,1),0)","v":0},{"$f":"$Q275*AJ275","v":0},{"$f":"$R275*AJ275","v":0}]
[null,null,null,null,null,null,null,null,null,null,null,null,null,null,"Inside Reference",null,{"$f":"Q275","v":0},{"$f":"(R275-$C$55)*P275","v":0},null,null,null,{"$f":"$Q276*U275","v":0},{"$f":"$R276*U275","v":0},null,null,null,{"$f":"$Q276*Z275","v":0},{"$f":"$R276*Z275","v":0},null,null,null,{"$f":"$Q276*AE275","v":0},{"$f":"$R276*AE275","v":0},null,null,null,{"$f":"$Q276*AJ275","v":0},{"$f":"$R276*AJ275","v":0}]
[null,null,null,null,null,null,null,null,null,null,null,null,null,null,"Outside Reference",null,{"$f":"Q274","v":0},{"$f":"R276","v":0},null,null,null,{"$f":"$Q277*U275","v":0},{"$f":"$R277*U275","v":0},null,null,null,{"$f":"$Q277*Z275","v":0},{"$f":"$R277*Z275","v":0},null,null,null,{"$f":"$Q277*AE275","v":0},{"$f":"$R277*AE275","v":0},null,null,null,{"$f":"$Q277*AJ275","v":0},{"$f":"$R277*AJ275","v":0}]
[null,null,null,null,null,null,null,null,null,null,null,null,null,null,"4' or 5'",{"$f":"IF(OR($C$41=2,$C$41=3),IF(P274>$F$63,$E$9,$F$9),IF(P274>$F$63,$C$9,$D$9))","v":50.5},{"$f":"Q274","v":0},0,null,null,null,{"$f":"$Q278*U275","v":0},{"$f":"$R278*U275","v":0},null,null,null,{"$f":"$Q278*Z275","v":0},{"$f":"$R278*Z275","v":0},null,null,null,{"$f":"$Q278*AE275","v":0},{"$f":"$R278*AE275","v":0},null,null,null,{"$f":"$Q278*AJ275","v":0},{"$f":"$R278*AJ275","v":0}]
[]
[null,null,null,null,null,null,null,null,null,null,null,null,null,null,"Row",{"$f":"P274+1","v":36},{"$f":"(Q275+($D$39/12))*P281","v":0},{"$f":"(R275)*P281","v":0},null,"Row",{"$f":"U274+1","v":36},{"$f":"$Q280*U281","v":0},{"$f":"$R280*U281","v":0},null,"Row",{"$f":"Z274+1","v":36},{"$f":"$Q280*Z281","v":0},{"$f":"$R280*Z281","v":0},null,"Row",{"$f":"AE274+1","v":36},{"$f":"$Q280*AE281","v":0},{"$f":"$R280*AE281","v":0},null,"Row",{"$f":"AJ274+1","v":36},{"$f":"$Q280*AJ281","v":0},{"$f":"$R280*AJ281","v":0}]
[null,null,null,null,null,null,null,null,null,null,null,null,null,null,"On/Off",{"$f":"IF(P280>$G$63,0,1)","v":0},{"$f":"(Q280+(P284/12))*P281","v":0},{"$f":"R280","v":0},null,"4' or 5'",{"$f":"IF($C$41=1,IF($P284<$D$9,1,0),0)","v":1},{"$f":"$Q281*U281","v":0},{"$f":"$R281*U281","v":0},null,"4' or 5'",{"$f":"IF($C$41=1,IF($P284<$D$9,0,1),0)","v":0},{"$f":"$Q281*Z281","v":0},{"$f":"$R281*Z281","v":0},null,"4' or 5'",{"$f":"IF($C$41=2,IF($P284<$D$9,1,0),0)","v":0},{"$f":"$Q281*AE281","v":0},{"$f":"$R281*AE281","v":0},null,"4' or 5'",{"$f":"IF($C$41=2,IF($P284<$D$9,0,1),0)","v":0},{"$f":"$Q281*AJ281","v":0},{"$f":"$R281*AJ281","v":0}]
[null,null,null,null,null,null,null,null,null,null,null,null,null,null,"Inside Reference",null,{"$f":"Q281","v":0},{"$f":"(R281-$C$55)*P281","v":0},null,null,null,{"$f":"$Q282*U281","v":0},{"$f":"$R282*U281","v":0},null,null,null,{"$f":"$Q282*Z281","v":0},{"$f":"$R282*Z281","v":0},null,null,null,{"$f":"$Q282*AE281","v":0},{"$f":"$R282*AE281","v":0},null,null,null,{"$f":"$Q282*AJ281","v":0},{"$f":"$R282*AJ281","v":0}]
[null,null,null,null,null,null,null,null,null,null,null,null,null,null,"Outside Reference",null,{"$f":"Q280","v":0},{"$f":"R282","v":0},null,null,null,{"$f":"$Q283*U281","v":0},{"$f":"$R283*U281","v":0},null,null,null,{"$f":"$Q283*Z281","v":0},{"$f":"$R283*Z281","v":0},null,null,null,{"$f":"$Q283*AE281","v":0},{"$f":"$R283*AE281","v":0},null,null,null,{"$f":"$Q283*AJ281","v":0},{"$f":"$R283*AJ281","v":0}]
[null,null,null,null,null,null,null,null,null,null,null,null,null,null,"4' or 5'",{"$f":"IF(OR($C$41=2,$C$41=3),IF(P280>$F$63,$E$9,$F$9),IF(P280>$F$63,$C$9,$D$9))","v":50.5},{"$f":"Q280","v":0},0,null,null,null,{"$f":"$Q284*U281","v":0},{"$f":"$R284*U281","v":0},null,null,null,{"$f":"$Q284*Z281","v":0},{"$f":"$R284*Z281","v":0},null,null,null,{"$f":"$Q284*AE281","v":0},{"$f":"$R284*AE281","v":0},null,null,null,{"$f":"$Q284*AJ281","v":0},{"$f":"$R284*AJ281","v":0}]
[]
[null,null,null,null,null,null,null,null,null,null,null,null,null,null,"Row",{"$f":"P280+1","v":37},{"$f":"(Q281+($D$39/12))*P287","v":0},{"$f":"(R281)*P287","v":0},null,"Row",{"$f":"U280+1","v":37},{"$f":"$Q286*U287","v":0},{"$f":"$R286*U287","v":0},null,"Row",{"$f":"Z280+1","v":37},{"$f":"$Q286*Z287","v":0},{"$f":"$R286*Z287","v":0},null,"Row",{"$f":"AE280+1","v":37},{"$f":"$Q286*AE287","v":0},{"$f":"$R286*AE287","v":0},null,"Row",{"$f":"AJ280+1","v":37},{"$f":"$Q286*AJ287","v":0},{"$f":"$R286*AJ287","v":0}]
[null,null,null,null,null,null,null,null,null,null,null,null,null,null,"On/Off",{"$f":"IF(P286>$G$63,0,1)","v":0},{"$f":"(Q286+(P290/12))*P287","v":0},{"$f":"R286","v":0},null,"4' or 5'",{"$f":"IF($C$41=1,IF($P290<$D$9,1,0),0)","v":1},{"$f":"$Q287*U287","v":0},{"$f":"$R287*U287","v":0},null,"4' or 5'",{"$f":"IF($C$41=1,IF($P290<$D$9,0,1),0)","v":0},{"$f":"$Q287*Z287","v":0},{"$f":"$R287*Z287","v":0},null,"4' or 5'",{"$f":"IF($C$41=2,IF($P290<$D$9,1,0),0)","v":0},{"$f":"$Q287*AE287","v":0},{"$f":"$R287*AE287","v":0},null,"4' or 5'",{"$f":"IF($C$41=2,IF($P290<$D$9,0,1),0)","v":0},{"$f":"$Q287*AJ287","v":0},{"$f":"$R287*AJ287","v":0}]
[null,null,null,null,null,null,null,null,null,null,null,null,null,null,"Inside Reference",null,{"$f":"Q287","v":0},{"$f":"(R287-$C$55)*P287","v":0},null,null,null,{"$f":"$Q288*U287","v":0},{"$f":"$R288*U287","v":0},null,null,null,{"$f":"$Q288*Z287","v":0},{"$f":"$R288*Z287","v":0},null,null,null,{"$f":"$Q288*AE287","v":0},{"$f":"$R288*AE287","v":0},null,null,null,{"$f":"$Q288*AJ287","v":0},{"$f":"$R288*AJ287","v":0}]
[null,null,null,null,null,null,null,null,null,null,null,null,null,null,"Outside Reference",null,{"$f":"Q286","v":0},{"$f":"R288","v":0},null,null,null,{"$f":"$Q289*U287","v":0},{"$f":"$R289*U287","v":0},null,null,null,{"$f":"$Q289*Z287","v":0},{"$f":"$R289*Z287","v":0},null,null,null,{"$f":"$Q289*AE287","v":0},{"$f":"$R289*AE287","v":0},null,null,null,{"$f":"$Q289*AJ287","v":0},{"$f":"$R289*AJ287","v":0}]
[null,null,null,null,null,null,null,null,null,null,null,null,null,null,"4' or 5'",{"$f":"IF(OR($C$41=2,$C$41=3),IF(P286>$F$63,$E$9,$F$9),IF(P286>$F$63,$C$9,$D$9))","v":50.5},{"$f":"Q286","v":0},0,null,null,null,{"$f":"$Q290*U287","v":0},{"$f":"$R290*U287","v":0},null,null,null,{"$f":"$Q290*Z287","v":0},{"$f":"$R290*Z287","v":0},null,null,null,{"$f":"$Q290*AE287","v":0},{"$f":"$R290*AE287","v":0},null,null,null,{"$f":"$Q290*AJ287","v":0},{"$f":"$R290*AJ287","v":0}]
[]
[null,null,null,null,null,null,null,null,null,null,null,null,null,null,"Row",{"$f":"P286+1","v":38},{"$f":"(Q287+($D$39/12))*P293","v":0},{"$f":"(R287)*P293","v":0},null,"Row",{"$f":"U286+1","v":38},{"$f":"$Q292*U293","v":0},{"$f":"$R292*U293","v":0},null,"Row",{"$f":"Z286+1","v":38},{"$f":"$Q292*Z293","v":0},{"$f":"$R292*Z293","v":0},null,"Row",{"$f":"AE286+1","v":38},{"$f":"$Q292*AE293","v":0},{"$f":"$R292*AE293","v":0},null,"Row",{"$f":"AJ286+1","v":38},{"$f":"$Q292*AJ293","v":0},{"$f":"$R292*AJ293","v":0}]
[null,null,null,null,null,null,null,null,null,null,null,null,null,null,"On/Off",{"$f":"IF(P292>$G$63,0,1)","v":0},{"$f":"(Q292+(P296/12))*P293","v":0},{"$f":"R292","v":0},null,"4' or 5'",{"$f":"IF($C$41=1,IF($P296<$D$9,1,0),0)","v":1},{"$f":"$Q293*U293","v":0},{"$f":"$R293*U293","v":0},null,"4' or 5'",{"$f":"IF($C$41=1,IF($P296<$D$9,0,1),0)","v":0},{"$f":"$Q293*Z293","v":0},{"$f":"$R293*Z293","v":0},null,"4' or 5'",{"$f":"IF($C$41=2,IF($P296<$D$9,1,0),0)","v":0},{"$f":"$Q293*AE293","v":0},{"$f":"$R293*AE293","v":0},null,"4' or 5'",{"$f":"IF($C$41=2,IF($P296<$D$9,0,1),0)","v":0},{"$f":"$Q293*AJ293","v":0},{"$f":"$R293*AJ293","v":0}]
[null,null,null,null,null,null,null,null,null,null,null,null,null,null,"Inside Reference",null,{"$f":"Q293","v":0},{"$f":"(R293-$C$55)*P293","v":0},null,null,null,{"$f":"$Q294*U293","v":0},{"$f":"$R294*U293","v":0},null,null,null,{"$f":"$Q294*Z293","v":0},{"$f":"$R294*Z293","v":0},null,null,null,{"$f":"$Q294*AE293","v":0},{"$f":"$R294*AE293","v":0},null,null,null,{"$f":"$Q294*AJ293","v":0},{"$f":"$R294*AJ293","v":0}]
[null,null,null,null,null,null,null,null,null,null,null,null,null,null,"Outside Reference",null,{"$f":"Q292","v":0},{"$f":"R294","v":0},null,null,null,{"$f":"$Q295*U293","v":0},{"$f":"$R295*U293","v":0},null,null,null,{"$f":"$Q295*Z293","v":0},{"$f":"$R295*Z293","v":0},null,null,null,{"$f":"$Q295*AE293","v":0},{"$f":"$R295*AE293","v":0},null,null,null,{"$f":"$Q295*AJ293","v":0},{"$f":"$R295*AJ293","v":0}]
[null,null,null,null,null,null,null,null,null,null,null,null,null,null,"4' or 5'",{"$f":"IF(OR($C$41=2,$C$41=3),IF(P292>$F$63,$E$9,$F$9),IF(P292>$F$63,$C$9,$D$9))","v":50.5},{"$f":"Q292","v":0},0,null,null,null,{"$f":"$Q296*U293","v":0},{"$f":"$R296*U293","v":0},null,null,null,{"$f":"$Q296*Z293","v":0},{"$f":"$R296*Z293","v":0},null,null,null,{"$f":"$Q296*AE293","v":0},{"$f":"$R296*AE293","v":0},null,null,null,{"$f":"$Q296*AJ293","v":0},{"$f":"$R296*AJ293","v":0}]
[]
[null,null,null,null,null,null,null,null,null,null,null,null,null,null,"Row",{"$f":"P292+1","v":39},{"$f":"(Q293+($D$39/12))*P299","v":0},{"$f":"(R293)*P299","v":0},null,"Row",{"$f":"U292+1","v":39},{"$f":"$Q298*U299","v":0},{"$f":"$R298*U299","v":0},null,"Row",{"$f":"Z292+1","v":39},{"$f":"$Q298*Z299","v":0},{"$f":"$R298*Z299","v":0},null,"Row",{"$f":"AE292+1","v":39},{"$f":"$Q298*AE299","v":0},{"$f":"$R298*AE299","v":0},null,"Row",{"$f":"AJ292+1","v":39},{"$f":"$Q298*AJ299","v":0},{"$f":"$R298*AJ299","v":0}]
[null,null,null,null,null,null,null,null,null,null,null,null,null,null,"On/Off",{"$f":"IF(P298>$G$63,0,1)","v":0},{"$f":"(Q298+(P302/12))*P299","v":0},{"$f":"R298","v":0},null,"4' or 5'",{"$f":"IF($C$41=1,IF($P302<$D$9,1,0),0)","v":1},{"$f":"$Q299*U299","v":0},{"$f":"$R299*U299","v":0},null,"4' or 5'",{"$f":"IF($C$41=1,IF($P302<$D$9,0,1),0)","v":0},{"$f":"$Q299*Z299","v":0},{"$f":"$R299*Z299","v":0},null,"4' or 5'",{"$f":"IF($C$41=2,IF($P302<$D$9,1,0),0)","v":0},{"$f":"$Q299*AE299","v":0},{"$f":"$R299*AE299","v":0},null,"4' or 5'",{"$f":"IF($C$41=2,IF($P302<$D$9,0,1),0)","v":0},{"$f":"$Q299*AJ299","v":0},{"$f":"$R299*AJ299","v":0}]
[null,null,null,null,null,null,null,null,null,null,null,null,null,null,"Inside Reference",null,{"$f":"Q299","v":0},{"$f":"(R299-$C$55)*P299","v":0},null,null,null,{"$f":"$Q300*U299","v":0},{"$f":"$R300*U299","v":0},null,null,null,{"$f":"$Q300*Z299","v":0},{"$f":"$R300*Z299","v":0},null,null,null,{"$f":"$Q300*AE299","v":0},{"$f":"$R300*AE299","v":0},null,null,null,{"$f":"$Q300*AJ299","v":0},{"$f":"$R300*AJ299","v":0}]
[null,null,null,null,null,null,null,null,null,null,null,null,null,null,"Outside Reference",null,{"$f":"Q298","v":0},{"$f":"R300","v":0},null,null,null,{"$f":"$Q301*U299","v":0},{"$f":"$R301*U299","v":0},null,null,null,{"$f":"$Q301*Z299","v":0},{"$f":"$R301*Z299","v":0},null,null,null,{"$f":"$Q301*AE299","v":0},{"$f":"$R301*AE299","v":0},null,null,null,{"$f":"$Q301*AJ299","v":0},{"$f":"$R301*AJ299","v":0}]
[null,null,null,null,null,null,null,null,null,null,null,null,null,null,"4' or 5'",{"$f":"IF(OR($C$41=2,$C$41=3),IF(P298>$F$63,$E$9,$F$9),IF(P298>$F$63,$C$9,$D$9))","v":50.5},{"$f":"Q298","v":0},0,null,null,null,{"$f":"$Q302*U299","v":0},{"$f":"$R302*U299","v":0},null,null,null,{"$f":"$Q302*Z299","v":0},{"$f":"$R302*Z299","v":0},null,null,null,{"$f":"$Q302*AE299","v":0},{"$f":"$R302*AE299","v":0},null,null,null,{"$f":"$Q302*AJ299","v":0},{"$f":"$R302*AJ299","v":0}]
[]
[null,null,null,null,null,null,null,null,null,null,null,null,null,null,"Row",{"$f":"P298+1","v":40},{"$f":"(Q299+($D$39/12))*P305","v":0},{"$f":"(R299)*P305","v":0},null,"Row",{"$f":"U298+1","v":40},{"$f":"$Q304*U305","v":0},{"$f":"$R304*U305","v":0},null,"Row",{"$f":"Z298+1","v":40},{"$f":"$Q304*Z305","v":0},{"$f":"$R304*Z305","v":0},null,"Row",{"$f":"AE298+1","v":40},{"$f":"$Q304*AE305","v":0},{"$f":"$R304*AE305","v":0},null,"Row",{"$f":"AJ298+1","v":40},{"$f":"$Q304*AJ305","v":0},{"$f":"$R304*AJ305","v":0}]
[null,null,null,null,null,null,null,null,null,null,null,null,null,null,"On/Off",{"$f":"IF(P304>$G$63,0,1)","v":0},{"$f":"(Q304+(P308/12))*P305","v":0},{"$f":"R304","v":0},null,"4' or 5'",{"$f":"IF($C$41=1,IF($P308<$D$9,1,0),0)","v":1},{"$f":"$Q305*U305","v":0},{"$f":"$R305*U305","v":0},null,"4' or 5'",{"$f":"IF($C$41=1,IF($P308<$D$9,0,1),0)","v":0},{"$f":"$Q305*Z305","v":0},{"$f":"$R305*Z305","v":0},null,"4' or 5'",{"$f":"IF($C$41=2,IF($P308<$D$9,1,0),0)","v":0},{"$f":"$Q305*AE305","v":0},{"$f":"$R305*AE305","v":0},null,"4' or 5'",{"$f":"IF($C$41=2,IF($P308<$D$9,0,1),0)","v":0},{"$f":"$Q305*AJ305","v":0},{"$f":"$R305*AJ305","v":0}]
[null,null,null,null,null,null,null,null,null,null,null,null,null,null,"Inside Reference",null,{"$f":"Q305","v":0},{"$f":"(R305-$C$55)*P305","v":0},null,null,null,{"$f":"$Q306*U305","v":0},{"$f":"$R306*U305","v":0},null,null,null,{"$f":"$Q306*Z305","v":0},{"$f":"$R306*Z305","v":0},null,null,null,{"$f":"$Q306*AE305","v":0},{"$f":"$R306*AE305","v":0},null,null,null,{"$f":"$Q306*AJ305","v":0},{"$f":"$R306*AJ305","v":0}]
[null,null,null,null,null,null,null,null,null,null,null,null,null,null,"Outside Reference",null,{"$f":"Q304","v":0},{"$f":"R306","v":0},null,null,null,{"$f":"$Q307*U305","v":0},{"$f":"$R307*U305","v":0},null,null,null,{"$f":"$Q307*Z305","v":0},{"$f":"$R307*Z305","v":0},null,null,null,{"$f":"$Q307*AE305","v":0},{"$f":"$R307*AE305","v":0},null,null,null,{"$f":"$Q307*AJ305","v":0},{"$f":"$R307*AJ305","v":0}]
[null,null,null,null,null,null,null,null,null,null,null,null,null,null,"4' or 5'",{"$f":"IF(OR($C$41=2,$C$41=3),IF(P304>$F$63,$E$9,$F$9),IF(P304>$F$63,$C$9,$D$9))","v":50.5},{"$f":"Q304","v":0},0,null,null,null,{"$f":"$Q308*U305","v":0},{"$f":"$R308*U305","v":0},null,null,null,{"$f":"$Q308*Z305","v":0},{"$f":"$R308*Z305","v":0},null,null,null,{"$f":"$Q308*AE305","v":0},{"$f":"$R308*AE305","v":0},null,null,null,{"$f":"$Q308*AJ305","v":0},{"$f":"$R308*AJ305","v":0}]
[]
[null,null,null,null,null,null,null,null,null,null,null,null,null,null,"Row",{"$f":"P304+1","v":41},{"$f":"(Q305+($D$39/12))*P311","v":0},{"$f":"(R305)*P311","v":0},null,"Row",{"$f":"U304+1","v":41},{"$f":"$Q310*U311","v":0},{"$f":"$R310*U311","v":0},null,"Row",{"$f":"Z304+1","v":41},{"$f":"$Q310*Z311","v":0},{"$f":"$R310*Z311","v":0},null,"Row",{"$f":"AE304+1","v":41},{"$f":"$Q310*AE311","v":0},{"$f":"$R310*AE311","v":0},null,"Row",{"$f":"AJ304+1","v":41},{"$f":"$Q310*AJ311","v":0},{"$f":"$R310*AJ311","v":0}]
[null,null,null,null,null,null,null,null,null,null,null,null,null,null,"On/Off",{"$f":"IF(P310>$G$63,0,1)","v":0},{"$f":"(Q310+(P314/12))*P311","v":0},{"$f":"R310","v":0},null,"4' or 5'",{"$f":"IF($C$41=1,IF($P314<$D$9,1,0),0)","v":1},{"$f":"$Q311*U311","v":0},{"$f":"$R311*U311","v":0},null,"4' or 5'",{"$f":"IF($C$41=1,IF($P314<$D$9,0,1),0)","v":0},{"$f":"$Q311*Z311","v":0},{"$f":"$R311*Z311","v":0},null,"4' or 5'",{"$f":"IF($C$41=2,IF($P314<$D$9,1,0),0)","v":0},{"$f":"$Q311*AE311","v":0},{"$f":"$R311*AE311","v":0},null,"4' or 5'",{"$f":"IF($C$41=2,IF($P314<$D$9,0,1),0)","v":0},{"$f":"$Q311*AJ311","v":0},{"$f":"$R311*AJ311","v":0}]
[null,null,null,null,null,null,null,null,null,null,null,null,null,null,"Inside Reference",null,{"$f":"Q311","v":0},{"$f":"(R311-$C$55)*P311","v":0},null,null,null,{"$f":"$Q312*U311","v":0},{"$f":"$R312*U311","v":0},null,null,null,{"$f":"$Q312*Z311","v":0},{"$f":"$R312*Z311","v":0},null,null,null,{"$f":"$Q312*AE311","v":0},{"$f":"$R312*AE311","v":0},null,null,null,{"$f":"$Q312*AJ311","v":0},{"$f":"$R312*AJ311","v":0}]
[null,null,null,null,null,null,null,null,null,null,null,null,null,null,"Outside Reference",null,{"$f":"Q310","v":0},{"$f":"R312","v":0},null,null,null,{"$f":"$Q313*U311","v":0},{"$f":"$R313*U311","v":0},null,null,null,{"$f":"$Q313*Z311","v":0},{"$f":"$R313*Z311","v":0},null,null,null,{"$f":"$Q313*AE311","v":0},{"$f":"$R313*AE311","v":0},null,null,null,{"$f":"$Q313*AJ311","v":0},{"$f":"$R313*AJ311","v":0}]
[null,null,null,null,null,null,null,null,null,null,null,null,null,null,"4' or 5'",{"$f":"IF(OR($C$41=2,$C$41=3),IF(P310>$F$63,$E$9,$F$9),IF(P310>$F$63,$C$9,$D$9))","v":50.5},{"$f":"Q310","v":0},0,null,null,null,{"$f":"$Q314*U311","v":0},{"$f":"$R314*U311","v":0},null,null,null,{"$f":"$Q314*Z311","v":0},{"$f":"$R314*Z311","v":0},null,null,null,{"$f":"$Q314*AE311","v":0},{"$f":"$R314*AE311","v":0},null,null,null,{"$f":"$Q314*AJ311","v":0},{"$f":"$R314*AJ311","v":0}]
[]
[null,null,null,null,null,null,null,null,null,null,null,null,null,null,"Row",{"$f":"P310+1","v":42},{"$f":"(Q311+($D$39/12))*P317","v":0},{"$f":"(R311)*P317","v":0},null,"Row",{"$f":"U310+1","v":42},{"$f":"$Q316*U317","v":0},{"$f":"$R316*U317","v":0},null,"Row",{"$f":"Z310+1","v":42},{"$f":"$Q316*Z317","v":0},{"$f":"$R316*Z317","v":0},null,"Row",{"$f":"AE310+1","v":42},{"$f":"$Q316*AE317","v":0},{"$f":"$R316*AE317","v":0},null,"Row",{"$f":"AJ310+1","v":42},{"$f":"$Q316*AJ317","v":0},{"$f":"$R316*AJ317","v":0}]
[null,null,null,null,null,null,null,null,null,null,null,null,null,null,"On/Off",{"$f":"IF(P316>$G$63,0,1)","v":0},{"$f":"(Q316+(P320/12))*P317","v":0},{"$f":"R316","v":0},null,"4' or 5'",{"$f":"IF($C$41=1,IF($P320<$D$9,1,0),0)","v":1},{"$f":"$Q317*U317","v":0},{"$f":"$R317*U317","v":0},null,"4' or 5'",{"$f":"IF($C$41=1,IF($P320<$D$9,0,1),0)","v":0},{"$f":"$Q317*Z317","v":0},{"$f":"$R317*Z317","v":0},null,"4' or 5'",{"$f":"IF($C$41=2,IF($P320<$D$9,1,0),0)","v":0},{"$f":"$Q317*AE317","v":0},{"$f":"$R317*AE317","v":0},null,"4' or 5'",{"$f":"IF($C$41=2,IF($P320<$D$9,0,1),0)","v":0},{"$f":"$Q317*AJ317","v":0},{"$f":"$R317*AJ317","v":0}]
[null,null,null,null,null,null,null,null,null,null,null,null,null,null,"Inside Reference",null,{"$f":"Q317","v":0},{"$f":"(R317-$C$55)*P317","v":0},null,null,null,{"$f":"$Q318*U317","v":0},{"$f":"$R318*U317","v":0},null,null,null,{"$f":"$Q318*Z317","v":0},{"$f":"$R318*Z317","v":0},null,null,null,{"$f":"$Q318*AE317","v":0},{"$f":"$R318*AE317","v":0},null,null,null,{"$f":"$Q318*AJ317","v":0},{"$f":"$R318*AJ317","v":0}]
[null,null,null,null,null,null,null,null,null,null,null,null,null,null,"Outside Reference",null,{"$f":"Q316","v":0},{"$f":"R318","v":0},null,null,null,{"$f":"$Q319*U317","v":0},{"$f":"$R319*U317","v":0},null,null,null,{"$f":"$Q319*Z317","v":0},{"$f":"$R319*Z317","v":0},null,null,null,{"$f":"$Q319*AE317","v":0},{"$f":"$R319*AE317","v":0},null,null,null,{"$f":"$Q319*AJ317","v":0},{"$f":"$R319*AJ317","v":0}]
[null,null,null,null,null,null,null,null,null,null,null,null,null,null,"4' or 5'",{"$f":"IF(OR($C$41=2,$C$41=3),IF(P316>$F$63,$E$9,$F$9),IF(P316>$F$63,$C$9,$D$9))","v":50.5},{"$f":"Q316","v":0},0,null,null,null,{"$f":"$Q320*U317","v":0},{"$f":"$R320*U317","v":0},null,null,null,{"$f":"$Q320*Z317","v":0},{"$f":"$R320*Z317","v":0},null,null,null,{"$f":"$Q320*AE317","v":0},{"$f":"$R320*AE317","v":0},null,null,null,{"$f":"$Q320*AJ317","v":0},{"$f":"$R320*AJ317","v":0}]
[]
[null,null,null,null,null,null,null,null,null,null,null,null,null,null,"Row",{"$f":"P316+1","v":43},{"$f":"(Q317+($D$39/12))*P323","v":0},{"$f":"(R317)*P323","v":0},null,"Row",{"$f":"U316+1","v":43},{"$f":"$Q322*U323","v":0},{"$f":"$R322*U323","v":0},null,"Row",{"$f":"Z316+1","v":43},{"$f":"$Q322*Z323","v":0},{"$f":"$R322*Z323","v":0},null,"Row",{"$f":"AE316+1","v":43},{"$f":"$Q322*AE323","v":0},{"$f":"$R322*AE323","v":0},null,"Row",{"$f":"AJ316+1","v":43},{"$f":"$Q322*AJ323","v":0},{"$f":"$R322*AJ323","v":0}]
[null,null,null,null,null,null,null,null,null,null,null,null,null,null,"On/Off",{"$f":"IF(P322>$G$63,0,1)","v":0},{"$f":"(Q322+(P326/12))*P323","v":0},{"$f":"R322","v":0},null,"4' or 5'",{"$f":"IF($C$41=1,IF($P326<$D$9,1,0),0)","v":1},{"$f":"$Q323*U323","v":0},{"$f":"$R323*U323","v":0},null,"4' or 5'",{"$f":"IF($C$41=1,IF($P326<$D$9,0,1),0)","v":0},{"$f":"$Q323*Z323","v":0},{"$f":"$R323*Z323","v":0},null,"4' or 5'",{"$f":"IF($C$41=2,IF($P326<$D$9,1,0),0)","v":0},{"$f":"$Q323*AE323","v":0},{"$f":"$R323*AE323","v":0},null,"4' or 5'",{"$f":"IF($C$41=2,IF($P326<$D$9,0,1),0)","v":0},{"$f":"$Q323*AJ323","v":0},{"$f":"$R323*AJ323","v":0}]
[null,null,null,null,null,null,null,null,null,null,null,null,null,null,"Inside Reference",null,{"$f":"Q323","v":0},{"$f":"(R323-$C$55)*P323","v":0},null,null,null,{"$f":"$Q324*U323","v":0},{"$f":"$R324*U323","v":0},null,null,null,{"$f":"$Q324*Z323","v":0},{"$f":"$R324*Z323","v":0},null,null,null,{"$f":"$Q324*AE323","v":0},{"$f":"$R324*AE323","v":0},null,null,null,{"$f":"$Q324*AJ323","v":0},{"$f":"$R324*AJ323","v":0}]
[null,null,null,null,null,null,null,null,null,null,null,null,null,null,"Outside Reference",null,{"$f":"Q322","v":0},{"$f":"R324","v":0},null,null,null,{"$f":"$Q325*U323","v":0},{"$f":"$R325*U323","v":0},null,null,null,{"$f":"$Q325*Z323","v":0},{"$f":"$R325*Z323","v":0},null,null,null,{"$f":"$Q325*AE323","v":0},{"$f":"$R325*AE323","v":0},null,null,null,{"$f":"$Q325*AJ323","v":0},{"$f":"$R325*AJ323","v":0}]
[null,null,null,null,null,null,null,null,null,null,null,null,null,null,"4' or 5'",{"$f":"IF(OR($C$41=2,$C$41=3),IF(P322>$F$63,$E$9,$F$9),IF(P322>$F$63,$C$9,$D$9))","v":50.5},{"$f":"Q322","v":0},0,null,null,null,{"$f":"$Q326*U323","v":0},{"$f":"$R326*U323","v":0},null,null,null,{"$f":"$Q326*Z323","v":0},{"$f":"$R326*Z323","v":0},null,null,null,{"$f":"$Q326*AE323","v":0},{"$f":"$R326*AE323","v":0},null,null,null,{"$f":"$Q326*AJ323","v":0},{"$f":"$R326*AJ323","v":0}]
[]
[null,null,null,null,null,null,null,null,null,null,null,null,null,null,"Row",{"$f":"P322+1","v":44},{"$f":"(Q323+($D$39/12))*P329","v":0},{"$f":"(R323)*P329","v":0},null,"Row",{"$f":"U322+1","v":44},{"$f":"$Q328*U329","v":0},{"$f":"$R328*U329","v":0},null,"Row",{"$f":"Z322+1","v":44},{"$f":"$Q328*Z329","v":0},{"$f":"$R328*Z329","v":0},null,"Row",{"$f":"AE322+1","v":44},{"$f":"$Q328*AE329","v":0},{"$f":"$R328*AE329","v":0},null,"Row",{"$f":"AJ322+1","v":44},{"$f":"$Q328*AJ329","v":0},{"$f":"$R328*AJ329","v":0}]
[null,null,null,null,null,null,null,null,null,null,null,null,null,null,"On/Off",{"$f":"IF(P328>$G$63,0,1)","v":0},{"$f":"(Q328+(P332/12))*P329","v":0},{"$f":"R328","v":0},null,"4' or 5'",{"$f":"IF($C$41=1,IF($P332<$D$9,1,0),0)","v":1},{"$f":"$Q329*U329","v":0},{"$f":"$R329*U329","v":0},null,"4' or 5'",{"$f":"IF($C$41=1,IF($P332<$D$9,0,1),0)","v":0},{"$f":"$Q329*Z329","v":0},{"$f":"$R329*Z329","v":0},null,"4' or 5'",{"$f":"IF($C$41=2,IF($P332<$D$9,1,0),0)","v":0},{"$f":"$Q329*AE329","v":0},{"$f":"$R329*AE329","v":0},null,"4' or 5'",{"$f":"IF($C$41=2,IF($P332<$D$9,0,1),0)","v":0},{"$f":"$Q329*AJ329","v":0},{"$f":"$R329*AJ329","v":0}]
[null,null,null,null,null,null,null,null,null,null,null,null,null,null,"Inside Reference",null,{"$f":"Q329","v":0},{"$f":"(R329-$C$55)*P329","v":0},null,null,null,{"$f":"$Q330*U329","v":0},{"$f":"$R330*U329","v":0},null,null,null,{"$f":"$Q330*Z329","v":0},{"$f":"$R330*Z329","v":0},null,null,null,{"$f":"$Q330*AE329","v":0},{"$f":"$R330*AE329","v":0},null,null,null,{"$f":"$Q330*AJ329","v":0},{"$f":"$R330*AJ329","v":0}]
[null,null,null,null,null,null,null,null,null,null,null,null,null,null,"Outside Reference",null,{"$f":"Q328","v":0},{"$f":"R330","v":0},null,null,null,{"$f":"$Q331*U329","v":0},{"$f":"$R331*U329","v":0},null,null,null,{"$f":"$Q331*Z329","v":0},{"$f":"$R331*Z329","v":0},null,null,null,{"$f":"$Q331*AE329","v":0},{"$f":"$R331*AE329","v":0},null,null,null,{"$f":"$Q331*AJ329","v":0},{"$f":"$R331*AJ329","v":0}]
[null,null,null,null,null,null,null,null,null,null,null,null,null,null,"4' or 5'",{"$f":"IF(OR($C$41=2,$C$41=3),IF(P328>$F$63,$E$9,$F$9),IF(P328>$F$63,$C$9,$D$9))","v":50.5},{"$f":"Q328","v":0},0,null,null,null,{"$f":"$Q332*U329","v":0},{"$f":"$R332*U329","v":0},null,null,null,{"$f":"$Q332*Z329","v":0},{"$f":"$R332*Z329","v":0},null,null,null,{"$f":"$Q332*AE329","v":0},{"$f":"$R332*AE329","v":0},null,null,null,{"$f":"$Q332*AJ329","v":0},{"$f":"$R332*AJ329","v":0}]
[]
[null,null,null,null,null,null,null,null,null,null,null,null,null,null,"Row",{"$f":"P328+1","v":45},{"$f":"(Q329+($D$39/12))*P335","v":0},{"$f":"(R329)*P335","v":0},null,"Row",{"$f":"U328+1","v":45},{"$f":"$Q334*U335","v":0},{"$f":"$R334*U335","v":0},null,"Row",{"$f":"Z328+1","v":45},{"$f":"$Q334*Z335","v":0},{"$f":"$R334*Z335","v":0},null,"Row",{"$f":"AE328+1","v":45},{"$f":"$Q334*AE335","v":0},{"$f":"$R334*AE335","v":0},null,"Row",{"$f":"AJ328+1","v":45},{"$f":"$Q334*AJ335","v":0},{"$f":"$R334*AJ335","v":0}]
[null,null,null,null,null,null,null,null,null,null,null,null,null,null,"On/Off",{"$f":"IF(P334>$G$63,0,1)","v":0},{"$f":"(Q334+(P338/12))*P335","v":0},{"$f":"R334","v":0},null,"4' or 5'",{"$f":"IF($C$41=1,IF($P338<$D$9,1,0),0)","v":1},{"$f":"$Q335*U335","v":0},{"$f":"$R335*U335","v":0},null,"4' or 5'",{"$f":"IF($C$41=1,IF($P338<$D$9,0,1),0)","v":0},{"$f":"$Q335*Z335","v":0},{"$f":"$R335*Z335","v":0},null,"4' or 5'",{"$f":"IF($C$41=2,IF($P338<$D$9,1,0),0)","v":0},{"$f":"$Q335*AE335","v":0},{"$f":"$R335*AE335","v":0},null,"4' or 5'",{"$f":"IF($C$41=2,IF($P338<$D$9,0,1),0)","v":0},{"$f":"$Q335*AJ335","v":0},{"$f":"$R335*AJ335","v":0}]
[null,null,null,null,null,null,null,null,null,null,null,null,null,null,"Inside Reference",null,{"$f":"Q335","v":0},{"$f":"(R335-$C$55)*P335","v":0},null,null,null,{"$f":"$Q336*U335","v":0},{"$f":"$R336*U335","v":0},null,null,null,{"$f":"$Q336*Z335","v":0},{"$f":"$R336*Z335","v":0},null,null,null,{"$f":"$Q336*AE335","v":0},{"$f":"$R336*AE335","v":0},null,null,null,{"$f":"$Q336*AJ335","v":0},{"$f":"$R336*AJ335","v":0}]
[null,null,null,null,null,null,null,null,null,null,null,null,null,null,"Outside Reference",null,{"$f":"Q334","v":0},{"$f":"R336","v":0},null,null,null,{"$f":"$Q337*U335","v":0},{"$f":"$R337*U335","v":0},null,null,null,{"$f":"$Q337*Z335","v":0},{"$f":"$R337*Z335","v":0},null,null,null,{"$f":"$Q337*AE335","v":0},{"$f":"$R337*AE335","v":0},null,null,null,{"$f":"$Q337*AJ335","v":0},{"$f":"$R337*AJ335","v":0}]
[null,null,null,null,null,null,null,null,null,null,null,null,null,null,"4' or 5'",{"$f":"IF(OR($C$41=2,$C$41=3),IF(P334>$F$63,$E$9,$F$9),IF(P334>$F$63,$C$9,$D$9))","v":50.5},{"$f":"Q334","v":0},0,null,null,null,{"$f":"$Q338*U335","v":0},{"$f":"$R338*U335","v":0},null,null,null,{"$f":"$Q338*Z335","v":0},{"$f":"$R338*Z335","v":0},null,null,null,{"$f":"$Q338*AE335","v":0},{"$f":"$R338*AE335","v":0},null,null,null,{"$f":"$Q338*AJ335","v":0},{"$f":"$R338*AJ335","v":0}]
[]
[null,null,null,null,null,null,null,null,null,null,null,null,null,null,"Row",{"$f":"P334+1","v":46},{"$f":"(Q335+($D$39/12))*P341","v":0},{"$f":"(R335)*P341","v":0},null,"Row",{"$f":"U334+1","v":46},{"$f":"$Q340*U341","v":0},{"$f":"$R340*U341","v":0},null,"Row",{"$f":"Z334+1","v":46},{"$f":"$Q340*Z341","v":0},{"$f":"$R340*Z341","v":0},null,"Row",{"$f":"AE334+1","v":46},{"$f":"$Q340*AE341","v":0},{"$f":"$R340*AE341","v":0},null,"Row",{"$f":"AJ334+1","v":46},{"$f":"$Q340*AJ341","v":0},{"$f":"$R340*AJ341","v":0}]
[null,null,null,null,null,null,null,null,null,null,null,null,null,null,"On/Off",{"$f":"IF(P340>$G$63,0,1)","v":0},{"$f":"(Q340+(P344/12))*P341","v":0},{"$f":"R340","v":0},null,"4' or 5'",{"$f":"IF($C$41=1,IF($P344<$D$9,1,0),0)","v":1},{"$f":"$Q341*U341","v":0},{"$f":"$R341*U341","v":0},null,"4' or 5'",{"$f":"IF($C$41=1,IF($P344<$D$9,0,1),0)","v":0},{"$f":"$Q341*Z341","v":0},{"$f":"$R341*Z341","v":0},null,"4' or 5'",{"$f":"IF($C$41=2,IF($P344<$D$9,1,0),0)","v":0},{"$f":"$Q341*AE341","v":0},{"$f":"$R341*AE341","v":0},null,"4' or 5'",{"$f":"IF($C$41=2,IF($P344<$D$9,0,1),0)","v":0},{"$f":"$Q341*AJ341","v":0},{"$f":"$R341*AJ341","v":0}]
[null,null,null,null,null,null,null,null,null,null,null,null,null,null,"Inside Reference",null,{"$f":"Q341","v":0},{"$f":"(R341-$C$55)*P341","v":0},null,null,null,{"$f":"$Q342*U341","v":0},{"$f":"$R342*U341","v":0},null,null,null,{"$f":"$Q342*Z341","v":0},{"$f":"$R342*Z341","v":0},null,null,null,{"$f":"$Q342*AE341","v":0},{"$f":"$R342*AE341","v":0},null,null,null,{"$f":"$Q342*AJ341","v":0},{"$f":"$R342*AJ341","v":0}]
[null,null,null,null,null,null,null,null,null,null,null,null,null,null,"Outside Reference",null,{"$f":"Q340","v":0},{"$f":"R342","v":0},null,null,null,{"$f":"$Q343*U341","v":0},{"$f":"$R343*U341","v":0},null,null,null,{"$f":"$Q343*Z341","v":0},{"$f":"$R343*Z341","v":0},null,null,null,{"$f":"$Q343*AE341","v":0},{"$f":"$R343*AE341","v":0},null,null,null,{"$f":"$Q343*AJ341","v":0},{"$f":"$R343*AJ341","v":0}]
[null,null,null,null,null,null,null,null,null,null,null,null,null,null,"4' or 5'",{"$f":"IF(OR($C$41=2,$C$41=3),IF(P340>$F$63,$E$9,$F$9),IF(P340>$F$63,$C$9,$D$9))","v":50.5},{"$f":"Q340","v":0},0,null,null,null,{"$f":"$Q344*U341","v":0},{"$f":"$R344*U341","v":0},null,null,null,{"$f":"$Q344*Z341","v":0},{"$f":"$R344*Z341","v":0},null,null,null,{"$f":"$Q344*AE341","v":0},{"$f":"$R344*AE341","v":0},null,null,null,{"$f":"$Q344*AJ341","v":0},{"$f":"$R344*AJ341","v":0}]
[]
[null,null,null,null,null,null,null,null,null,null,null,null,null,null,"Row",{"$f":"P340+1","v":47},{"$f":"(Q341+($D$39/12))*P347","v":0},{"$f":"(R341)*P347","v":0},null,"Row",{"$f":"U340+1","v":47},{"$f":"$Q346*U347","v":0},{"$f":"$R346*U347","v":0},null,"Row",{"$f":"Z340+1","v":47},{"$f":"$Q346*Z347","v":0},{"$f":"$R346*Z347","v":0},null,"Row",{"$f":"AE340+1","v":47},{"$f":"$Q346*AE347","v":0},{"$f":"$R346*AE347","v":0},null,"Row",{"$f":"AJ340+1","v":47},{"$f":"$Q346*AJ347","v":0},{"$f":"$R346*AJ347","v":0}]
[null,null,null,null,null,null,null,null,null,null,null,null,null,null,"On/Off",{"$f":"IF(P346>$G$63,0,1)","v":0},{"$f":"(Q346+(P350/12))*P347","v":0},{"$f":"R346","v":0},null,"4' or 5'",{"$f":"IF($C$41=1,IF($P350<$D$9,1,0),0)","v":1},{"$f":"$Q347*U347","v":0},{"$f":"$R347*U347","v":0},null,"4' or 5'",{"$f":"IF($C$41=1,IF($P350<$D$9,0,1),0)","v":0},{"$f":"$Q347*Z347","v":0},{"$f":"$R347*Z347","v":0},null,"4' or 5'",{"$f":"IF($C$41=2,IF($P350<$D$9,1,0),0)","v":0},{"$f":"$Q347*AE347","v":0},{"$f":"$R347*AE347","v":0},null,"4' or 5'",{"$f":"IF($C$41=2,IF($P350<$D$9,0,1),0)","v":0},{"$f":"$Q347*AJ347","v":0},{"$f":"$R347*AJ347","v":0}]
[null,null,null,null,null,null,null,null,null,null,null,null,null,null,"Inside Reference",null,{"$f":"Q347","v":0},{"$f":"(R347-$C$55)*P347","v":0},null,null,null,{"$f":"$Q348*U347","v":0},{"$f":"$R348*U347","v":0},null,null,null,{"$f":"$Q348*Z347","v":0},{"$f":"$R348*Z347","v":0},null,null,null,{"$f":"$Q348*AE347","v":0},{"$f":"$R348*AE347","v":0},null,null,null,{"$f":"$Q348*AJ347","v":0},{"$f":"$R348*AJ347","v":0}]
[null,null,null,null,null,null,null,null,null,null,null,null,null,null,"Outside Reference",null,{"$f":"Q346","v":0},{"$f":"R348","v":0},null,null,null,{"$f":"$Q349*U347","v":0},{"$f":"$R349*U347","v":0},null,null,null,{"$f":"$Q349*Z347","v":0},{"$f":"$R349*Z347","v":0},null,null,null,{"$f":"$Q349*AE347","v":0},{"$f":"$R349*AE347","v":0},null,null,null,{"$f":"$Q349*AJ347","v":0},{"$f":"$R349*AJ347","v":0}]
[null,null,null,null,null,null,null,null,null,null,null,null,null,null,"4' or 5'",{"$f":"IF(OR($C$41=2,$C$41=3),IF(P346>$F$63,$E$9,$F$9),IF(P346>$F$63,$C$9,$D$9))","v":50.5},{"$f":"Q346","v":0},0,null,null,null,{"$f":"$Q350*U347","v":0},{"$f":"$R350*U347","v":0},null,null,null,{"$f":"$Q350*Z347","v":0},{"$f":"$R350*Z347","v":0},null,null,null,{"$f":"$Q350*AE347","v":0},{"$f":"$R350*AE347","v":0},null,null,null,{"$f":"$Q350*AJ347","v":0},{"$f":"$R350*AJ347","v":0}]
[]
[null,null,null,null,null,null,null,null,null,null,null,null,null,null,"Row",{"$f":"P346+1","v":48},{"$f":"(Q347+($D$39/12))*P353","v":0},{"$f":"(R347)*P353","v":0},null,"Row",{"$f":"U346+1","v":48},{"$f":"$Q352*U353","v":0},{"$f":"$R352*U353","v":0},null,"Row",{"$f":"Z346+1","v":48},{"$f":"$Q352*Z353","v":0},{"$f":"$R352*Z353","v":0},null,"Row",{"$f":"AE346+1","v":48},{"$f":"$Q352*AE353","v":0},{"$f":"$R352*AE353","v":0},null,"Row",{"$f":"AJ346+1","v":48},{"$f":"$Q352*AJ353","v":0},{"$f":"$R352*AJ353","v":0}]
[null,null,null,null,null,null,null,null,null,null,null,null,null,null,"On/Off",{"$f":"IF(P352>$G$63,0,1)","v":0},{"$f":"(Q352+(P356/12))*P353","v":0},{"$f":"R352","v":0},null,"4' or 5'",{"$f":"IF($C$41=1,IF($P356<$D$9,1,0),0)","v":1},{"$f":"$Q353*U353","v":0},{"$f":"$R353*U353","v":0},null,"4' or 5'",{"$f":"IF($C$41=1,IF($P356<$D$9,0,1),0)","v":0},{"$f":"$Q353*Z353","v":0},{"$f":"$R353*Z353","v":0},null,"4' or 5'",{"$f":"IF($C$41=2,IF($P356<$D$9,1,0),0)","v":0},{"$f":"$Q353*AE353","v":0},{"$f":"$R353*AE353","v":0},null,"4' or 5'",{"$f":"IF($C$41=2,IF($P356<$D$9,0,1),0)","v":0},{"$f":"$Q353*AJ353","v":0},{"$f":"$R353*AJ353","v":0}]
[null,null,null,null,null,null,null,null,null,null,null,null,null,null,"Inside Reference",null,{"$f":"Q353","v":0},{"$f":"(R353-$C$55)*P353","v":0},null,null,null,{"$f":"$Q354*U353","v":0},{"$f":"$R354*U353","v":0},null,null,null,{"$f":"$Q354*Z353","v":0},{"$f":"$R354*Z353","v":0},null,null,null,{"$f":"$Q354*AE353","v":0},{"$f":"$R354*AE353","v":0},null,null,null,{"$f":"$Q354*AJ353","v":0},{"$f":"$R354*AJ353","v":0}]
[null,null,null,null,null,null,null,null,null,null,null,null,null,null,"Outside Reference",null,{"$f":"Q352","v":0},{"$f":"R354","v":0},null,null,null,{"$f":"$Q355*U353","v":0},{"$f":"$R355*U353","v":0},null,null,null,{"$f":"$Q355*Z353","v":0},{"$f":"$R355*Z353","v":0},null,null,null,{"$f":"$Q355*AE353","v":0},{"$f":"$R355*AE353","v":0},null,null,null,{"$f":"$Q355*AJ353","v":0},{"$f":"$R355*AJ353","v":0}]
[null,null,null,null,null,null,null,null,null,null,null,null,null,null,"4' or 5'",{"$f":"IF(OR($C$41=2,$C$41=3),IF(P352>$F$63,$E$9,$F$9),IF(P352>$F$63,$C$9,$D$9))","v":50.5},{"$f":"Q352","v":0},0,null,null,null,{"$f":"$Q356*U353","v":0},{"$f":"$R356*U353","v":0},null,null,null,{"$f":"$Q356*Z353","v":0},{"$f":"$R356*Z353","v":0},null,null,null,{"$f":"$Q356*AE353","v":0},{"$f":"$R356*AE353","v":0},null,null,null,{"$f":"$Q356*AJ353","v":0},{"$f":"$R356*AJ353","v":0}]
[]
[null,null,null,null,null,null,null,null,null,null,null,null,null,null,"Row",{"$f":"P352+1","v":49},{"$f":"(Q353+($D$39/12))*P359","v":0},{"$f":"(R353)*P359","v":0},null,"Row",{"$f":"U352+1","v":49},{"$f":"$Q358*U359","v":0},{"$f":"$R358*U359","v":0},null,"Row",{"$f":"Z352+1","v":49},{"$f":"$Q358*Z359","v":0},{"$f":"$R358*Z359","v":0},null,"Row",{"$f":"AE352+1","v":49},{"$f":"$Q358*AE359","v":0},{"$f":"$R358*AE359","v":0},null,"Row",{"$f":"AJ352+1","v":49},{"$f":"$Q358*AJ359","v":0},{"$f":"$R358*AJ359","v":0}]
[null,null,null,null,null,null,null,null,null,null,null,null,null,null,"On/Off",{"$f":"IF(P358>$G$63,0,1)","v":0},{"$f":"(Q358+(P362/12))*P359","v":0},{"$f":"R358","v":0},null,"4' or 5'",{"$f":"IF($C$41=1,IF($P362<$D$9,1,0),0)","v":1},{"$f":"$Q359*U359","v":0},{"$f":"$R359*U359","v":0},null,"4' or 5'",{"$f":"IF($C$41=1,IF($P362<$D$9,0,1),0)","v":0},{"$f":"$Q359*Z359","v":0},{"$f":"$R359*Z359","v":0},null,"4' or 5'",{"$f":"IF($C$41=2,IF($P362<$D$9,1,0),0)","v":0},{"$f":"$Q359*AE359","v":0},{"$f":"$R359*AE359","v":0},null,"4' or 5'",{"$f":"IF($C$41=2,IF($P362<$D$9,0,1),0)","v":0},{"$f":"$Q359*AJ359","v":0},{"$f":"$R359*AJ359","v":0}]
[null,null,null,null,null,null,null,null,null,null,null,null,null,null,"Inside Reference",null,{"$f":"Q359","v":0},{"$f":"(R359-$C$55)*P359","v":0},null,null,null,{"$f":"$Q360*U359","v":0},{"$f":"$R360*U359","v":0},null,null,null,{"$f":"$Q360*Z359","v":0},{"$f":"$R360*Z359","v":0},null,null,null,{"$f":"$Q360*AE359","v":0},{"$f":"$R360*AE359","v":0},null,null,null,{"$f":"$Q360*AJ359","v":0},{"$f":"$R360*AJ359","v":0}]
[null,null,null,null,null,null,null,null,null,null,null,null,null,null,"Outside Reference",null,{"$f":"Q358","v":0},{"$f":"R360","v":0},null,null,null,{"$f":"$Q361*U359","v":0},{"$f":"$R361*U359","v":0},null,null,null,{"$f":"$Q361*Z359","v":0},{"$f":"$R361*Z359","v":0},null,null,null,{"$f":"$Q361*AE359","v":0},{"$f":"$R361*AE359","v":0},null,null,null,{"$f":"$Q361*AJ359","v":0},{"$f":"$R361*AJ359","v":0}]
[null,null,null,null,null,null,null,null,null,null,null,null,null,null,"4' or 5'",{"$f":"IF(OR($C$41=2,$C$41=3),IF(P358>$F$63,$E$9,$F$9),IF(P358>$F$63,$C$9,$D$9))","v":50.5},{"$f":"Q358","v":0},0,null,null,null,{"$f":"$Q362*U359","v":0},{"$f":"$R362*U359","v":0},null,null,null,{"$f":"$Q362*Z359","v":0},{"$f":"$R362*Z359","v":0},null,null,null,{"$f":"$Q362*AE359","v":0},{"$f":"$R362*AE359","v":0},null,null,null,{"$f":"$Q362*AJ359","v":0},{"$f":"$R362*AJ359","v":0}]
[]
[null,null,null,null,null,null,null,null,null,null,null,null,null,null,"Travel Distance",null,{"$f":"MAX(Q70:Q363)","v":37.875},{"$f":"MAX(R70:R363)","v":40}]
[null,null,null,null,null,null,null,null,null,null,null,null,null,null,null,null,{"$f":"L79","v":40},{"$f":"R364","v":40}]
[null,null,null,null,null,null,null,null,null,null,null,null,null,null,"Inside Reference",null,{"$f":"Q365","v":40},{"$f":"SMALL(R70:R363,COUNTIF(R70:R363,0)+1)","v":0.25}]
[null,null,null,null,null,null,null,null,null,null,null,null,null,null,"Outside Reference",null,{"$f":"Q364","v":37.875},{"$f":"R366","v":0.25}]
[null,null,null,null,null,null,null,null,null,null,null,null,null,null,null,null,{"$f":"Q364","v":37.875},{"$f":"R364","v":40}]

{"sheet":"LU Table","index":6,"n_rows":79,"n_cols":14,"rows_kept":79,"cut":false,"hidden":true,"merged":[[0,2,0,13]]}
["Range Name",null,"Index & Lookup Table"]
["Lookup",null,"Index #","Length","Length","# Arches","# Mid Trays","5'L End","4'L End","3'L End","2'L End","+Antitip","Height","Widths"]
["ArchHeight",null,1,"--","--",0,0,0,0,0,0,0,"--","4' Only"]
["Widths",null,2,7.5,"7' 6\"",3,0,0,0,0,1,0,"12\"","5' Only"]
[null,null,3,8.5,"8' 6\"",3,0,0,0,1,0,0,"20\"","4' & 5' Mixed"]
[null,null,4,9.5,"9' 6\"",3,0,0,1,0,0,0,"30\""]
[null,null,5,10.5,"10' 6\"",3,0,1,0,0,0,0]
[null,null,6,12.5,"12' 6\"",4,1,0,0,0,1,0]
[null,null,7,13.5,"13' 6\"",4,1,0,0,1,0,0]
[null,null,8,14.5,"14' 6\"",4,1,0,1,0,0,0]
[null,null,9,15.5,"15' 6\"",4,1,1,0,0,0,0]
[null,null,10,17.5,"17' 6\"",5,2,0,0,0,1,1]
[null,null,11,18.5,"18' 6\"",5,2,0,0,1,0,1]
[null,null,12,19.5,"19' 6\"",5,2,0,1,0,0,1]
[null,null,13,20.5,"20' 6\"",5,2,1,0,0,0,1]
[null,null,14,22.5,"22' 6\"",6,3,0,0,0,1,2]
[null,null,15,23.5,"23' 6\"",6,3,0,0,1,0,2]
[null,null,16,24.5,"24' 6\"",6,3,0,1,0,0,2]
[null,null,17,25.5,"25' 6\"",6,3,1,0,0,0,2]
[null,null,18,27.5,"27' 6\"",7,4,0,0,0,1,2]
[null,null,19,28.5,"28' 6\"",7,4,0,0,1,0,2]
[null,null,20,29.5,"29' 6\"",7,4,0,1,0,0,2]
[null,null,21,30.5,"30' 6\"",7,4,1,0,0,0,2]
[null,null,22,32.5,"32' 6\"",8,5,0,0,0,1,3]
[null,null,23,33.5,"33' 6\"",8,5,0,0,1,0,3]
[null,null,24,34.5,"34' 6\"",8,5,0,1,0,0,3]
[null,null,25,35.5,"35' 6\"",8,5,1,0,0,0,3]
[null,null,26,37.5,"37' 6\"",9,6,0,0,0,1,3]
[null,null,27,38.5,"38' 6\"",9,6,0,0,1,0,3]
[null,null,28,39.5,"39' 6\"",9,6,0,1,0,0,3]
[null,null,29,40.5,"40' 6\"",9,6,1,0,0,0,3]
[null,null,30,42.5,"42' 6\"",10,7,0,0,0,1,4]
[null,null,31,43.5,"43' 6\"",10,7,0,0,1,0,4]
[null,null,32,44.5,"44' 6\"",10,7,0,1,0,0,4]
[null,null,33,45.5,"45' 6\"",10,7,1,0,0,0,4]
[null,null,34,47.5,"47' 6\"",11,8,0,0,0,1,4]
[null,null,35,48.5,"48' 6\"",11,8,0,0,1,0,4]
[null,null,36,49.5,"49' 6\"",11,8,0,1,0,0,4]
[null,null,37,50.5,"50' 6\"",11,8,1,0,0,0,4]
[null,null,38,52.5,"52' 6\"",12,9,0,0,0,1,5]
[null,null,39,53.5,"53' 6\"",12,9,0,0,1,0,5]
[null,null,40,54.5,"54' 6\"",12,9,0,1,0,0,5]
[null,null,41,55.5,"55' 6\"",12,9,1,0,0,0,5]
[null,null,42,57.5,"57' 6\"",13,10,0,0,0,1,5]
[null,null,43,58.5,"58' 6\"",13,10,0,0,1,0,5]
[null,null,44,59.5,"59' 6\"",13,10,0,1,0,0,5]
[null,null,45,60.5,"60' 6\"",13,10,1,0,0,0,5]
[null,null,46,62.5,"62' 6\"",14,11,0,0,0,1,6]
[null,null,47,63.5,"63' 6\"",14,11,0,0,1,0,6]
[null,null,48,64.5,"64' 6\"",14,11,0,1,0,0,6]
[null,null,49,65.5,"65' 6\"",14,11,1,0,0,0,6]
[null,null,50,67.5,"67' 6\"",15,12,0,0,0,1,6]
[null,null,51,68.5,"68' 6\"",15,12,0,0,1,0,6]
[null,null,52,69.5,"69' 6\"",15,12,0,1,0,0,6]
[null,null,53,70.5,"70' 6\"",15,12,1,0,0,0,6]
[null,null,54,72.5,"72' 6\"",16,13,0,0,0,1,7]
[null,null,55,73.5,"73' 6\"",16,13,0,0,1,0,7]
[null,null,56,74.5,"74' 6\"",16,13,0,1,0,0,7]
[null,null,57,75.5,"75' 6\"",16,13,1,0,0,0,7]
[null,null,58,77.5,"77' 6\"",17,14,0,0,0,1,7]
[null,null,59,78.5,"78' 6\"",17,14,0,0,1,0,7]
[null,null,60,79.5,"79' 6\"",17,14,0,1,0,0,7]
[null,null,61,80.5,"80' 6\"",17,14,1,0,0,0,7]
[null,null,62,82.5,"82' 6\"",18,15,0,0,0,1,8]
[null,null,63,83.5,"83' 6\"",18,15,0,0,1,0,8]
[null,null,64,84.5,"84' 6\"",18,15,0,1,0,0,8]
[null,null,65,85.5,"85' 6\"",18,15,1,0,0,0,8]
[null,null,66,87.5,"87' 6\"",19,16,0,0,0,1,8]
[null,null,67,88.5,"88' 6\"",19,16,0,0,1,0,8]
[null,null,68,89.5,"89' 6\"",19,16,0,1,0,0,8]
[null,null,69,90.5,"90' 6\"",19,16,1,0,0,0,8]
[null,null,70,92.5,"92' 6\"",20,17,0,0,0,1,9]
[null,null,71,93.5,"93' 6\"",20,17,0,0,1,0,9]
[null,null,72,94.5,"94' 6\"",20,17,0,1,0,0,9]
[null,null,73,95.5,"95' 6\"",20,17,1,0,0,0,9]
[null,null,74,97.5,"97' 6\"",21,18,0,0,0,1,9]
[null,null,75,98.5,"98' 6\"",21,18,0,0,1,0,9]
[null,null,76,99.5,"99' 6\"",21,18,0,1,0,0,9]
[null,null,77,100.5,"100' 6\"",21,18,1,0,0,0,9]

{"sheet":"LU Table-Gutter","index":7,"n_rows":80,"n_cols":19,"rows_kept":80,"cut":false,"hidden":true,"merged":[[0,2,0,18]]}
["Range Name",null,"Gutter Tray - Index & Lookup Table"]
["Lookup-Gutter"]
["ArchHeight",null,"Index #","Length","Length","# Arches","# Mid Trays","5'L End","4'L End","3'L End","2'L End","+Antitip","4' Bracket","5' Inside Bracket","5' Outside Bracket","Tri-Lock","Irrigation Clips","Height","Widths"]
["Widths",null,1,"--","--",0,0,0,0,0,0,0,null,null,null,0,null,"--","4' Only"]
[null,null,2,7.5,"7' 6\"",3,0,0,0,0,1,0,null,null,null,6,null,"12\"","5' Only"]
[null,null,3,8.5,"8' 6\"",3,0,0,0,1,0,0,null,null,null,6,null,"20\"","4' & 5' Mixed"]
[null,null,4,9.5,"9' 6\"",3,0,0,1,0,0,0,null,null,null,6,null,"30\""]
[null,null,5,10.5,"10' 6\"",3,0,1,0,0,0,0,null,null,null,6]
[null,null,6,12.5,"12' 6\"",4,1,0,0,0,1,0,null,null,null,8]
[null,null,7,13.5,"13' 6\"",4,1,0,0,1,0,0,null,null,null,8]
[null,null,8,14.5,"14' 6\"",4,1,0,1,0,0,0,null,null,null,8]
[null,null,9,15.5,"15' 6\"",4,1,1,0,0,0,0,null,null,null,8]
[null,null,10,17.5,"17' 6\"",5,2,0,0,0,1,1,null,null,null,10]
[null,null,11,18.5,"18' 6\"",5,2,0,0,1,0,1,null,null,null,10]
[null,null,12,19.5,"19' 6\"",5,2,0,1,0,0,1,null,null,null,10]
[null,null,13,20.5,"20' 6\"",5,2,1,0,0,0,1,null,null,null,10]
[null,null,14,22.5,"22' 6\"",6,3,0,0,0,1,2,null,null,null,12]
[null,null,15,23.5,"23' 6\"",6,3,0,0,1,0,2,null,null,null,12]
[null,null,16,24.5,"24' 6\"",6,3,0,1,0,0,2,null,null,null,12]
[null,null,17,25.5,"25' 6\"",6,3,1,0,0,0,2,null,null,null,12]
[null,null,18,27.5,"27' 6\"",7,4,0,0,0,1,2,null,null,null,14]
[null,null,19,28.5,"28' 6\"",7,4,0,0,1,0,2,null,null,null,14]
[null,null,20,29.5,"29' 6\"",7,4,0,1,0,0,2,null,null,null,14]
[null,null,21,30.5,"30' 6\"",7,4,1,0,0,0,2,null,null,null,14]
[null,null,22,32.5,"32' 6\"",8,5,0,0,0,1,3,null,null,null,16]
[null,null,23,33.5,"33' 6\"",8,5,0,0,1,0,3,null,null,null,16]
[null,null,24,34.5,"34' 6\"",8,5,0,1,0,0,3,null,null,null,16]
[null,null,25,35.5,"35' 6\"",8,5,1,0,0,0,3,null,null,null,16]
[null,null,26,37.5,"37' 6\"",9,6,0,0,0,1,3,null,null,null,18]
[null,null,27,38.5,"38' 6\"",9,6,0,0,1,0,3,null,null,null,18]
[null,null,28,39.5,"39' 6\"",9,6,0,1,0,0,3,null,null,null,18]
[null,null,29,40.5,"40' 6\"",9,6,1,0,0,0,3,null,null,null,18]
[null,null,30,42.5,"42' 6\"",10,7,0,0,0,1,4,null,null,null,20]
[null,null,31,43.5,"43' 6\"",10,7,0,0,1,0,4,null,null,null,20]
[null,null,32,44.5,"44' 6\"",10,7,0,1,0,0,4,null,null,null,20]
[null,null,33,45.5,"45' 6\"",10,7,1,0,0,0,4,null,null,null,20]
[null,null,34,47.5,"47' 6\"",11,8,0,0,0,1,4,null,null,null,22]
[null,null,35,48.5,"48' 6\"",11,8,0,0,1,0,4,null,null,null,22]
[null,null,36,49.5,"49' 6\"",11,8,0,1,0,0,4,null,null,null,22]
[null,null,37,50.5,"50' 6\"",11,8,1,0,0,0,4,null,null,null,22]
[null,null,38,52.5,"52' 6\"",12,9,0,0,0,1,5,null,null,null,24]
[null,null,39,53.5,"53' 6\"",12,9,0,0,1,0,5,null,null,null,24]
[null,null,40,54.5,"54' 6\"",12,9,0,1,0,0,5,null,null,null,24]
[null,null,41,55.5,"55' 6\"",12,9,1,0,0,0,5,null,null,null,24]
[null,null,42,57.5,"57' 6\"",13,10,0,0,0,1,5,null,null,null,26]
[null,null,43,58.5,"58' 6\"",13,10,0,0,1,0,5,null,null,null,26]
[null,null,44,59.5,"59' 6\"",13,10,0,1,0,0,5,null,null,null,26]
[null,null,45,60.5,"60' 6\"",13,10,1,0,0,0,5,null,null,null,26]
[null,null,46,62.5,"62' 6\"",14,11,0,0,0,1,6,null,null,null,28]
[null,null,47,63.5,"63' 6\"",14,11,0,0,1,0,6,null,null,null,28]
[null,null,48,64.5,"64' 6\"",14,11,0,1,0,0,6,null,null,null,28]
[null,null,49,65.5,"65' 6\"",14,11,1,0,0,0,6,null,null,null,28]
[null,null,50,67.5,"67' 6\"",15,12,0,0,0,1,6,null,null,null,30]
[null,null,51,68.5,"68' 6\"",15,12,0,0,1,0,6,null,null,null,30]
[null,null,52,69.5,"69' 6\"",15,12,0,1,0,0,6,null,null,null,30]
[null,null,53,70.5,"70' 6\"",15,12,1,0,0,0,6,null,null,null,30]
[null,null,54,72.5,"72' 6\"",16,13,0,0,0,1,7,null,null,null,32]
[null,null,55,73.5,"73' 6\"",16,13,0,0,1,0,7,null,null,null,32]
[null,null,56,74.5,"74' 6\"",16,13,0,1,0,0,7,null,null,null,32]
[null,null,57,75.5,"75' 6\"",16,13,1,0,0,0,7,null,null,null,32]
[null,null,58,77.5,"77' 6\"",17,14,0,0,0,1,7,null,null,null,34]
[null,null,59,78.5,"78' 6\"",17,14,0,0,1,0,7,null,null,null,34]
[null,null,60,79.5,"79' 6\"",17,14,0,1,0,0,7,null,null,null,34]
[null,null,61,80.5,"80' 6\"",17,14,1,0,0,0,7,null,null,null,34]
[null,null,62,82.5,"82' 6\"",18,15,0,0,0,1,8,null,null,null,36]
[null,null,63,83.5,"83' 6\"",18,15,0,0,1,0,8,null,null,null,36]
[null,null,64,84.5,"84' 6\"",18,15,0,1,0,0,8,null,null,null,36]
[null,null,65,85.5,"85' 6\"",18,15,1,0,0,0,8,null,null,null,36]
[null,null,66,87.5,"87' 6\"",19,16,0,0,0,1,8,null,null,null,38]
[null,null,67,88.5,"88' 6\"",19,16,0,0,1,0,8,null,null,null,38]
[null,null,68,89.5,"89' 6\"",19,16,0,1,0,0,8,null,null,null,38]
[null,null,69,90.5,"90' 6\"",19,16,1,0,0,0,8,null,null,null,38]
[null,null,70,92.5,"92' 6\"",20,17,0,0,0,1,9,null,null,null,40]
[null,null,71,93.5,"93' 6\"",20,17,0,0,1,0,9,null,null,null,40]
[null,null,72,94.5,"94' 6\"",20,17,0,1,0,0,9,null,null,null,40]
[null,null,73,95.5,"95' 6\"",20,17,1,0,0,0,9,null,null,null,40]
[null,null,74,97.5,"97' 6\"",21,18,0,0,0,1,9,null,null,null,42]
[null,null,75,98.5,"98' 6\"",21,18,0,0,1,0,9,null,null,null,42]
[null,null,76,99.5,"99' 6\"",21,18,0,1,0,0,9,null,null,null,42]
[null,null,77,100.5,"100' 6\"",21,18,1,0,0,0,9,null,null,null,42]

{"sheet":"Order BOM's","index":8,"n_rows":136,"n_cols":12,"rows_kept":136,"cut":false,"hidden":true,"merged":[[121,5,122,5],[0,1,0,5],[0,7,0,10],[45,1,45,4],[84,5,88,5]]}
[null,"Top Level Order BOM",null,null,null,null,null,"Screw Kits"]
["Transfer Filter","SKU","Description","Order Qty","Resale Price","Notes",null,"SKU","Description","Order Qty","Notes"]
[{"$f":"IF(D3=0,0,1)","v":0},"VB706165","BOT SLIDE BENCH 4' DRAIN TRAY KIT T-LOCK",{"$f":"IF(Calcs!$C$41=3,0,Calcs!$Y$15)","v":0},284.16000000000003]
[{"$f":"IF(D4=0,0,MAX(A3)+1)","v":0},"VB706166","BOT SLIDE BENCH 4' MIDL TRAY KIT T-LOCK",{"$f":"IF(Calcs!$C$41=3,0,Calcs!$Z$15)","v":0},284.16000000000003,null,null,"LC3165","Arch Screw Kit",1,"1 pkg for each 12\", 20\" & 30\" arch kit","LC3642 will replace"]
[{"$f":"IF(D5=0,0,MAX($A$3:A4)+1)","v":0},"VB706167","BOT SLIDE BENCH 4' ENDKIT 5'-LONG T-LOCK",{"$f":"IF(Calcs!$C$41=3,0,Calcs!$AA$15)","v":0},284.16000000000003,null,null,"MS3271","SCREW - HEX HD, FLNG, 1/4\"-20 UNC X 3/8\"",4]
[{"$f":"IF(D6=0,0,MAX($A$3:A5)+1)","v":0},"VB706168","BOT SLIDE BENCH 4'-ENDKIT 4'-LONG T-LOCK",{"$f":"IF(Calcs!$C$41=3,0,Calcs!$AB$15)","v":0},244.73,null,null,"MS3255","NUT-HEX, 5/8\"-11 UNC-2B",4,null,"Eliminate"]
[{"$f":"IF(D7=0,0,MAX($A$3:A6)+1)","v":0},"VB706169","BOT SLIDE BENCH 4'-ENDKIT 3'-LONG T-LOCK",{"$f":"IF(Calcs!$C$41=3,0,Calcs!$AC$15)","v":0},222.48,null,null,"MS3256","Wshr, 11/16\" ID",4,null,"Eliminate"]
[{"$f":"IF(D8=0,0,MAX($A$3:A7)+1)","v":0},"VB706170","BOT SLIDE BENCH 4'-ENDKIT 2'-LONG T-LOCK",{"$f":"IF(Calcs!$C$41=3,0,Calcs!$AD$15)","v":0},210.24]
[{"$f":"IF(D9=0,0,MAX($A$3:A8)+1)","v":0},"VB706162","BOT SLIDE BENCH 5' DRAIN TRAY KIT T-LOCK",{"$f":"IF(Calcs!$C$41=3,0,Calcs!$Y$27)","v":0},383.83]
[{"$f":"IF(D10=0,0,MAX($A$3:A9)+1)","v":0},"VB706163","BOT SLIDE BENCH 5' MIDL TRAY KIT T-LOCK",{"$f":"IF(Calcs!$C$41=3,0,Calcs!$Z$27)","v":0},383.83,null,null,"LC3166","Tube Screw Kit",1,"1 pkg for each short tube & long tube kit"]
[{"$f":"IF(D11=0,0,MAX($A$3:A10)+1)","v":0},"VB706164","BOT SLIDE BENCH 5' ENDKIT 5'-LONG T-LOCK",{"$f":"IF(Calcs!$C$41=3,0,Calcs!$AA$27)","v":0},383.83,null,null,"MS3271","SCREW, HEX HD, FLANGE, 1/4\"-20 UN x 0.375\"",9]
[{"$f":"IF(D12=0,0,MAX($A$3:A11)+1)","v":0},"VB706171","BOT SLIDE BENCH 5'-ENDKIT 4'-LONG T-LOCK",{"$f":"IF(Calcs!$C$41=3,0,Calcs!$AB$27)","v":0},305.91000000000003,null,null,"MS3291","SCREW, HEX HD, 10-32 X .5IN, THREAD-CUTTING",52]
[{"$f":"IF(D13=0,0,MAX($A$3:A12)+1)","v":0},"VB706172","BOT SLIDE BENCH 5'-ENDKIT 3'-LONG T-LOCK",{"$f":"IF(Calcs!$C$41=3,0,Calcs!$AC$27)","v":0},278.10000000000002]
[{"$f":"IF(D14=0,0,MAX($A$3:A13)+1)","v":0},"VB706173","BOT SLIDE BENCH 5'-ENDKIT 2'-LONG T-LOCK",{"$f":"IF(Calcs!$C$41=3,0,Calcs!$AD$27)","v":0},262.8,null,null,"LC3167","Extrusion Screw Kit",1,"1 pkg for each 4' & 5' extrusion kit"]
[{"$f":"IF(D15=0,0,MAX($A$3:A14)+1)","v":0},"VB706177","BOT SLIDE BENCH 4' DRAIN TRAY KIT GUTTER",{"$f":"IF(Calcs!$C$41=3,Calcs!$Y$15,0)","v":0},1,null,null,"MS3298","SCREW, THUMB, 10-32X.5IN",2]
[{"$f":"IF(D16=0,0,MAX($A$3:A15)+1)","v":0},"VB706178","BOT SLIDE BENCH 4' MIDL TRAY KIT GUTTER",{"$f":"IF(Calcs!$C$41=3,Calcs!$Z$15,0)","v":0},1,null,null,"MS3299","SCREW, HEX HD, 10-32 X 1IN, THREAD-CUTTING",13]
[{"$f":"IF(D17=0,0,MAX($A$3:A16)+1)","v":0},"VB706179","BOT SLIDE BENCH 4'-ENDKIT 5'-LONG GUTTER",{"$f":"IF(Calcs!$C$41=3,Calcs!$AA$15,0)","v":0},1]
[{"$f":"IF(D18=0,0,MAX($A$3:A17)+1)","v":0},"VB706180","BOT SLIDE BENCH 4'-ENDKIT 4'-LONG GUTTER",{"$f":"IF(Calcs!$C$41=3,Calcs!$AB$15,0)","v":0},1,null,null,"LC3168","Anti-Tip Screw Kit",1,"1 pkg for each anti-tip kit"]
[{"$f":"IF(D19=0,0,MAX($A$3:A18)+1)","v":0},"VB706181","BOT SLIDE BENCH 4'-ENDKIT 3'-LONG GUTTER",{"$f":"IF(Calcs!$C$41=3,Calcs!$AC$15,0)","v":0},1,null,null,"MS3299","SCREW, HEX HD, 10-32 X 1IN, THREAD-CUTTING",4]
[{"$f":"IF(D20=0,0,MAX($A$3:A19)+1)","v":0},"VB706182","BOT SLIDE BENCH 4'-ENDKIT 2'-LONG GUTTER",{"$f":"IF(Calcs!$C$41=3,Calcs!$AD$15,0)","v":0},1,null,null,"MS3291","SCREW, HEX HD, 10-32 X .5IN, THREAD-CUTTING",2]
[{"$f":"IF(D21=0,0,MAX($A$3:A20)+1)","v":0},"VB706174","BOT SLIDE BENCH 5' DRAIN TRAY KIT GUTTER",{"$f":"IF(Calcs!$C$41=3,Calcs!$Y$27,0)","v":0},1,null,null,"MS3260","SCREW, HEX HD, 10-16X0.5IN, SELF-DRILLING",2]
[{"$f":"IF(D22=0,0,MAX($A$3:A21)+1)","v":0},"VB706175","BOT SLIDE BENCH 5' MIDL TRAY KIT GUTTER",{"$f":"IF(Calcs!$C$41=3,Calcs!$Z$27,0)","v":0},1,null,null,"MC2083","PLUG, TUBE, 1X1",4]
[{"$f":"IF(D23=0,0,MAX($A$3:A22)+1)","v":0},"VB706176","BOT SLIDE BENCH 5'-ENDKIT 5'-LONG GUTTER",{"$f":"IF(Calcs!$C$41=3,Calcs!$AA$27,0)","v":0},1,null,null,"MC2084","PLUG, .625DIA",4]
[{"$f":"IF(D24=0,0,MAX($A$3:A23)+1)","v":0},"VB706183","BOT SLIDE BENCH 5'-ENDKIT 4'-LONG GUTTER",{"$f":"IF(Calcs!$C$41=3,Calcs!$AB$27,0)","v":0},1,null,null,"MC2085","SPRING, COMPRESSION RUBBER",2]
[{"$f":"IF(D25=0,0,MAX($A$3:A24)+1)","v":0},"VB706184","BOT SLIDE BENCH 5'-ENDKIT 3'-LONG GUTTER",{"$f":"IF(Calcs!$C$41=3,Calcs!$AC$27,0)","v":0},1]
[{"$f":"IF(D26=0,0,MAX($A$3:A25)+1)","v":0},"VB706185","BOT SLIDE BENCH 5'-ENDKIT 2'-LONG GUTTER",{"$f":"IF(Calcs!$C$41=3,Calcs!$AD$27,0)","v":0},1]
[{"$f":"IF(D27=0,0,MAX($A$3:A26)+1)","v":0},"VB706000","BOTANICARE SLIDE BENCH 12\" LEGS-BRDG KIT",{"$f":"Calcs!$T$15+Calcs!$T$27","v":0},47.43]
[{"$f":"IF(D28=0,0,MAX($A$3:A27)+1)","v":0},"VB706001","BOTANICARE SLIDE BENCH 20\" LEGS-BRDG KIT",{"$f":"Calcs!$V$15+Calcs!$V$27","v":0},50.07]
[{"$f":"IF(D29=0,0,MAX($A$3:A28)+1)","v":0},"VB706002","BOTANICARE SLIDE BENCH 30\" LEGS-BRDG KIT",{"$f":"Calcs!$X$15+Calcs!$X$27","v":0},54.31]
[{"$f":"IF(D30=0,0,MAX($A$3:A29)+1)","v":0},"VB706003","BOTANICARE SLIDE BENCH ANTI-TIP KIT",{"$f":"Calcs!$AE$15+Calcs!$AE$27","v":0},20.73]
[{"$f":"IF(D31=0,0,MAX($A$3:A30)+1)","v":0},"VB60040","BOTANICARE BOND 3 SEALANT VB BLACK",{"$f":"Calcs!$C$86","v":0},14.89]
[{"$f":"IF(D32=0,0,MAX($A$3:A31)+1)","v":0}]
[{"$f":"IF(D33=0,0,MAX($A$3:A32)+1)","v":1},"HGC117004-01","Slide Bench Instruction Manual",{"$f":"Calcs!T32+Calcs!T33","v":1},0]
[]
[]
[]
[]
[]
[]
[]
[]
[]
[]
[]
[]
[null,"Part Level Order BOM"]
["Transfer Filter","SKU","Description","Order Qty","Notes"]
[{"$f":"IF(D48=0,0,1)","v":0},"HGC706009-01","BOTANICARE 4' DRAIN TRAY BLACK ABS/1",{"$f":"D3","v":0},"From Top Level BOM",null,null,"VB705994","Botanicare Slide Bench 5' Drain Tray Kit VB"]
[{"$f":"IF(D49=0,0,MAX(A48)+1)","v":0},"HGC706012-01","BOTANICARE 4' MID TRAY BLACK ABS/1",0,"From Top Level BOM",null,null,"VB705995","Botanicare Slide Bench 5' Middle Tray Kit VB"]
[{"$f":"IF(D50=0,0,MAX(A$48:$A49)+1)","v":0},"HGC706010-01","BOTANICARE 4'Wx5'L END TRAY BLACK ABS/1",0,"From Top Level BOM",null,null,"VB705996","Botanicare Slide Bench 5' EndKit 5' Long VB"]
[{"$f":"IF(D51=0,0,MAX(A$48:$A50)+1)","v":0},"HGC706162-01","BOTANICARE 4'Wx4'L END TRAY BLACK ABS/1",0,"From Top Level BOM",null,null,"VB706159","Botanicare Slide Bench 5' End Kit 4' Long VB"]
[{"$f":"IF(D52=0,0,MAX(A$48:$A51)+1)","v":0},"HGC706163-01","BOTANICARE 4'Wx3'L END TRAY BLACK ABS/1",0,"From Top Level BOM",null,null,"VB706160","Botanicare Slide Bench 5' End Kit 3' Long VB"]
[{"$f":"IF(D53=0,0,MAX(A$48:$A52)+1)","v":0},"HGC706164-01","BOTANICARE 4'Wx2'L END TRAY BLACK ABS/1",0,"From Top Level BOM",null,null,"VB706161","Botanicare Slide Bench 5' End Kit 2' Long VB"]
[{"$f":"IF(D54=0,0,MAX(A$48:$A53)+1)","v":0},"HGC706663-01","BOTANICARE 5' DRAIN TRAY BLACK ABS/1",0,"From Top Level BOM",null,null,"VB705997","Botanicare Slide Bench 4' Drain Tray Kit VB"]
[{"$f":"IF(D55=0,0,MAX(A$48:$A54)+1)","v":0},"HGC706667-01","BOTANICARE 5' MID TRAY BLACK ABS/1",0,"From Top Level BOM",null,null,"VB705998","Botanicare Slide Bench 4' Middle Tray Kit VB"]
[{"$f":"IF(D56=0,0,MAX(A$48:$A55)+1)","v":0},"HGC706668-01","BOTANICARE 5'Wx5'L END TRAY BLACK ABS/1",0,"From Top Level BOM",null,null,"VB705999","Botanicare Slide Bench 4' EndKit 5' Long VB"]
[{"$f":"IF(D57=0,0,MAX(A$48:$A56)+1)","v":0},"HGC706165-01","BOTANICARE 5'Wx4'L END TRAY BLACK ABS/1",0,"From Top Level BOM",null,null,"VB706157","Botanicare Slide Bench 4' End Kit 3' Long VB"]
[{"$f":"IF(D58=0,0,MAX(A$48:$A57)+1)","v":0},"HGC706166-01","BOTANICARE 5'Wx3'L END TRAY BLACK ABS/1",0,"From Top Level BOM",null,null,"VB706156","Botanicare Slide Bench 4' End Kit 4' Long VB"]
[{"$f":"IF(D59=0,0,MAX(A$48:$A58)+1)","v":0},"HGC706167-01","BOTANICARE 5'Wx2'L END TRAY BLACK ABS/1",0,"From Top Level BOM",null,null,"VB706158","Botanicare Slide Bench 4' End Kit 2' Long VB"]
[{"$f":"IF(D60=0,0,MAX(A$48:$A59)+1)","v":0},"HGC707001-01","BOTANICARE DRAIN GUTTER TRAY BLACK/1",{"$f":"D15*3 + D21*4","v":0},"From Top Level BOM",null,null,"VB706165","BOT SLIDE BENCH 4' DRAIN TRAY KIT T-LOCK"]
[{"$f":"IF(D61=0,0,MAX(A$48:$A60)+1)","v":0},"HGC707002-01","BOTANICARE MID GUTTER TRAY BLACK/1",{"$f":"D16*3 + D22*4","v":0},"From Top Level BOM",null,null,"VB706166","BOT SLIDE BENCH 4' MIDL TRAY KIT T-LOCK"]
[{"$f":"IF(D62=0,0,MAX(A$48:$A61)+1)","v":0},"HGC707003-01","BOTANICARE 5'L END GUTTER TRAY BLACK/1",{"$f":"D17*3 +D23*4","v":0},"From Top Level BOM",null,null,"VB706167","BOT SLIDE BENCH 4' ENDKIT 5'-LONG T-LOCK"]
[{"$f":"IF(D63=0,0,MAX(A$48:$A62)+1)","v":0},"HGC707004-01","BOTANICARE 4'L END GUTTER TRAY BLACK/1",{"$f":"D18*3 +D24*4","v":0},"From Top Level BOM",null,null,"VB706168","BOT SLIDE BENCH 4'-ENDKIT 4'-LONG T-LOCK"]
[{"$f":"IF(D64=0,0,MAX(A$48:$A63)+1)","v":0},"HGC707005-01","BOTANICARE 3'L END GUTTER TRAY BLACK/1",0,"From Top Level BOM",null,null,"VB706169","BOT SLIDE BENCH 4'-ENDKIT 3'-LONG T-LOCK"]
[{"$f":"IF(D65=0,0,MAX(A$48:$A64)+1)","v":0},"HGC707006-01","BOTANICARE 2'L END GUTTER TRAY BLACK/1",0,"From Top Level BOM",null,null,"VB706170","BOT SLIDE BENCH 4'-ENDKIT 2'-LONG T-LOCK"]
[{"$f":"IF(D66=0,0,MAX(A$48:$A65)+1)","v":0},"MS3292","TUBE - RECTANGLE, FRAME (58.45\")",{"$f":"((D3+D4)*2)+((D9+D10)*2)+(D15+D16)*2+(D21+D22)*2","v":0},"( 4' & 5' Drain + Middle )*2",null,null,"VB706162","BOT SLIDE BENCH 5' DRAIN TRAY KIT T-LOCK"]
[{"$f":"IF(D67=0,0,MAX(A$48:$A66)+1)","v":0},"MS3286","TUBE - RECTANGLE, FRAME (52.45\")",{"$f":"(D5+D11)*2+(D17+D23)*2","v":0},"4' & 5' End Kit *2",null,null,"VB706163","BOT SLIDE BENCH 5' MIDL TRAY KIT T-LOCK"]
[{"$f":"IF(D68=0,0,MAX(A$48:$A67)+1)","v":0},"MS3806","TUBE - RECTANGLE, FRAME (40.45\")",{"$f":"(D6+D12)*2+(D18+D24)*2","v":0},"4' & 5' End Kit *2",null,null,"VB706164","BOT SLIDE BENCH 5' ENDKIT 5'-LONG T-LOCK"]
[{"$f":"IF(D69=0,0,MAX(A$48:$A68)+1)","v":0},"MS3807","TUBE - RECTANGLE, FRAME (28.45\")",{"$f":"(D7+D13)*2+(D19+D25)*2","v":0},"4' & 5' End Kit *2",null,null,"VB706171","BOT SLIDE BENCH 5'-ENDKIT 4'-LONG T-LOCK"]
[{"$f":"IF(D70=0,0,MAX(A$48:$A69)+1)","v":0},"MS3808","TUBE - RECTANGLE, FRAME (16.45\")",{"$f":"(D8+D14)*2+(D20+D26)*2","v":0},"4' & 5' End Kit *2",null,null,"VB706172","BOT SLIDE BENCH 5'-ENDKIT 3'-LONG T-LOCK"]
[{"$f":"IF(D71=0,0,MAX(A$48:$A70)+1)","v":0},"MS3295","TUBE - PLATFORM (56.96\")",{"$f":"((D3+D4)*3)+((D9+D10)*5)+(D15+D16)*3+(D21+D22)*5","v":0},"( 4' Drain+Middle *3) + (5' Drain + Middle * 5)",null,null,"VB706173","BOT SLIDE BENCH 5'-ENDKIT 2'-LONG T-LOCK"]
[{"$f":"IF(D72=0,0,MAX(A$48:$A71)+1)","v":0},"MS3290","TUBE - PLATFORM (50.96\")",{"$f":"(D5*3)+(D11*5)+(D17*3)+(D23*5)","v":0},"4' End Kit *3 + 5' End Kit *5",null,null,"VB706177","BOT SLIDE BENCH 4' DRAIN TRAY KIT GUTTER"]
[{"$f":"IF(D73=0,0,MAX(A$48:$A72)+1)","v":0},"MS3809","TUBE - PLATFORM (38.96\")",{"$f":"(D6*3)+(D12*5)+(D18*3)+(D24*5)","v":0},"4' End Kit *3 + 5' End Kit *5",null,null,"VB706178","BOT SLIDE BENCH 4' MIDL TRAY KIT GUTTER"]
[{"$f":"IF(D74=0,0,MAX(A$48:$A73)+1)","v":0},"MS3810","TUBE - PLATFORM (26.96\")",{"$f":"(D7*3)+(D13*5)+(D19*3)+(D25*5)","v":0},"4' End Kit *3 + 5' End Kit *5",null,null,"VB706179","BOT SLIDE BENCH 4'-ENDKIT 5'-LONG GUTTER"]
[{"$f":"IF(D75=0,0,MAX(A$48:$A74)+1)","v":0},"MS3821","TUBE - PLATFORM (14.96\")",{"$f":"(D8*3)+(D14*5)+(D20*3)+(D26*5)","v":0},"4' End Kit *3 + 5' End Kit *5",null,null,"VB706180","BOT SLIDE BENCH 4'-ENDKIT 4'-LONG GUTTER"]
[{"$f":"IF(D76=0,0,MAX(A$48:$A75)+1)","v":0},"MS3294","TUBE - ROLLER (55.96\")",{"$f":"D66","v":0},"Same as Frame Tube",null,null,"VB706181","BOT SLIDE BENCH 4'-ENDKIT 3'-LONG GUTTER"]
[{"$f":"IF(D77=0,0,MAX(A$48:$A76)+1)","v":0},"MS3288","TUBE - ROLLER (49.96\")",{"$f":"(D5+D11)*2+(D17+D23)*2","v":0},"4' & 5' End Kit *2",null,null,"VB706182","BOT SLIDE BENCH 4'-ENDKIT 2'-LONG GUTTER"]
[{"$f":"IF(D78=0,0,MAX(A$48:$A77)+1)","v":0},"MS3822","TUBE - ROLLER (37.96\")",{"$f":"(D6+D12)*2 + (D18+D24)*2","v":0},"4' & 5' End Kit *2",null,null,"VB706174","BOT SLIDE BENCH 5' DRAIN TRAY KIT GUTTER"]
[{"$f":"IF(D79=0,0,MAX(A$48:$A78)+1)","v":0},"MS3823","TUBE - ROLLER (25.96\")",{"$f":"(D7+D13)*2+(D19+D25)*2","v":0},"4' & 5' End Kit *2",null,null,"VB706175","BOT SLIDE BENCH 5' MIDL TRAY KIT GUTTER"]
[{"$f":"IF(D80=0,0,MAX(A$48:$A79)+1)","v":0},"MS3824","TUBE - ROLLER (13.96\")",{"$f":"(D8+D14)*2+(D20+D26)*2","v":0},"4' & 5' End Kit *2",null,null,"VB706176","BOT SLIDE BENCH 5'-ENDKIT 5'-LONG GUTTER"]
[{"$f":"IF(D81=0,0,MAX(A$48:$A80)+1)","v":0},"MS3296","SLIDE RAIL - 4FT",{"$f":"(D3+D4+ SUM(D5:D8)*2) + (D15+D16+SUM(D17:D20)*2)","v":0},"Top Level BOM:4' Drain + Middle + 2*End Kit",null,null,"VB706183","BOT SLIDE BENCH 5'-ENDKIT 4'-LONG GUTTER"]
[{"$f":"IF(D82=0,0,MAX(A$48:$A81)+1)","v":0},"MS3431","SLIDE RAIL - 5FT",{"$f":"(D9+D10+SUM(D11:D14)*2) + (D21+D22+SUM(D23:D26)*2)","v":0},"4' Drain + Middle + 2*End Kit",null,null,"VB706184","BOT SLIDE BENCH 5'-ENDKIT 3'-LONG GUTTER"]
[{"$f":"IF(D83=0,0,MAX(A$48:$A82)+1)","v":0},"MS3257","TUBE - RECTANGLE, BRIDGE",{"$f":"D27+D28+D29","v":0},"Arch Kit Qty",null,null,"VB706185","BOT SLIDE BENCH 5'-ENDKIT 2'-LONG GUTTER"]
[{"$f":"IF(D84=0,0,MAX(A$48:$A83)+1)","v":0},"MS3281","CONNECTOR - FRAME",{"$f":"(D27*2)+(D28*2)+(D29*2)","v":0},"Arch kits Qty*2",null,null,"VB706000","BOTANICARE SLIDE BENCH 12\" LEGS-BRDG KIT"]
[{"$f":"IF(D85=0,0,MAX(A$48:$A84)+1)","v":0},"MS3283","LEG ASSEMBLY - 20\" BENCH",null,"20\" Arch kit Qty*2","These will be removed when 30\" Leg Preassembled has been created.  \nMS3271 (1/4\"-20 X 3/8\"), MS3255 (NUT 5/8\"-11), and MS3256 (Washer 11/16\") will need to be adjust down bc they will be part of preassembled",null,"VB706001","BOTANICARE SLIDE BENCH 20\" LEGS-BRDG KIT"]
[{"$f":"IF(D86=0,0,MAX(A$48:$A85)+1)","v":0},"MS3285","LEG ASSEMBLY - 30\" BENCH",{"$f":"D29*2","v":0},"30\" Arch kit Qty*2",null,null,"VB706002","BOTANICARE SLIDE BENCH 30\" LEGS-BRDG KIT"]
[{"$f":"IF(D87=0,0,MAX(A$48:$A86)+1)","v":0},"MS3258","LEG ASSEMBLY - 12\" BENCH",null,"12\" Arch kit Qty*2",null,null,"VB706003","BOTANICARE SLIDE BENCH ANTI-TIP KIT"]
[{"$f":"IF(D88=0,0,MAX(A$48:$A87)+1)","v":0},"MS3284","ROD - THREADED, 20-30\" BENCH",{"$f":"(D29*2)","v":0},"20\" & 30\" Arch kits Qty *2",null,null,"VB60040","BOTANICARE BOND 3 SEALANT VB BLACK"]
[{"$f":"IF(D89=0,0,MAX(A$48:$A88)+1)","v":0},"MS3282","ROD - THREADED, 12\" BENCH",null,"Same as 12\" Arch Leg"]
[{"$f":"IF(D90=0,0,MAX(A$48:$A89)+1)","v":0},"LC3651","12\" LEG PREASSEMBLED - BOTANICARE BENCH",{"$f":"D27*2","v":0}]
[{"$f":"IF(D91=0,0,MAX(A$48:$A90)+1)","v":0},"LC3652","20\" LEG PREASSEMBLED - BOTANICARE BENCH",{"$f":"D28*2","v":0}]
[{"$f":"IF(D92=0,0,MAX(A$48:$A91)+1)","v":0},null,"30\" LEG PREASSEMBLED - BOTANICARE BENCH",null,null,"Doesn't exit yet, equation deactivated (=D29*2)"]
[{"$f":"IF(D93=0,0,MAX(A$48:$A92)+1)","v":0},"MS3287","CONNECTOR - ROLLERS, 1.5\" DIAM (SHORT)",{"$f":"(D3+D9)*4 + (D15+D21)*4","v":0},"Drain Kit *4"]
[{"$f":"IF(D94=0,0,MAX(A$48:$A93)+1)","v":0},"MS3293","CONNECTOR - ROLLERS, 1.5\" DIAM (LONG)",{"$f":"(SUM(D4:D8) +SUM(D10:D14))*2 + (SUM(D16:D20) +SUM(D22:D26))*2","v":0},"(4' & 5' Middle + End) *2"]
[{"$f":"IF(D95=0,0,MAX(A$48:$A94)+1)","v":0},"MS3289","BRACKET - CORNER",{"$f":"SUM(D3:D14)*8 + SUM(D15:D26)*8","v":0},"4' & 5' Kits *8"]
[{"$f":"IF(D96=0,0,MAX(A$48:$A95)+1)","v":0},"MC2081","BUMPER - TRELLIS, SLIDE RAIL",{"$f":"((D3+D4+SUM(D5:D8)*2)+(D9+D10+SUM(D11:D14)*2))*2  + ((D15+D16+SUM(D17:D20)*2)+(D21+D22+SUM(D23:D26)*2))*2","v":0},"(4' Drain + Middle + 2*End Kit)*2"]
[{"$f":"IF(D97=0,0,MAX(A$48:$A96)+1)","v":0},"MS3783","MOUNT - TRELLIS",{"$f":"D96","v":0},"Same as bumper quantity"]
[{"$f":"IF(D98=0,0,MAX(A$48:$A97)+1)","v":0},"MS3300","ANTI-TIP - WELDMENT",{"$f":" (IF(D4>0,$D$30,0)+  D3+SUM(D5:D8)) + (D9+D10+ SUM(D11:D14)*2) +  (IF(D16>0,$D$30,0)+  D15+SUM(D17:D20)) + (D21+D22+ SUM(D23:D26)*2)","v":0},"4' Drain + End + Anti-tip Kit + 5' Drain + Middle + End Kit"]
[{"$f":"IF(D99=0,0,MAX(A$48:$A98)+1)","v":0},"MS3301","BRACKET - GUIDE",{"$f":"D98","v":0},"Same as Anti-tip Weldment"]
[{"$f":"IF(D100=0,0,MAX(A$48:$A99)+1)","v":0},"MC2082","ALIGNER - ROLLER",{"$f":"D98","v":0},"Anti-tp Qty"]
[{"$f":"IF(D101=0,0,MAX(A$48:$A100)+1)","v":0},"HGC708573-01","DRAIN SCREEN/1",{"$f":"D3+ D9 +(D15*3) + (D21*4)","v":0},"4' & 5' Drain Kit"]
[{"$f":"IF(D102=0,0,MAX(A$48:$A101)+1)","v":0},"HGC708558-01","EBB N FLOW BARBED FITTING 1IN 25CT PACK",{"$f":"(D3+D9)*2+D15*3+D21*4","v":0},"4' & 5' Drain Kit * 2"]
[{"$f":"IF(D103=0,0,MAX(A$48:$A102)+1)","v":0},"HGC708552-01","EBB N FLOW BARBED FITTING 3/4 25CT PACK",{"$f":"D3+D9+D15*3+D21*4","v":0},"4' & 5' Drain Kit"]
[{"$f":"IF(D104=0,0,MAX(A$48:$A103)+1)","v":0},"MC2573","Gutter tray support - 4'",{"$f":"SUM(D15:D18)*2","v":0},"2 per tray kit, excluding 3' and less"]
[{"$f":"IF(D105=0,0,MAX(A$48:$A104)+1)","v":0},"MC2572","Gutter tray support - 5' Inner",{"$f":"SUM(D21:D24)*2","v":0},"2 per tray kit, excluding 3' and less"]
[{"$f":"IF(D106=0,0,MAX(A$48:$A105)+1)","v":0},"MC2571","Gutter tray support - 5' Exterior",{"$f":"D105","v":0},"2 per tray kit, excluding 3' and less"]
[{"$f":"IF(D107=0,0,MAX(A$48:$A106)+1)","v":0},"HGC707010-01","BOTANICARE IRRIGATION HDR SUPPORT/10",{"$f":" ROUNDUP( (SUM(D15,D17:D20)*3 + SUM(D21,D23:D26)*4) / 10, 0)","v":0},"1 per end/drain tray sections, pack of 10"]
[{"$f":"IF(D108=0,0,MAX(A$48:$A107)+1)","v":0},"HGC707009-01","BOTANICARE IRRIGATION LINE CLIP/25",{"$f":"ROUNDUP( (D15*3 + D21*4)*ROUNDDOWN(Calcs!C54,0) / 25, 0)","v":0},"1 per tray per linear foot, pack of 25"]
[{"$f":"IF(D109=0,0,MAX(A$48:$A108)+1)","v":0},"HGC707007-01","BOTANICARE GUTTER MANIFOLD KIT - 3 DRAIN",{"$f":"D15","v":0},"1 per 4' gutter drain tray"]
[{"$f":"IF(D110=0,0,MAX(A$48:$A109)+1)","v":0},"HGC707008-01","BOTANICARE GUTTER MANIFOLD KIT - 4 DRAIN",{"$f":"D21","v":0},"1 per 5' gutter drain tray"]
[{"$f":"IF(D111=0,0,MAX(A$48:$A110)+1)","v":0},"HGC706016-01","BOND THREE SEALANT/1",{"$f":"$D$31","v":0},"From Top Level BOM"]
[{"$f":"IF(D112=0,0,MAX(A$48:$A111)+1)","v":0},"HGC706014-01","BOT BOND THREE SEALANT TRAY SEALANT CDN",{"$f":"$D$31","v":0},"From Top Level BOM"]
[{"$f":"IF(D113=0,0,MAX(A$48:$A112)+1)","v":1},117004,"Slide Bench Instruction Manual",{"$f":"$D$33","v":1},"From Top Level BOM"]
[{"$f":"IF(D114=0,0,MAX(A$48:$A113)+1)","v":0},"MS3531","LOGO END CAP (BOTANICARE SLIDING BENCH)",{"$f":"(D3+D9+D15+D21)*4","v":0},"4' & 5' Drain Kit * 4"]
[{"$f":"IF(D115=0,0,MAX(A$48:$A114)+1)","v":0},"MS5071","TRILOCK TRELLIS MOUNT PACK - BAGGED 2/EA",{"$f":"IF(OR(D3>0,D9>0),D27+D28+D29,0)","v":0},"1 per Arch (with 10x  SCREW 10-32 x 1in)"]
[{"$f":"IF(D116=0,0,MAX(A$48:$A115)+1)","v":0},"HGC706110-01","TRILOCK TRELLIS MOUNT PACK - BAGGED 2/EA",{"$f":"IF(OR(D15>0,D21>0),D27+D28+D29,0)","v":0},"1 per Arch (with 10x  SCREW 10-32 x 1in)"]
[{"$f":"IF(D117=0,0,MAX(A$48:$A116)+1)","v":0}]
[{"$f":"IF(D118=0,0,MAX(A$48:$A117)+1)","v":0}]
[{"$f":"IF(D119=0,0,MAX(A$48:$A118)+1)","v":0}]
[{"$f":"IF(D120=0,0,MAX(A$48:$A119)+1)","v":0},"LC3165","Arch Screw Kit",{"$f":"D27+D28+D29","v":0},"1 pkg for each Arch Kit"]
[{"$f":"IF(D121=0,0,MAX(A$48:$A120)+1)","v":0},"  MS3271","SCREW - HEX HD, FLNG, 1/4\"-20 UNC X 3/8\"",{"$f":"-(D120*4)","v":0},"4 per pkg"]
[{"$f":"IF(D122=0,0,MAX(A$48:$A121)+1)","v":0},"  MS3255","NUT-HEX, 5/8\"-11 UNC-2B",{"$f":"-(D29*4)","v":0},"4 per pkg","Only for 30\" leg, 12\",20\" preassembled include these"]
[{"$f":"IF(D123=0,0,MAX(A$48:$A122)+1)","v":0},"  MS3256","Wshr, 11/16\" ID",{"$f":"-(D29*4)","v":0},"4 per pkg"]
[{"$f":"IF(D124=0,0,MAX(A$48:$A123)+1)","v":0},"LC3166","Tubes Screw Kit",{"$f":"SUM(D3:D14) + SUM(D15:D26)","v":0},"1 pkg for long tubes, short tubes kit"]
[{"$f":"IF(D125=0,0,MAX(A$48:$A124)+1)","v":0},"  MS3271","SCREW - HEX HD, FLNG, 1/4\"-20 UNC X 3/8\"",{"$f":"-(D124*9)","v":0},"9 per pkg"]
[{"$f":"IF(D126=0,0,MAX(A$48:$A125)+1)","v":0},"  MS3291","SCREW, HEX HD, 10-32 X .5IN, THREAD-CUTTING",{"$f":"-(D124*52)","v":0},"52 per pkg"]
[{"$f":"IF(D127=0,0,MAX(A$48:$A126)+1)","v":0},"LC3167","Extrusion Screw Kit",{"$f":"D81+D82","v":0},"1 pkg for each extrusion"]
[{"$f":"IF(D128=0,0,MAX(A$48:$A127)+1)","v":0},"  MS3298","SCREW, THUMB, 10-32X.5IN",{"$f":"-(D127*2)","v":0},"2 per pkg"]
[{"$f":"IF(D129=0,0,MAX(A$48:$A128)+1)","v":0},"  MS3299","SCREW, HEX HD, 10-32 X 1IN, THREAD-CUTTING",{"$f":"IF(Calcs!C41=1,-(D127*12),0)","v":0}]
[{"$f":"IF(D130=0,0,MAX(A$48:$A129)+1)","v":0},"LC3168","Anti-Tip Screw Kit",{"$f":"D98","v":0},"1 pkg for each anti-tip"]
[{"$f":"IF(D131=0,0,MAX(A$48:$A130)+1)","v":0},"  MS3299","SCREW, HEX HD, 10-32 X 1IN, THREAD-CUTTING",{"$f":"-(D130*4)","v":0},"4 per pkg"]
[{"$f":"IF(D132=0,0,MAX(A$48:$A131)+1)","v":0},"  MS3291","SCREW, HEX HD, 10-32 X .5IN, THREAD-CUTTING",{"$f":"-(D130*2)","v":0},"2 per pkg"]
[{"$f":"IF(D133=0,0,MAX(A$48:$A132)+1)","v":0},"  MS3260","SCREW, HEX HD, 10-16 X 1/2\", SELF-DRILL",{"$f":"-(D130*2)","v":0},"2 per pkg"]
[{"$f":"IF(D134=0,0,MAX(A$48:$A133)+1)","v":0},"  MC2083","PLUG - TUBE, 1X1",{"$f":"-(D130*4)","v":0},"4 per pkg"]
[{"$f":"IF(D135=0,0,MAX(A$48:$A134)+1)","v":0},"  MC2084","PLUG - 5/8\" DIAMETER",{"$f":"-(D130*4)","v":0},"4 per pkg"]
[{"$f":"IF(D136=0,0,MAX(A$48:$A135)+1)","v":0},"  MC2085","SPRING - COMPRESSION, RUBBER",{"$f":"-(D130*2)","v":0},"2 per pkg"]

{"sheet":"New Order BOM's","index":9,"n_rows":1369,"n_cols":11,"rows_kept":1369,"cut":false,"hidden":true,"merged":[]}
["Transfer Filter",null,"Index #","Virtual SKU Designation","SKU Character Count","SAP Description (40 character max)","SAP Description Character Count","Web Description (200 character max)","Width (FT)","Length (FT)","Height (IN)"]
[{"$f":"IF(B2=0,0,1)","v":0},{"$f":"IF(D2=Calcs!$X$38,Calcs!$W$38,IF(D2=Calcs!$X$39,Calcs!$W$39,IF(D2=Calcs!$X$40,Calcs!$W$40,IF(TRUE,0))))","v":0},1,"TB48-90-14BT",12,"TRACK BENCH: 4FTx7.5FTx14INxBT",30,"BOTANICARE TRACK BENCH: 4FT WIDE x 7.5FT LONG x 14IN HIGH, TRILOCK",4,7.5,14]
[{"$f":"IF(B3=0,0,MAX(A2)+1)","v":0},{"$f":"IF(D3=Calcs!$X$38,Calcs!$W$38,IF(D3=Calcs!$X$39,Calcs!$W$39,IF(D3=Calcs!$X$40,Calcs!$W$40,IF(TRUE,0))))","v":0},2,"TB48-102-14BT",13,"TRACK BENCH: 4FTx8.5FTx14INxBT",30,"BOTANICARE TRACK BENCH: 4FT WIDE x 8.5FT LONG x 14IN HIGH, TRILOCK",4,8.5,14]
[{"$f":"IF(B4=0,0,MAX($A$2:A3)+1)","v":0},{"$f":"IF(D4=Calcs!$X$38,Calcs!$W$38,IF(D4=Calcs!$X$39,Calcs!$W$39,IF(D4=Calcs!$X$40,Calcs!$W$40,IF(TRUE,0))))","v":0},3,"TB48-114-14BT",13,"TRACK BENCH: 4FTx9.5FTx14INxBT",30,"BOTANICARE TRACK BENCH: 4FT WIDE x 9.5FT LONG x 14IN HIGH, TRILOCK",4,9.5,14]
[{"$f":"IF(B5=0,0,MAX($A$2:A4)+1)","v":0},{"$f":"IF(D5=Calcs!$X$38,Calcs!$W$38,IF(D5=Calcs!$X$39,Calcs!$W$39,IF(D5=Calcs!$X$40,Calcs!$W$40,IF(TRUE,0))))","v":0},4,"TB48-126-14BT",13,"TRACK BENCH: 4FTx10.5FTx14INxBT",31,"BOTANICARE TRACK BENCH: 4FT WIDE x 10.5FT LONG x 14IN HIGH, TRILOCK",4,10.5,14]
[{"$f":"IF(B6=0,0,MAX($A$2:A5)+1)","v":0},{"$f":"IF(D6=Calcs!$X$38,Calcs!$W$38,IF(D6=Calcs!$X$39,Calcs!$W$39,IF(D6=Calcs!$X$40,Calcs!$W$40,IF(TRUE,0))))","v":0},5,"TB48-150-14BT",13,"TRACK BENCH: 4FTx12.5FTx14INxBT",31,"BOTANICARE TRACK BENCH: 4FT WIDE x 12.5FT LONG x 14IN HIGH, TRILOCK",4,12.5,14]
[{"$f":"IF(B7=0,0,MAX($A$2:A6)+1)","v":0},{"$f":"IF(D7=Calcs!$X$38,Calcs!$W$38,IF(D7=Calcs!$X$39,Calcs!$W$39,IF(D7=Calcs!$X$40,Calcs!$W$40,IF(TRUE,0))))","v":0},6,"TB48-162-14BT",13,"TRACK BENCH: 4FTx13.5FTx14INxBT",31,"BOTANICARE TRACK BENCH: 4FT WIDE x 13.5FT LONG x 14IN HIGH, TRILOCK",4,13.5,14]
[{"$f":"IF(B8=0,0,MAX($A$2:A7)+1)","v":0},{"$f":"IF(D8=Calcs!$X$38,Calcs!$W$38,IF(D8=Calcs!$X$39,Calcs!$W$39,IF(D8=Calcs!$X$40,Calcs!$W$40,IF(TRUE,0))))","v":0},7,"TB48-174-14BT",13,"TRACK BENCH: 4FTx14.5FTx14INxBT",31,"BOTANICARE TRACK BENCH: 4FT WIDE x 14.5FT LONG x 14IN HIGH, TRILOCK",4,14.5,14]
[{"$f":"IF(B9=0,0,MAX($A$2:A8)+1)","v":0},{"$f":"IF(D9=Calcs!$X$38,Calcs!$W$38,IF(D9=Calcs!$X$39,Calcs!$W$39,IF(D9=Calcs!$X$40,Calcs!$W$40,IF(TRUE,0))))","v":0},8,"TB48-186-14BT",13,"TRACK BENCH: 4FTx15.5FTx14INxBT",31,"BOTANICARE TRACK BENCH: 4FT WIDE x 15.5FT LONG x 14IN HIGH, TRILOCK",4,15.5,14]
[{"$f":"IF(B10=0,0,MAX($A$2:A9)+1)","v":0},{"$f":"IF(D10=Calcs!$X$38,Calcs!$W$38,IF(D10=Calcs!$X$39,Calcs!$W$39,IF(D10=Calcs!$X$40,Calcs!$W$40,IF(TRUE,0))))","v":0},9,"TB48-210-14BT",13,"TRACK BENCH: 4FTx17.5FTx14INxBT",31,"BOTANICARE TRACK BENCH: 4FT WIDE x 17.5FT LONG x 14IN HIGH, TRILOCK",4,17.5,14]
[{"$f":"IF(B11=0,0,MAX($A$2:A10)+1)","v":0},{"$f":"IF(D11=Calcs!$X$38,Calcs!$W$38,IF(D11=Calcs!$X$39,Calcs!$W$39,IF(D11=Calcs!$X$40,Calcs!$W$40,IF(TRUE,0))))","v":0},10,"TB48-222-14BT",13,"TRACK BENCH: 4FTx18.5FTx14INxBT",31,"BOTANICARE TRACK BENCH: 4FT WIDE x 18.5FT LONG x 14IN HIGH, TRILOCK",4,18.5,14]
[{"$f":"IF(B12=0,0,MAX($A$2:A11)+1)","v":0},{"$f":"IF(D12=Calcs!$X$38,Calcs!$W$38,IF(D12=Calcs!$X$39,Calcs!$W$39,IF(D12=Calcs!$X$40,Calcs!$W$40,IF(TRUE,0))))","v":0},11,"TB48-234-14BT",13,"TRACK BENCH: 4FTx19.5FTx14INxBT",31,"BOTANICARE TRACK BENCH: 4FT WIDE x 19.5FT LONG x 14IN HIGH, TRILOCK",4,19.5,14]
[{"$f":"IF(B13=0,0,MAX($A$2:A12)+1)","v":0},{"$f":"IF(D13=Calcs!$X$38,Calcs!$W$38,IF(D13=Calcs!$X$39,Calcs!$W$39,IF(D13=Calcs!$X$40,Calcs!$W$40,IF(TRUE,0))))","v":0},12,"TB48-246-14BT",13,"TRACK BENCH: 4FTx20.5FTx14INxBT",31,"BOTANICARE TRACK BENCH: 4FT WIDE x 20.5FT LONG x 14IN HIGH, TRILOCK",4,20.5,14]
[{"$f":"IF(B14=0,0,MAX($A$2:A13)+1)","v":0},{"$f":"IF(D14=Calcs!$X$38,Calcs!$W$38,IF(D14=Calcs!$X$39,Calcs!$W$39,IF(D14=Calcs!$X$40,Calcs!$W$40,IF(TRUE,0))))","v":0},13,"TB48-270-14BT",13,"TRACK BENCH: 4FTx22.5FTx14INxBT",31,"BOTANICARE TRACK BENCH: 4FT WIDE x 22.5FT LONG x 14IN HIGH, TRILOCK",4,22.5,14]
[{"$f":"IF(B15=0,0,MAX($A$2:A14)+1)","v":0},{"$f":"IF(D15=Calcs!$X$38,Calcs!$W$38,IF(D15=Calcs!$X$39,Calcs!$W$39,IF(D15=Calcs!$X$40,Calcs!$W$40,IF(TRUE,0))))","v":0},14,"TB48-282-14BT",13,"TRACK BENCH: 4FTx23.5FTx14INxBT",31,"BOTANICARE TRACK BENCH: 4FT WIDE x 23.5FT LONG x 14IN HIGH, TRILOCK",4,23.5,14]
[{"$f":"IF(B16=0,0,MAX($A$2:A15)+1)","v":0},{"$f":"IF(D16=Calcs!$X$38,Calcs!$W$38,IF(D16=Calcs!$X$39,Calcs!$W$39,IF(D16=Calcs!$X$40,Calcs!$W$40,IF(TRUE,0))))","v":0},15,"TB48-294-14BT",13,"TRACK BENCH: 4FTx24.5FTx14INxBT",31,"BOTANICARE TRACK BENCH: 4FT WIDE x 24.5FT LONG x 14IN HIGH, TRILOCK",4,24.5,14]
[{"$f":"IF(B17=0,0,MAX($A$2:A16)+1)","v":0},{"$f":"IF(D17=Calcs!$X$38,Calcs!$W$38,IF(D17=Calcs!$X$39,Calcs!$W$39,IF(D17=Calcs!$X$40,Calcs!$W$40,IF(TRUE,0))))","v":0},16,"TB48-306-14BT",13,"TRACK BENCH: 4FTx25.5FTx14INxBT",31,"BOTANICARE TRACK BENCH: 4FT WIDE x 25.5FT LONG x 14IN HIGH, TRILOCK",4,25.5,14]
[{"$f":"IF(B18=0,0,MAX($A$2:A17)+1)","v":0},{"$f":"IF(D18=Calcs!$X$38,Calcs!$W$38,IF(D18=Calcs!$X$39,Calcs!$W$39,IF(D18=Calcs!$X$40,Calcs!$W$40,IF(TRUE,0))))","v":0},17,"TB48-330-14BT",13,"TRACK BENCH: 4FTx27.5FTx14INxBT",31,"BOTANICARE TRACK BENCH: 4FT WIDE x 27.5FT LONG x 14IN HIGH, TRILOCK",4,27.5,14]
[{"$f":"IF(B19=0,0,MAX($A$2:A18)+1)","v":0},{"$f":"IF(D19=Calcs!$X$38,Calcs!$W$38,IF(D19=Calcs!$X$39,Calcs!$W$39,IF(D19=Calcs!$X$40,Calcs!$W$40,IF(TRUE,0))))","v":0},18,"TB48-342-14BT",13,"TRACK BENCH: 4FTx28.5FTx14INxBT",31,"BOTANICARE TRACK BENCH: 4FT WIDE x 28.5FT LONG x 14IN HIGH, TRILOCK",4,28.5,14]
[{"$f":"IF(B20=0,0,MAX($A$2:A19)+1)","v":0},{"$f":"IF(D20=Calcs!$X$38,Calcs!$W$38,IF(D20=Calcs!$X$39,Calcs!$W$39,IF(D20=Calcs!$X$40,Calcs!$W$40,IF(TRUE,0))))","v":0},19,"TB48-354-14BT",13,"TRACK BENCH: 4FTx29.5FTx14INxBT",31,"BOTANICARE TRACK BENCH: 4FT WIDE x 29.5FT LONG x 14IN HIGH, TRILOCK",4,29.5,14]
[{"$f":"IF(B21=0,0,MAX($A$2:A20)+1)","v":0},{"$f":"IF(D21=Calcs!$X$38,Calcs!$W$38,IF(D21=Calcs!$X$39,Calcs!$W$39,IF(D21=Calcs!$X$40,Calcs!$W$40,IF(TRUE,0))))","v":0},20,"TB48-366-14BT",13,"TRACK BENCH: 4FTx30.5FTx14INxBT",31,"BOTANICARE TRACK BENCH: 4FT WIDE x 30.5FT LONG x 14IN HIGH, TRILOCK",4,30.5,14]
[{"$f":"IF(B22=0,0,MAX($A$2:A21)+1)","v":0},{"$f":"IF(D22=Calcs!$X$38,Calcs!$W$38,IF(D22=Calcs!$X$39,Calcs!$W$39,IF(D22=Calcs!$X$40,Calcs!$W$40,IF(TRUE,0))))","v":0},21,"TB48-390-14BT",13,"TRACK BENCH: 4FTx32.5FTx14INxBT",31,"BOTANICARE TRACK BENCH: 4FT WIDE x 32.5FT LONG x 14IN HIGH, TRILOCK",4,32.5,14]
[{"$f":"IF(B23=0,0,MAX($A$2:A22)+1)","v":0},{"$f":"IF(D23=Calcs!$X$38,Calcs!$W$38,IF(D23=Calcs!$X$39,Calcs!$W$39,IF(D23=Calcs!$X$40,Calcs!$W$40,IF(TRUE,0))))","v":0},22,"TB48-402-14BT",13,"TRACK BENCH: 4FTx33.5FTx14INxBT",31,"BOTANICARE TRACK BENCH: 4FT WIDE x 33.5FT LONG x 14IN HIGH, TRILOCK",4,33.5,14]
[{"$f":"IF(B24=0,0,MAX($A$2:A23)+1)","v":0},{"$f":"IF(D24=Calcs!$X$38,Calcs!$W$38,IF(D24=Calcs!$X$39,Calcs!$W$39,IF(D24=Calcs!$X$40,Calcs!$W$40,IF(TRUE,0))))","v":0},23,"TB48-414-14BT",13,"TRACK BENCH: 4FTx34.5FTx14INxBT",31,"BOTANICARE TRACK BENCH: 4FT WIDE x 34.5FT LONG x 14IN HIGH, TRILOCK",4,34.5,14]
[{"$f":"IF(B25=0,0,MAX($A$2:A24)+1)","v":0},{"$f":"IF(D25=Calcs!$X$38,Calcs!$W$38,IF(D25=Calcs!$X$39,Calcs!$W$39,IF(D25=Calcs!$X$40,Calcs!$W$40,IF(TRUE,0))))","v":0},24,"TB48-426-14BT",13,"TRACK BENCH: 4FTx35.5FTx14INxBT",31,"BOTANICARE TRACK BENCH: 4FT WIDE x 35.5FT LONG x 14IN HIGH, TRILOCK",4,35.5,14]
[{"$f":"IF(B26=0,0,MAX($A$2:A25)+1)","v":0},{"$f":"IF(D26=Calcs!$X$38,Calcs!$W$38,IF(D26=Calcs!$X$39,Calcs!$W$39,IF(D26=Calcs!$X$40,Calcs!$W$40,IF(TRUE,0))))","v":0},25,"TB48-450-14BT",13,"TRACK BENCH: 4FTx37.5FTx14INxBT",31,"BOTANICARE TRACK BENCH: 4FT WIDE x 37.5FT LONG x 14IN HIGH, TRILOCK",4,37.5,14]
[{"$f":"IF(B27=0,0,MAX($A$2:A26)+1)","v":0},{"$f":"IF(D27=Calcs!$X$38,Calcs!$W$38,IF(D27=Calcs!$X$39,Calcs!$W$39,IF(D27=Calcs!$X$40,Calcs!$W$40,IF(TRUE,0))))","v":0},26,"TB48-462-14BT",13,"TRACK BENCH: 4FTx38.5FTx14INxBT",31,"BOTANICARE TRACK BENCH: 4FT WIDE x 38.5FT LONG x 14IN HIGH, TRILOCK",4,38.5,14]
[{"$f":"IF(B28=0,0,MAX($A$2:A27)+1)","v":0},{"$f":"IF(D28=Calcs!$X$38,Calcs!$W$38,IF(D28=Calcs!$X$39,Calcs!$W$39,IF(D28=Calcs!$X$40,Calcs!$W$40,IF(TRUE,0))))","v":0},27,"TB48-474-14BT",13,"TRACK BENCH: 4FTx39.5FTx14INxBT",31,"BOTANICARE TRACK BENCH: 4FT WIDE x 39.5FT LONG x 14IN HIGH, TRILOCK",4,39.5,14]
[{"$f":"IF(B29=0,0,MAX($A$2:A28)+1)","v":0},{"$f":"IF(D29=Calcs!$X$38,Calcs!$W$38,IF(D29=Calcs!$X$39,Calcs!$W$39,IF(D29=Calcs!$X$40,Calcs!$W$40,IF(TRUE,0))))","v":0},28,"TB48-486-14BT",13,"TRACK BENCH: 4FTx40.5FTx14INxBT",31,"BOTANICARE TRACK BENCH: 4FT WIDE x 40.5FT LONG x 14IN HIGH, TRILOCK",4,40.5,14]
[{"$f":"IF(B30=0,0,MAX($A$2:A29)+1)","v":0},{"$f":"IF(D30=Calcs!$X$38,Calcs!$W$38,IF(D30=Calcs!$X$39,Calcs!$W$39,IF(D30=Calcs!$X$40,Calcs!$W$40,IF(TRUE,0))))","v":0},29,"TB48-510-14BT",13,"TRACK BENCH: 4FTx42.5FTx14INxBT",31,"BOTANICARE TRACK BENCH: 4FT WIDE x 42.5FT LONG x 14IN HIGH, TRILOCK",4,42.5,14]
[{"$f":"IF(B31=0,0,MAX($A$2:A30)+1)","v":0},{"$f":"IF(D31=Calcs!$X$38,Calcs!$W$38,IF(D31=Calcs!$X$39,Calcs!$W$39,IF(D31=Calcs!$X$40,Calcs!$W$40,IF(TRUE,0))))","v":0},30,"TB48-522-14BT",13,"TRACK BENCH: 4FTx43.5FTx14INxBT",31,"BOTANICARE TRACK BENCH: 4FT WIDE x 43.5FT LONG x 14IN HIGH, TRILOCK",4,43.5,14]
[{"$f":"IF(B32=0,0,MAX($A$2:A31)+1)","v":0},{"$f":"IF(D32=Calcs!$X$38,Calcs!$W$38,IF(D32=Calcs!$X$39,Calcs!$W$39,IF(D32=Calcs!$X$40,Calcs!$W$40,IF(TRUE,0))))","v":0},31,"TB48-534-14BT",13,"TRACK BENCH: 4FTx44.5FTx14INxBT",31,"BOTANICARE TRACK BENCH: 4FT WIDE x 44.5FT LONG x 14IN HIGH, TRILOCK",4,44.5,14]
[{"$f":"IF(B33=0,0,MAX($A$2:A32)+1)","v":0},{"$f":"IF(D33=Calcs!$X$38,Calcs!$W$38,IF(D33=Calcs!$X$39,Calcs!$W$39,IF(D33=Calcs!$X$40,Calcs!$W$40,IF(TRUE,0))))","v":0},32,"TB48-546-14BT",13,"TRACK BENCH: 4FTx45.5FTx14INxBT",31,"BOTANICARE TRACK BENCH: 4FT WIDE x 45.5FT LONG x 14IN HIGH, TRILOCK",4,45.5,14]
[{"$f":"IF(B34=0,0,MAX($A$2:A33)+1)","v":0},{"$f":"IF(D34=Calcs!$X$38,Calcs!$W$38,IF(D34=Calcs!$X$39,Calcs!$W$39,IF(D34=Calcs!$X$40,Calcs!$W$40,IF(TRUE,0))))","v":0},33,"TB48-570-14BT",13,"TRACK BENCH: 4FTx47.5FTx14INxBT",31,"BOTANICARE TRACK BENCH: 4FT WIDE x 47.5FT LONG x 14IN HIGH, TRILOCK",4,47.5,14]
[{"$f":"IF(B35=0,0,MAX($A$2:A34)+1)","v":0},{"$f":"IF(D35=Calcs!$X$38,Calcs!$W$38,IF(D35=Calcs!$X$39,Calcs!$W$39,IF(D35=Calcs!$X$40,Calcs!$W$40,IF(TRUE,0))))","v":0},34,"TB48-582-14BT",13,"TRACK BENCH: 4FTx48.5FTx14INxBT",31,"BOTANICARE TRACK BENCH: 4FT WIDE x 48.5FT LONG x 14IN HIGH, TRILOCK",4,48.5,14]
[{"$f":"IF(B36=0,0,MAX($A$2:A35)+1)","v":0},{"$f":"IF(D36=Calcs!$X$38,Calcs!$W$38,IF(D36=Calcs!$X$39,Calcs!$W$39,IF(D36=Calcs!$X$40,Calcs!$W$40,IF(TRUE,0))))","v":0},35,"TB48-594-14BT",13,"TRACK BENCH: 4FTx49.5FTx14INxBT",31,"BOTANICARE TRACK BENCH: 4FT WIDE x 49.5FT LONG x 14IN HIGH, TRILOCK",4,49.5,14]
[{"$f":"IF(B37=0,0,MAX($A$2:A36)+1)","v":0},{"$f":"IF(D37=Calcs!$X$38,Calcs!$W$38,IF(D37=Calcs!$X$39,Calcs!$W$39,IF(D37=Calcs!$X$40,Calcs!$W$40,IF(TRUE,0))))","v":0},36,"TB48-606-14BT",13,"TRACK BENCH: 4FTx50.5FTx14INxBT",31,"BOTANICARE TRACK BENCH: 4FT WIDE x 50.5FT LONG x 14IN HIGH, TRILOCK",4,50.5,14]
[{"$f":"IF(B38=0,0,MAX($A$2:A37)+1)","v":0},{"$f":"IF(D38=Calcs!$X$38,Calcs!$W$38,IF(D38=Calcs!$X$39,Calcs!$W$39,IF(D38=Calcs!$X$40,Calcs!$W$40,IF(TRUE,0))))","v":0},37,"TB48-630-14BT",13,"TRACK BENCH: 4FTx52.5FTx14INxBT",31,"BOTANICARE TRACK BENCH: 4FT WIDE x 52.5FT LONG x 14IN HIGH, TRILOCK",4,52.5,14]
[{"$f":"IF(B39=0,0,MAX($A$2:A38)+1)","v":0},{"$f":"IF(D39=Calcs!$X$38,Calcs!$W$38,IF(D39=Calcs!$X$39,Calcs!$W$39,IF(D39=Calcs!$X$40,Calcs!$W$40,IF(TRUE,0))))","v":0},38,"TB48-642-14BT",13,"TRACK BENCH: 4FTx53.5FTx14INxBT",31,"BOTANICARE TRACK BENCH: 4FT WIDE x 53.5FT LONG x 14IN HIGH, TRILOCK",4,53.5,14]
[{"$f":"IF(B40=0,0,MAX($A$2:A39)+1)","v":0},{"$f":"IF(D40=Calcs!$X$38,Calcs!$W$38,IF(D40=Calcs!$X$39,Calcs!$W$39,IF(D40=Calcs!$X$40,Calcs!$W$40,IF(TRUE,0))))","v":0},39,"TB48-654-14BT",13,"TRACK BENCH: 4FTx54.5FTx14INxBT",31,"BOTANICARE TRACK BENCH: 4FT WIDE x 54.5FT LONG x 14IN HIGH, TRILOCK",4,54.5,14]
[{"$f":"IF(B41=0,0,MAX($A$2:A40)+1)","v":0},{"$f":"IF(D41=Calcs!$X$38,Calcs!$W$38,IF(D41=Calcs!$X$39,Calcs!$W$39,IF(D41=Calcs!$X$40,Calcs!$W$40,IF(TRUE,0))))","v":0},40,"TB48-666-14BT",13,"TRACK BENCH: 4FTx55.5FTx14INxBT",31,"BOTANICARE TRACK BENCH: 4FT WIDE x 55.5FT LONG x 14IN HIGH, TRILOCK",4,55.5,14]
[{"$f":"IF(B42=0,0,MAX($A$2:A41)+1)","v":0},{"$f":"IF(D42=Calcs!$X$38,Calcs!$W$38,IF(D42=Calcs!$X$39,Calcs!$W$39,IF(D42=Calcs!$X$40,Calcs!$W$40,IF(TRUE,0))))","v":0},41,"TB48-690-14BT",13,"TRACK BENCH: 4FTx57.5FTx14INxBT",31,"BOTANICARE TRACK BENCH: 4FT WIDE x 57.5FT LONG x 14IN HIGH, TRILOCK",4,57.5,14]
[{"$f":"IF(B43=0,0,MAX($A$2:A42)+1)","v":0},{"$f":"IF(D43=Calcs!$X$38,Calcs!$W$38,IF(D43=Calcs!$X$39,Calcs!$W$39,IF(D43=Calcs!$X$40,Calcs!$W$40,IF(TRUE,0))))","v":0},42,"TB48-702-14BT",13,"TRACK BENCH: 4FTx58.5FTx14INxBT",31,"BOTANICARE TRACK BENCH: 4FT WIDE x 58.5FT LONG x 14IN HIGH, TRILOCK",4,58.5,14]
[{"$f":"IF(B44=0,0,MAX($A$2:A43)+1)","v":0},{"$f":"IF(D44=Calcs!$X$38,Calcs!$W$38,IF(D44=Calcs!$X$39,Calcs!$W$39,IF(D44=Calcs!$X$40,Calcs!$W$40,IF(TRUE,0))))","v":0},43,"TB48-714-14BT",13,"TRACK BENCH: 4FTx59.5FTx14INxBT",31,"BOTANICARE TRACK BENCH: 4FT WIDE x 59.5FT LONG x 14IN HIGH, TRILOCK",4,59.5,14]
[{"$f":"IF(B45=0,0,MAX($A$2:A44)+1)","v":0},{"$f":"IF(D45=Calcs!$X$38,Calcs!$W$38,IF(D45=Calcs!$X$39,Calcs!$W$39,IF(D45=Calcs!$X$40,Calcs!$W$40,IF(TRUE,0))))","v":0},44,"TB48-726-14BT",13,"TRACK BENCH: 4FTx60.5FTx14INxBT",31,"BOTANICARE TRACK BENCH: 4FT WIDE x 60.5FT LONG x 14IN HIGH, TRILOCK",4,60.5,14]
[{"$f":"IF(B46=0,0,MAX($A$2:A45)+1)","v":0},{"$f":"IF(D46=Calcs!$X$38,Calcs!$W$38,IF(D46=Calcs!$X$39,Calcs!$W$39,IF(D46=Calcs!$X$40,Calcs!$W$40,IF(TRUE,0))))","v":0},45,"TB48-750-14BT",13,"TRACK BENCH: 4FTx62.5FTx14INxBT",31,"BOTANICARE TRACK BENCH: 4FT WIDE x 62.5FT LONG x 14IN HIGH, TRILOCK",4,62.5,14]
[{"$f":"IF(B47=0,0,MAX($A$2:A46)+1)","v":0},{"$f":"IF(D47=Calcs!$X$38,Calcs!$W$38,IF(D47=Calcs!$X$39,Calcs!$W$39,IF(D47=Calcs!$X$40,Calcs!$W$40,IF(TRUE,0))))","v":0},46,"TB48-762-14BT",13,"TRACK BENCH: 4FTx63.5FTx14INxBT",31,"BOTANICARE TRACK BENCH: 4FT WIDE x 63.5FT LONG x 14IN HIGH, TRILOCK",4,63.5,14]
[{"$f":"IF(B48=0,0,MAX($A$2:A47)+1)","v":0},{"$f":"IF(D48=Calcs!$X$38,Calcs!$W$38,IF(D48=Calcs!$X$39,Calcs!$W$39,IF(D48=Calcs!$X$40,Calcs!$W$40,IF(TRUE,0))))","v":0},47,"TB48-774-14BT",13,"TRACK BENCH: 4FTx64.5FTx14INxBT",31,"BOTANICARE TRACK BENCH: 4FT WIDE x 64.5FT LONG x 14IN HIGH, TRILOCK",4,64.5,14]
[{"$f":"IF(B49=0,0,MAX($A$2:A48)+1)","v":0},{"$f":"IF(D49=Calcs!$X$38,Calcs!$W$38,IF(D49=Calcs!$X$39,Calcs!$W$39,IF(D49=Calcs!$X$40,Calcs!$W$40,IF(TRUE,0))))","v":0},48,"TB48-786-14BT",13,"TRACK BENCH: 4FTx65.5FTx14INxBT",31,"BOTANICARE TRACK BENCH: 4FT WIDE x 65.5FT LONG x 14IN HIGH, TRILOCK",4,65.5,14]
[{"$f":"IF(B50=0,0,MAX($A$2:A49)+1)","v":0},{"$f":"IF(D50=Calcs!$X$38,Calcs!$W$38,IF(D50=Calcs!$X$39,Calcs!$W$39,IF(D50=Calcs!$X$40,Calcs!$W$40,IF(TRUE,0))))","v":0},49,"TB48-810-14BT",13,"TRACK BENCH: 4FTx67.5FTx14INxBT",31,"BOTANICARE TRACK BENCH: 4FT WIDE x 67.5FT LONG x 14IN HIGH, TRILOCK",4,67.5,14]
[{"$f":"IF(B51=0,0,MAX($A$2:A50)+1)","v":0},{"$f":"IF(D51=Calcs!$X$38,Calcs!$W$38,IF(D51=Calcs!$X$39,Calcs!$W$39,IF(D51=Calcs!$X$40,Calcs!$W$40,IF(TRUE,0))))","v":0},50,"TB48-822-14BT",13,"TRACK BENCH: 4FTx68.5FTx14INxBT",31,"BOTANICARE TRACK BENCH: 4FT WIDE x 68.5FT LONG x 14IN HIGH, TRILOCK",4,68.5,14]
[{"$f":"IF(B52=0,0,MAX($A$2:A51)+1)","v":0},{"$f":"IF(D52=Calcs!$X$38,Calcs!$W$38,IF(D52=Calcs!$X$39,Calcs!$W$39,IF(D52=Calcs!$X$40,Calcs!$W$40,IF(TRUE,0))))","v":0},51,"TB48-834-14BT",13,"TRACK BENCH: 4FTx69.5FTx14INxBT",31,"BOTANICARE TRACK BENCH: 4FT WIDE x 69.5FT LONG x 14IN HIGH, TRILOCK",4,69.5,14]
[{"$f":"IF(B53=0,0,MAX($A$2:A52)+1)","v":0},{"$f":"IF(D53=Calcs!$X$38,Calcs!$W$38,IF(D53=Calcs!$X$39,Calcs!$W$39,IF(D53=Calcs!$X$40,Calcs!$W$40,IF(TRUE,0))))","v":0},52,"TB48-846-14BT",13,"TRACK BENCH: 4FTx70.5FTx14INxBT",31,"BOTANICARE TRACK BENCH: 4FT WIDE x 70.5FT LONG x 14IN HIGH, TRILOCK",4,70.5,14]
[{"$f":"IF(B54=0,0,MAX($A$2:A53)+1)","v":0},{"$f":"IF(D54=Calcs!$X$38,Calcs!$W$38,IF(D54=Calcs!$X$39,Calcs!$W$39,IF(D54=Calcs!$X$40,Calcs!$W$40,IF(TRUE,0))))","v":0},53,"TB48-870-14BT",13,"TRACK BENCH: 4FTx72.5FTx14INxBT",31,"BOTANICARE TRACK BENCH: 4FT WIDE x 72.5FT LONG x 14IN HIGH, TRILOCK",4,72.5,14]
[{"$f":"IF(B55=0,0,MAX($A$2:A54)+1)","v":0},{"$f":"IF(D55=Calcs!$X$38,Calcs!$W$38,IF(D55=Calcs!$X$39,Calcs!$W$39,IF(D55=Calcs!$X$40,Calcs!$W$40,IF(TRUE,0))))","v":0},54,"TB48-882-14BT",13,"TRACK BENCH: 4FTx73.5FTx14INxBT",31,"BOTANICARE TRACK BENCH: 4FT WIDE x 73.5FT LONG x 14IN HIGH, TRILOCK",4,73.5,14]
[{"$f":"IF(B56=0,0,MAX($A$2:A55)+1)","v":0},{"$f":"IF(D56=Calcs!$X$38,Calcs!$W$38,IF(D56=Calcs!$X$39,Calcs!$W$39,IF(D56=Calcs!$X$40,Calcs!$W$40,IF(TRUE,0))))","v":0},55,"TB48-894-14BT",13,"TRACK BENCH: 4FTx74.5FTx14INxBT",31,"BOTANICARE TRACK BENCH: 4FT WIDE x 74.5FT LONG x 14IN HIGH, TRILOCK",4,74.5,14]
[{"$f":"IF(B57=0,0,MAX($A$2:A56)+1)","v":0},{"$f":"IF(D57=Calcs!$X$38,Calcs!$W$38,IF(D57=Calcs!$X$39,Calcs!$W$39,IF(D57=Calcs!$X$40,Calcs!$W$40,IF(TRUE,0))))","v":0},56,"TB48-906-14BT",13,"TRACK BENCH: 4FTx75.5FTx14INxBT",31,"BOTANICARE TRACK BENCH: 4FT WIDE x 75.5FT LONG x 14IN HIGH, TRILOCK",4,75.5,14]
[{"$f":"IF(B58=0,0,MAX($A$2:A57)+1)","v":0},{"$f":"IF(D58=Calcs!$X$38,Calcs!$W$38,IF(D58=Calcs!$X$39,Calcs!$W$39,IF(D58=Calcs!$X$40,Calcs!$W$40,IF(TRUE,0))))","v":0},57,"TB48-930-14BT",13,"TRACK BENCH: 4FTx77.5FTx14INxBT",31,"BOTANICARE TRACK BENCH: 4FT WIDE x 77.5FT LONG x 14IN HIGH, TRILOCK",4,77.5,14]
[{"$f":"IF(B59=0,0,MAX($A$2:A58)+1)","v":0},{"$f":"IF(D59=Calcs!$X$38,Calcs!$W$38,IF(D59=Calcs!$X$39,Calcs!$W$39,IF(D59=Calcs!$X$40,Calcs!$W$40,IF(TRUE,0))))","v":0},58,"TB48-942-14BT",13,"TRACK BENCH: 4FTx78.5FTx14INxBT",31,"BOTANICARE TRACK BENCH: 4FT WIDE x 78.5FT LONG x 14IN HIGH, TRILOCK",4,78.5,14]
[{"$f":"IF(B60=0,0,MAX($A$2:A59)+1)","v":0},{"$f":"IF(D60=Calcs!$X$38,Calcs!$W$38,IF(D60=Calcs!$X$39,Calcs!$W$39,IF(D60=Calcs!$X$40,Calcs!$W$40,IF(TRUE,0))))","v":0},59,"TB48-954-14BT",13,"TRACK BENCH: 4FTx79.5FTx14INxBT",31,"BOTANICARE TRACK BENCH: 4FT WIDE x 79.5FT LONG x 14IN HIGH, TRILOCK",4,79.5,14]
[{"$f":"IF(B61=0,0,MAX($A$2:A60)+1)","v":0},{"$f":"IF(D61=Calcs!$X$38,Calcs!$W$38,IF(D61=Calcs!$X$39,Calcs!$W$39,IF(D61=Calcs!$X$40,Calcs!$W$40,IF(TRUE,0))))","v":0},60,"TB48-966-14BT",13,"TRACK BENCH: 4FTx80.5FTx14INxBT",31,"BOTANICARE TRACK BENCH: 4FT WIDE x 80.5FT LONG x 14IN HIGH, TRILOCK",4,80.5,14]
[{"$f":"IF(B62=0,0,MAX($A$2:A61)+1)","v":0},{"$f":"IF(D62=Calcs!$X$38,Calcs!$W$38,IF(D62=Calcs!$X$39,Calcs!$W$39,IF(D62=Calcs!$X$40,Calcs!$W$40,IF(TRUE,0))))","v":0},61,"TB48-990-14BT",13,"TRACK BENCH: 4FTx82.5FTx14INxBT",31,"BOTANICARE TRACK BENCH: 4FT WIDE x 82.5FT LONG x 14IN HIGH, TRILOCK",4,82.5,14]
[{"$f":"IF(B63=0,0,MAX($A$2:A62)+1)","v":0},{"$f":"IF(D63=Calcs!$X$38,Calcs!$W$38,IF(D63=Calcs!$X$39,Calcs!$W$39,IF(D63=Calcs!$X$40,Calcs!$W$40,IF(TRUE,0))))","v":0},62,"TB48-1002-14BT",14,"TRACK BENCH: 4FTx83.5FTx14INxBT",31,"BOTANICARE TRACK BENCH: 4FT WIDE x 83.5FT LONG x 14IN HIGH, TRILOCK",4,83.5,14]
[{"$f":"IF(B64=0,0,MAX($A$2:A63)+1)","v":0},{"$f":"IF(D64=Calcs!$X$38,Calcs!$W$38,IF(D64=Calcs!$X$39,Calcs!$W$39,IF(D64=Calcs!$X$40,Calcs!$W$40,IF(TRUE,0))))","v":0},63,"TB48-1014-14BT",14,"TRACK BENCH: 4FTx84.5FTx14INxBT",31,"BOTANICARE TRACK BENCH: 4FT WIDE x 84.5FT LONG x 14IN HIGH, TRILOCK",4,84.5,14]
[{"$f":"IF(B65=0,0,MAX($A$2:A64)+1)","v":0},{"$f":"IF(D65=Calcs!$X$38,Calcs!$W$38,IF(D65=Calcs!$X$39,Calcs!$W$39,IF(D65=Calcs!$X$40,Calcs!$W$40,IF(TRUE,0))))","v":0},64,"TB48-1026-14BT",14,"TRACK BENCH: 4FTx85.5FTx14INxBT",31,"BOTANICARE TRACK BENCH: 4FT WIDE x 85.5FT LONG x 14IN HIGH, TRILOCK",4,85.5,14]
[{"$f":"IF(B66=0,0,MAX($A$2:A65)+1)","v":0},{"$f":"IF(D66=Calcs!$X$38,Calcs!$W$38,IF(D66=Calcs!$X$39,Calcs!$W$39,IF(D66=Calcs!$X$40,Calcs!$W$40,IF(TRUE,0))))","v":0},65,"TB48-1050-14BT",14,"TRACK BENCH: 4FTx87.5FTx14INxBT",31,"BOTANICARE TRACK BENCH: 4FT WIDE x 87.5FT LONG x 14IN HIGH, TRILOCK",4,87.5,14]
[{"$f":"IF(B67=0,0,MAX($A$2:A66)+1)","v":0},{"$f":"IF(D67=Calcs!$X$38,Calcs!$W$38,IF(D67=Calcs!$X$39,Calcs!$W$39,IF(D67=Calcs!$X$40,Calcs!$W$40,IF(TRUE,0))))","v":0},66,"TB48-1062-14BT",14,"TRACK BENCH: 4FTx88.5FTx14INxBT",31,"BOTANICARE TRACK BENCH: 4FT WIDE x 88.5FT LONG x 14IN HIGH, TRILOCK",4,88.5,14]
[{"$f":"IF(B68=0,0,MAX($A$2:A67)+1)","v":0},{"$f":"IF(D68=Calcs!$X$38,Calcs!$W$38,IF(D68=Calcs!$X$39,Calcs!$W$39,IF(D68=Calcs!$X$40,Calcs!$W$40,IF(TRUE,0))))","v":0},67,"TB48-1074-14BT",14,"TRACK BENCH: 4FTx89.5FTx14INxBT",31,"BOTANICARE TRACK BENCH: 4FT WIDE x 89.5FT LONG x 14IN HIGH, TRILOCK",4,89.5,14]
[{"$f":"IF(B69=0,0,MAX($A$2:A68)+1)","v":0},{"$f":"IF(D69=Calcs!$X$38,Calcs!$W$38,IF(D69=Calcs!$X$39,Calcs!$W$39,IF(D69=Calcs!$X$40,Calcs!$W$40,IF(TRUE,0))))","v":0},68,"TB48-1086-14BT",14,"TRACK BENCH: 4FTx90.5FTx14INxBT",31,"BOTANICARE TRACK BENCH: 4FT WIDE x 90.5FT LONG x 14IN HIGH, TRILOCK",4,90.5,14]
[{"$f":"IF(B70=0,0,MAX($A$2:A69)+1)","v":0},{"$f":"IF(D70=Calcs!$X$38,Calcs!$W$38,IF(D70=Calcs!$X$39,Calcs!$W$39,IF(D70=Calcs!$X$40,Calcs!$W$40,IF(TRUE,0))))","v":0},69,"TB48-1110-14BT",14,"TRACK BENCH: 4FTx92.5FTx14INxBT",31,"BOTANICARE TRACK BENCH: 4FT WIDE x 92.5FT LONG x 14IN HIGH, TRILOCK",4,92.5,14]
[{"$f":"IF(B71=0,0,MAX($A$2:A70)+1)","v":0},{"$f":"IF(D71=Calcs!$X$38,Calcs!$W$38,IF(D71=Calcs!$X$39,Calcs!$W$39,IF(D71=Calcs!$X$40,Calcs!$W$40,IF(TRUE,0))))","v":0},70,"TB48-1122-14BT",14,"TRACK BENCH: 4FTx93.5FTx14INxBT",31,"BOTANICARE TRACK BENCH: 4FT WIDE x 93.5FT LONG x 14IN HIGH, TRILOCK",4,93.5,14]
[{"$f":"IF(B72=0,0,MAX($A$2:A71)+1)","v":0},{"$f":"IF(D72=Calcs!$X$38,Calcs!$W$38,IF(D72=Calcs!$X$39,Calcs!$W$39,IF(D72=Calcs!$X$40,Calcs!$W$40,IF(TRUE,0))))","v":0},71,"TB48-1134-14BT",14,"TRACK BENCH: 4FTx94.5FTx14INxBT",31,"BOTANICARE TRACK BENCH: 4FT WIDE x 94.5FT LONG x 14IN HIGH, TRILOCK",4,94.5,14]
[{"$f":"IF(B73=0,0,MAX($A$2:A72)+1)","v":0},{"$f":"IF(D73=Calcs!$X$38,Calcs!$W$38,IF(D73=Calcs!$X$39,Calcs!$W$39,IF(D73=Calcs!$X$40,Calcs!$W$40,IF(TRUE,0))))","v":0},72,"TB48-1146-14BT",14,"TRACK BENCH: 4FTx95.5FTx14INxBT",31,"BOTANICARE TRACK BENCH: 4FT WIDE x 95.5FT LONG x 14IN HIGH, TRILOCK",4,95.5,14]
[{"$f":"IF(B74=0,0,MAX($A$2:A73)+1)","v":0},{"$f":"IF(D74=Calcs!$X$38,Calcs!$W$38,IF(D74=Calcs!$X$39,Calcs!$W$39,IF(D74=Calcs!$X$40,Calcs!$W$40,IF(TRUE,0))))","v":0},73,"TB48-1170-14BT",14,"TRACK BENCH: 4FTx97.5FTx14INxBT",31,"BOTANICARE TRACK BENCH: 4FT WIDE x 97.5FT LONG x 14IN HIGH, TRILOCK",4,97.5,14]
[{"$f":"IF(B75=0,0,MAX($A$2:A74)+1)","v":0},{"$f":"IF(D75=Calcs!$X$38,Calcs!$W$38,IF(D75=Calcs!$X$39,Calcs!$W$39,IF(D75=Calcs!$X$40,Calcs!$W$40,IF(TRUE,0))))","v":0},74,"TB48-1182-14BT",14,"TRACK BENCH: 4FTx98.5FTx14INxBT",31,"BOTANICARE TRACK BENCH: 4FT WIDE x 98.5FT LONG x 14IN HIGH, TRILOCK",4,98.5,14]
[{"$f":"IF(B76=0,0,MAX($A$2:A75)+1)","v":0},{"$f":"IF(D76=Calcs!$X$38,Calcs!$W$38,IF(D76=Calcs!$X$39,Calcs!$W$39,IF(D76=Calcs!$X$40,Calcs!$W$40,IF(TRUE,0))))","v":0},75,"TB48-1194-14BT",14,"TRACK BENCH: 4FTx99.5FTx14INxBT",31,"BOTANICARE TRACK BENCH: 4FT WIDE x 99.5FT LONG x 14IN HIGH, TRILOCK",4,99.5,14]
[{"$f":"IF(B77=0,0,MAX($A$2:A76)+1)","v":0},{"$f":"IF(D77=Calcs!$X$38,Calcs!$W$38,IF(D77=Calcs!$X$39,Calcs!$W$39,IF(D77=Calcs!$X$40,Calcs!$W$40,IF(TRUE,0))))","v":0},76,"TB48-1206-14BT",14,"TRACK BENCH: 4FTx100.5FTx14INxBT",32,"BOTANICARE TRACK BENCH: 4FT WIDE x 100.5FT LONG x 14IN HIGH, TRILOCK",4,100.5,14]
[{"$f":"IF(B78=0,0,MAX($A$2:A77)+1)","v":0},{"$f":"IF(D78=Calcs!$X$38,Calcs!$W$38,IF(D78=Calcs!$X$39,Calcs!$W$39,IF(D78=Calcs!$X$40,Calcs!$W$40,IF(TRUE,0))))","v":0},77,"TB48-90-20BT",12,"TRACK BENCH: 4FTx7.5FTx20INxBT",30,"BOTANICARE TRACK BENCH: 4FT WIDE x 7.5FT LONG x 20IN HIGH, TRILOCK",4,7.5,20]
[{"$f":"IF(B79=0,0,MAX($A$2:A78)+1)","v":0},{"$f":"IF(D79=Calcs!$X$38,Calcs!$W$38,IF(D79=Calcs!$X$39,Calcs!$W$39,IF(D79=Calcs!$X$40,Calcs!$W$40,IF(TRUE,0))))","v":0},78,"TB48-102-20BT",13,"TRACK BENCH: 4FTx8.5FTx20INxBT",30,"BOTANICARE TRACK BENCH: 4FT WIDE x 8.5FT LONG x 20IN HIGH, TRILOCK",4,8.5,20]
[{"$f":"IF(B80=0,0,MAX($A$2:A79)+1)","v":0},{"$f":"IF(D80=Calcs!$X$38,Calcs!$W$38,IF(D80=Calcs!$X$39,Calcs!$W$39,IF(D80=Calcs!$X$40,Calcs!$W$40,IF(TRUE,0))))","v":0},79,"TB48-114-20BT",13,"TRACK BENCH: 4FTx9.5FTx20INxBT",30,"BOTANICARE TRACK BENCH: 4FT WIDE x 9.5FT LONG x 20IN HIGH, TRILOCK",4,9.5,20]
[{"$f":"IF(B81=0,0,MAX($A$2:A80)+1)","v":0},{"$f":"IF(D81=Calcs!$X$38,Calcs!$W$38,IF(D81=Calcs!$X$39,Calcs!$W$39,IF(D81=Calcs!$X$40,Calcs!$W$40,IF(TRUE,0))))","v":0},80,"TB48-126-20BT",13,"TRACK BENCH: 4FTx10.5FTx20INxBT",31,"BOTANICARE TRACK BENCH: 4FT WIDE x 10.5FT LONG x 20IN HIGH, TRILOCK",4,10.5,20]
[{"$f":"IF(B82=0,0,MAX($A$2:A81)+1)","v":0},{"$f":"IF(D82=Calcs!$X$38,Calcs!$W$38,IF(D82=Calcs!$X$39,Calcs!$W$39,IF(D82=Calcs!$X$40,Calcs!$W$40,IF(TRUE,0))))","v":0},81,"TB48-150-20BT",13,"TRACK BENCH: 4FTx12.5FTx20INxBT",31,"BOTANICARE TRACK BENCH: 4FT WIDE x 12.5FT LONG x 20IN HIGH, TRILOCK",4,12.5,20]
[{"$f":"IF(B83=0,0,MAX($A$2:A82)+1)","v":0},{"$f":"IF(D83=Calcs!$X$38,Calcs!$W$38,IF(D83=Calcs!$X$39,Calcs!$W$39,IF(D83=Calcs!$X$40,Calcs!$W$40,IF(TRUE,0))))","v":0},82,"TB48-162-20BT",13,"TRACK BENCH: 4FTx13.5FTx20INxBT",31,"BOTANICARE TRACK BENCH: 4FT WIDE x 13.5FT LONG x 20IN HIGH, TRILOCK",4,13.5,20]
[{"$f":"IF(B84=0,0,MAX($A$2:A83)+1)","v":0},{"$f":"IF(D84=Calcs!$X$38,Calcs!$W$38,IF(D84=Calcs!$X$39,Calcs!$W$39,IF(D84=Calcs!$X$40,Calcs!$W$40,IF(TRUE,0))))","v":0},83,"TB48-174-20BT",13,"TRACK BENCH: 4FTx14.5FTx20INxBT",31,"BOTANICARE TRACK BENCH: 4FT WIDE x 14.5FT LONG x 20IN HIGH, TRILOCK",4,14.5,20]
[{"$f":"IF(B85=0,0,MAX($A$2:A84)+1)","v":0},{"$f":"IF(D85=Calcs!$X$38,Calcs!$W$38,IF(D85=Calcs!$X$39,Calcs!$W$39,IF(D85=Calcs!$X$40,Calcs!$W$40,IF(TRUE,0))))","v":0},84,"TB48-186-20BT",13,"TRACK BENCH: 4FTx15.5FTx20INxBT",31,"BOTANICARE TRACK BENCH: 4FT WIDE x 15.5FT LONG x 20IN HIGH, TRILOCK",4,15.5,20]
[{"$f":"IF(B86=0,0,MAX($A$2:A85)+1)","v":0},{"$f":"IF(D86=Calcs!$X$38,Calcs!$W$38,IF(D86=Calcs!$X$39,Calcs!$W$39,IF(D86=Calcs!$X$40,Calcs!$W$40,IF(TRUE,0))))","v":0},85,"TB48-210-20BT",13,"TRACK BENCH: 4FTx17.5FTx20INxBT",31,"BOTANICARE TRACK BENCH: 4FT WIDE x 17.5FT LONG x 20IN HIGH, TRILOCK",4,17.5,20]
[{"$f":"IF(B87=0,0,MAX($A$2:A86)+1)","v":0},{"$f":"IF(D87=Calcs!$X$38,Calcs!$W$38,IF(D87=Calcs!$X$39,Calcs!$W$39,IF(D87=Calcs!$X$40,Calcs!$W$40,IF(TRUE,0))))","v":0},86,"TB48-222-20BT",13,"TRACK BENCH: 4FTx18.5FTx20INxBT",31,"BOTANICARE TRACK BENCH: 4FT WIDE x 18.5FT LONG x 20IN HIGH, TRILOCK",4,18.5,20]
[{"$f":"IF(B88=0,0,MAX($A$2:A87)+1)","v":0},{"$f":"IF(D88=Calcs!$X$38,Calcs!$W$38,IF(D88=Calcs!$X$39,Calcs!$W$39,IF(D88=Calcs!$X$40,Calcs!$W$40,IF(TRUE,0))))","v":0},87,"TB48-234-20BT",13,"TRACK BENCH: 4FTx19.5FTx20INxBT",31,"BOTANICARE TRACK BENCH: 4FT WIDE x 19.5FT LONG x 20IN HIGH, TRILOCK",4,19.5,20]
[{"$f":"IF(B89=0,0,MAX($A$2:A88)+1)","v":0},{"$f":"IF(D89=Calcs!$X$38,Calcs!$W$38,IF(D89=Calcs!$X$39,Calcs!$W$39,IF(D89=Calcs!$X$40,Calcs!$W$40,IF(TRUE,0))))","v":0},88,"TB48-246-20BT",13,"TRACK BENCH: 4FTx20.5FTx20INxBT",31,"BOTANICARE TRACK BENCH: 4FT WIDE x 20.5FT LONG x 20IN HIGH, TRILOCK",4,20.5,20]
[{"$f":"IF(B90=0,0,MAX($A$2:A89)+1)","v":0},{"$f":"IF(D90=Calcs!$X$38,Calcs!$W$38,IF(D90=Calcs!$X$39,Calcs!$W$39,IF(D90=Calcs!$X$40,Calcs!$W$40,IF(TRUE,0))))","v":0},89,"TB48-270-20BT",13,"TRACK BENCH: 4FTx22.5FTx20INxBT",31,"BOTANICARE TRACK BENCH: 4FT WIDE x 22.5FT LONG x 20IN HIGH, TRILOCK",4,22.5,20]
[{"$f":"IF(B91=0,0,MAX($A$2:A90)+1)","v":0},{"$f":"IF(D91=Calcs!$X$38,Calcs!$W$38,IF(D91=Calcs!$X$39,Calcs!$W$39,IF(D91=Calcs!$X$40,Calcs!$W$40,IF(TRUE,0))))","v":0},90,"TB48-282-20BT",13,"TRACK BENCH: 4FTx23.5FTx20INxBT",31,"BOTANICARE TRACK BENCH: 4FT WIDE x 23.5FT LONG x 20IN HIGH, TRILOCK",4,23.5,20]
[{"$f":"IF(B92=0,0,MAX($A$2:A91)+1)","v":0},{"$f":"IF(D92=Calcs!$X$38,Calcs!$W$38,IF(D92=Calcs!$X$39,Calcs!$W$39,IF(D92=Calcs!$X$40,Calcs!$W$40,IF(TRUE,0))))","v":0},91,"TB48-294-20BT",13,"TRACK BENCH: 4FTx24.5FTx20INxBT",31,"BOTANICARE TRACK BENCH: 4FT WIDE x 24.5FT LONG x 20IN HIGH, TRILOCK",4,24.5,20]
[{"$f":"IF(B93=0,0,MAX($A$2:A92)+1)","v":0},{"$f":"IF(D93=Calcs!$X$38,Calcs!$W$38,IF(D93=Calcs!$X$39,Calcs!$W$39,IF(D93=Calcs!$X$40,Calcs!$W$40,IF(TRUE,0))))","v":0},92,"TB48-306-20BT",13,"TRACK BENCH: 4FTx25.5FTx20INxBT",31,"BOTANICARE TRACK BENCH: 4FT WIDE x 25.5FT LONG x 20IN HIGH, TRILOCK",4,25.5,20]
[{"$f":"IF(B94=0,0,MAX($A$2:A93)+1)","v":0},{"$f":"IF(D94=Calcs!$X$38,Calcs!$W$38,IF(D94=Calcs!$X$39,Calcs!$W$39,IF(D94=Calcs!$X$40,Calcs!$W$40,IF(TRUE,0))))","v":0},93,"TB48-330-20BT",13,"TRACK BENCH: 4FTx27.5FTx20INxBT",31,"BOTANICARE TRACK BENCH: 4FT WIDE x 27.5FT LONG x 20IN HIGH, TRILOCK",4,27.5,20]
[{"$f":"IF(B95=0,0,MAX($A$2:A94)+1)","v":0},{"$f":"IF(D95=Calcs!$X$38,Calcs!$W$38,IF(D95=Calcs!$X$39,Calcs!$W$39,IF(D95=Calcs!$X$40,Calcs!$W$40,IF(TRUE,0))))","v":0},94,"TB48-342-20BT",13,"TRACK BENCH: 4FTx28.5FTx20INxBT",31,"BOTANICARE TRACK BENCH: 4FT WIDE x 28.5FT LONG x 20IN HIGH, TRILOCK",4,28.5,20]
[{"$f":"IF(B96=0,0,MAX($A$2:A95)+1)","v":0},{"$f":"IF(D96=Calcs!$X$38,Calcs!$W$38,IF(D96=Calcs!$X$39,Calcs!$W$39,IF(D96=Calcs!$X$40,Calcs!$W$40,IF(TRUE,0))))","v":0},95,"TB48-354-20BT",13,"TRACK BENCH: 4FTx29.5FTx20INxBT",31,"BOTANICARE TRACK BENCH: 4FT WIDE x 29.5FT LONG x 20IN HIGH, TRILOCK",4,29.5,20]
[{"$f":"IF(B97=0,0,MAX($A$2:A96)+1)","v":0},{"$f":"IF(D97=Calcs!$X$38,Calcs!$W$38,IF(D97=Calcs!$X$39,Calcs!$W$39,IF(D97=Calcs!$X$40,Calcs!$W$40,IF(TRUE,0))))","v":0},96,"TB48-366-20BT",13,"TRACK BENCH: 4FTx30.5FTx20INxBT",31,"BOTANICARE TRACK BENCH: 4FT WIDE x 30.5FT LONG x 20IN HIGH, TRILOCK",4,30.5,20]
[{"$f":"IF(B98=0,0,MAX($A$2:A97)+1)","v":0},{"$f":"IF(D98=Calcs!$X$38,Calcs!$W$38,IF(D98=Calcs!$X$39,Calcs!$W$39,IF(D98=Calcs!$X$40,Calcs!$W$40,IF(TRUE,0))))","v":0},97,"TB48-390-20BT",13,"TRACK BENCH: 4FTx32.5FTx20INxBT",31,"BOTANICARE TRACK BENCH: 4FT WIDE x 32.5FT LONG x 20IN HIGH, TRILOCK",4,32.5,20]
[{"$f":"IF(B99=0,0,MAX($A$2:A98)+1)","v":0},{"$f":"IF(D99=Calcs!$X$38,Calcs!$W$38,IF(D99=Calcs!$X$39,Calcs!$W$39,IF(D99=Calcs!$X$40,Calcs!$W$40,IF(TRUE,0))))","v":0},98,"TB48-402-20BT",13,"TRACK BENCH: 4FTx33.5FTx20INxBT",31,"BOTANICARE TRACK BENCH: 4FT WIDE x 33.5FT LONG x 20IN HIGH, TRILOCK",4,33.5,20]
[{"$f":"IF(B100=0,0,MAX($A$2:A99)+1)","v":0},{"$f":"IF(D100=Calcs!$X$38,Calcs!$W$38,IF(D100=Calcs!$X$39,Calcs!$W$39,IF(D100=Calcs!$X$40,Calcs!$W$40,IF(TRUE,0))))","v":0},99,"TB48-414-20BT",13,"TRACK BENCH: 4FTx34.5FTx20INxBT",31,"BOTANICARE TRACK BENCH: 4FT WIDE x 34.5FT LONG x 20IN HIGH, TRILOCK",4,34.5,20]
[{"$f":"IF(B101=0,0,MAX($A$2:A100)+1)","v":0},{"$f":"IF(D101=Calcs!$X$38,Calcs!$W$38,IF(D101=Calcs!$X$39,Calcs!$W$39,IF(D101=Calcs!$X$40,Calcs!$W$40,IF(TRUE,0))))","v":0},100,"TB48-426-20BT",13,"TRACK BENCH: 4FTx35.5FTx20INxBT",31,"BOTANICARE TRACK BENCH: 4FT WIDE x 35.5FT LONG x 20IN HIGH, TRILOCK",4,35.5,20]
[{"$f":"IF(B102=0,0,MAX($A$2:A101)+1)","v":0},{"$f":"IF(D102=Calcs!$X$38,Calcs!$W$38,IF(D102=Calcs!$X$39,Calcs!$W$39,IF(D102=Calcs!$X$40,Calcs!$W$40,IF(TRUE,0))))","v":0},101,"TB48-450-20BT",13,"TRACK BENCH: 4FTx37.5FTx20INxBT",31,"BOTANICARE TRACK BENCH: 4FT WIDE x 37.5FT LONG x 20IN HIGH, TRILOCK",4,37.5,20]
[{"$f":"IF(B103=0,0,MAX($A$2:A102)+1)","v":0},{"$f":"IF(D103=Calcs!$X$38,Calcs!$W$38,IF(D103=Calcs!$X$39,Calcs!$W$39,IF(D103=Calcs!$X$40,Calcs!$W$40,IF(TRUE,0))))","v":0},102,"TB48-462-20BT",13,"TRACK BENCH: 4FTx38.5FTx20INxBT",31,"BOTANICARE TRACK BENCH: 4FT WIDE x 38.5FT LONG x 20IN HIGH, TRILOCK",4,38.5,20]
[{"$f":"IF(B104=0,0,MAX($A$2:A103)+1)","v":0},{"$f":"IF(D104=Calcs!$X$38,Calcs!$W$38,IF(D104=Calcs!$X$39,Calcs!$W$39,IF(D104=Calcs!$X$40,Calcs!$W$40,IF(TRUE,0))))","v":0},103,"TB48-474-20BT",13,"TRACK BENCH: 4FTx39.5FTx20INxBT",31,"BOTANICARE TRACK BENCH: 4FT WIDE x 39.5FT LONG x 20IN HIGH, TRILOCK",4,39.5,20]
[{"$f":"IF(B105=0,0,MAX($A$2:A104)+1)","v":0},{"$f":"IF(D105=Calcs!$X$38,Calcs!$W$38,IF(D105=Calcs!$X$39,Calcs!$W$39,IF(D105=Calcs!$X$40,Calcs!$W$40,IF(TRUE,0))))","v":0},104,"TB48-486-20BT",13,"TRACK BENCH: 4FTx40.5FTx20INxBT",31,"BOTANICARE TRACK BENCH: 4FT WIDE x 40.5FT LONG x 20IN HIGH, TRILOCK",4,40.5,20]
[{"$f":"IF(B106=0,0,MAX($A$2:A105)+1)","v":0},{"$f":"IF(D106=Calcs!$X$38,Calcs!$W$38,IF(D106=Calcs!$X$39,Calcs!$W$39,IF(D106=Calcs!$X$40,Calcs!$W$40,IF(TRUE,0))))","v":0},105,"TB48-510-20BT",13,"TRACK BENCH: 4FTx42.5FTx20INxBT",31,"BOTANICARE TRACK BENCH: 4FT WIDE x 42.5FT LONG x 20IN HIGH, TRILOCK",4,42.5,20]
[{"$f":"IF(B107=0,0,MAX($A$2:A106)+1)","v":0},{"$f":"IF(D107=Calcs!$X$38,Calcs!$W$38,IF(D107=Calcs!$X$39,Calcs!$W$39,IF(D107=Calcs!$X$40,Calcs!$W$40,IF(TRUE,0))))","v":0},106,"TB48-522-20BT",13,"TRACK BENCH: 4FTx43.5FTx20INxBT",31,"BOTANICARE TRACK BENCH: 4FT WIDE x 43.5FT LONG x 20IN HIGH, TRILOCK",4,43.5,20]
[{"$f":"IF(B108=0,0,MAX($A$2:A107)+1)","v":0},{"$f":"IF(D108=Calcs!$X$38,Calcs!$W$38,IF(D108=Calcs!$X$39,Calcs!$W$39,IF(D108=Calcs!$X$40,Calcs!$W$40,IF(TRUE,0))))","v":0},107,"TB48-534-20BT",13,"TRACK BENCH: 4FTx44.5FTx20INxBT",31,"BOTANICARE TRACK BENCH: 4FT WIDE x 44.5FT LONG x 20IN HIGH, TRILOCK",4,44.5,20]
[{"$f":"IF(B109=0,0,MAX($A$2:A108)+1)","v":0},{"$f":"IF(D109=Calcs!$X$38,Calcs!$W$38,IF(D109=Calcs!$X$39,Calcs!$W$39,IF(D109=Calcs!$X$40,Calcs!$W$40,IF(TRUE,0))))","v":0},108,"TB48-546-20BT",13,"TRACK BENCH: 4FTx45.5FTx20INxBT",31,"BOTANICARE TRACK BENCH: 4FT WIDE x 45.5FT LONG x 20IN HIGH, TRILOCK",4,45.5,20]
[{"$f":"IF(B110=0,0,MAX($A$2:A109)+1)","v":0},{"$f":"IF(D110=Calcs!$X$38,Calcs!$W$38,IF(D110=Calcs!$X$39,Calcs!$W$39,IF(D110=Calcs!$X$40,Calcs!$W$40,IF(TRUE,0))))","v":0},109,"TB48-570-20BT",13,"TRACK BENCH: 4FTx47.5FTx20INxBT",31,"BOTANICARE TRACK BENCH: 4FT WIDE x 47.5FT LONG x 20IN HIGH, TRILOCK",4,47.5,20]
[{"$f":"IF(B111=0,0,MAX($A$2:A110)+1)","v":0},{"$f":"IF(D111=Calcs!$X$38,Calcs!$W$38,IF(D111=Calcs!$X$39,Calcs!$W$39,IF(D111=Calcs!$X$40,Calcs!$W$40,IF(TRUE,0))))","v":0},110,"TB48-582-20BT",13,"TRACK BENCH: 4FTx48.5FTx20INxBT",31,"BOTANICARE TRACK BENCH: 4FT WIDE x 48.5FT LONG x 20IN HIGH, TRILOCK",4,48.5,20]
[{"$f":"IF(B112=0,0,MAX($A$2:A111)+1)","v":0},{"$f":"IF(D112=Calcs!$X$38,Calcs!$W$38,IF(D112=Calcs!$X$39,Calcs!$W$39,IF(D112=Calcs!$X$40,Calcs!$W$40,IF(TRUE,0))))","v":0},111,"TB48-594-20BT",13,"TRACK BENCH: 4FTx49.5FTx20INxBT",31,"BOTANICARE TRACK BENCH: 4FT WIDE x 49.5FT LONG x 20IN HIGH, TRILOCK",4,49.5,20]
[{"$f":"IF(B113=0,0,MAX($A$2:A112)+1)","v":0},{"$f":"IF(D113=Calcs!$X$38,Calcs!$W$38,IF(D113=Calcs!$X$39,Calcs!$W$39,IF(D113=Calcs!$X$40,Calcs!$W$40,IF(TRUE,0))))","v":0},112,"TB48-606-20BT",13,"TRACK BENCH: 4FTx50.5FTx20INxBT",31,"BOTANICARE TRACK BENCH: 4FT WIDE x 50.5FT LONG x 20IN HIGH, TRILOCK",4,50.5,20]
[{"$f":"IF(B114=0,0,MAX($A$2:A113)+1)","v":0},{"$f":"IF(D114=Calcs!$X$38,Calcs!$W$38,IF(D114=Calcs!$X$39,Calcs!$W$39,IF(D114=Calcs!$X$40,Calcs!$W$40,IF(TRUE,0))))","v":0},113,"TB48-630-20BT",13,"TRACK BENCH: 4FTx52.5FTx20INxBT",31,"BOTANICARE TRACK BENCH: 4FT WIDE x 52.5FT LONG x 20IN HIGH, TRILOCK",4,52.5,20]
[{"$f":"IF(B115=0,0,MAX($A$2:A114)+1)","v":0},{"$f":"IF(D115=Calcs!$X$38,Calcs!$W$38,IF(D115=Calcs!$X$39,Calcs!$W$39,IF(D115=Calcs!$X$40,Calcs!$W$40,IF(TRUE,0))))","v":0},114,"TB48-642-20BT",13,"TRACK BENCH: 4FTx53.5FTx20INxBT",31,"BOTANICARE TRACK BENCH: 4FT WIDE x 53.5FT LONG x 20IN HIGH, TRILOCK",4,53.5,20]
[{"$f":"IF(B116=0,0,MAX($A$2:A115)+1)","v":0},{"$f":"IF(D116=Calcs!$X$38,Calcs!$W$38,IF(D116=Calcs!$X$39,Calcs!$W$39,IF(D116=Calcs!$X$40,Calcs!$W$40,IF(TRUE,0))))","v":0},115,"TB48-654-20BT",13,"TRACK BENCH: 4FTx54.5FTx20INxBT",31,"BOTANICARE TRACK BENCH: 4FT WIDE x 54.5FT LONG x 20IN HIGH, TRILOCK",4,54.5,20]
[{"$f":"IF(B117=0,0,MAX($A$2:A116)+1)","v":0},{"$f":"IF(D117=Calcs!$X$38,Calcs!$W$38,IF(D117=Calcs!$X$39,Calcs!$W$39,IF(D117=Calcs!$X$40,Calcs!$W$40,IF(TRUE,0))))","v":0},116,"TB48-666-20BT",13,"TRACK BENCH: 4FTx55.5FTx20INxBT",31,"BOTANICARE TRACK BENCH: 4FT WIDE x 55.5FT LONG x 20IN HIGH, TRILOCK",4,55.5,20]
[{"$f":"IF(B118=0,0,MAX($A$2:A117)+1)","v":0},{"$f":"IF(D118=Calcs!$X$38,Calcs!$W$38,IF(D118=Calcs!$X$39,Calcs!$W$39,IF(D118=Calcs!$X$40,Calcs!$W$40,IF(TRUE,0))))","v":0},117,"TB48-690-20BT",13,"TRACK BENCH: 4FTx57.5FTx20INxBT",31,"BOTANICARE TRACK BENCH: 4FT WIDE x 57.5FT LONG x 20IN HIGH, TRILOCK",4,57.5,20]
[{"$f":"IF(B119=0,0,MAX($A$2:A118)+1)","v":0},{"$f":"IF(D119=Calcs!$X$38,Calcs!$W$38,IF(D119=Calcs!$X$39,Calcs!$W$39,IF(D119=Calcs!$X$40,Calcs!$W$40,IF(TRUE,0))))","v":0},118,"TB48-702-20BT",13,"TRACK BENCH: 4FTx58.5FTx20INxBT",31,"BOTANICARE TRACK BENCH: 4FT WIDE x 58.5FT LONG x 20IN HIGH, TRILOCK",4,58.5,20]
[{"$f":"IF(B120=0,0,MAX($A$2:A119)+1)","v":0},{"$f":"IF(D120=Calcs!$X$38,Calcs!$W$38,IF(D120=Calcs!$X$39,Calcs!$W$39,IF(D120=Calcs!$X$40,Calcs!$W$40,IF(TRUE,0))))","v":0},119,"TB48-714-20BT",13,"TRACK BENCH: 4FTx59.5FTx20INxBT",31,"BOTANICARE TRACK BENCH: 4FT WIDE x 59.5FT LONG x 20IN HIGH, TRILOCK",4,59.5,20]
[{"$f":"IF(B121=0,0,MAX($A$2:A120)+1)","v":0},{"$f":"IF(D121=Calcs!$X$38,Calcs!$W$38,IF(D121=Calcs!$X$39,Calcs!$W$39,IF(D121=Calcs!$X$40,Calcs!$W$40,IF(TRUE,0))))","v":0},120,"TB48-726-20BT",13,"TRACK BENCH: 4FTx60.5FTx20INxBT",31,"BOTANICARE TRACK BENCH: 4FT WIDE x 60.5FT LONG x 20IN HIGH, TRILOCK",4,60.5,20]
[{"$f":"IF(B122=0,0,MAX($A$2:A121)+1)","v":0},{"$f":"IF(D122=Calcs!$X$38,Calcs!$W$38,IF(D122=Calcs!$X$39,Calcs!$W$39,IF(D122=Calcs!$X$40,Calcs!$W$40,IF(TRUE,0))))","v":0},121,"TB48-750-20BT",13,"TRACK BENCH: 4FTx62.5FTx20INxBT",31,"BOTANICARE TRACK BENCH: 4FT WIDE x 62.5FT LONG x 20IN HIGH, TRILOCK",4,62.5,20]
[{"$f":"IF(B123=0,0,MAX($A$2:A122)+1)","v":0},{"$f":"IF(D123=Calcs!$X$38,Calcs!$W$38,IF(D123=Calcs!$X$39,Calcs!$W$39,IF(D123=Calcs!$X$40,Calcs!$W$40,IF(TRUE,0))))","v":0},122,"TB48-762-20BT",13,"TRACK BENCH: 4FTx63.5FTx20INxBT",31,"BOTANICARE TRACK BENCH: 4FT WIDE x 63.5FT LONG x 20IN HIGH, TRILOCK",4,63.5,20]
[{"$f":"IF(B124=0,0,MAX($A$2:A123)+1)","v":0},{"$f":"IF(D124=Calcs!$X$38,Calcs!$W$38,IF(D124=Calcs!$X$39,Calcs!$W$39,IF(D124=Calcs!$X$40,Calcs!$W$40,IF(TRUE,0))))","v":0},123,"TB48-774-20BT",13,"TRACK BENCH: 4FTx64.5FTx20INxBT",31,"BOTANICARE TRACK BENCH: 4FT WIDE x 64.5FT LONG x 20IN HIGH, TRILOCK",4,64.5,20]
[{"$f":"IF(B125=0,0,MAX($A$2:A124)+1)","v":0},{"$f":"IF(D125=Calcs!$X$38,Calcs!$W$38,IF(D125=Calcs!$X$39,Calcs!$W$39,IF(D125=Calcs!$X$40,Calcs!$W$40,IF(TRUE,0))))","v":0},124,"TB48-786-20BT",13,"TRACK BENCH: 4FTx65.5FTx20INxBT",31,"BOTANICARE TRACK BENCH: 4FT WIDE x 65.5FT LONG x 20IN HIGH, TRILOCK",4,65.5,20]
[{"$f":"IF(B126=0,0,MAX($A$2:A125)+1)","v":0},{"$f":"IF(D126=Calcs!$X$38,Calcs!$W$38,IF(D126=Calcs!$X$39,Calcs!$W$39,IF(D126=Calcs!$X$40,Calcs!$W$40,IF(TRUE,0))))","v":0},125,"TB48-810-20BT",13,"TRACK BENCH: 4FTx67.5FTx20INxBT",31,"BOTANICARE TRACK BENCH: 4FT WIDE x 67.5FT LONG x 20IN HIGH, TRILOCK",4,67.5,20]
[{"$f":"IF(B127=0,0,MAX($A$2:A126)+1)","v":0},{"$f":"IF(D127=Calcs!$X$38,Calcs!$W$38,IF(D127=Calcs!$X$39,Calcs!$W$39,IF(D127=Calcs!$X$40,Calcs!$W$40,IF(TRUE,0))))","v":0},126,"TB48-822-20BT",13,"TRACK BENCH: 4FTx68.5FTx20INxBT",31,"BOTANICARE TRACK BENCH: 4FT WIDE x 68.5FT LONG x 20IN HIGH, TRILOCK",4,68.5,20]
[{"$f":"IF(B128=0,0,MAX($A$2:A127)+1)","v":0},{"$f":"IF(D128=Calcs!$X$38,Calcs!$W$38,IF(D128=Calcs!$X$39,Calcs!$W$39,IF(D128=Calcs!$X$40,Calcs!$W$40,IF(TRUE,0))))","v":0},127,"TB48-834-20BT",13,"TRACK BENCH: 4FTx69.5FTx20INxBT",31,"BOTANICARE TRACK BENCH: 4FT WIDE x 69.5FT LONG x 20IN HIGH, TRILOCK",4,69.5,20]
[{"$f":"IF(B129=0,0,MAX($A$2:A128)+1)","v":0},{"$f":"IF(D129=Calcs!$X$38,Calcs!$W$38,IF(D129=Calcs!$X$39,Calcs!$W$39,IF(D129=Calcs!$X$40,Calcs!$W$40,IF(TRUE,0))))","v":0},128,"TB48-846-20BT",13,"TRACK BENCH: 4FTx70.5FTx20INxBT",31,"BOTANICARE TRACK BENCH: 4FT WIDE x 70.5FT LONG x 20IN HIGH, TRILOCK",4,70.5,20]
[{"$f":"IF(B130=0,0,MAX($A$2:A129)+1)","v":0},{"$f":"IF(D130=Calcs!$X$38,Calcs!$W$38,IF(D130=Calcs!$X$39,Calcs!$W$39,IF(D130=Calcs!$X$40,Calcs!$W$40,IF(TRUE,0))))","v":0},129,"TB48-870-20BT",13,"TRACK BENCH: 4FTx72.5FTx20INxBT",31,"BOTANICARE TRACK BENCH: 4FT WIDE x 72.5FT LONG x 20IN HIGH, TRILOCK",4,72.5,20]
[{"$f":"IF(B131=0,0,MAX($A$2:A130)+1)","v":0},{"$f":"IF(D131=Calcs!$X$38,Calcs!$W$38,IF(D131=Calcs!$X$39,Calcs!$W$39,IF(D131=Calcs!$X$40,Calcs!$W$40,IF(TRUE,0))))","v":0},130,"TB48-882-20BT",13,"TRACK BENCH: 4FTx73.5FTx20INxBT",31,"BOTANICARE TRACK BENCH: 4FT WIDE x 73.5FT LONG x 20IN HIGH, TRILOCK",4,73.5,20]
[{"$f":"IF(B132=0,0,MAX($A$2:A131)+1)","v":0},{"$f":"IF(D132=Calcs!$X$38,Calcs!$W$38,IF(D132=Calcs!$X$39,Calcs!$W$39,IF(D132=Calcs!$X$40,Calcs!$W$40,IF(TRUE,0))))","v":0},131,"TB48-894-20BT",13,"TRACK BENCH: 4FTx74.5FTx20INxBT",31,"BOTANICARE TRACK BENCH: 4FT WIDE x 74.5FT LONG x 20IN HIGH, TRILOCK",4,74.5,20]
[{"$f":"IF(B133=0,0,MAX($A$2:A132)+1)","v":0},{"$f":"IF(D133=Calcs!$X$38,Calcs!$W$38,IF(D133=Calcs!$X$39,Calcs!$W$39,IF(D133=Calcs!$X$40,Calcs!$W$40,IF(TRUE,0))))","v":0},132,"TB48-906-20BT",13,"TRACK BENCH: 4FTx75.5FTx20INxBT",31,"BOTANICARE TRACK BENCH: 4FT WIDE x 75.5FT LONG x 20IN HIGH, TRILOCK",4,75.5,20]
[{"$f":"IF(B134=0,0,MAX($A$2:A133)+1)","v":0},{"$f":"IF(D134=Calcs!$X$38,Calcs!$W$38,IF(D134=Calcs!$X$39,Calcs!$W$39,IF(D134=Calcs!$X$40,Calcs!$W$40,IF(TRUE,0))))","v":0},133,"TB48-930-20BT",13,"TRACK BENCH: 4FTx77.5FTx20INxBT",31,"BOTANICARE TRACK BENCH: 4FT WIDE x 77.5FT LONG x 20IN HIGH, TRILOCK",4,77.5,20]
[{"$f":"IF(B135=0,0,MAX($A$2:A134)+1)","v":0},{"$f":"IF(D135=Calcs!$X$38,Calcs!$W$38,IF(D135=Calcs!$X$39,Calcs!$W$39,IF(D135=Calcs!$X$40,Calcs!$W$40,IF(TRUE,0))))","v":0},134,"TB48-942-20BT",13,"TRACK BENCH: 4FTx78.5FTx20INxBT",31,"BOTANICARE TRACK BENCH: 4FT WIDE x 78.5FT LONG x 20IN HIGH, TRILOCK",4,78.5,20]
[{"$f":"IF(B136=0,0,MAX($A$2:A135)+1)","v":0},{"$f":"IF(D136=Calcs!$X$38,Calcs!$W$38,IF(D136=Calcs!$X$39,Calcs!$W$39,IF(D136=Calcs!$X$40,Calcs!$W$40,IF(TRUE,0))))","v":0},135,"TB48-954-20BT",13,"TRACK BENCH: 4FTx79.5FTx20INxBT",31,"BOTANICARE TRACK BENCH: 4FT WIDE x 79.5FT LONG x 20IN HIGH, TRILOCK",4,79.5,20]
[{"$f":"IF(B137=0,0,MAX($A$2:A136)+1)","v":0},{"$f":"IF(D137=Calcs!$X$38,Calcs!$W$38,IF(D137=Calcs!$X$39,Calcs!$W$39,IF(D137=Calcs!$X$40,Calcs!$W$40,IF(TRUE,0))))","v":0},136,"TB48-966-20BT",13,"TRACK BENCH: 4FTx80.5FTx20INxBT",31,"BOTANICARE TRACK BENCH: 4FT WIDE x 80.5FT LONG x 20IN HIGH, TRILOCK",4,80.5,20]
[{"$f":"IF(B138=0,0,MAX($A$2:A137)+1)","v":0},{"$f":"IF(D138=Calcs!$X$38,Calcs!$W$38,IF(D138=Calcs!$X$39,Calcs!$W$39,IF(D138=Calcs!$X$40,Calcs!$W$40,IF(TRUE,0))))","v":0},137,"TB48-990-20BT",13,"TRACK BENCH: 4FTx82.5FTx20INxBT",31,"BOTANICARE TRACK BENCH: 4FT WIDE x 82.5FT LONG x 20IN HIGH, TRILOCK",4,82.5,20]
[{"$f":"IF(B139=0,0,MAX($A$2:A138)+1)","v":0},{"$f":"IF(D139=Calcs!$X$38,Calcs!$W$38,IF(D139=Calcs!$X$39,Calcs!$W$39,IF(D139=Calcs!$X$40,Calcs!$W$40,IF(TRUE,0))))","v":0},138,"TB48-1002-20BT",14,"TRACK BENCH: 4FTx83.5FTx20INxBT",31,"BOTANICARE TRACK BENCH: 4FT WIDE x 83.5FT LONG x 20IN HIGH, TRILOCK",4,83.5,20]
[{"$f":"IF(B140=0,0,MAX($A$2:A139)+1)","v":0},{"$f":"IF(D140=Calcs!$X$38,Calcs!$W$38,IF(D140=Calcs!$X$39,Calcs!$W$39,IF(D140=Calcs!$X$40,Calcs!$W$40,IF(TRUE,0))))","v":0},139,"TB48-1014-20BT",14,"TRACK BENCH: 4FTx84.5FTx20INxBT",31,"BOTANICARE TRACK BENCH: 4FT WIDE x 84.5FT LONG x 20IN HIGH, TRILOCK",4,84.5,20]
[{"$f":"IF(B141=0,0,MAX($A$2:A140)+1)","v":0},{"$f":"IF(D141=Calcs!$X$38,Calcs!$W$38,IF(D141=Calcs!$X$39,Calcs!$W$39,IF(D141=Calcs!$X$40,Calcs!$W$40,IF(TRUE,0))))","v":0},140,"TB48-1026-20BT",14,"TRACK BENCH: 4FTx85.5FTx20INxBT",31,"BOTANICARE TRACK BENCH: 4FT WIDE x 85.5FT LONG x 20IN HIGH, TRILOCK",4,85.5,20]
[{"$f":"IF(B142=0,0,MAX($A$2:A141)+1)","v":0},{"$f":"IF(D142=Calcs!$X$38,Calcs!$W$38,IF(D142=Calcs!$X$39,Calcs!$W$39,IF(D142=Calcs!$X$40,Calcs!$W$40,IF(TRUE,0))))","v":0},141,"TB48-1050-20BT",14,"TRACK BENCH: 4FTx87.5FTx20INxBT",31,"BOTANICARE TRACK BENCH: 4FT WIDE x 87.5FT LONG x 20IN HIGH, TRILOCK",4,87.5,20]
[{"$f":"IF(B143=0,0,MAX($A$2:A142)+1)","v":0},{"$f":"IF(D143=Calcs!$X$38,Calcs!$W$38,IF(D143=Calcs!$X$39,Calcs!$W$39,IF(D143=Calcs!$X$40,Calcs!$W$40,IF(TRUE,0))))","v":0},142,"TB48-1062-20BT",14,"TRACK BENCH: 4FTx88.5FTx20INxBT",31,"BOTANICARE TRACK BENCH: 4FT WIDE x 88.5FT LONG x 20IN HIGH, TRILOCK",4,88.5,20]
[{"$f":"IF(B144=0,0,MAX($A$2:A143)+1)","v":0},{"$f":"IF(D144=Calcs!$X$38,Calcs!$W$38,IF(D144=Calcs!$X$39,Calcs!$W$39,IF(D144=Calcs!$X$40,Calcs!$W$40,IF(TRUE,0))))","v":0},143,"TB48-1074-20BT",14,"TRACK BENCH: 4FTx89.5FTx20INxBT",31,"BOTANICARE TRACK BENCH: 4FT WIDE x 89.5FT LONG x 20IN HIGH, TRILOCK",4,89.5,20]
[{"$f":"IF(B145=0,0,MAX($A$2:A144)+1)","v":0},{"$f":"IF(D145=Calcs!$X$38,Calcs!$W$38,IF(D145=Calcs!$X$39,Calcs!$W$39,IF(D145=Calcs!$X$40,Calcs!$W$40,IF(TRUE,0))))","v":0},144,"TB48-1086-20BT",14,"TRACK BENCH: 4FTx90.5FTx20INxBT",31,"BOTANICARE TRACK BENCH: 4FT WIDE x 90.5FT LONG x 20IN HIGH, TRILOCK",4,90.5,20]
[{"$f":"IF(B146=0,0,MAX($A$2:A145)+1)","v":0},{"$f":"IF(D146=Calcs!$X$38,Calcs!$W$38,IF(D146=Calcs!$X$39,Calcs!$W$39,IF(D146=Calcs!$X$40,Calcs!$W$40,IF(TRUE,0))))","v":0},145,"TB48-1110-20BT",14,"TRACK BENCH: 4FTx92.5FTx20INxBT",31,"BOTANICARE TRACK BENCH: 4FT WIDE x 92.5FT LONG x 20IN HIGH, TRILOCK",4,92.5,20]
[{"$f":"IF(B147=0,0,MAX($A$2:A146)+1)","v":0},{"$f":"IF(D147=Calcs!$X$38,Calcs!$W$38,IF(D147=Calcs!$X$39,Calcs!$W$39,IF(D147=Calcs!$X$40,Calcs!$W$40,IF(TRUE,0))))","v":0},146,"TB48-1122-20BT",14,"TRACK BENCH: 4FTx93.5FTx20INxBT",31,"BOTANICARE TRACK BENCH: 4FT WIDE x 93.5FT LONG x 20IN HIGH, TRILOCK",4,93.5,20]
[{"$f":"IF(B148=0,0,MAX($A$2:A147)+1)","v":0},{"$f":"IF(D148=Calcs!$X$38,Calcs!$W$38,IF(D148=Calcs!$X$39,Calcs!$W$39,IF(D148=Calcs!$X$40,Calcs!$W$40,IF(TRUE,0))))","v":0},147,"TB48-1134-20BT",14,"TRACK BENCH: 4FTx94.5FTx20INxBT",31,"BOTANICARE TRACK BENCH: 4FT WIDE x 94.5FT LONG x 20IN HIGH, TRILOCK",4,94.5,20]
[{"$f":"IF(B149=0,0,MAX($A$2:A148)+1)","v":0},{"$f":"IF(D149=Calcs!$X$38,Calcs!$W$38,IF(D149=Calcs!$X$39,Calcs!$W$39,IF(D149=Calcs!$X$40,Calcs!$W$40,IF(TRUE,0))))","v":0},148,"TB48-1146-20BT",14,"TRACK BENCH: 4FTx95.5FTx20INxBT",31,"BOTANICARE TRACK BENCH: 4FT WIDE x 95.5FT LONG x 20IN HIGH, TRILOCK",4,95.5,20]
[{"$f":"IF(B150=0,0,MAX($A$2:A149)+1)","v":0},{"$f":"IF(D150=Calcs!$X$38,Calcs!$W$38,IF(D150=Calcs!$X$39,Calcs!$W$39,IF(D150=Calcs!$X$40,Calcs!$W$40,IF(TRUE,0))))","v":0},149,"TB48-1170-20BT",14,"TRACK BENCH: 4FTx97.5FTx20INxBT",31,"BOTANICARE TRACK BENCH: 4FT WIDE x 97.5FT LONG x 20IN HIGH, TRILOCK",4,97.5,20]
[{"$f":"IF(B151=0,0,MAX($A$2:A150)+1)","v":0},{"$f":"IF(D151=Calcs!$X$38,Calcs!$W$38,IF(D151=Calcs!$X$39,Calcs!$W$39,IF(D151=Calcs!$X$40,Calcs!$W$40,IF(TRUE,0))))","v":0},150,"TB48-1182-20BT",14,"TRACK BENCH: 4FTx98.5FTx20INxBT",31,"BOTANICARE TRACK BENCH: 4FT WIDE x 98.5FT LONG x 20IN HIGH, TRILOCK",4,98.5,20]
[{"$f":"IF(B152=0,0,MAX($A$2:A151)+1)","v":0},{"$f":"IF(D152=Calcs!$X$38,Calcs!$W$38,IF(D152=Calcs!$X$39,Calcs!$W$39,IF(D152=Calcs!$X$40,Calcs!$W$40,IF(TRUE,0))))","v":0},151,"TB48-1194-20BT",14,"TRACK BENCH: 4FTx99.5FTx20INxBT",31,"BOTANICARE TRACK BENCH: 4FT WIDE x 99.5FT LONG x 20IN HIGH, TRILOCK",4,99.5,20]
[{"$f":"IF(B153=0,0,MAX($A$2:A152)+1)","v":0},{"$f":"IF(D153=Calcs!$X$38,Calcs!$W$38,IF(D153=Calcs!$X$39,Calcs!$W$39,IF(D153=Calcs!$X$40,Calcs!$W$40,IF(TRUE,0))))","v":0},152,"TB48-1206-20BT",14,"TRACK BENCH: 4FTx100.5FTx20INxBT",32,"BOTANICARE TRACK BENCH: 4FT WIDE x 100.5FT LONG x 20IN HIGH, TRILOCK",4,100.5,20]
[{"$f":"IF(B154=0,0,MAX($A$2:A153)+1)","v":0},{"$f":"IF(D154=Calcs!$X$38,Calcs!$W$38,IF(D154=Calcs!$X$39,Calcs!$W$39,IF(D154=Calcs!$X$40,Calcs!$W$40,IF(TRUE,0))))","v":0},153,"TB48-90-30BT",12,"TRACK BENCH: 4FTx7.5FTx30INxBT",30,"BOTANICARE TRACK BENCH: 4FT WIDE x 7.5FT LONG x 30IN HIGH, TRILOCK",4,7.5,30]
[{"$f":"IF(B155=0,0,MAX($A$2:A154)+1)","v":0},{"$f":"IF(D155=Calcs!$X$38,Calcs!$W$38,IF(D155=Calcs!$X$39,Calcs!$W$39,IF(D155=Calcs!$X$40,Calcs!$W$40,IF(TRUE,0))))","v":0},154,"TB48-102-30BT",13,"TRACK BENCH: 4FTx8.5FTx30INxBT",30,"BOTANICARE TRACK BENCH: 4FT WIDE x 8.5FT LONG x 30IN HIGH, TRILOCK",4,8.5,30]
[{"$f":"IF(B156=0,0,MAX($A$2:A155)+1)","v":0},{"$f":"IF(D156=Calcs!$X$38,Calcs!$W$38,IF(D156=Calcs!$X$39,Calcs!$W$39,IF(D156=Calcs!$X$40,Calcs!$W$40,IF(TRUE,0))))","v":0},155,"TB48-114-30BT",13,"TRACK BENCH: 4FTx9.5FTx30INxBT",30,"BOTANICARE TRACK BENCH: 4FT WIDE x 9.5FT LONG x 30IN HIGH, TRILOCK",4,9.5,30]
[{"$f":"IF(B157=0,0,MAX($A$2:A156)+1)","v":0},{"$f":"IF(D157=Calcs!$X$38,Calcs!$W$38,IF(D157=Calcs!$X$39,Calcs!$W$39,IF(D157=Calcs!$X$40,Calcs!$W$40,IF(TRUE,0))))","v":0},156,"TB48-126-30BT",13,"TRACK BENCH: 4FTx10.5FTx30INxBT",31,"BOTANICARE TRACK BENCH: 4FT WIDE x 10.5FT LONG x 30IN HIGH, TRILOCK",4,10.5,30]
[{"$f":"IF(B158=0,0,MAX($A$2:A157)+1)","v":0},{"$f":"IF(D158=Calcs!$X$38,Calcs!$W$38,IF(D158=Calcs!$X$39,Calcs!$W$39,IF(D158=Calcs!$X$40,Calcs!$W$40,IF(TRUE,0))))","v":0},157,"TB48-150-30BT",13,"TRACK BENCH: 4FTx12.5FTx30INxBT",31,"BOTANICARE TRACK BENCH: 4FT WIDE x 12.5FT LONG x 30IN HIGH, TRILOCK",4,12.5,30]
[{"$f":"IF(B159=0,0,MAX($A$2:A158)+1)","v":0},{"$f":"IF(D159=Calcs!$X$38,Calcs!$W$38,IF(D159=Calcs!$X$39,Calcs!$W$39,IF(D159=Calcs!$X$40,Calcs!$W$40,IF(TRUE,0))))","v":0},158,"TB48-162-30BT",13,"TRACK BENCH: 4FTx13.5FTx30INxBT",31,"BOTANICARE TRACK BENCH: 4FT WIDE x 13.5FT LONG x 30IN HIGH, TRILOCK",4,13.5,30]
[{"$f":"IF(B160=0,0,MAX($A$2:A159)+1)","v":0},{"$f":"IF(D160=Calcs!$X$38,Calcs!$W$38,IF(D160=Calcs!$X$39,Calcs!$W$39,IF(D160=Calcs!$X$40,Calcs!$W$40,IF(TRUE,0))))","v":0},159,"TB48-174-30BT",13,"TRACK BENCH: 4FTx14.5FTx30INxBT",31,"BOTANICARE TRACK BENCH: 4FT WIDE x 14.5FT LONG x 30IN HIGH, TRILOCK",4,14.5,30]
[{"$f":"IF(B161=0,0,MAX($A$2:A160)+1)","v":0},{"$f":"IF(D161=Calcs!$X$38,Calcs!$W$38,IF(D161=Calcs!$X$39,Calcs!$W$39,IF(D161=Calcs!$X$40,Calcs!$W$40,IF(TRUE,0))))","v":0},160,"TB48-186-30BT",13,"TRACK BENCH: 4FTx15.5FTx30INxBT",31,"BOTANICARE TRACK BENCH: 4FT WIDE x 15.5FT LONG x 30IN HIGH, TRILOCK",4,15.5,30]
[{"$f":"IF(B162=0,0,MAX($A$2:A161)+1)","v":0},{"$f":"IF(D162=Calcs!$X$38,Calcs!$W$38,IF(D162=Calcs!$X$39,Calcs!$W$39,IF(D162=Calcs!$X$40,Calcs!$W$40,IF(TRUE,0))))","v":0},161,"TB48-210-30BT",13,"TRACK BENCH: 4FTx17.5FTx30INxBT",31,"BOTANICARE TRACK BENCH: 4FT WIDE x 17.5FT LONG x 30IN HIGH, TRILOCK",4,17.5,30]
[{"$f":"IF(B163=0,0,MAX($A$2:A162)+1)","v":0},{"$f":"IF(D163=Calcs!$X$38,Calcs!$W$38,IF(D163=Calcs!$X$39,Calcs!$W$39,IF(D163=Calcs!$X$40,Calcs!$W$40,IF(TRUE,0))))","v":0},162,"TB48-222-30BT",13,"TRACK BENCH: 4FTx18.5FTx30INxBT",31,"BOTANICARE TRACK BENCH: 4FT WIDE x 18.5FT LONG x 30IN HIGH, TRILOCK",4,18.5,30]
[{"$f":"IF(B164=0,0,MAX($A$2:A163)+1)","v":0},{"$f":"IF(D164=Calcs!$X$38,Calcs!$W$38,IF(D164=Calcs!$X$39,Calcs!$W$39,IF(D164=Calcs!$X$40,Calcs!$W$40,IF(TRUE,0))))","v":0},163,"TB48-234-30BT",13,"TRACK BENCH: 4FTx19.5FTx30INxBT",31,"BOTANICARE TRACK BENCH: 4FT WIDE x 19.5FT LONG x 30IN HIGH, TRILOCK",4,19.5,30]
[{"$f":"IF(B165=0,0,MAX($A$2:A164)+1)","v":0},{"$f":"IF(D165=Calcs!$X$38,Calcs!$W$38,IF(D165=Calcs!$X$39,Calcs!$W$39,IF(D165=Calcs!$X$40,Calcs!$W$40,IF(TRUE,0))))","v":0},164,"TB48-246-30BT",13,"TRACK BENCH: 4FTx20.5FTx30INxBT",31,"BOTANICARE TRACK BENCH: 4FT WIDE x 20.5FT LONG x 30IN HIGH, TRILOCK",4,20.5,30]
[{"$f":"IF(B166=0,0,MAX($A$2:A165)+1)","v":0},{"$f":"IF(D166=Calcs!$X$38,Calcs!$W$38,IF(D166=Calcs!$X$39,Calcs!$W$39,IF(D166=Calcs!$X$40,Calcs!$W$40,IF(TRUE,0))))","v":0},165,"TB48-270-30BT",13,"TRACK BENCH: 4FTx22.5FTx30INxBT",31,"BOTANICARE TRACK BENCH: 4FT WIDE x 22.5FT LONG x 30IN HIGH, TRILOCK",4,22.5,30]
[{"$f":"IF(B167=0,0,MAX($A$2:A166)+1)","v":0},{"$f":"IF(D167=Calcs!$X$38,Calcs!$W$38,IF(D167=Calcs!$X$39,Calcs!$W$39,IF(D167=Calcs!$X$40,Calcs!$W$40,IF(TRUE,0))))","v":0},166,"TB48-282-30BT",13,"TRACK BENCH: 4FTx23.5FTx30INxBT",31,"BOTANICARE TRACK BENCH: 4FT WIDE x 23.5FT LONG x 30IN HIGH, TRILOCK",4,23.5,30]
[{"$f":"IF(B168=0,0,MAX($A$2:A167)+1)","v":0},{"$f":"IF(D168=Calcs!$X$38,Calcs!$W$38,IF(D168=Calcs!$X$39,Calcs!$W$39,IF(D168=Calcs!$X$40,Calcs!$W$40,IF(TRUE,0))))","v":0},167,"TB48-294-30BT",13,"TRACK BENCH: 4FTx24.5FTx30INxBT",31,"BOTANICARE TRACK BENCH: 4FT WIDE x 24.5FT LONG x 30IN HIGH, TRILOCK",4,24.5,30]
[{"$f":"IF(B169=0,0,MAX($A$2:A168)+1)","v":0},{"$f":"IF(D169=Calcs!$X$38,Calcs!$W$38,IF(D169=Calcs!$X$39,Calcs!$W$39,IF(D169=Calcs!$X$40,Calcs!$W$40,IF(TRUE,0))))","v":0},168,"TB48-306-30BT",13,"TRACK BENCH: 4FTx25.5FTx30INxBT",31,"BOTANICARE TRACK BENCH: 4FT WIDE x 25.5FT LONG x 30IN HIGH, TRILOCK",4,25.5,30]
[{"$f":"IF(B170=0,0,MAX($A$2:A169)+1)","v":0},{"$f":"IF(D170=Calcs!$X$38,Calcs!$W$38,IF(D170=Calcs!$X$39,Calcs!$W$39,IF(D170=Calcs!$X$40,Calcs!$W$40,IF(TRUE,0))))","v":0},169,"TB48-330-30BT",13,"TRACK BENCH: 4FTx27.5FTx30INxBT",31,"BOTANICARE TRACK BENCH: 4FT WIDE x 27.5FT LONG x 30IN HIGH, TRILOCK",4,27.5,30]
[{"$f":"IF(B171=0,0,MAX($A$2:A170)+1)","v":0},{"$f":"IF(D171=Calcs!$X$38,Calcs!$W$38,IF(D171=Calcs!$X$39,Calcs!$W$39,IF(D171=Calcs!$X$40,Calcs!$W$40,IF(TRUE,0))))","v":0},170,"TB48-342-30BT",13,"TRACK BENCH: 4FTx28.5FTx30INxBT",31,"BOTANICARE TRACK BENCH: 4FT WIDE x 28.5FT LONG x 30IN HIGH, TRILOCK",4,28.5,30]
[{"$f":"IF(B172=0,0,MAX($A$2:A171)+1)","v":0},{"$f":"IF(D172=Calcs!$X$38,Calcs!$W$38,IF(D172=Calcs!$X$39,Calcs!$W$39,IF(D172=Calcs!$X$40,Calcs!$W$40,IF(TRUE,0))))","v":0},171,"TB48-354-30BT",13,"TRACK BENCH: 4FTx29.5FTx30INxBT",31,"BOTANICARE TRACK BENCH: 4FT WIDE x 29.5FT LONG x 30IN HIGH, TRILOCK",4,29.5,30]
[{"$f":"IF(B173=0,0,MAX($A$2:A172)+1)","v":0},{"$f":"IF(D173=Calcs!$X$38,Calcs!$W$38,IF(D173=Calcs!$X$39,Calcs!$W$39,IF(D173=Calcs!$X$40,Calcs!$W$40,IF(TRUE,0))))","v":0},172,"TB48-366-30BT",13,"TRACK BENCH: 4FTx30.5FTx30INxBT",31,"BOTANICARE TRACK BENCH: 4FT WIDE x 30.5FT LONG x 30IN HIGH, TRILOCK",4,30.5,30]
[{"$f":"IF(B174=0,0,MAX($A$2:A173)+1)","v":0},{"$f":"IF(D174=Calcs!$X$38,Calcs!$W$38,IF(D174=Calcs!$X$39,Calcs!$W$39,IF(D174=Calcs!$X$40,Calcs!$W$40,IF(TRUE,0))))","v":0},173,"TB48-390-30BT",13,"TRACK BENCH: 4FTx32.5FTx30INxBT",31,"BOTANICARE TRACK BENCH: 4FT WIDE x 32.5FT LONG x 30IN HIGH, TRILOCK",4,32.5,30]
[{"$f":"IF(B175=0,0,MAX($A$2:A174)+1)","v":0},{"$f":"IF(D175=Calcs!$X$38,Calcs!$W$38,IF(D175=Calcs!$X$39,Calcs!$W$39,IF(D175=Calcs!$X$40,Calcs!$W$40,IF(TRUE,0))))","v":0},174,"TB48-402-30BT",13,"TRACK BENCH: 4FTx33.5FTx30INxBT",31,"BOTANICARE TRACK BENCH: 4FT WIDE x 33.5FT LONG x 30IN HIGH, TRILOCK",4,33.5,30]
[{"$f":"IF(B176=0,0,MAX($A$2:A175)+1)","v":0},{"$f":"IF(D176=Calcs!$X$38,Calcs!$W$38,IF(D176=Calcs!$X$39,Calcs!$W$39,IF(D176=Calcs!$X$40,Calcs!$W$40,IF(TRUE,0))))","v":0},175,"TB48-414-30BT",13,"TRACK BENCH: 4FTx34.5FTx30INxBT",31,"BOTANICARE TRACK BENCH: 4FT WIDE x 34.5FT LONG x 30IN HIGH, TRILOCK",4,34.5,30]
[{"$f":"IF(B177=0,0,MAX($A$2:A176)+1)","v":0},{"$f":"IF(D177=Calcs!$X$38,Calcs!$W$38,IF(D177=Calcs!$X$39,Calcs!$W$39,IF(D177=Calcs!$X$40,Calcs!$W$40,IF(TRUE,0))))","v":0},176,"TB48-426-30BT",13,"TRACK BENCH: 4FTx35.5FTx30INxBT",31,"BOTANICARE TRACK BENCH: 4FT WIDE x 35.5FT LONG x 30IN HIGH, TRILOCK",4,35.5,30]
[{"$f":"IF(B178=0,0,MAX($A$2:A177)+1)","v":0},{"$f":"IF(D178=Calcs!$X$38,Calcs!$W$38,IF(D178=Calcs!$X$39,Calcs!$W$39,IF(D178=Calcs!$X$40,Calcs!$W$40,IF(TRUE,0))))","v":0},177,"TB48-450-30BT",13,"TRACK BENCH: 4FTx37.5FTx30INxBT",31,"BOTANICARE TRACK BENCH: 4FT WIDE x 37.5FT LONG x 30IN HIGH, TRILOCK",4,37.5,30]
[{"$f":"IF(B179=0,0,MAX($A$2:A178)+1)","v":0},{"$f":"IF(D179=Calcs!$X$38,Calcs!$W$38,IF(D179=Calcs!$X$39,Calcs!$W$39,IF(D179=Calcs!$X$40,Calcs!$W$40,IF(TRUE,0))))","v":0},178,"TB48-462-30BT",13,"TRACK BENCH: 4FTx38.5FTx30INxBT",31,"BOTANICARE TRACK BENCH: 4FT WIDE x 38.5FT LONG x 30IN HIGH, TRILOCK",4,38.5,30]
[{"$f":"IF(B180=0,0,MAX($A$2:A179)+1)","v":0},{"$f":"IF(D180=Calcs!$X$38,Calcs!$W$38,IF(D180=Calcs!$X$39,Calcs!$W$39,IF(D180=Calcs!$X$40,Calcs!$W$40,IF(TRUE,0))))","v":0},179,"TB48-474-30BT",13,"TRACK BENCH: 4FTx39.5FTx30INxBT",31,"BOTANICARE TRACK BENCH: 4FT WIDE x 39.5FT LONG x 30IN HIGH, TRILOCK",4,39.5,30]
[{"$f":"IF(B181=0,0,MAX($A$2:A180)+1)","v":0},{"$f":"IF(D181=Calcs!$X$38,Calcs!$W$38,IF(D181=Calcs!$X$39,Calcs!$W$39,IF(D181=Calcs!$X$40,Calcs!$W$40,IF(TRUE,0))))","v":0},180,"TB48-486-30BT",13,"TRACK BENCH: 4FTx40.5FTx30INxBT",31,"BOTANICARE TRACK BENCH: 4FT WIDE x 40.5FT LONG x 30IN HIGH, TRILOCK",4,40.5,30]
[{"$f":"IF(B182=0,0,MAX($A$2:A181)+1)","v":0},{"$f":"IF(D182=Calcs!$X$38,Calcs!$W$38,IF(D182=Calcs!$X$39,Calcs!$W$39,IF(D182=Calcs!$X$40,Calcs!$W$40,IF(TRUE,0))))","v":0},181,"TB48-510-30BT",13,"TRACK BENCH: 4FTx42.5FTx30INxBT",31,"BOTANICARE TRACK BENCH: 4FT WIDE x 42.5FT LONG x 30IN HIGH, TRILOCK",4,42.5,30]
[{"$f":"IF(B183=0,0,MAX($A$2:A182)+1)","v":0},{"$f":"IF(D183=Calcs!$X$38,Calcs!$W$38,IF(D183=Calcs!$X$39,Calcs!$W$39,IF(D183=Calcs!$X$40,Calcs!$W$40,IF(TRUE,0))))","v":0},182,"TB48-522-30BT",13,"TRACK BENCH: 4FTx43.5FTx30INxBT",31,"BOTANICARE TRACK BENCH: 4FT WIDE x 43.5FT LONG x 30IN HIGH, TRILOCK",4,43.5,30]
[{"$f":"IF(B184=0,0,MAX($A$2:A183)+1)","v":0},{"$f":"IF(D184=Calcs!$X$38,Calcs!$W$38,IF(D184=Calcs!$X$39,Calcs!$W$39,IF(D184=Calcs!$X$40,Calcs!$W$40,IF(TRUE,0))))","v":0},183,"TB48-534-30BT",13,"TRACK BENCH: 4FTx44.5FTx30INxBT",31,"BOTANICARE TRACK BENCH: 4FT WIDE x 44.5FT LONG x 30IN HIGH, TRILOCK",4,44.5,30]
[{"$f":"IF(B185=0,0,MAX($A$2:A184)+1)","v":0},{"$f":"IF(D185=Calcs!$X$38,Calcs!$W$38,IF(D185=Calcs!$X$39,Calcs!$W$39,IF(D185=Calcs!$X$40,Calcs!$W$40,IF(TRUE,0))))","v":0},184,"TB48-546-30BT",13,"TRACK BENCH: 4FTx45.5FTx30INxBT",31,"BOTANICARE TRACK BENCH: 4FT WIDE x 45.5FT LONG x 30IN HIGH, TRILOCK",4,45.5,30]
[{"$f":"IF(B186=0,0,MAX($A$2:A185)+1)","v":0},{"$f":"IF(D186=Calcs!$X$38,Calcs!$W$38,IF(D186=Calcs!$X$39,Calcs!$W$39,IF(D186=Calcs!$X$40,Calcs!$W$40,IF(TRUE,0))))","v":0},185,"TB48-570-30BT",13,"TRACK BENCH: 4FTx47.5FTx30INxBT",31,"BOTANICARE TRACK BENCH: 4FT WIDE x 47.5FT LONG x 30IN HIGH, TRILOCK",4,47.5,30]
[{"$f":"IF(B187=0,0,MAX($A$2:A186)+1)","v":0},{"$f":"IF(D187=Calcs!$X$38,Calcs!$W$38,IF(D187=Calcs!$X$39,Calcs!$W$39,IF(D187=Calcs!$X$40,Calcs!$W$40,IF(TRUE,0))))","v":0},186,"TB48-582-30BT",13,"TRACK BENCH: 4FTx48.5FTx30INxBT",31,"BOTANICARE TRACK BENCH: 4FT WIDE x 48.5FT LONG x 30IN HIGH, TRILOCK",4,48.5,30]
[{"$f":"IF(B188=0,0,MAX($A$2:A187)+1)","v":0},{"$f":"IF(D188=Calcs!$X$38,Calcs!$W$38,IF(D188=Calcs!$X$39,Calcs!$W$39,IF(D188=Calcs!$X$40,Calcs!$W$40,IF(TRUE,0))))","v":0},187,"TB48-594-30BT",13,"TRACK BENCH: 4FTx49.5FTx30INxBT",31,"BOTANICARE TRACK BENCH: 4FT WIDE x 49.5FT LONG x 30IN HIGH, TRILOCK",4,49.5,30]
[{"$f":"IF(B189=0,0,MAX($A$2:A188)+1)","v":0},{"$f":"IF(D189=Calcs!$X$38,Calcs!$W$38,IF(D189=Calcs!$X$39,Calcs!$W$39,IF(D189=Calcs!$X$40,Calcs!$W$40,IF(TRUE,0))))","v":0},188,"TB48-606-30BT",13,"TRACK BENCH: 4FTx50.5FTx30INxBT",31,"BOTANICARE TRACK BENCH: 4FT WIDE x 50.5FT LONG x 30IN HIGH, TRILOCK",4,50.5,30]
[{"$f":"IF(B190=0,0,MAX($A$2:A189)+1)","v":0},{"$f":"IF(D190=Calcs!$X$38,Calcs!$W$38,IF(D190=Calcs!$X$39,Calcs!$W$39,IF(D190=Calcs!$X$40,Calcs!$W$40,IF(TRUE,0))))","v":0},189,"TB48-630-30BT",13,"TRACK BENCH: 4FTx52.5FTx30INxBT",31,"BOTANICARE TRACK BENCH: 4FT WIDE x 52.5FT LONG x 30IN HIGH, TRILOCK",4,52.5,30]
[{"$f":"IF(B191=0,0,MAX($A$2:A190)+1)","v":0},{"$f":"IF(D191=Calcs!$X$38,Calcs!$W$38,IF(D191=Calcs!$X$39,Calcs!$W$39,IF(D191=Calcs!$X$40,Calcs!$W$40,IF(TRUE,0))))","v":0},190,"TB48-642-30BT",13,"TRACK BENCH: 4FTx53.5FTx30INxBT",31,"BOTANICARE TRACK BENCH: 4FT WIDE x 53.5FT LONG x 30IN HIGH, TRILOCK",4,53.5,30]
[{"$f":"IF(B192=0,0,MAX($A$2:A191)+1)","v":0},{"$f":"IF(D192=Calcs!$X$38,Calcs!$W$38,IF(D192=Calcs!$X$39,Calcs!$W$39,IF(D192=Calcs!$X$40,Calcs!$W$40,IF(TRUE,0))))","v":0},191,"TB48-654-30BT",13,"TRACK BENCH: 4FTx54.5FTx30INxBT",31,"BOTANICARE TRACK BENCH: 4FT WIDE x 54.5FT LONG x 30IN HIGH, TRILOCK",4,54.5,30]
[{"$f":"IF(B193=0,0,MAX($A$2:A192)+1)","v":0},{"$f":"IF(D193=Calcs!$X$38,Calcs!$W$38,IF(D193=Calcs!$X$39,Calcs!$W$39,IF(D193=Calcs!$X$40,Calcs!$W$40,IF(TRUE,0))))","v":0},192,"TB48-666-30BT",13,"TRACK BENCH: 4FTx55.5FTx30INxBT",31,"BOTANICARE TRACK BENCH: 4FT WIDE x 55.5FT LONG x 30IN HIGH, TRILOCK",4,55.5,30]
[{"$f":"IF(B194=0,0,MAX($A$2:A193)+1)","v":0},{"$f":"IF(D194=Calcs!$X$38,Calcs!$W$38,IF(D194=Calcs!$X$39,Calcs!$W$39,IF(D194=Calcs!$X$40,Calcs!$W$40,IF(TRUE,0))))","v":0},193,"TB48-690-30BT",13,"TRACK BENCH: 4FTx57.5FTx30INxBT",31,"BOTANICARE TRACK BENCH: 4FT WIDE x 57.5FT LONG x 30IN HIGH, TRILOCK",4,57.5,30]
[{"$f":"IF(B195=0,0,MAX($A$2:A194)+1)","v":0},{"$f":"IF(D195=Calcs!$X$38,Calcs!$W$38,IF(D195=Calcs!$X$39,Calcs!$W$39,IF(D195=Calcs!$X$40,Calcs!$W$40,IF(TRUE,0))))","v":0},194,"TB48-702-30BT",13,"TRACK BENCH: 4FTx58.5FTx30INxBT",31,"BOTANICARE TRACK BENCH: 4FT WIDE x 58.5FT LONG x 30IN HIGH, TRILOCK",4,58.5,30]
[{"$f":"IF(B196=0,0,MAX($A$2:A195)+1)","v":0},{"$f":"IF(D196=Calcs!$X$38,Calcs!$W$38,IF(D196=Calcs!$X$39,Calcs!$W$39,IF(D196=Calcs!$X$40,Calcs!$W$40,IF(TRUE,0))))","v":0},195,"TB48-714-30BT",13,"TRACK BENCH: 4FTx59.5FTx30INxBT",31,"BOTANICARE TRACK BENCH: 4FT WIDE x 59.5FT LONG x 30IN HIGH, TRILOCK",4,59.5,30]
[{"$f":"IF(B197=0,0,MAX($A$2:A196)+1)","v":0},{"$f":"IF(D197=Calcs!$X$38,Calcs!$W$38,IF(D197=Calcs!$X$39,Calcs!$W$39,IF(D197=Calcs!$X$40,Calcs!$W$40,IF(TRUE,0))))","v":0},196,"TB48-726-30BT",13,"TRACK BENCH: 4FTx60.5FTx30INxBT",31,"BOTANICARE TRACK BENCH: 4FT WIDE x 60.5FT LONG x 30IN HIGH, TRILOCK",4,60.5,30]
[{"$f":"IF(B198=0,0,MAX($A$2:A197)+1)","v":0},{"$f":"IF(D198=Calcs!$X$38,Calcs!$W$38,IF(D198=Calcs!$X$39,Calcs!$W$39,IF(D198=Calcs!$X$40,Calcs!$W$40,IF(TRUE,0))))","v":0},197,"TB48-750-30BT",13,"TRACK BENCH: 4FTx62.5FTx30INxBT",31,"BOTANICARE TRACK BENCH: 4FT WIDE x 62.5FT LONG x 30IN HIGH, TRILOCK",4,62.5,30]
[{"$f":"IF(B199=0,0,MAX($A$2:A198)+1)","v":0},{"$f":"IF(D199=Calcs!$X$38,Calcs!$W$38,IF(D199=Calcs!$X$39,Calcs!$W$39,IF(D199=Calcs!$X$40,Calcs!$W$40,IF(TRUE,0))))","v":0},198,"TB48-762-30BT",13,"TRACK BENCH: 4FTx63.5FTx30INxBT",31,"BOTANICARE TRACK BENCH: 4FT WIDE x 63.5FT LONG x 30IN HIGH, TRILOCK",4,63.5,30]
[{"$f":"IF(B200=0,0,MAX($A$2:A199)+1)","v":0},{"$f":"IF(D200=Calcs!$X$38,Calcs!$W$38,IF(D200=Calcs!$X$39,Calcs!$W$39,IF(D200=Calcs!$X$40,Calcs!$W$40,IF(TRUE,0))))","v":0},199,"TB48-774-30BT",13,"TRACK BENCH: 4FTx64.5FTx30INxBT",31,"BOTANICARE TRACK BENCH: 4FT WIDE x 64.5FT LONG x 30IN HIGH, TRILOCK",4,64.5,30]
[{"$f":"IF(B201=0,0,MAX($A$2:A200)+1)","v":0},{"$f":"IF(D201=Calcs!$X$38,Calcs!$W$38,IF(D201=Calcs!$X$39,Calcs!$W$39,IF(D201=Calcs!$X$40,Calcs!$W$40,IF(TRUE,0))))","v":0},200,"TB48-786-30BT",13,"TRACK BENCH: 4FTx65.5FTx30INxBT",31,"BOTANICARE TRACK BENCH: 4FT WIDE x 65.5FT LONG x 30IN HIGH, TRILOCK",4,65.5,30]
[{"$f":"IF(B202=0,0,MAX($A$2:A201)+1)","v":0},{"$f":"IF(D202=Calcs!$X$38,Calcs!$W$38,IF(D202=Calcs!$X$39,Calcs!$W$39,IF(D202=Calcs!$X$40,Calcs!$W$40,IF(TRUE,0))))","v":0},201,"TB48-810-30BT",13,"TRACK BENCH: 4FTx67.5FTx30INxBT",31,"BOTANICARE TRACK BENCH: 4FT WIDE x 67.5FT LONG x 30IN HIGH, TRILOCK",4,67.5,30]
[{"$f":"IF(B203=0,0,MAX($A$2:A202)+1)","v":0},{"$f":"IF(D203=Calcs!$X$38,Calcs!$W$38,IF(D203=Calcs!$X$39,Calcs!$W$39,IF(D203=Calcs!$X$40,Calcs!$W$40,IF(TRUE,0))))","v":0},202,"TB48-822-30BT",13,"TRACK BENCH: 4FTx68.5FTx30INxBT",31,"BOTANICARE TRACK BENCH: 4FT WIDE x 68.5FT LONG x 30IN HIGH, TRILOCK",4,68.5,30]
[{"$f":"IF(B204=0,0,MAX($A$2:A203)+1)","v":0},{"$f":"IF(D204=Calcs!$X$38,Calcs!$W$38,IF(D204=Calcs!$X$39,Calcs!$W$39,IF(D204=Calcs!$X$40,Calcs!$W$40,IF(TRUE,0))))","v":0},203,"TB48-834-30BT",13,"TRACK BENCH: 4FTx69.5FTx30INxBT",31,"BOTANICARE TRACK BENCH: 4FT WIDE x 69.5FT LONG x 30IN HIGH, TRILOCK",4,69.5,30]
[{"$f":"IF(B205=0,0,MAX($A$2:A204)+1)","v":0},{"$f":"IF(D205=Calcs!$X$38,Calcs!$W$38,IF(D205=Calcs!$X$39,Calcs!$W$39,IF(D205=Calcs!$X$40,Calcs!$W$40,IF(TRUE,0))))","v":0},204,"TB48-846-30BT",13,"TRACK BENCH: 4FTx70.5FTx30INxBT",31,"BOTANICARE TRACK BENCH: 4FT WIDE x 70.5FT LONG x 30IN HIGH, TRILOCK",4,70.5,30]
[{"$f":"IF(B206=0,0,MAX($A$2:A205)+1)","v":0},{"$f":"IF(D206=Calcs!$X$38,Calcs!$W$38,IF(D206=Calcs!$X$39,Calcs!$W$39,IF(D206=Calcs!$X$40,Calcs!$W$40,IF(TRUE,0))))","v":0},205,"TB48-870-30BT",13,"TRACK BENCH: 4FTx72.5FTx30INxBT",31,"BOTANICARE TRACK BENCH: 4FT WIDE x 72.5FT LONG x 30IN HIGH, TRILOCK",4,72.5,30]
[{"$f":"IF(B207=0,0,MAX($A$2:A206)+1)","v":0},{"$f":"IF(D207=Calcs!$X$38,Calcs!$W$38,IF(D207=Calcs!$X$39,Calcs!$W$39,IF(D207=Calcs!$X$40,Calcs!$W$40,IF(TRUE,0))))","v":0},206,"TB48-882-30BT",13,"TRACK BENCH: 4FTx73.5FTx30INxBT",31,"BOTANICARE TRACK BENCH: 4FT WIDE x 73.5FT LONG x 30IN HIGH, TRILOCK",4,73.5,30]
[{"$f":"IF(B208=0,0,MAX($A$2:A207)+1)","v":0},{"$f":"IF(D208=Calcs!$X$38,Calcs!$W$38,IF(D208=Calcs!$X$39,Calcs!$W$39,IF(D208=Calcs!$X$40,Calcs!$W$40,IF(TRUE,0))))","v":0},207,"TB48-894-30BT",13,"TRACK BENCH: 4FTx74.5FTx30INxBT",31,"BOTANICARE TRACK BENCH: 4FT WIDE x 74.5FT LONG x 30IN HIGH, TRILOCK",4,74.5,30]
[{"$f":"IF(B209=0,0,MAX($A$2:A208)+1)","v":0},{"$f":"IF(D209=Calcs!$X$38,Calcs!$W$38,IF(D209=Calcs!$X$39,Calcs!$W$39,IF(D209=Calcs!$X$40,Calcs!$W$40,IF(TRUE,0))))","v":0},208,"TB48-906-30BT",13,"TRACK BENCH: 4FTx75.5FTx30INxBT",31,"BOTANICARE TRACK BENCH: 4FT WIDE x 75.5FT LONG x 30IN HIGH, TRILOCK",4,75.5,30]
[{"$f":"IF(B210=0,0,MAX($A$2:A209)+1)","v":0},{"$f":"IF(D210=Calcs!$X$38,Calcs!$W$38,IF(D210=Calcs!$X$39,Calcs!$W$39,IF(D210=Calcs!$X$40,Calcs!$W$40,IF(TRUE,0))))","v":0},209,"TB48-930-30BT",13,"TRACK BENCH: 4FTx77.5FTx30INxBT",31,"BOTANICARE TRACK BENCH: 4FT WIDE x 77.5FT LONG x 30IN HIGH, TRILOCK",4,77.5,30]
[{"$f":"IF(B211=0,0,MAX($A$2:A210)+1)","v":0},{"$f":"IF(D211=Calcs!$X$38,Calcs!$W$38,IF(D211=Calcs!$X$39,Calcs!$W$39,IF(D211=Calcs!$X$40,Calcs!$W$40,IF(TRUE,0))))","v":0},210,"TB48-942-30BT",13,"TRACK BENCH: 4FTx78.5FTx30INxBT",31,"BOTANICARE TRACK BENCH: 4FT WIDE x 78.5FT LONG x 30IN HIGH, TRILOCK",4,78.5,30]
[{"$f":"IF(B212=0,0,MAX($A$2:A211)+1)","v":0},{"$f":"IF(D212=Calcs!$X$38,Calcs!$W$38,IF(D212=Calcs!$X$39,Calcs!$W$39,IF(D212=Calcs!$X$40,Calcs!$W$40,IF(TRUE,0))))","v":0},211,"TB48-954-30BT",13,"TRACK BENCH: 4FTx79.5FTx30INxBT",31,"BOTANICARE TRACK BENCH: 4FT WIDE x 79.5FT LONG x 30IN HIGH, TRILOCK",4,79.5,30]
[{"$f":"IF(B213=0,0,MAX($A$2:A212)+1)","v":0},{"$f":"IF(D213=Calcs!$X$38,Calcs!$W$38,IF(D213=Calcs!$X$39,Calcs!$W$39,IF(D213=Calcs!$X$40,Calcs!$W$40,IF(TRUE,0))))","v":0},212,"TB48-966-30BT",13,"TRACK BENCH: 4FTx80.5FTx30INxBT",31,"BOTANICARE TRACK BENCH: 4FT WIDE x 80.5FT LONG x 30IN HIGH, TRILOCK",4,80.5,30]
[{"$f":"IF(B214=0,0,MAX($A$2:A213)+1)","v":0},{"$f":"IF(D214=Calcs!$X$38,Calcs!$W$38,IF(D214=Calcs!$X$39,Calcs!$W$39,IF(D214=Calcs!$X$40,Calcs!$W$40,IF(TRUE,0))))","v":0},213,"TB48-990-30BT",13,"TRACK BENCH: 4FTx82.5FTx30INxBT",31,"BOTANICARE TRACK BENCH: 4FT WIDE x 82.5FT LONG x 30IN HIGH, TRILOCK",4,82.5,30]
[{"$f":"IF(B215=0,0,MAX($A$2:A214)+1)","v":0},{"$f":"IF(D215=Calcs!$X$38,Calcs!$W$38,IF(D215=Calcs!$X$39,Calcs!$W$39,IF(D215=Calcs!$X$40,Calcs!$W$40,IF(TRUE,0))))","v":0},214,"TB48-1002-30BT",14,"TRACK BENCH: 4FTx83.5FTx30INxBT",31,"BOTANICARE TRACK BENCH: 4FT WIDE x 83.5FT LONG x 30IN HIGH, TRILOCK",4,83.5,30]
[{"$f":"IF(B216=0,0,MAX($A$2:A215)+1)","v":0},{"$f":"IF(D216=Calcs!$X$38,Calcs!$W$38,IF(D216=Calcs!$X$39,Calcs!$W$39,IF(D216=Calcs!$X$40,Calcs!$W$40,IF(TRUE,0))))","v":0},215,"TB48-1014-30BT",14,"TRACK BENCH: 4FTx84.5FTx30INxBT",31,"BOTANICARE TRACK BENCH: 4FT WIDE x 84.5FT LONG x 30IN HIGH, TRILOCK",4,84.5,30]
[{"$f":"IF(B217=0,0,MAX($A$2:A216)+1)","v":0},{"$f":"IF(D217=Calcs!$X$38,Calcs!$W$38,IF(D217=Calcs!$X$39,Calcs!$W$39,IF(D217=Calcs!$X$40,Calcs!$W$40,IF(TRUE,0))))","v":0},216,"TB48-1026-30BT",14,"TRACK BENCH: 4FTx85.5FTx30INxBT",31,"BOTANICARE TRACK BENCH: 4FT WIDE x 85.5FT LONG x 30IN HIGH, TRILOCK",4,85.5,30]
[{"$f":"IF(B218=0,0,MAX($A$2:A217)+1)","v":0},{"$f":"IF(D218=Calcs!$X$38,Calcs!$W$38,IF(D218=Calcs!$X$39,Calcs!$W$39,IF(D218=Calcs!$X$40,Calcs!$W$40,IF(TRUE,0))))","v":0},217,"TB48-1050-30BT",14,"TRACK BENCH: 4FTx87.5FTx30INxBT",31,"BOTANICARE TRACK BENCH: 4FT WIDE x 87.5FT LONG x 30IN HIGH, TRILOCK",4,87.5,30]
[{"$f":"IF(B219=0,0,MAX($A$2:A218)+1)","v":0},{"$f":"IF(D219=Calcs!$X$38,Calcs!$W$38,IF(D219=Calcs!$X$39,Calcs!$W$39,IF(D219=Calcs!$X$40,Calcs!$W$40,IF(TRUE,0))))","v":0},218,"TB48-1062-30BT",14,"TRACK BENCH: 4FTx88.5FTx30INxBT",31,"BOTANICARE TRACK BENCH: 4FT WIDE x 88.5FT LONG x 30IN HIGH, TRILOCK",4,88.5,30]
[{"$f":"IF(B220=0,0,MAX($A$2:A219)+1)","v":0},{"$f":"IF(D220=Calcs!$X$38,Calcs!$W$38,IF(D220=Calcs!$X$39,Calcs!$W$39,IF(D220=Calcs!$X$40,Calcs!$W$40,IF(TRUE,0))))","v":0},219,"TB48-1074-30BT",14,"TRACK BENCH: 4FTx89.5FTx30INxBT",31,"BOTANICARE TRACK BENCH: 4FT WIDE x 89.5FT LONG x 30IN HIGH, TRILOCK",4,89.5,30]
[{"$f":"IF(B221=0,0,MAX($A$2:A220)+1)","v":0},{"$f":"IF(D221=Calcs!$X$38,Calcs!$W$38,IF(D221=Calcs!$X$39,Calcs!$W$39,IF(D221=Calcs!$X$40,Calcs!$W$40,IF(TRUE,0))))","v":0},220,"TB48-1086-30BT",14,"TRACK BENCH: 4FTx90.5FTx30INxBT",31,"BOTANICARE TRACK BENCH: 4FT WIDE x 90.5FT LONG x 30IN HIGH, TRILOCK",4,90.5,30]
[{"$f":"IF(B222=0,0,MAX($A$2:A221)+1)","v":0},{"$f":"IF(D222=Calcs!$X$38,Calcs!$W$38,IF(D222=Calcs!$X$39,Calcs!$W$39,IF(D222=Calcs!$X$40,Calcs!$W$40,IF(TRUE,0))))","v":0},221,"TB48-1110-30BT",14,"TRACK BENCH: 4FTx92.5FTx30INxBT",31,"BOTANICARE TRACK BENCH: 4FT WIDE x 92.5FT LONG x 30IN HIGH, TRILOCK",4,92.5,30]
[{"$f":"IF(B223=0,0,MAX($A$2:A222)+1)","v":0},{"$f":"IF(D223=Calcs!$X$38,Calcs!$W$38,IF(D223=Calcs!$X$39,Calcs!$W$39,IF(D223=Calcs!$X$40,Calcs!$W$40,IF(TRUE,0))))","v":0},222,"TB48-1122-30BT",14,"TRACK BENCH: 4FTx93.5FTx30INxBT",31,"BOTANICARE TRACK BENCH: 4FT WIDE x 93.5FT LONG x 30IN HIGH, TRILOCK",4,93.5,30]
[{"$f":"IF(B224=0,0,MAX($A$2:A223)+1)","v":0},{"$f":"IF(D224=Calcs!$X$38,Calcs!$W$38,IF(D224=Calcs!$X$39,Calcs!$W$39,IF(D224=Calcs!$X$40,Calcs!$W$40,IF(TRUE,0))))","v":0},223,"TB48-1134-30BT",14,"TRACK BENCH: 4FTx94.5FTx30INxBT",31,"BOTANICARE TRACK BENCH: 4FT WIDE x 94.5FT LONG x 30IN HIGH, TRILOCK",4,94.5,30]
[{"$f":"IF(B225=0,0,MAX($A$2:A224)+1)","v":0},{"$f":"IF(D225=Calcs!$X$38,Calcs!$W$38,IF(D225=Calcs!$X$39,Calcs!$W$39,IF(D225=Calcs!$X$40,Calcs!$W$40,IF(TRUE,0))))","v":0},224,"TB48-1146-30BT",14,"TRACK BENCH: 4FTx95.5FTx30INxBT",31,"BOTANICARE TRACK BENCH: 4FT WIDE x 95.5FT LONG x 30IN HIGH, TRILOCK",4,95.5,30]
[{"$f":"IF(B226=0,0,MAX($A$2:A225)+1)","v":0},{"$f":"IF(D226=Calcs!$X$38,Calcs!$W$38,IF(D226=Calcs!$X$39,Calcs!$W$39,IF(D226=Calcs!$X$40,Calcs!$W$40,IF(TRUE,0))))","v":0},225,"TB48-1170-30BT",14,"TRACK BENCH: 4FTx97.5FTx30INxBT",31,"BOTANICARE TRACK BENCH: 4FT WIDE x 97.5FT LONG x 30IN HIGH, TRILOCK",4,97.5,30]
[{"$f":"IF(B227=0,0,MAX($A$2:A226)+1)","v":0},{"$f":"IF(D227=Calcs!$X$38,Calcs!$W$38,IF(D227=Calcs!$X$39,Calcs!$W$39,IF(D227=Calcs!$X$40,Calcs!$W$40,IF(TRUE,0))))","v":0},226,"TB48-1182-30BT",14,"TRACK BENCH: 4FTx98.5FTx30INxBT",31,"BOTANICARE TRACK BENCH: 4FT WIDE x 98.5FT LONG x 30IN HIGH, TRILOCK",4,98.5,30]
[{"$f":"IF(B228=0,0,MAX($A$2:A227)+1)","v":0},{"$f":"IF(D228=Calcs!$X$38,Calcs!$W$38,IF(D228=Calcs!$X$39,Calcs!$W$39,IF(D228=Calcs!$X$40,Calcs!$W$40,IF(TRUE,0))))","v":0},227,"TB48-1194-30BT",14,"TRACK BENCH: 4FTx99.5FTx30INxBT",31,"BOTANICARE TRACK BENCH: 4FT WIDE x 99.5FT LONG x 30IN HIGH, TRILOCK",4,99.5,30]
[{"$f":"IF(B229=0,0,MAX($A$2:A228)+1)","v":0},{"$f":"IF(D229=Calcs!$X$38,Calcs!$W$38,IF(D229=Calcs!$X$39,Calcs!$W$39,IF(D229=Calcs!$X$40,Calcs!$W$40,IF(TRUE,0))))","v":0},228,"TB48-1206-30BT",14,"TRACK BENCH: 4FTx100.5FTx30INxBT",32,"BOTANICARE TRACK BENCH: 4FT WIDE x 100.5FT LONG x 30IN HIGH, TRILOCK",4,100.5,30]
[{"$f":"IF(B230=0,0,MAX($A$2:A229)+1)","v":0},{"$f":"IF(D230=Calcs!$X$38,Calcs!$W$38,IF(D230=Calcs!$X$39,Calcs!$W$39,IF(D230=Calcs!$X$40,Calcs!$W$40,IF(TRUE,0))))","v":0},229,"TB60-90-14BT",12,"TRACK BENCH: 5FTx7.5FTx14INxBT",30,"BOTANICARE TRACK BENCH: 5FT WIDE x 7.5FT LONG x 14IN HIGH, TRILOCK",5,7.5,14]
[{"$f":"IF(B231=0,0,MAX($A$2:A230)+1)","v":0},{"$f":"IF(D231=Calcs!$X$38,Calcs!$W$38,IF(D231=Calcs!$X$39,Calcs!$W$39,IF(D231=Calcs!$X$40,Calcs!$W$40,IF(TRUE,0))))","v":0},230,"TB60-102-14BT",13,"TRACK BENCH: 5FTx8.5FTx14INxBT",30,"BOTANICARE TRACK BENCH: 5FT WIDE x 8.5FT LONG x 14IN HIGH, TRILOCK",5,8.5,14]
[{"$f":"IF(B232=0,0,MAX($A$2:A231)+1)","v":0},{"$f":"IF(D232=Calcs!$X$38,Calcs!$W$38,IF(D232=Calcs!$X$39,Calcs!$W$39,IF(D232=Calcs!$X$40,Calcs!$W$40,IF(TRUE,0))))","v":0},231,"TB60-114-14BT",13,"TRACK BENCH: 5FTx9.5FTx14INxBT",30,"BOTANICARE TRACK BENCH: 5FT WIDE x 9.5FT LONG x 14IN HIGH, TRILOCK",5,9.5,14]
[{"$f":"IF(B233=0,0,MAX($A$2:A232)+1)","v":0},{"$f":"IF(D233=Calcs!$X$38,Calcs!$W$38,IF(D233=Calcs!$X$39,Calcs!$W$39,IF(D233=Calcs!$X$40,Calcs!$W$40,IF(TRUE,0))))","v":0},232,"TB60-126-14BT",13,"TRACK BENCH: 5FTx10.5FTx14INxBT",31,"BOTANICARE TRACK BENCH: 5FT WIDE x 10.5FT LONG x 14IN HIGH, TRILOCK",5,10.5,14]
[{"$f":"IF(B234=0,0,MAX($A$2:A233)+1)","v":0},{"$f":"IF(D234=Calcs!$X$38,Calcs!$W$38,IF(D234=Calcs!$X$39,Calcs!$W$39,IF(D234=Calcs!$X$40,Calcs!$W$40,IF(TRUE,0))))","v":0},233,"TB60-150-14BT",13,"TRACK BENCH: 5FTx12.5FTx14INxBT",31,"BOTANICARE TRACK BENCH: 5FT WIDE x 12.5FT LONG x 14IN HIGH, TRILOCK",5,12.5,14]
[{"$f":"IF(B235=0,0,MAX($A$2:A234)+1)","v":0},{"$f":"IF(D235=Calcs!$X$38,Calcs!$W$38,IF(D235=Calcs!$X$39,Calcs!$W$39,IF(D235=Calcs!$X$40,Calcs!$W$40,IF(TRUE,0))))","v":0},234,"TB60-162-14BT",13,"TRACK BENCH: 5FTx13.5FTx14INxBT",31,"BOTANICARE TRACK BENCH: 5FT WIDE x 13.5FT LONG x 14IN HIGH, TRILOCK",5,13.5,14]
[{"$f":"IF(B236=0,0,MAX($A$2:A235)+1)","v":0},{"$f":"IF(D236=Calcs!$X$38,Calcs!$W$38,IF(D236=Calcs!$X$39,Calcs!$W$39,IF(D236=Calcs!$X$40,Calcs!$W$40,IF(TRUE,0))))","v":0},235,"TB60-174-14BT",13,"TRACK BENCH: 5FTx14.5FTx14INxBT",31,"BOTANICARE TRACK BENCH: 5FT WIDE x 14.5FT LONG x 14IN HIGH, TRILOCK",5,14.5,14]
[{"$f":"IF(B237=0,0,MAX($A$2:A236)+1)","v":0},{"$f":"IF(D237=Calcs!$X$38,Calcs!$W$38,IF(D237=Calcs!$X$39,Calcs!$W$39,IF(D237=Calcs!$X$40,Calcs!$W$40,IF(TRUE,0))))","v":0},236,"TB60-186-14BT",13,"TRACK BENCH: 5FTx15.5FTx14INxBT",31,"BOTANICARE TRACK BENCH: 5FT WIDE x 15.5FT LONG x 14IN HIGH, TRILOCK",5,15.5,14]
[{"$f":"IF(B238=0,0,MAX($A$2:A237)+1)","v":0},{"$f":"IF(D238=Calcs!$X$38,Calcs!$W$38,IF(D238=Calcs!$X$39,Calcs!$W$39,IF(D238=Calcs!$X$40,Calcs!$W$40,IF(TRUE,0))))","v":0},237,"TB60-210-14BT",13,"TRACK BENCH: 5FTx17.5FTx14INxBT",31,"BOTANICARE TRACK BENCH: 5FT WIDE x 17.5FT LONG x 14IN HIGH, TRILOCK",5,17.5,14]
[{"$f":"IF(B239=0,0,MAX($A$2:A238)+1)","v":0},{"$f":"IF(D239=Calcs!$X$38,Calcs!$W$38,IF(D239=Calcs!$X$39,Calcs!$W$39,IF(D239=Calcs!$X$40,Calcs!$W$40,IF(TRUE,0))))","v":0},238,"TB60-222-14BT",13,"TRACK BENCH: 5FTx18.5FTx14INxBT",31,"BOTANICARE TRACK BENCH: 5FT WIDE x 18.5FT LONG x 14IN HIGH, TRILOCK",5,18.5,14]
[{"$f":"IF(B240=0,0,MAX($A$2:A239)+1)","v":0},{"$f":"IF(D240=Calcs!$X$38,Calcs!$W$38,IF(D240=Calcs!$X$39,Calcs!$W$39,IF(D240=Calcs!$X$40,Calcs!$W$40,IF(TRUE,0))))","v":0},239,"TB60-234-14BT",13,"TRACK BENCH: 5FTx19.5FTx14INxBT",31,"BOTANICARE TRACK BENCH: 5FT WIDE x 19.5FT LONG x 14IN HIGH, TRILOCK",5,19.5,14]
[{"$f":"IF(B241=0,0,MAX($A$2:A240)+1)","v":0},{"$f":"IF(D241=Calcs!$X$38,Calcs!$W$38,IF(D241=Calcs!$X$39,Calcs!$W$39,IF(D241=Calcs!$X$40,Calcs!$W$40,IF(TRUE,0))))","v":0},240,"TB60-246-14BT",13,"TRACK BENCH: 5FTx20.5FTx14INxBT",31,"BOTANICARE TRACK BENCH: 5FT WIDE x 20.5FT LONG x 14IN HIGH, TRILOCK",5,20.5,14]
[{"$f":"IF(B242=0,0,MAX($A$2:A241)+1)","v":0},{"$f":"IF(D242=Calcs!$X$38,Calcs!$W$38,IF(D242=Calcs!$X$39,Calcs!$W$39,IF(D242=Calcs!$X$40,Calcs!$W$40,IF(TRUE,0))))","v":0},241,"TB60-270-14BT",13,"TRACK BENCH: 5FTx22.5FTx14INxBT",31,"BOTANICARE TRACK BENCH: 5FT WIDE x 22.5FT LONG x 14IN HIGH, TRILOCK",5,22.5,14]
[{"$f":"IF(B243=0,0,MAX($A$2:A242)+1)","v":0},{"$f":"IF(D243=Calcs!$X$38,Calcs!$W$38,IF(D243=Calcs!$X$39,Calcs!$W$39,IF(D243=Calcs!$X$40,Calcs!$W$40,IF(TRUE,0))))","v":0},242,"TB60-282-14BT",13,"TRACK BENCH: 5FTx23.5FTx14INxBT",31,"BOTANICARE TRACK BENCH: 5FT WIDE x 23.5FT LONG x 14IN HIGH, TRILOCK",5,23.5,14]
[{"$f":"IF(B244=0,0,MAX($A$2:A243)+1)","v":0},{"$f":"IF(D244=Calcs!$X$38,Calcs!$W$38,IF(D244=Calcs!$X$39,Calcs!$W$39,IF(D244=Calcs!$X$40,Calcs!$W$40,IF(TRUE,0))))","v":0},243,"TB60-294-14BT",13,"TRACK BENCH: 5FTx24.5FTx14INxBT",31,"BOTANICARE TRACK BENCH: 5FT WIDE x 24.5FT LONG x 14IN HIGH, TRILOCK",5,24.5,14]
[{"$f":"IF(B245=0,0,MAX($A$2:A244)+1)","v":0},{"$f":"IF(D245=Calcs!$X$38,Calcs!$W$38,IF(D245=Calcs!$X$39,Calcs!$W$39,IF(D245=Calcs!$X$40,Calcs!$W$40,IF(TRUE,0))))","v":0},244,"TB60-306-14BT",13,"TRACK BENCH: 5FTx25.5FTx14INxBT",31,"BOTANICARE TRACK BENCH: 5FT WIDE x 25.5FT LONG x 14IN HIGH, TRILOCK",5,25.5,14]
[{"$f":"IF(B246=0,0,MAX($A$2:A245)+1)","v":0},{"$f":"IF(D246=Calcs!$X$38,Calcs!$W$38,IF(D246=Calcs!$X$39,Calcs!$W$39,IF(D246=Calcs!$X$40,Calcs!$W$40,IF(TRUE,0))))","v":0},245,"TB60-330-14BT",13,"TRACK BENCH: 5FTx27.5FTx14INxBT",31,"BOTANICARE TRACK BENCH: 5FT WIDE x 27.5FT LONG x 14IN HIGH, TRILOCK",5,27.5,14]
[{"$f":"IF(B247=0,0,MAX($A$2:A246)+1)","v":0},{"$f":"IF(D247=Calcs!$X$38,Calcs!$W$38,IF(D247=Calcs!$X$39,Calcs!$W$39,IF(D247=Calcs!$X$40,Calcs!$W$40,IF(TRUE,0))))","v":0},246,"TB60-342-14BT",13,"TRACK BENCH: 5FTx28.5FTx14INxBT",31,"BOTANICARE TRACK BENCH: 5FT WIDE x 28.5FT LONG x 14IN HIGH, TRILOCK",5,28.5,14]
[{"$f":"IF(B248=0,0,MAX($A$2:A247)+1)","v":0},{"$f":"IF(D248=Calcs!$X$38,Calcs!$W$38,IF(D248=Calcs!$X$39,Calcs!$W$39,IF(D248=Calcs!$X$40,Calcs!$W$40,IF(TRUE,0))))","v":0},247,"TB60-354-14BT",13,"TRACK BENCH: 5FTx29.5FTx14INxBT",31,"BOTANICARE TRACK BENCH: 5FT WIDE x 29.5FT LONG x 14IN HIGH, TRILOCK",5,29.5,14]
[{"$f":"IF(B249=0,0,MAX($A$2:A248)+1)","v":0},{"$f":"IF(D249=Calcs!$X$38,Calcs!$W$38,IF(D249=Calcs!$X$39,Calcs!$W$39,IF(D249=Calcs!$X$40,Calcs!$W$40,IF(TRUE,0))))","v":0},248,"TB60-366-14BT",13,"TRACK BENCH: 5FTx30.5FTx14INxBT",31,"BOTANICARE TRACK BENCH: 5FT WIDE x 30.5FT LONG x 14IN HIGH, TRILOCK",5,30.5,14]
[{"$f":"IF(B250=0,0,MAX($A$2:A249)+1)","v":0},{"$f":"IF(D250=Calcs!$X$38,Calcs!$W$38,IF(D250=Calcs!$X$39,Calcs!$W$39,IF(D250=Calcs!$X$40,Calcs!$W$40,IF(TRUE,0))))","v":0},249,"TB60-390-14BT",13,"TRACK BENCH: 5FTx32.5FTx14INxBT",31,"BOTANICARE TRACK BENCH: 5FT WIDE x 32.5FT LONG x 14IN HIGH, TRILOCK",5,32.5,14]
[{"$f":"IF(B251=0,0,MAX($A$2:A250)+1)","v":0},{"$f":"IF(D251=Calcs!$X$38,Calcs!$W$38,IF(D251=Calcs!$X$39,Calcs!$W$39,IF(D251=Calcs!$X$40,Calcs!$W$40,IF(TRUE,0))))","v":0},250,"TB60-402-14BT",13,"TRACK BENCH: 5FTx33.5FTx14INxBT",31,"BOTANICARE TRACK BENCH: 5FT WIDE x 33.5FT LONG x 14IN HIGH, TRILOCK",5,33.5,14]
[{"$f":"IF(B252=0,0,MAX($A$2:A251)+1)","v":0},{"$f":"IF(D252=Calcs!$X$38,Calcs!$W$38,IF(D252=Calcs!$X$39,Calcs!$W$39,IF(D252=Calcs!$X$40,Calcs!$W$40,IF(TRUE,0))))","v":0},251,"TB60-414-14BT",13,"TRACK BENCH: 5FTx34.5FTx14INxBT",31,"BOTANICARE TRACK BENCH: 5FT WIDE x 34.5FT LONG x 14IN HIGH, TRILOCK",5,34.5,14]
[{"$f":"IF(B253=0,0,MAX($A$2:A252)+1)","v":0},{"$f":"IF(D253=Calcs!$X$38,Calcs!$W$38,IF(D253=Calcs!$X$39,Calcs!$W$39,IF(D253=Calcs!$X$40,Calcs!$W$40,IF(TRUE,0))))","v":0},252,"TB60-426-14BT",13,"TRACK BENCH: 5FTx35.5FTx14INxBT",31,"BOTANICARE TRACK BENCH: 5FT WIDE x 35.5FT LONG x 14IN HIGH, TRILOCK",5,35.5,14]
[{"$f":"IF(B254=0,0,MAX($A$2:A253)+1)","v":0},{"$f":"IF(D254=Calcs!$X$38,Calcs!$W$38,IF(D254=Calcs!$X$39,Calcs!$W$39,IF(D254=Calcs!$X$40,Calcs!$W$40,IF(TRUE,0))))","v":0},253,"TB60-450-14BT",13,"TRACK BENCH: 5FTx37.5FTx14INxBT",31,"BOTANICARE TRACK BENCH: 5FT WIDE x 37.5FT LONG x 14IN HIGH, TRILOCK",5,37.5,14]
[{"$f":"IF(B255=0,0,MAX($A$2:A254)+1)","v":0},{"$f":"IF(D255=Calcs!$X$38,Calcs!$W$38,IF(D255=Calcs!$X$39,Calcs!$W$39,IF(D255=Calcs!$X$40,Calcs!$W$40,IF(TRUE,0))))","v":0},254,"TB60-462-14BT",13,"TRACK BENCH: 5FTx38.5FTx14INxBT",31,"BOTANICARE TRACK BENCH: 5FT WIDE x 38.5FT LONG x 14IN HIGH, TRILOCK",5,38.5,14]
[{"$f":"IF(B256=0,0,MAX($A$2:A255)+1)","v":0},{"$f":"IF(D256=Calcs!$X$38,Calcs!$W$38,IF(D256=Calcs!$X$39,Calcs!$W$39,IF(D256=Calcs!$X$40,Calcs!$W$40,IF(TRUE,0))))","v":0},255,"TB60-474-14BT",13,"TRACK BENCH: 5FTx39.5FTx14INxBT",31,"BOTANICARE TRACK BENCH: 5FT WIDE x 39.5FT LONG x 14IN HIGH, TRILOCK",5,39.5,14]
[{"$f":"IF(B257=0,0,MAX($A$2:A256)+1)","v":0},{"$f":"IF(D257=Calcs!$X$38,Calcs!$W$38,IF(D257=Calcs!$X$39,Calcs!$W$39,IF(D257=Calcs!$X$40,Calcs!$W$40,IF(TRUE,0))))","v":0},256,"TB60-486-14BT",13,"TRACK BENCH: 5FTx40.5FTx14INxBT",31,"BOTANICARE TRACK BENCH: 5FT WIDE x 40.5FT LONG x 14IN HIGH, TRILOCK",5,40.5,14]
[{"$f":"IF(B258=0,0,MAX($A$2:A257)+1)","v":0},{"$f":"IF(D258=Calcs!$X$38,Calcs!$W$38,IF(D258=Calcs!$X$39,Calcs!$W$39,IF(D258=Calcs!$X$40,Calcs!$W$40,IF(TRUE,0))))","v":0},257,"TB60-510-14BT",13,"TRACK BENCH: 5FTx42.5FTx14INxBT",31,"BOTANICARE TRACK BENCH: 5FT WIDE x 42.5FT LONG x 14IN HIGH, TRILOCK",5,42.5,14]
[{"$f":"IF(B259=0,0,MAX($A$2:A258)+1)","v":0},{"$f":"IF(D259=Calcs!$X$38,Calcs!$W$38,IF(D259=Calcs!$X$39,Calcs!$W$39,IF(D259=Calcs!$X$40,Calcs!$W$40,IF(TRUE,0))))","v":0},258,"TB60-522-14BT",13,"TRACK BENCH: 5FTx43.5FTx14INxBT",31,"BOTANICARE TRACK BENCH: 5FT WIDE x 43.5FT LONG x 14IN HIGH, TRILOCK",5,43.5,14]
[{"$f":"IF(B260=0,0,MAX($A$2:A259)+1)","v":0},{"$f":"IF(D260=Calcs!$X$38,Calcs!$W$38,IF(D260=Calcs!$X$39,Calcs!$W$39,IF(D260=Calcs!$X$40,Calcs!$W$40,IF(TRUE,0))))","v":0},259,"TB60-534-14BT",13,"TRACK BENCH: 5FTx44.5FTx14INxBT",31,"BOTANICARE TRACK BENCH: 5FT WIDE x 44.5FT LONG x 14IN HIGH, TRILOCK",5,44.5,14]
[{"$f":"IF(B261=0,0,MAX($A$2:A260)+1)","v":0},{"$f":"IF(D261=Calcs!$X$38,Calcs!$W$38,IF(D261=Calcs!$X$39,Calcs!$W$39,IF(D261=Calcs!$X$40,Calcs!$W$40,IF(TRUE,0))))","v":0},260,"TB60-546-14BT",13,"TRACK BENCH: 5FTx45.5FTx14INxBT",31,"BOTANICARE TRACK BENCH: 5FT WIDE x 45.5FT LONG x 14IN HIGH, TRILOCK",5,45.5,14]
[{"$f":"IF(B262=0,0,MAX($A$2:A261)+1)","v":0},{"$f":"IF(D262=Calcs!$X$38,Calcs!$W$38,IF(D262=Calcs!$X$39,Calcs!$W$39,IF(D262=Calcs!$X$40,Calcs!$W$40,IF(TRUE,0))))","v":0},261,"TB60-570-14BT",13,"TRACK BENCH: 5FTx47.5FTx14INxBT",31,"BOTANICARE TRACK BENCH: 5FT WIDE x 47.5FT LONG x 14IN HIGH, TRILOCK",5,47.5,14]
[{"$f":"IF(B263=0,0,MAX($A$2:A262)+1)","v":0},{"$f":"IF(D263=Calcs!$X$38,Calcs!$W$38,IF(D263=Calcs!$X$39,Calcs!$W$39,IF(D263=Calcs!$X$40,Calcs!$W$40,IF(TRUE,0))))","v":0},262,"TB60-582-14BT",13,"TRACK BENCH: 5FTx48.5FTx14INxBT",31,"BOTANICARE TRACK BENCH: 5FT WIDE x 48.5FT LONG x 14IN HIGH, TRILOCK",5,48.5,14]
[{"$f":"IF(B264=0,0,MAX($A$2:A263)+1)","v":0},{"$f":"IF(D264=Calcs!$X$38,Calcs!$W$38,IF(D264=Calcs!$X$39,Calcs!$W$39,IF(D264=Calcs!$X$40,Calcs!$W$40,IF(TRUE,0))))","v":0},263,"TB60-594-14BT",13,"TRACK BENCH: 5FTx49.5FTx14INxBT",31,"BOTANICARE TRACK BENCH: 5FT WIDE x 49.5FT LONG x 14IN HIGH, TRILOCK",5,49.5,14]
[{"$f":"IF(B265=0,0,MAX($A$2:A264)+1)","v":0},{"$f":"IF(D265=Calcs!$X$38,Calcs!$W$38,IF(D265=Calcs!$X$39,Calcs!$W$39,IF(D265=Calcs!$X$40,Calcs!$W$40,IF(TRUE,0))))","v":0},264,"TB60-606-14BT",13,"TRACK BENCH: 5FTx50.5FTx14INxBT",31,"BOTANICARE TRACK BENCH: 5FT WIDE x 50.5FT LONG x 14IN HIGH, TRILOCK",5,50.5,14]
[{"$f":"IF(B266=0,0,MAX($A$2:A265)+1)","v":0},{"$f":"IF(D266=Calcs!$X$38,Calcs!$W$38,IF(D266=Calcs!$X$39,Calcs!$W$39,IF(D266=Calcs!$X$40,Calcs!$W$40,IF(TRUE,0))))","v":0},265,"TB60-630-14BT",13,"TRACK BENCH: 5FTx52.5FTx14INxBT",31,"BOTANICARE TRACK BENCH: 5FT WIDE x 52.5FT LONG x 14IN HIGH, TRILOCK",5,52.5,14]
[{"$f":"IF(B267=0,0,MAX($A$2:A266)+1)","v":0},{"$f":"IF(D267=Calcs!$X$38,Calcs!$W$38,IF(D267=Calcs!$X$39,Calcs!$W$39,IF(D267=Calcs!$X$40,Calcs!$W$40,IF(TRUE,0))))","v":0},266,"TB60-642-14BT",13,"TRACK BENCH: 5FTx53.5FTx14INxBT",31,"BOTANICARE TRACK BENCH: 5FT WIDE x 53.5FT LONG x 14IN HIGH, TRILOCK",5,53.5,14]
[{"$f":"IF(B268=0,0,MAX($A$2:A267)+1)","v":0},{"$f":"IF(D268=Calcs!$X$38,Calcs!$W$38,IF(D268=Calcs!$X$39,Calcs!$W$39,IF(D268=Calcs!$X$40,Calcs!$W$40,IF(TRUE,0))))","v":0},267,"TB60-654-14BT",13,"TRACK BENCH: 5FTx54.5FTx14INxBT",31,"BOTANICARE TRACK BENCH: 5FT WIDE x 54.5FT LONG x 14IN HIGH, TRILOCK",5,54.5,14]
[{"$f":"IF(B269=0,0,MAX($A$2:A268)+1)","v":0},{"$f":"IF(D269=Calcs!$X$38,Calcs!$W$38,IF(D269=Calcs!$X$39,Calcs!$W$39,IF(D269=Calcs!$X$40,Calcs!$W$40,IF(TRUE,0))))","v":0},268,"TB60-666-14BT",13,"TRACK BENCH: 5FTx55.5FTx14INxBT",31,"BOTANICARE TRACK BENCH: 5FT WIDE x 55.5FT LONG x 14IN HIGH, TRILOCK",5,55.5,14]
[{"$f":"IF(B270=0,0,MAX($A$2:A269)+1)","v":0},{"$f":"IF(D270=Calcs!$X$38,Calcs!$W$38,IF(D270=Calcs!$X$39,Calcs!$W$39,IF(D270=Calcs!$X$40,Calcs!$W$40,IF(TRUE,0))))","v":0},269,"TB60-690-14BT",13,"TRACK BENCH: 5FTx57.5FTx14INxBT",31,"BOTANICARE TRACK BENCH: 5FT WIDE x 57.5FT LONG x 14IN HIGH, TRILOCK",5,57.5,14]
[{"$f":"IF(B271=0,0,MAX($A$2:A270)+1)","v":0},{"$f":"IF(D271=Calcs!$X$38,Calcs!$W$38,IF(D271=Calcs!$X$39,Calcs!$W$39,IF(D271=Calcs!$X$40,Calcs!$W$40,IF(TRUE,0))))","v":0},270,"TB60-702-14BT",13,"TRACK BENCH: 5FTx58.5FTx14INxBT",31,"BOTANICARE TRACK BENCH: 5FT WIDE x 58.5FT LONG x 14IN HIGH, TRILOCK",5,58.5,14]
[{"$f":"IF(B272=0,0,MAX($A$2:A271)+1)","v":0},{"$f":"IF(D272=Calcs!$X$38,Calcs!$W$38,IF(D272=Calcs!$X$39,Calcs!$W$39,IF(D272=Calcs!$X$40,Calcs!$W$40,IF(TRUE,0))))","v":0},271,"TB60-714-14BT",13,"TRACK BENCH: 5FTx59.5FTx14INxBT",31,"BOTANICARE TRACK BENCH: 5FT WIDE x 59.5FT LONG x 14IN HIGH, TRILOCK",5,59.5,14]
[{"$f":"IF(B273=0,0,MAX($A$2:A272)+1)","v":0},{"$f":"IF(D273=Calcs!$X$38,Calcs!$W$38,IF(D273=Calcs!$X$39,Calcs!$W$39,IF(D273=Calcs!$X$40,Calcs!$W$40,IF(TRUE,0))))","v":0},272,"TB60-726-14BT",13,"TRACK BENCH: 5FTx60.5FTx14INxBT",31,"BOTANICARE TRACK BENCH: 5FT WIDE x 60.5FT LONG x 14IN HIGH, TRILOCK",5,60.5,14]
[{"$f":"IF(B274=0,0,MAX($A$2:A273)+1)","v":0},{"$f":"IF(D274=Calcs!$X$38,Calcs!$W$38,IF(D274=Calcs!$X$39,Calcs!$W$39,IF(D274=Calcs!$X$40,Calcs!$W$40,IF(TRUE,0))))","v":0},273,"TB60-750-14BT",13,"TRACK BENCH: 5FTx62.5FTx14INxBT",31,"BOTANICARE TRACK BENCH: 5FT WIDE x 62.5FT LONG x 14IN HIGH, TRILOCK",5,62.5,14]
[{"$f":"IF(B275=0,0,MAX($A$2:A274)+1)","v":0},{"$f":"IF(D275=Calcs!$X$38,Calcs!$W$38,IF(D275=Calcs!$X$39,Calcs!$W$39,IF(D275=Calcs!$X$40,Calcs!$W$40,IF(TRUE,0))))","v":0},274,"TB60-762-14BT",13,"TRACK BENCH: 5FTx63.5FTx14INxBT",31,"BOTANICARE TRACK BENCH: 5FT WIDE x 63.5FT LONG x 14IN HIGH, TRILOCK",5,63.5,14]
[{"$f":"IF(B276=0,0,MAX($A$2:A275)+1)","v":0},{"$f":"IF(D276=Calcs!$X$38,Calcs!$W$38,IF(D276=Calcs!$X$39,Calcs!$W$39,IF(D276=Calcs!$X$40,Calcs!$W$40,IF(TRUE,0))))","v":0},275,"TB60-774-14BT",13,"TRACK BENCH: 5FTx64.5FTx14INxBT",31,"BOTANICARE TRACK BENCH: 5FT WIDE x 64.5FT LONG x 14IN HIGH, TRILOCK",5,64.5,14]
[{"$f":"IF(B277=0,0,MAX($A$2:A276)+1)","v":0},{"$f":"IF(D277=Calcs!$X$38,Calcs!$W$38,IF(D277=Calcs!$X$39,Calcs!$W$39,IF(D277=Calcs!$X$40,Calcs!$W$40,IF(TRUE,0))))","v":0},276,"TB60-786-14BT",13,"TRACK BENCH: 5FTx65.5FTx14INxBT",31,"BOTANICARE TRACK BENCH: 5FT WIDE x 65.5FT LONG x 14IN HIGH, TRILOCK",5,65.5,14]
[{"$f":"IF(B278=0,0,MAX($A$2:A277)+1)","v":0},{"$f":"IF(D278=Calcs!$X$38,Calcs!$W$38,IF(D278=Calcs!$X$39,Calcs!$W$39,IF(D278=Calcs!$X$40,Calcs!$W$40,IF(TRUE,0))))","v":0},277,"TB60-810-14BT",13,"TRACK BENCH: 5FTx67.5FTx14INxBT",31,"BOTANICARE TRACK BENCH: 5FT WIDE x 67.5FT LONG x 14IN HIGH, TRILOCK",5,67.5,14]
[{"$f":"IF(B279=0,0,MAX($A$2:A278)+1)","v":0},{"$f":"IF(D279=Calcs!$X$38,Calcs!$W$38,IF(D279=Calcs!$X$39,Calcs!$W$39,IF(D279=Calcs!$X$40,Calcs!$W$40,IF(TRUE,0))))","v":0},278,"TB60-822-14BT",13,"TRACK BENCH: 5FTx68.5FTx14INxBT",31,"BOTANICARE TRACK BENCH: 5FT WIDE x 68.5FT LONG x 14IN HIGH, TRILOCK",5,68.5,14]
[{"$f":"IF(B280=0,0,MAX($A$2:A279)+1)","v":0},{"$f":"IF(D280=Calcs!$X$38,Calcs!$W$38,IF(D280=Calcs!$X$39,Calcs!$W$39,IF(D280=Calcs!$X$40,Calcs!$W$40,IF(TRUE,0))))","v":0},279,"TB60-834-14BT",13,"TRACK BENCH: 5FTx69.5FTx14INxBT",31,"BOTANICARE TRACK BENCH: 5FT WIDE x 69.5FT LONG x 14IN HIGH, TRILOCK",5,69.5,14]
[{"$f":"IF(B281=0,0,MAX($A$2:A280)+1)","v":0},{"$f":"IF(D281=Calcs!$X$38,Calcs!$W$38,IF(D281=Calcs!$X$39,Calcs!$W$39,IF(D281=Calcs!$X$40,Calcs!$W$40,IF(TRUE,0))))","v":0},280,"TB60-846-14BT",13,"TRACK BENCH: 5FTx70.5FTx14INxBT",31,"BOTANICARE TRACK BENCH: 5FT WIDE x 70.5FT LONG x 14IN HIGH, TRILOCK",5,70.5,14]
[{"$f":"IF(B282=0,0,MAX($A$2:A281)+1)","v":0},{"$f":"IF(D282=Calcs!$X$38,Calcs!$W$38,IF(D282=Calcs!$X$39,Calcs!$W$39,IF(D282=Calcs!$X$40,Calcs!$W$40,IF(TRUE,0))))","v":0},281,"TB60-870-14BT",13,"TRACK BENCH: 5FTx72.5FTx14INxBT",31,"BOTANICARE TRACK BENCH: 5FT WIDE x 72.5FT LONG x 14IN HIGH, TRILOCK",5,72.5,14]
[{"$f":"IF(B283=0,0,MAX($A$2:A282)+1)","v":0},{"$f":"IF(D283=Calcs!$X$38,Calcs!$W$38,IF(D283=Calcs!$X$39,Calcs!$W$39,IF(D283=Calcs!$X$40,Calcs!$W$40,IF(TRUE,0))))","v":0},282,"TB60-882-14BT",13,"TRACK BENCH: 5FTx73.5FTx14INxBT",31,"BOTANICARE TRACK BENCH: 5FT WIDE x 73.5FT LONG x 14IN HIGH, TRILOCK",5,73.5,14]
[{"$f":"IF(B284=0,0,MAX($A$2:A283)+1)","v":0},{"$f":"IF(D284=Calcs!$X$38,Calcs!$W$38,IF(D284=Calcs!$X$39,Calcs!$W$39,IF(D284=Calcs!$X$40,Calcs!$W$40,IF(TRUE,0))))","v":0},283,"TB60-894-14BT",13,"TRACK BENCH: 5FTx74.5FTx14INxBT",31,"BOTANICARE TRACK BENCH: 5FT WIDE x 74.5FT LONG x 14IN HIGH, TRILOCK",5,74.5,14]
[{"$f":"IF(B285=0,0,MAX($A$2:A284)+1)","v":0},{"$f":"IF(D285=Calcs!$X$38,Calcs!$W$38,IF(D285=Calcs!$X$39,Calcs!$W$39,IF(D285=Calcs!$X$40,Calcs!$W$40,IF(TRUE,0))))","v":0},284,"TB60-906-14BT",13,"TRACK BENCH: 5FTx75.5FTx14INxBT",31,"BOTANICARE TRACK BENCH: 5FT WIDE x 75.5FT LONG x 14IN HIGH, TRILOCK",5,75.5,14]
[{"$f":"IF(B286=0,0,MAX($A$2:A285)+1)","v":0},{"$f":"IF(D286=Calcs!$X$38,Calcs!$W$38,IF(D286=Calcs!$X$39,Calcs!$W$39,IF(D286=Calcs!$X$40,Calcs!$W$40,IF(TRUE,0))))","v":0},285,"TB60-930-14BT",13,"TRACK BENCH: 5FTx77.5FTx14INxBT",31,"BOTANICARE TRACK BENCH: 5FT WIDE x 77.5FT LONG x 14IN HIGH, TRILOCK",5,77.5,14]
[{"$f":"IF(B287=0,0,MAX($A$2:A286)+1)","v":0},{"$f":"IF(D287=Calcs!$X$38,Calcs!$W$38,IF(D287=Calcs!$X$39,Calcs!$W$39,IF(D287=Calcs!$X$40,Calcs!$W$40,IF(TRUE,0))))","v":0},286,"TB60-942-14BT",13,"TRACK BENCH: 5FTx78.5FTx14INxBT",31,"BOTANICARE TRACK BENCH: 5FT WIDE x 78.5FT LONG x 14IN HIGH, TRILOCK",5,78.5,14]
[{"$f":"IF(B288=0,0,MAX($A$2:A287)+1)","v":0},{"$f":"IF(D288=Calcs!$X$38,Calcs!$W$38,IF(D288=Calcs!$X$39,Calcs!$W$39,IF(D288=Calcs!$X$40,Calcs!$W$40,IF(TRUE,0))))","v":0},287,"TB60-954-14BT",13,"TRACK BENCH: 5FTx79.5FTx14INxBT",31,"BOTANICARE TRACK BENCH: 5FT WIDE x 79.5FT LONG x 14IN HIGH, TRILOCK",5,79.5,14]
[{"$f":"IF(B289=0,0,MAX($A$2:A288)+1)","v":0},{"$f":"IF(D289=Calcs!$X$38,Calcs!$W$38,IF(D289=Calcs!$X$39,Calcs!$W$39,IF(D289=Calcs!$X$40,Calcs!$W$40,IF(TRUE,0))))","v":0},288,"TB60-966-14BT",13,"TRACK BENCH: 5FTx80.5FTx14INxBT",31,"BOTANICARE TRACK BENCH: 5FT WIDE x 80.5FT LONG x 14IN HIGH, TRILOCK",5,80.5,14]
[{"$f":"IF(B290=0,0,MAX($A$2:A289)+1)","v":0},{"$f":"IF(D290=Calcs!$X$38,Calcs!$W$38,IF(D290=Calcs!$X$39,Calcs!$W$39,IF(D290=Calcs!$X$40,Calcs!$W$40,IF(TRUE,0))))","v":0},289,"TB60-990-14BT",13,"TRACK BENCH: 5FTx82.5FTx14INxBT",31,"BOTANICARE TRACK BENCH: 5FT WIDE x 82.5FT LONG x 14IN HIGH, TRILOCK",5,82.5,14]
[{"$f":"IF(B291=0,0,MAX($A$2:A290)+1)","v":0},{"$f":"IF(D291=Calcs!$X$38,Calcs!$W$38,IF(D291=Calcs!$X$39,Calcs!$W$39,IF(D291=Calcs!$X$40,Calcs!$W$40,IF(TRUE,0))))","v":0},290,"TB60-1002-14BT",14,"TRACK BENCH: 5FTx83.5FTx14INxBT",31,"BOTANICARE TRACK BENCH: 5FT WIDE x 83.5FT LONG x 14IN HIGH, TRILOCK",5,83.5,14]
[{"$f":"IF(B292=0,0,MAX($A$2:A291)+1)","v":0},{"$f":"IF(D292=Calcs!$X$38,Calcs!$W$38,IF(D292=Calcs!$X$39,Calcs!$W$39,IF(D292=Calcs!$X$40,Calcs!$W$40,IF(TRUE,0))))","v":0},291,"TB60-1014-14BT",14,"TRACK BENCH: 5FTx84.5FTx14INxBT",31,"BOTANICARE TRACK BENCH: 5FT WIDE x 84.5FT LONG x 14IN HIGH, TRILOCK",5,84.5,14]
[{"$f":"IF(B293=0,0,MAX($A$2:A292)+1)","v":0},{"$f":"IF(D293=Calcs!$X$38,Calcs!$W$38,IF(D293=Calcs!$X$39,Calcs!$W$39,IF(D293=Calcs!$X$40,Calcs!$W$40,IF(TRUE,0))))","v":0},292,"TB60-1026-14BT",14,"TRACK BENCH: 5FTx85.5FTx14INxBT",31,"BOTANICARE TRACK BENCH: 5FT WIDE x 85.5FT LONG x 14IN HIGH, TRILOCK",5,85.5,14]
[{"$f":"IF(B294=0,0,MAX($A$2:A293)+1)","v":0},{"$f":"IF(D294=Calcs!$X$38,Calcs!$W$38,IF(D294=Calcs!$X$39,Calcs!$W$39,IF(D294=Calcs!$X$40,Calcs!$W$40,IF(TRUE,0))))","v":0},293,"TB60-1050-14BT",14,"TRACK BENCH: 5FTx87.5FTx14INxBT",31,"BOTANICARE TRACK BENCH: 5FT WIDE x 87.5FT LONG x 14IN HIGH, TRILOCK",5,87.5,14]
[{"$f":"IF(B295=0,0,MAX($A$2:A294)+1)","v":0},{"$f":"IF(D295=Calcs!$X$38,Calcs!$W$38,IF(D295=Calcs!$X$39,Calcs!$W$39,IF(D295=Calcs!$X$40,Calcs!$W$40,IF(TRUE,0))))","v":0},294,"TB60-1062-14BT",14,"TRACK BENCH: 5FTx88.5FTx14INxBT",31,"BOTANICARE TRACK BENCH: 5FT WIDE x 88.5FT LONG x 14IN HIGH, TRILOCK",5,88.5,14]
[{"$f":"IF(B296=0,0,MAX($A$2:A295)+1)","v":0},{"$f":"IF(D296=Calcs!$X$38,Calcs!$W$38,IF(D296=Calcs!$X$39,Calcs!$W$39,IF(D296=Calcs!$X$40,Calcs!$W$40,IF(TRUE,0))))","v":0},295,"TB60-1074-14BT",14,"TRACK BENCH: 5FTx89.5FTx14INxBT",31,"BOTANICARE TRACK BENCH: 5FT WIDE x 89.5FT LONG x 14IN HIGH, TRILOCK",5,89.5,14]
[{"$f":"IF(B297=0,0,MAX($A$2:A296)+1)","v":0},{"$f":"IF(D297=Calcs!$X$38,Calcs!$W$38,IF(D297=Calcs!$X$39,Calcs!$W$39,IF(D297=Calcs!$X$40,Calcs!$W$40,IF(TRUE,0))))","v":0},296,"TB60-1086-14BT",14,"TRACK BENCH: 5FTx90.5FTx14INxBT",31,"BOTANICARE TRACK BENCH: 5FT WIDE x 90.5FT LONG x 14IN HIGH, TRILOCK",5,90.5,14]
[{"$f":"IF(B298=0,0,MAX($A$2:A297)+1)","v":0},{"$f":"IF(D298=Calcs!$X$38,Calcs!$W$38,IF(D298=Calcs!$X$39,Calcs!$W$39,IF(D298=Calcs!$X$40,Calcs!$W$40,IF(TRUE,0))))","v":0},297,"TB60-1110-14BT",14,"TRACK BENCH: 5FTx92.5FTx14INxBT",31,"BOTANICARE TRACK BENCH: 5FT WIDE x 92.5FT LONG x 14IN HIGH, TRILOCK",5,92.5,14]
[{"$f":"IF(B299=0,0,MAX($A$2:A298)+1)","v":0},{"$f":"IF(D299=Calcs!$X$38,Calcs!$W$38,IF(D299=Calcs!$X$39,Calcs!$W$39,IF(D299=Calcs!$X$40,Calcs!$W$40,IF(TRUE,0))))","v":0},298,"TB60-1122-14BT",14,"TRACK BENCH: 5FTx93.5FTx14INxBT",31,"BOTANICARE TRACK BENCH: 5FT WIDE x 93.5FT LONG x 14IN HIGH, TRILOCK",5,93.5,14]
[{"$f":"IF(B300=0,0,MAX($A$2:A299)+1)","v":0},{"$f":"IF(D300=Calcs!$X$38,Calcs!$W$38,IF(D300=Calcs!$X$39,Calcs!$W$39,IF(D300=Calcs!$X$40,Calcs!$W$40,IF(TRUE,0))))","v":0},299,"TB60-1134-14BT",14,"TRACK BENCH: 5FTx94.5FTx14INxBT",31,"BOTANICARE TRACK BENCH: 5FT WIDE x 94.5FT LONG x 14IN HIGH, TRILOCK",5,94.5,14]
[{"$f":"IF(B301=0,0,MAX($A$2:A300)+1)","v":0},{"$f":"IF(D301=Calcs!$X$38,Calcs!$W$38,IF(D301=Calcs!$X$39,Calcs!$W$39,IF(D301=Calcs!$X$40,Calcs!$W$40,IF(TRUE,0))))","v":0},300,"TB60-1146-14BT",14,"TRACK BENCH: 5FTx95.5FTx14INxBT",31,"BOTANICARE TRACK BENCH: 5FT WIDE x 95.5FT LONG x 14IN HIGH, TRILOCK",5,95.5,14]
[{"$f":"IF(B302=0,0,MAX($A$2:A301)+1)","v":0},{"$f":"IF(D302=Calcs!$X$38,Calcs!$W$38,IF(D302=Calcs!$X$39,Calcs!$W$39,IF(D302=Calcs!$X$40,Calcs!$W$40,IF(TRUE,0))))","v":0},301,"TB60-1170-14BT",14,"TRACK BENCH: 5FTx97.5FTx14INxBT",31,"BOTANICARE TRACK BENCH: 5FT WIDE x 97.5FT LONG x 14IN HIGH, TRILOCK",5,97.5,14]
[{"$f":"IF(B303=0,0,MAX($A$2:A302)+1)","v":0},{"$f":"IF(D303=Calcs!$X$38,Calcs!$W$38,IF(D303=Calcs!$X$39,Calcs!$W$39,IF(D303=Calcs!$X$40,Calcs!$W$40,IF(TRUE,0))))","v":0},302,"TB60-1182-14BT",14,"TRACK BENCH: 5FTx98.5FTx14INxBT",31,"BOTANICARE TRACK BENCH: 5FT WIDE x 98.5FT LONG x 14IN HIGH, TRILOCK",5,98.5,14]
[{"$f":"IF(B304=0,0,MAX($A$2:A303)+1)","v":0},{"$f":"IF(D304=Calcs!$X$38,Calcs!$W$38,IF(D304=Calcs!$X$39,Calcs!$W$39,IF(D304=Calcs!$X$40,Calcs!$W$40,IF(TRUE,0))))","v":0},303,"TB60-1194-14BT",14,"TRACK BENCH: 5FTx99.5FTx14INxBT",31,"BOTANICARE TRACK BENCH: 5FT WIDE x 99.5FT LONG x 14IN HIGH, TRILOCK",5,99.5,14]
[{"$f":"IF(B305=0,0,MAX($A$2:A304)+1)","v":0},{"$f":"IF(D305=Calcs!$X$38,Calcs!$W$38,IF(D305=Calcs!$X$39,Calcs!$W$39,IF(D305=Calcs!$X$40,Calcs!$W$40,IF(TRUE,0))))","v":0},304,"TB60-1206-14BT",14,"TRACK BENCH: 5FTx100.5FTx14INxBT",32,"BOTANICARE TRACK BENCH: 5FT WIDE x 100.5FT LONG x 14IN HIGH, TRILOCK",5,100.5,14]
[{"$f":"IF(B306=0,0,MAX($A$2:A305)+1)","v":0},{"$f":"IF(D306=Calcs!$X$38,Calcs!$W$38,IF(D306=Calcs!$X$39,Calcs!$W$39,IF(D306=Calcs!$X$40,Calcs!$W$40,IF(TRUE,0))))","v":0},305,"TB60-90-20BT",12,"TRACK BENCH: 5FTx7.5FTx20INxBT",30,"BOTANICARE TRACK BENCH: 5FT WIDE x 7.5FT LONG x 20IN HIGH, TRILOCK",5,7.5,20]
[{"$f":"IF(B307=0,0,MAX($A$2:A306)+1)","v":0},{"$f":"IF(D307=Calcs!$X$38,Calcs!$W$38,IF(D307=Calcs!$X$39,Calcs!$W$39,IF(D307=Calcs!$X$40,Calcs!$W$40,IF(TRUE,0))))","v":0},306,"TB60-102-20BT",13,"TRACK BENCH: 5FTx8.5FTx20INxBT",30,"BOTANICARE TRACK BENCH: 5FT WIDE x 8.5FT LONG x 20IN HIGH, TRILOCK",5,8.5,20]
[{"$f":"IF(B308=0,0,MAX($A$2:A307)+1)","v":0},{"$f":"IF(D308=Calcs!$X$38,Calcs!$W$38,IF(D308=Calcs!$X$39,Calcs!$W$39,IF(D308=Calcs!$X$40,Calcs!$W$40,IF(TRUE,0))))","v":0},307,"TB60-114-20BT",13,"TRACK BENCH: 5FTx9.5FTx20INxBT",30,"BOTANICARE TRACK BENCH: 5FT WIDE x 9.5FT LONG x 20IN HIGH, TRILOCK",5,9.5,20]
[{"$f":"IF(B309=0,0,MAX($A$2:A308)+1)","v":0},{"$f":"IF(D309=Calcs!$X$38,Calcs!$W$38,IF(D309=Calcs!$X$39,Calcs!$W$39,IF(D309=Calcs!$X$40,Calcs!$W$40,IF(TRUE,0))))","v":0},308,"TB60-126-20BT",13,"TRACK BENCH: 5FTx10.5FTx20INxBT",31,"BOTANICARE TRACK BENCH: 5FT WIDE x 10.5FT LONG x 20IN HIGH, TRILOCK",5,10.5,20]
[{"$f":"IF(B310=0,0,MAX($A$2:A309)+1)","v":0},{"$f":"IF(D310=Calcs!$X$38,Calcs!$W$38,IF(D310=Calcs!$X$39,Calcs!$W$39,IF(D310=Calcs!$X$40,Calcs!$W$40,IF(TRUE,0))))","v":0},309,"TB60-150-20BT",13,"TRACK BENCH: 5FTx12.5FTx20INxBT",31,"BOTANICARE TRACK BENCH: 5FT WIDE x 12.5FT LONG x 20IN HIGH, TRILOCK",5,12.5,20]
[{"$f":"IF(B311=0,0,MAX($A$2:A310)+1)","v":0},{"$f":"IF(D311=Calcs!$X$38,Calcs!$W$38,IF(D311=Calcs!$X$39,Calcs!$W$39,IF(D311=Calcs!$X$40,Calcs!$W$40,IF(TRUE,0))))","v":0},310,"TB60-162-20BT",13,"TRACK BENCH: 5FTx13.5FTx20INxBT",31,"BOTANICARE TRACK BENCH: 5FT WIDE x 13.5FT LONG x 20IN HIGH, TRILOCK",5,13.5,20]
[{"$f":"IF(B312=0,0,MAX($A$2:A311)+1)","v":0},{"$f":"IF(D312=Calcs!$X$38,Calcs!$W$38,IF(D312=Calcs!$X$39,Calcs!$W$39,IF(D312=Calcs!$X$40,Calcs!$W$40,IF(TRUE,0))))","v":0},311,"TB60-174-20BT",13,"TRACK BENCH: 5FTx14.5FTx20INxBT",31,"BOTANICARE TRACK BENCH: 5FT WIDE x 14.5FT LONG x 20IN HIGH, TRILOCK",5,14.5,20]
[{"$f":"IF(B313=0,0,MAX($A$2:A312)+1)","v":0},{"$f":"IF(D313=Calcs!$X$38,Calcs!$W$38,IF(D313=Calcs!$X$39,Calcs!$W$39,IF(D313=Calcs!$X$40,Calcs!$W$40,IF(TRUE,0))))","v":0},312,"TB60-186-20BT",13,"TRACK BENCH: 5FTx15.5FTx20INxBT",31,"BOTANICARE TRACK BENCH: 5FT WIDE x 15.5FT LONG x 20IN HIGH, TRILOCK",5,15.5,20]
[{"$f":"IF(B314=0,0,MAX($A$2:A313)+1)","v":0},{"$f":"IF(D314=Calcs!$X$38,Calcs!$W$38,IF(D314=Calcs!$X$39,Calcs!$W$39,IF(D314=Calcs!$X$40,Calcs!$W$40,IF(TRUE,0))))","v":0},313,"TB60-210-20BT",13,"TRACK BENCH: 5FTx17.5FTx20INxBT",31,"BOTANICARE TRACK BENCH: 5FT WIDE x 17.5FT LONG x 20IN HIGH, TRILOCK",5,17.5,20]
[{"$f":"IF(B315=0,0,MAX($A$2:A314)+1)","v":0},{"$f":"IF(D315=Calcs!$X$38,Calcs!$W$38,IF(D315=Calcs!$X$39,Calcs!$W$39,IF(D315=Calcs!$X$40,Calcs!$W$40,IF(TRUE,0))))","v":0},314,"TB60-222-20BT",13,"TRACK BENCH: 5FTx18.5FTx20INxBT",31,"BOTANICARE TRACK BENCH: 5FT WIDE x 18.5FT LONG x 20IN HIGH, TRILOCK",5,18.5,20]
[{"$f":"IF(B316=0,0,MAX($A$2:A315)+1)","v":0},{"$f":"IF(D316=Calcs!$X$38,Calcs!$W$38,IF(D316=Calcs!$X$39,Calcs!$W$39,IF(D316=Calcs!$X$40,Calcs!$W$40,IF(TRUE,0))))","v":0},315,"TB60-234-20BT",13,"TRACK BENCH: 5FTx19.5FTx20INxBT",31,"BOTANICARE TRACK BENCH: 5FT WIDE x 19.5FT LONG x 20IN HIGH, TRILOCK",5,19.5,20]
[{"$f":"IF(B317=0,0,MAX($A$2:A316)+1)","v":0},{"$f":"IF(D317=Calcs!$X$38,Calcs!$W$38,IF(D317=Calcs!$X$39,Calcs!$W$39,IF(D317=Calcs!$X$40,Calcs!$W$40,IF(TRUE,0))))","v":0},316,"TB60-246-20BT",13,"TRACK BENCH: 5FTx20.5FTx20INxBT",31,"BOTANICARE TRACK BENCH: 5FT WIDE x 20.5FT LONG x 20IN HIGH, TRILOCK",5,20.5,20]
[{"$f":"IF(B318=0,0,MAX($A$2:A317)+1)","v":0},{"$f":"IF(D318=Calcs!$X$38,Calcs!$W$38,IF(D318=Calcs!$X$39,Calcs!$W$39,IF(D318=Calcs!$X$40,Calcs!$W$40,IF(TRUE,0))))","v":0},317,"TB60-270-20BT",13,"TRACK BENCH: 5FTx22.5FTx20INxBT",31,"BOTANICARE TRACK BENCH: 5FT WIDE x 22.5FT LONG x 20IN HIGH, TRILOCK",5,22.5,20]
[{"$f":"IF(B319=0,0,MAX($A$2:A318)+1)","v":0},{"$f":"IF(D319=Calcs!$X$38,Calcs!$W$38,IF(D319=Calcs!$X$39,Calcs!$W$39,IF(D319=Calcs!$X$40,Calcs!$W$40,IF(TRUE,0))))","v":0},318,"TB60-282-20BT",13,"TRACK BENCH: 5FTx23.5FTx20INxBT",31,"BOTANICARE TRACK BENCH: 5FT WIDE x 23.5FT LONG x 20IN HIGH, TRILOCK",5,23.5,20]
[{"$f":"IF(B320=0,0,MAX($A$2:A319)+1)","v":0},{"$f":"IF(D320=Calcs!$X$38,Calcs!$W$38,IF(D320=Calcs!$X$39,Calcs!$W$39,IF(D320=Calcs!$X$40,Calcs!$W$40,IF(TRUE,0))))","v":0},319,"TB60-294-20BT",13,"TRACK BENCH: 5FTx24.5FTx20INxBT",31,"BOTANICARE TRACK BENCH: 5FT WIDE x 24.5FT LONG x 20IN HIGH, TRILOCK",5,24.5,20]
[{"$f":"IF(B321=0,0,MAX($A$2:A320)+1)","v":0},{"$f":"IF(D321=Calcs!$X$38,Calcs!$W$38,IF(D321=Calcs!$X$39,Calcs!$W$39,IF(D321=Calcs!$X$40,Calcs!$W$40,IF(TRUE,0))))","v":0},320,"TB60-306-20BT",13,"TRACK BENCH: 5FTx25.5FTx20INxBT",31,"BOTANICARE TRACK BENCH: 5FT WIDE x 25.5FT LONG x 20IN HIGH, TRILOCK",5,25.5,20]
[{"$f":"IF(B322=0,0,MAX($A$2:A321)+1)","v":0},{"$f":"IF(D322=Calcs!$X$38,Calcs!$W$38,IF(D322=Calcs!$X$39,Calcs!$W$39,IF(D322=Calcs!$X$40,Calcs!$W$40,IF(TRUE,0))))","v":0},321,"TB60-330-20BT",13,"TRACK BENCH: 5FTx27.5FTx20INxBT",31,"BOTANICARE TRACK BENCH: 5FT WIDE x 27.5FT LONG x 20IN HIGH, TRILOCK",5,27.5,20]
[{"$f":"IF(B323=0,0,MAX($A$2:A322)+1)","v":0},{"$f":"IF(D323=Calcs!$X$38,Calcs!$W$38,IF(D323=Calcs!$X$39,Calcs!$W$39,IF(D323=Calcs!$X$40,Calcs!$W$40,IF(TRUE,0))))","v":0},322,"TB60-342-20BT",13,"TRACK BENCH: 5FTx28.5FTx20INxBT",31,"BOTANICARE TRACK BENCH: 5FT WIDE x 28.5FT LONG x 20IN HIGH, TRILOCK",5,28.5,20]
[{"$f":"IF(B324=0,0,MAX($A$2:A323)+1)","v":0},{"$f":"IF(D324=Calcs!$X$38,Calcs!$W$38,IF(D324=Calcs!$X$39,Calcs!$W$39,IF(D324=Calcs!$X$40,Calcs!$W$40,IF(TRUE,0))))","v":0},323,"TB60-354-20BT",13,"TRACK BENCH: 5FTx29.5FTx20INxBT",31,"BOTANICARE TRACK BENCH: 5FT WIDE x 29.5FT LONG x 20IN HIGH, TRILOCK",5,29.5,20]
[{"$f":"IF(B325=0,0,MAX($A$2:A324)+1)","v":0},{"$f":"IF(D325=Calcs!$X$38,Calcs!$W$38,IF(D325=Calcs!$X$39,Calcs!$W$39,IF(D325=Calcs!$X$40,Calcs!$W$40,IF(TRUE,0))))","v":0},324,"TB60-366-20BT",13,"TRACK BENCH: 5FTx30.5FTx20INxBT",31,"BOTANICARE TRACK BENCH: 5FT WIDE x 30.5FT LONG x 20IN HIGH, TRILOCK",5,30.5,20]
[{"$f":"IF(B326=0,0,MAX($A$2:A325)+1)","v":0},{"$f":"IF(D326=Calcs!$X$38,Calcs!$W$38,IF(D326=Calcs!$X$39,Calcs!$W$39,IF(D326=Calcs!$X$40,Calcs!$W$40,IF(TRUE,0))))","v":0},325,"TB60-390-20BT",13,"TRACK BENCH: 5FTx32.5FTx20INxBT",31,"BOTANICARE TRACK BENCH: 5FT WIDE x 32.5FT LONG x 20IN HIGH, TRILOCK",5,32.5,20]
[{"$f":"IF(B327=0,0,MAX($A$2:A326)+1)","v":0},{"$f":"IF(D327=Calcs!$X$38,Calcs!$W$38,IF(D327=Calcs!$X$39,Calcs!$W$39,IF(D327=Calcs!$X$40,Calcs!$W$40,IF(TRUE,0))))","v":0},326,"TB60-402-20BT",13,"TRACK BENCH: 5FTx33.5FTx20INxBT",31,"BOTANICARE TRACK BENCH: 5FT WIDE x 33.5FT LONG x 20IN HIGH, TRILOCK",5,33.5,20]
[{"$f":"IF(B328=0,0,MAX($A$2:A327)+1)","v":0},{"$f":"IF(D328=Calcs!$X$38,Calcs!$W$38,IF(D328=Calcs!$X$39,Calcs!$W$39,IF(D328=Calcs!$X$40,Calcs!$W$40,IF(TRUE,0))))","v":0},327,"TB60-414-20BT",13,"TRACK BENCH: 5FTx34.5FTx20INxBT",31,"BOTANICARE TRACK BENCH: 5FT WIDE x 34.5FT LONG x 20IN HIGH, TRILOCK",5,34.5,20]
[{"$f":"IF(B329=0,0,MAX($A$2:A328)+1)","v":0},{"$f":"IF(D329=Calcs!$X$38,Calcs!$W$38,IF(D329=Calcs!$X$39,Calcs!$W$39,IF(D329=Calcs!$X$40,Calcs!$W$40,IF(TRUE,0))))","v":0},328,"TB60-426-20BT",13,"TRACK BENCH: 5FTx35.5FTx20INxBT",31,"BOTANICARE TRACK BENCH: 5FT WIDE x 35.5FT LONG x 20IN HIGH, TRILOCK",5,35.5,20]
[{"$f":"IF(B330=0,0,MAX($A$2:A329)+1)","v":0},{"$f":"IF(D330=Calcs!$X$38,Calcs!$W$38,IF(D330=Calcs!$X$39,Calcs!$W$39,IF(D330=Calcs!$X$40,Calcs!$W$40,IF(TRUE,0))))","v":0},329,"TB60-450-20BT",13,"TRACK BENCH: 5FTx37.5FTx20INxBT",31,"BOTANICARE TRACK BENCH: 5FT WIDE x 37.5FT LONG x 20IN HIGH, TRILOCK",5,37.5,20]
[{"$f":"IF(B331=0,0,MAX($A$2:A330)+1)","v":0},{"$f":"IF(D331=Calcs!$X$38,Calcs!$W$38,IF(D331=Calcs!$X$39,Calcs!$W$39,IF(D331=Calcs!$X$40,Calcs!$W$40,IF(TRUE,0))))","v":0},330,"TB60-462-20BT",13,"TRACK BENCH: 5FTx38.5FTx20INxBT",31,"BOTANICARE TRACK BENCH: 5FT WIDE x 38.5FT LONG x 20IN HIGH, TRILOCK",5,38.5,20]
[{"$f":"IF(B332=0,0,MAX($A$2:A331)+1)","v":0},{"$f":"IF(D332=Calcs!$X$38,Calcs!$W$38,IF(D332=Calcs!$X$39,Calcs!$W$39,IF(D332=Calcs!$X$40,Calcs!$W$40,IF(TRUE,0))))","v":0},331,"TB60-474-20BT",13,"TRACK BENCH: 5FTx39.5FTx20INxBT",31,"BOTANICARE TRACK BENCH: 5FT WIDE x 39.5FT LONG x 20IN HIGH, TRILOCK",5,39.5,20]
[{"$f":"IF(B333=0,0,MAX($A$2:A332)+1)","v":0},{"$f":"IF(D333=Calcs!$X$38,Calcs!$W$38,IF(D333=Calcs!$X$39,Calcs!$W$39,IF(D333=Calcs!$X$40,Calcs!$W$40,IF(TRUE,0))))","v":0},332,"TB60-486-20BT",13,"TRACK BENCH: 5FTx40.5FTx20INxBT",31,"BOTANICARE TRACK BENCH: 5FT WIDE x 40.5FT LONG x 20IN HIGH, TRILOCK",5,40.5,20]
[{"$f":"IF(B334=0,0,MAX($A$2:A333)+1)","v":0},{"$f":"IF(D334=Calcs!$X$38,Calcs!$W$38,IF(D334=Calcs!$X$39,Calcs!$W$39,IF(D334=Calcs!$X$40,Calcs!$W$40,IF(TRUE,0))))","v":0},333,"TB60-510-20BT",13,"TRACK BENCH: 5FTx42.5FTx20INxBT",31,"BOTANICARE TRACK BENCH: 5FT WIDE x 42.5FT LONG x 20IN HIGH, TRILOCK",5,42.5,20]
[{"$f":"IF(B335=0,0,MAX($A$2:A334)+1)","v":0},{"$f":"IF(D335=Calcs!$X$38,Calcs!$W$38,IF(D335=Calcs!$X$39,Calcs!$W$39,IF(D335=Calcs!$X$40,Calcs!$W$40,IF(TRUE,0))))","v":0},334,"TB60-522-20BT",13,"TRACK BENCH: 5FTx43.5FTx20INxBT",31,"BOTANICARE TRACK BENCH: 5FT WIDE x 43.5FT LONG x 20IN HIGH, TRILOCK",5,43.5,20]
[{"$f":"IF(B336=0,0,MAX($A$2:A335)+1)","v":0},{"$f":"IF(D336=Calcs!$X$38,Calcs!$W$38,IF(D336=Calcs!$X$39,Calcs!$W$39,IF(D336=Calcs!$X$40,Calcs!$W$40,IF(TRUE,0))))","v":0},335,"TB60-534-20BT",13,"TRACK BENCH: 5FTx44.5FTx20INxBT",31,"BOTANICARE TRACK BENCH: 5FT WIDE x 44.5FT LONG x 20IN HIGH, TRILOCK",5,44.5,20]
[{"$f":"IF(B337=0,0,MAX($A$2:A336)+1)","v":0},{"$f":"IF(D337=Calcs!$X$38,Calcs!$W$38,IF(D337=Calcs!$X$39,Calcs!$W$39,IF(D337=Calcs!$X$40,Calcs!$W$40,IF(TRUE,0))))","v":0},336,"TB60-546-20BT",13,"TRACK BENCH: 5FTx45.5FTx20INxBT",31,"BOTANICARE TRACK BENCH: 5FT WIDE x 45.5FT LONG x 20IN HIGH, TRILOCK",5,45.5,20]
[{"$f":"IF(B338=0,0,MAX($A$2:A337)+1)","v":0},{"$f":"IF(D338=Calcs!$X$38,Calcs!$W$38,IF(D338=Calcs!$X$39,Calcs!$W$39,IF(D338=Calcs!$X$40,Calcs!$W$40,IF(TRUE,0))))","v":0},337,"TB60-570-20BT",13,"TRACK BENCH: 5FTx47.5FTx20INxBT",31,"BOTANICARE TRACK BENCH: 5FT WIDE x 47.5FT LONG x 20IN HIGH, TRILOCK",5,47.5,20]
[{"$f":"IF(B339=0,0,MAX($A$2:A338)+1)","v":0},{"$f":"IF(D339=Calcs!$X$38,Calcs!$W$38,IF(D339=Calcs!$X$39,Calcs!$W$39,IF(D339=Calcs!$X$40,Calcs!$W$40,IF(TRUE,0))))","v":0},338,"TB60-582-20BT",13,"TRACK BENCH: 5FTx48.5FTx20INxBT",31,"BOTANICARE TRACK BENCH: 5FT WIDE x 48.5FT LONG x 20IN HIGH, TRILOCK",5,48.5,20]
[{"$f":"IF(B340=0,0,MAX($A$2:A339)+1)","v":0},{"$f":"IF(D340=Calcs!$X$38,Calcs!$W$38,IF(D340=Calcs!$X$39,Calcs!$W$39,IF(D340=Calcs!$X$40,Calcs!$W$40,IF(TRUE,0))))","v":0},339,"TB60-594-20BT",13,"TRACK BENCH: 5FTx49.5FTx20INxBT",31,"BOTANICARE TRACK BENCH: 5FT WIDE x 49.5FT LONG x 20IN HIGH, TRILOCK",5,49.5,20]
[{"$f":"IF(B341=0,0,MAX($A$2:A340)+1)","v":0},{"$f":"IF(D341=Calcs!$X$38,Calcs!$W$38,IF(D341=Calcs!$X$39,Calcs!$W$39,IF(D341=Calcs!$X$40,Calcs!$W$40,IF(TRUE,0))))","v":0},340,"TB60-606-20BT",13,"TRACK BENCH: 5FTx50.5FTx20INxBT",31,"BOTANICARE TRACK BENCH: 5FT WIDE x 50.5FT LONG x 20IN HIGH, TRILOCK",5,50.5,20]
[{"$f":"IF(B342=0,0,MAX($A$2:A341)+1)","v":0},{"$f":"IF(D342=Calcs!$X$38,Calcs!$W$38,IF(D342=Calcs!$X$39,Calcs!$W$39,IF(D342=Calcs!$X$40,Calcs!$W$40,IF(TRUE,0))))","v":0},341,"TB60-630-20BT",13,"TRACK BENCH: 5FTx52.5FTx20INxBT",31,"BOTANICARE TRACK BENCH: 5FT WIDE x 52.5FT LONG x 20IN HIGH, TRILOCK",5,52.5,20]
[{"$f":"IF(B343=0,0,MAX($A$2:A342)+1)","v":0},{"$f":"IF(D343=Calcs!$X$38,Calcs!$W$38,IF(D343=Calcs!$X$39,Calcs!$W$39,IF(D343=Calcs!$X$40,Calcs!$W$40,IF(TRUE,0))))","v":0},342,"TB60-642-20BT",13,"TRACK BENCH: 5FTx53.5FTx20INxBT",31,"BOTANICARE TRACK BENCH: 5FT WIDE x 53.5FT LONG x 20IN HIGH, TRILOCK",5,53.5,20]
[{"$f":"IF(B344=0,0,MAX($A$2:A343)+1)","v":0},{"$f":"IF(D344=Calcs!$X$38,Calcs!$W$38,IF(D344=Calcs!$X$39,Calcs!$W$39,IF(D344=Calcs!$X$40,Calcs!$W$40,IF(TRUE,0))))","v":0},343,"TB60-654-20BT",13,"TRACK BENCH: 5FTx54.5FTx20INxBT",31,"BOTANICARE TRACK BENCH: 5FT WIDE x 54.5FT LONG x 20IN HIGH, TRILOCK",5,54.5,20]
[{"$f":"IF(B345=0,0,MAX($A$2:A344)+1)","v":0},{"$f":"IF(D345=Calcs!$X$38,Calcs!$W$38,IF(D345=Calcs!$X$39,Calcs!$W$39,IF(D345=Calcs!$X$40,Calcs!$W$40,IF(TRUE,0))))","v":0},344,"TB60-666-20BT",13,"TRACK BENCH: 5FTx55.5FTx20INxBT",31,"BOTANICARE TRACK BENCH: 5FT WIDE x 55.5FT LONG x 20IN HIGH, TRILOCK",5,55.5,20]
[{"$f":"IF(B346=0,0,MAX($A$2:A345)+1)","v":0},{"$f":"IF(D346=Calcs!$X$38,Calcs!$W$38,IF(D346=Calcs!$X$39,Calcs!$W$39,IF(D346=Calcs!$X$40,Calcs!$W$40,IF(TRUE,0))))","v":0},345,"TB60-690-20BT",13,"TRACK BENCH: 5FTx57.5FTx20INxBT",31,"BOTANICARE TRACK BENCH: 5FT WIDE x 57.5FT LONG x 20IN HIGH, TRILOCK",5,57.5,20]
[{"$f":"IF(B347=0,0,MAX($A$2:A346)+1)","v":0},{"$f":"IF(D347=Calcs!$X$38,Calcs!$W$38,IF(D347=Calcs!$X$39,Calcs!$W$39,IF(D347=Calcs!$X$40,Calcs!$W$40,IF(TRUE,0))))","v":0},346,"TB60-702-20BT",13,"TRACK BENCH: 5FTx58.5FTx20INxBT",31,"BOTANICARE TRACK BENCH: 5FT WIDE x 58.5FT LONG x 20IN HIGH, TRILOCK",5,58.5,20]
[{"$f":"IF(B348=0,0,MAX($A$2:A347)+1)","v":0},{"$f":"IF(D348=Calcs!$X$38,Calcs!$W$38,IF(D348=Calcs!$X$39,Calcs!$W$39,IF(D348=Calcs!$X$40,Calcs!$W$40,IF(TRUE,0))))","v":0},347,"TB60-714-20BT",13,"TRACK BENCH: 5FTx59.5FTx20INxBT",31,"BOTANICARE TRACK BENCH: 5FT WIDE x 59.5FT LONG x 20IN HIGH, TRILOCK",5,59.5,20]
[{"$f":"IF(B349=0,0,MAX($A$2:A348)+1)","v":0},{"$f":"IF(D349=Calcs!$X$38,Calcs!$W$38,IF(D349=Calcs!$X$39,Calcs!$W$39,IF(D349=Calcs!$X$40,Calcs!$W$40,IF(TRUE,0))))","v":0},348,"TB60-726-20BT",13,"TRACK BENCH: 5FTx60.5FTx20INxBT",31,"BOTANICARE TRACK BENCH: 5FT WIDE x 60.5FT LONG x 20IN HIGH, TRILOCK",5,60.5,20]
[{"$f":"IF(B350=0,0,MAX($A$2:A349)+1)","v":0},{"$f":"IF(D350=Calcs!$X$38,Calcs!$W$38,IF(D350=Calcs!$X$39,Calcs!$W$39,IF(D350=Calcs!$X$40,Calcs!$W$40,IF(TRUE,0))))","v":0},349,"TB60-750-20BT",13,"TRACK BENCH: 5FTx62.5FTx20INxBT",31,"BOTANICARE TRACK BENCH: 5FT WIDE x 62.5FT LONG x 20IN HIGH, TRILOCK",5,62.5,20]
[{"$f":"IF(B351=0,0,MAX($A$2:A350)+1)","v":0},{"$f":"IF(D351=Calcs!$X$38,Calcs!$W$38,IF(D351=Calcs!$X$39,Calcs!$W$39,IF(D351=Calcs!$X$40,Calcs!$W$40,IF(TRUE,0))))","v":0},350,"TB60-762-20BT",13,"TRACK BENCH: 5FTx63.5FTx20INxBT",31,"BOTANICARE TRACK BENCH: 5FT WIDE x 63.5FT LONG x 20IN HIGH, TRILOCK",5,63.5,20]
[{"$f":"IF(B352=0,0,MAX($A$2:A351)+1)","v":0},{"$f":"IF(D352=Calcs!$X$38,Calcs!$W$38,IF(D352=Calcs!$X$39,Calcs!$W$39,IF(D352=Calcs!$X$40,Calcs!$W$40,IF(TRUE,0))))","v":0},351,"TB60-774-20BT",13,"TRACK BENCH: 5FTx64.5FTx20INxBT",31,"BOTANICARE TRACK BENCH: 5FT WIDE x 64.5FT LONG x 20IN HIGH, TRILOCK",5,64.5,20]
[{"$f":"IF(B353=0,0,MAX($A$2:A352)+1)","v":0},{"$f":"IF(D353=Calcs!$X$38,Calcs!$W$38,IF(D353=Calcs!$X$39,Calcs!$W$39,IF(D353=Calcs!$X$40,Calcs!$W$40,IF(TRUE,0))))","v":0},352,"TB60-786-20BT",13,"TRACK BENCH: 5FTx65.5FTx20INxBT",31,"BOTANICARE TRACK BENCH: 5FT WIDE x 65.5FT LONG x 20IN HIGH, TRILOCK",5,65.5,20]
[{"$f":"IF(B354=0,0,MAX($A$2:A353)+1)","v":0},{"$f":"IF(D354=Calcs!$X$38,Calcs!$W$38,IF(D354=Calcs!$X$39,Calcs!$W$39,IF(D354=Calcs!$X$40,Calcs!$W$40,IF(TRUE,0))))","v":0},353,"TB60-810-20BT",13,"TRACK BENCH: 5FTx67.5FTx20INxBT",31,"BOTANICARE TRACK BENCH: 5FT WIDE x 67.5FT LONG x 20IN HIGH, TRILOCK",5,67.5,20]
[{"$f":"IF(B355=0,0,MAX($A$2:A354)+1)","v":0},{"$f":"IF(D355=Calcs!$X$38,Calcs!$W$38,IF(D355=Calcs!$X$39,Calcs!$W$39,IF(D355=Calcs!$X$40,Calcs!$W$40,IF(TRUE,0))))","v":0},354,"TB60-822-20BT",13,"TRACK BENCH: 5FTx68.5FTx20INxBT",31,"BOTANICARE TRACK BENCH: 5FT WIDE x 68.5FT LONG x 20IN HIGH, TRILOCK",5,68.5,20]
[{"$f":"IF(B356=0,0,MAX($A$2:A355)+1)","v":0},{"$f":"IF(D356=Calcs!$X$38,Calcs!$W$38,IF(D356=Calcs!$X$39,Calcs!$W$39,IF(D356=Calcs!$X$40,Calcs!$W$40,IF(TRUE,0))))","v":0},355,"TB60-834-20BT",13,"TRACK BENCH: 5FTx69.5FTx20INxBT",31,"BOTANICARE TRACK BENCH: 5FT WIDE x 69.5FT LONG x 20IN HIGH, TRILOCK",5,69.5,20]
[{"$f":"IF(B357=0,0,MAX($A$2:A356)+1)","v":0},{"$f":"IF(D357=Calcs!$X$38,Calcs!$W$38,IF(D357=Calcs!$X$39,Calcs!$W$39,IF(D357=Calcs!$X$40,Calcs!$W$40,IF(TRUE,0))))","v":0},356,"TB60-846-20BT",13,"TRACK BENCH: 5FTx70.5FTx20INxBT",31,"BOTANICARE TRACK BENCH: 5FT WIDE x 70.5FT LONG x 20IN HIGH, TRILOCK",5,70.5,20]
[{"$f":"IF(B358=0,0,MAX($A$2:A357)+1)","v":0},{"$f":"IF(D358=Calcs!$X$38,Calcs!$W$38,IF(D358=Calcs!$X$39,Calcs!$W$39,IF(D358=Calcs!$X$40,Calcs!$W$40,IF(TRUE,0))))","v":0},357,"TB60-870-20BT",13,"TRACK BENCH: 5FTx72.5FTx20INxBT",31,"BOTANICARE TRACK BENCH: 5FT WIDE x 72.5FT LONG x 20IN HIGH, TRILOCK",5,72.5,20]
[{"$f":"IF(B359=0,0,MAX($A$2:A358)+1)","v":0},{"$f":"IF(D359=Calcs!$X$38,Calcs!$W$38,IF(D359=Calcs!$X$39,Calcs!$W$39,IF(D359=Calcs!$X$40,Calcs!$W$40,IF(TRUE,0))))","v":0},358,"TB60-882-20BT",13,"TRACK BENCH: 5FTx73.5FTx20INxBT",31,"BOTANICARE TRACK BENCH: 5FT WIDE x 73.5FT LONG x 20IN HIGH, TRILOCK",5,73.5,20]
[{"$f":"IF(B360=0,0,MAX($A$2:A359)+1)","v":0},{"$f":"IF(D360=Calcs!$X$38,Calcs!$W$38,IF(D360=Calcs!$X$39,Calcs!$W$39,IF(D360=Calcs!$X$40,Calcs!$W$40,IF(TRUE,0))))","v":0},359,"TB60-894-20BT",13,"TRACK BENCH: 5FTx74.5FTx20INxBT",31,"BOTANICARE TRACK BENCH: 5FT WIDE x 74.5FT LONG x 20IN HIGH, TRILOCK",5,74.5,20]
[{"$f":"IF(B361=0,0,MAX($A$2:A360)+1)","v":0},{"$f":"IF(D361=Calcs!$X$38,Calcs!$W$38,IF(D361=Calcs!$X$39,Calcs!$W$39,IF(D361=Calcs!$X$40,Calcs!$W$40,IF(TRUE,0))))","v":0},360,"TB60-906-20BT",13,"TRACK BENCH: 5FTx75.5FTx20INxBT",31,"BOTANICARE TRACK BENCH: 5FT WIDE x 75.5FT LONG x 20IN HIGH, TRILOCK",5,75.5,20]
[{"$f":"IF(B362=0,0,MAX($A$2:A361)+1)","v":0},{"$f":"IF(D362=Calcs!$X$38,Calcs!$W$38,IF(D362=Calcs!$X$39,Calcs!$W$39,IF(D362=Calcs!$X$40,Calcs!$W$40,IF(TRUE,0))))","v":0},361,"TB60-930-20BT",13,"TRACK BENCH: 5FTx77.5FTx20INxBT",31,"BOTANICARE TRACK BENCH: 5FT WIDE x 77.5FT LONG x 20IN HIGH, TRILOCK",5,77.5,20]
[{"$f":"IF(B363=0,0,MAX($A$2:A362)+1)","v":0},{"$f":"IF(D363=Calcs!$X$38,Calcs!$W$38,IF(D363=Calcs!$X$39,Calcs!$W$39,IF(D363=Calcs!$X$40,Calcs!$W$40,IF(TRUE,0))))","v":0},362,"TB60-942-20BT",13,"TRACK BENCH: 5FTx78.5FTx20INxBT",31,"BOTANICARE TRACK BENCH: 5FT WIDE x 78.5FT LONG x 20IN HIGH, TRILOCK",5,78.5,20]
[{"$f":"IF(B364=0,0,MAX($A$2:A363)+1)","v":0},{"$f":"IF(D364=Calcs!$X$38,Calcs!$W$38,IF(D364=Calcs!$X$39,Calcs!$W$39,IF(D364=Calcs!$X$40,Calcs!$W$40,IF(TRUE,0))))","v":0},363,"TB60-954-20BT",13,"TRACK BENCH: 5FTx79.5FTx20INxBT",31,"BOTANICARE TRACK BENCH: 5FT WIDE x 79.5FT LONG x 20IN HIGH, TRILOCK",5,79.5,20]
[{"$f":"IF(B365=0,0,MAX($A$2:A364)+1)","v":0},{"$f":"IF(D365=Calcs!$X$38,Calcs!$W$38,IF(D365=Calcs!$X$39,Calcs!$W$39,IF(D365=Calcs!$X$40,Calcs!$W$40,IF(TRUE,0))))","v":0},364,"TB60-966-20BT",13,"TRACK BENCH: 5FTx80.5FTx20INxBT",31,"BOTANICARE TRACK BENCH: 5FT WIDE x 80.5FT LONG x 20IN HIGH, TRILOCK",5,80.5,20]
[{"$f":"IF(B366=0,0,MAX($A$2:A365)+1)","v":0},{"$f":"IF(D366=Calcs!$X$38,Calcs!$W$38,IF(D366=Calcs!$X$39,Calcs!$W$39,IF(D366=Calcs!$X$40,Calcs!$W$40,IF(TRUE,0))))","v":0},365,"TB60-990-20BT",13,"TRACK BENCH: 5FTx82.5FTx20INxBT",31,"BOTANICARE TRACK BENCH: 5FT WIDE x 82.5FT LONG x 20IN HIGH, TRILOCK",5,82.5,20]
[{"$f":"IF(B367=0,0,MAX($A$2:A366)+1)","v":0},{"$f":"IF(D367=Calcs!$X$38,Calcs!$W$38,IF(D367=Calcs!$X$39,Calcs!$W$39,IF(D367=Calcs!$X$40,Calcs!$W$40,IF(TRUE,0))))","v":0},366,"TB60-1002-20BT",14,"TRACK BENCH: 5FTx83.5FTx20INxBT",31,"BOTANICARE TRACK BENCH: 5FT WIDE x 83.5FT LONG x 20IN HIGH, TRILOCK",5,83.5,20]
[{"$f":"IF(B368=0,0,MAX($A$2:A367)+1)","v":0},{"$f":"IF(D368=Calcs!$X$38,Calcs!$W$38,IF(D368=Calcs!$X$39,Calcs!$W$39,IF(D368=Calcs!$X$40,Calcs!$W$40,IF(TRUE,0))))","v":0},367,"TB60-1014-20BT",14,"TRACK BENCH: 5FTx84.5FTx20INxBT",31,"BOTANICARE TRACK BENCH: 5FT WIDE x 84.5FT LONG x 20IN HIGH, TRILOCK",5,84.5,20]
[{"$f":"IF(B369=0,0,MAX($A$2:A368)+1)","v":0},{"$f":"IF(D369=Calcs!$X$38,Calcs!$W$38,IF(D369=Calcs!$X$39,Calcs!$W$39,IF(D369=Calcs!$X$40,Calcs!$W$40,IF(TRUE,0))))","v":0},368,"TB60-1026-20BT",14,"TRACK BENCH: 5FTx85.5FTx20INxBT",31,"BOTANICARE TRACK BENCH: 5FT WIDE x 85.5FT LONG x 20IN HIGH, TRILOCK",5,85.5,20]
[{"$f":"IF(B370=0,0,MAX($A$2:A369)+1)","v":0},{"$f":"IF(D370=Calcs!$X$38,Calcs!$W$38,IF(D370=Calcs!$X$39,Calcs!$W$39,IF(D370=Calcs!$X$40,Calcs!$W$40,IF(TRUE,0))))","v":0},369,"TB60-1050-20BT",14,"TRACK BENCH: 5FTx87.5FTx20INxBT",31,"BOTANICARE TRACK BENCH: 5FT WIDE x 87.5FT LONG x 20IN HIGH, TRILOCK",5,87.5,20]
[{"$f":"IF(B371=0,0,MAX($A$2:A370)+1)","v":0},{"$f":"IF(D371=Calcs!$X$38,Calcs!$W$38,IF(D371=Calcs!$X$39,Calcs!$W$39,IF(D371=Calcs!$X$40,Calcs!$W$40,IF(TRUE,0))))","v":0},370,"TB60-1062-20BT",14,"TRACK BENCH: 5FTx88.5FTx20INxBT",31,"BOTANICARE TRACK BENCH: 5FT WIDE x 88.5FT LONG x 20IN HIGH, TRILOCK",5,88.5,20]
[{"$f":"IF(B372=0,0,MAX($A$2:A371)+1)","v":0},{"$f":"IF(D372=Calcs!$X$38,Calcs!$W$38,IF(D372=Calcs!$X$39,Calcs!$W$39,IF(D372=Calcs!$X$40,Calcs!$W$40,IF(TRUE,0))))","v":0},371,"TB60-1074-20BT",14,"TRACK BENCH: 5FTx89.5FTx20INxBT",31,"BOTANICARE TRACK BENCH: 5FT WIDE x 89.5FT LONG x 20IN HIGH, TRILOCK",5,89.5,20]
[{"$f":"IF(B373=0,0,MAX($A$2:A372)+1)","v":0},{"$f":"IF(D373=Calcs!$X$38,Calcs!$W$38,IF(D373=Calcs!$X$39,Calcs!$W$39,IF(D373=Calcs!$X$40,Calcs!$W$40,IF(TRUE,0))))","v":0},372,"TB60-1086-20BT",14,"TRACK BENCH: 5FTx90.5FTx20INxBT",31,"BOTANICARE TRACK BENCH: 5FT WIDE x 90.5FT LONG x 20IN HIGH, TRILOCK",5,90.5,20]
[{"$f":"IF(B374=0,0,MAX($A$2:A373)+1)","v":0},{"$f":"IF(D374=Calcs!$X$38,Calcs!$W$38,IF(D374=Calcs!$X$39,Calcs!$W$39,IF(D374=Calcs!$X$40,Calcs!$W$40,IF(TRUE,0))))","v":0},373,"TB60-1110-20BT",14,"TRACK BENCH: 5FTx92.5FTx20INxBT",31,"BOTANICARE TRACK BENCH: 5FT WIDE x 92.5FT LONG x 20IN HIGH, TRILOCK",5,92.5,20]
[{"$f":"IF(B375=0,0,MAX($A$2:A374)+1)","v":0},{"$f":"IF(D375=Calcs!$X$38,Calcs!$W$38,IF(D375=Calcs!$X$39,Calcs!$W$39,IF(D375=Calcs!$X$40,Calcs!$W$40,IF(TRUE,0))))","v":0},374,"TB60-1122-20BT",14,"TRACK BENCH: 5FTx93.5FTx20INxBT",31,"BOTANICARE TRACK BENCH: 5FT WIDE x 93.5FT LONG x 20IN HIGH, TRILOCK",5,93.5,20]
[{"$f":"IF(B376=0,0,MAX($A$2:A375)+1)","v":0},{"$f":"IF(D376=Calcs!$X$38,Calcs!$W$38,IF(D376=Calcs!$X$39,Calcs!$W$39,IF(D376=Calcs!$X$40,Calcs!$W$40,IF(TRUE,0))))","v":0},375,"TB60-1134-20BT",14,"TRACK BENCH: 5FTx94.5FTx20INxBT",31,"BOTANICARE TRACK BENCH: 5FT WIDE x 94.5FT LONG x 20IN HIGH, TRILOCK",5,94.5,20]
[{"$f":"IF(B377=0,0,MAX($A$2:A376)+1)","v":0},{"$f":"IF(D377=Calcs!$X$38,Calcs!$W$38,IF(D377=Calcs!$X$39,Calcs!$W$39,IF(D377=Calcs!$X$40,Calcs!$W$40,IF(TRUE,0))))","v":0},376,"TB60-1146-20BT",14,"TRACK BENCH: 5FTx95.5FTx20INxBT",31,"BOTANICARE TRACK BENCH: 5FT WIDE x 95.5FT LONG x 20IN HIGH, TRILOCK",5,95.5,20]
[{"$f":"IF(B378=0,0,MAX($A$2:A377)+1)","v":0},{"$f":"IF(D378=Calcs!$X$38,Calcs!$W$38,IF(D378=Calcs!$X$39,Calcs!$W$39,IF(D378=Calcs!$X$40,Calcs!$W$40,IF(TRUE,0))))","v":0},377,"TB60-1170-20BT",14,"TRACK BENCH: 5FTx97.5FTx20INxBT",31,"BOTANICARE TRACK BENCH: 5FT WIDE x 97.5FT LONG x 20IN HIGH, TRILOCK",5,97.5,20]
[{"$f":"IF(B379=0,0,MAX($A$2:A378)+1)","v":0},{"$f":"IF(D379=Calcs!$X$38,Calcs!$W$38,IF(D379=Calcs!$X$39,Calcs!$W$39,IF(D379=Calcs!$X$40,Calcs!$W$40,IF(TRUE,0))))","v":0},378,"TB60-1182-20BT",14,"TRACK BENCH: 5FTx98.5FTx20INxBT",31,"BOTANICARE TRACK BENCH: 5FT WIDE x 98.5FT LONG x 20IN HIGH, TRILOCK",5,98.5,20]
[{"$f":"IF(B380=0,0,MAX($A$2:A379)+1)","v":0},{"$f":"IF(D380=Calcs!$X$38,Calcs!$W$38,IF(D380=Calcs!$X$39,Calcs!$W$39,IF(D380=Calcs!$X$40,Calcs!$W$40,IF(TRUE,0))))","v":0},379,"TB60-1194-20BT",14,"TRACK BENCH: 5FTx99.5FTx20INxBT",31,"BOTANICARE TRACK BENCH: 5FT WIDE x 99.5FT LONG x 20IN HIGH, TRILOCK",5,99.5,20]
[{"$f":"IF(B381=0,0,MAX($A$2:A380)+1)","v":0},{"$f":"IF(D381=Calcs!$X$38,Calcs!$W$38,IF(D381=Calcs!$X$39,Calcs!$W$39,IF(D381=Calcs!$X$40,Calcs!$W$40,IF(TRUE,0))))","v":0},380,"TB60-1206-20BT",14,"TRACK BENCH: 5FTx100.5FTx20INxBT",32,"BOTANICARE TRACK BENCH: 5FT WIDE x 100.5FT LONG x 20IN HIGH, TRILOCK",5,100.5,20]
[{"$f":"IF(B382=0,0,MAX($A$2:A381)+1)","v":0},{"$f":"IF(D382=Calcs!$X$38,Calcs!$W$38,IF(D382=Calcs!$X$39,Calcs!$W$39,IF(D382=Calcs!$X$40,Calcs!$W$40,IF(TRUE,0))))","v":0},381,"TB60-90-30BT",12,"TRACK BENCH: 5FTx7.5FTx30INxBT",30,"BOTANICARE TRACK BENCH: 5FT WIDE x 7.5FT LONG x 30IN HIGH, TRILOCK",5,7.5,30]
[{"$f":"IF(B383=0,0,MAX($A$2:A382)+1)","v":0},{"$f":"IF(D383=Calcs!$X$38,Calcs!$W$38,IF(D383=Calcs!$X$39,Calcs!$W$39,IF(D383=Calcs!$X$40,Calcs!$W$40,IF(TRUE,0))))","v":0},382,"TB60-102-30BT",13,"TRACK BENCH: 5FTx8.5FTx30INxBT",30,"BOTANICARE TRACK BENCH: 5FT WIDE x 8.5FT LONG x 30IN HIGH, TRILOCK",5,8.5,30]
[{"$f":"IF(B384=0,0,MAX($A$2:A383)+1)","v":0},{"$f":"IF(D384=Calcs!$X$38,Calcs!$W$38,IF(D384=Calcs!$X$39,Calcs!$W$39,IF(D384=Calcs!$X$40,Calcs!$W$40,IF(TRUE,0))))","v":0},383,"TB60-114-30BT",13,"TRACK BENCH: 5FTx9.5FTx30INxBT",30,"BOTANICARE TRACK BENCH: 5FT WIDE x 9.5FT LONG x 30IN HIGH, TRILOCK",5,9.5,30]
[{"$f":"IF(B385=0,0,MAX($A$2:A384)+1)","v":0},{"$f":"IF(D385=Calcs!$X$38,Calcs!$W$38,IF(D385=Calcs!$X$39,Calcs!$W$39,IF(D385=Calcs!$X$40,Calcs!$W$40,IF(TRUE,0))))","v":0},384,"TB60-126-30BT",13,"TRACK BENCH: 5FTx10.5FTx30INxBT",31,"BOTANICARE TRACK BENCH: 5FT WIDE x 10.5FT LONG x 30IN HIGH, TRILOCK",5,10.5,30]
[{"$f":"IF(B386=0,0,MAX($A$2:A385)+1)","v":0},{"$f":"IF(D386=Calcs!$X$38,Calcs!$W$38,IF(D386=Calcs!$X$39,Calcs!$W$39,IF(D386=Calcs!$X$40,Calcs!$W$40,IF(TRUE,0))))","v":0},385,"TB60-150-30BT",13,"TRACK BENCH: 5FTx12.5FTx30INxBT",31,"BOTANICARE TRACK BENCH: 5FT WIDE x 12.5FT LONG x 30IN HIGH, TRILOCK",5,12.5,30]
[{"$f":"IF(B387=0,0,MAX($A$2:A386)+1)","v":0},{"$f":"IF(D387=Calcs!$X$38,Calcs!$W$38,IF(D387=Calcs!$X$39,Calcs!$W$39,IF(D387=Calcs!$X$40,Calcs!$W$40,IF(TRUE,0))))","v":0},386,"TB60-162-30BT",13,"TRACK BENCH: 5FTx13.5FTx30INxBT",31,"BOTANICARE TRACK BENCH: 5FT WIDE x 13.5FT LONG x 30IN HIGH, TRILOCK",5,13.5,30]
[{"$f":"IF(B388=0,0,MAX($A$2:A387)+1)","v":0},{"$f":"IF(D388=Calcs!$X$38,Calcs!$W$38,IF(D388=Calcs!$X$39,Calcs!$W$39,IF(D388=Calcs!$X$40,Calcs!$W$40,IF(TRUE,0))))","v":0},387,"TB60-174-30BT",13,"TRACK BENCH: 5FTx14.5FTx30INxBT",31,"BOTANICARE TRACK BENCH: 5FT WIDE x 14.5FT LONG x 30IN HIGH, TRILOCK",5,14.5,30]
[{"$f":"IF(B389=0,0,MAX($A$2:A388)+1)","v":0},{"$f":"IF(D389=Calcs!$X$38,Calcs!$W$38,IF(D389=Calcs!$X$39,Calcs!$W$39,IF(D389=Calcs!$X$40,Calcs!$W$40,IF(TRUE,0))))","v":0},388,"TB60-186-30BT",13,"TRACK BENCH: 5FTx15.5FTx30INxBT",31,"BOTANICARE TRACK BENCH: 5FT WIDE x 15.5FT LONG x 30IN HIGH, TRILOCK",5,15.5,30]
[{"$f":"IF(B390=0,0,MAX($A$2:A389)+1)","v":0},{"$f":"IF(D390=Calcs!$X$38,Calcs!$W$38,IF(D390=Calcs!$X$39,Calcs!$W$39,IF(D390=Calcs!$X$40,Calcs!$W$40,IF(TRUE,0))))","v":0},389,"TB60-210-30BT",13,"TRACK BENCH: 5FTx17.5FTx30INxBT",31,"BOTANICARE TRACK BENCH: 5FT WIDE x 17.5FT LONG x 30IN HIGH, TRILOCK",5,17.5,30]
[{"$f":"IF(B391=0,0,MAX($A$2:A390)+1)","v":0},{"$f":"IF(D391=Calcs!$X$38,Calcs!$W$38,IF(D391=Calcs!$X$39,Calcs!$W$39,IF(D391=Calcs!$X$40,Calcs!$W$40,IF(TRUE,0))))","v":0},390,"TB60-222-30BT",13,"TRACK BENCH: 5FTx18.5FTx30INxBT",31,"BOTANICARE TRACK BENCH: 5FT WIDE x 18.5FT LONG x 30IN HIGH, TRILOCK",5,18.5,30]
[{"$f":"IF(B392=0,0,MAX($A$2:A391)+1)","v":0},{"$f":"IF(D392=Calcs!$X$38,Calcs!$W$38,IF(D392=Calcs!$X$39,Calcs!$W$39,IF(D392=Calcs!$X$40,Calcs!$W$40,IF(TRUE,0))))","v":0},391,"TB60-234-30BT",13,"TRACK BENCH: 5FTx19.5FTx30INxBT",31,"BOTANICARE TRACK BENCH: 5FT WIDE x 19.5FT LONG x 30IN HIGH, TRILOCK",5,19.5,30]
[{"$f":"IF(B393=0,0,MAX($A$2:A392)+1)","v":0},{"$f":"IF(D393=Calcs!$X$38,Calcs!$W$38,IF(D393=Calcs!$X$39,Calcs!$W$39,IF(D393=Calcs!$X$40,Calcs!$W$40,IF(TRUE,0))))","v":0},392,"TB60-246-30BT",13,"TRACK BENCH: 5FTx20.5FTx30INxBT",31,"BOTANICARE TRACK BENCH: 5FT WIDE x 20.5FT LONG x 30IN HIGH, TRILOCK",5,20.5,30]
[{"$f":"IF(B394=0,0,MAX($A$2:A393)+1)","v":0},{"$f":"IF(D394=Calcs!$X$38,Calcs!$W$38,IF(D394=Calcs!$X$39,Calcs!$W$39,IF(D394=Calcs!$X$40,Calcs!$W$40,IF(TRUE,0))))","v":0},393,"TB60-270-30BT",13,"TRACK BENCH: 5FTx22.5FTx30INxBT",31,"BOTANICARE TRACK BENCH: 5FT WIDE x 22.5FT LONG x 30IN HIGH, TRILOCK",5,22.5,30]
[{"$f":"IF(B395=0,0,MAX($A$2:A394)+1)","v":0},{"$f":"IF(D395=Calcs!$X$38,Calcs!$W$38,IF(D395=Calcs!$X$39,Calcs!$W$39,IF(D395=Calcs!$X$40,Calcs!$W$40,IF(TRUE,0))))","v":0},394,"TB60-282-30BT",13,"TRACK BENCH: 5FTx23.5FTx30INxBT",31,"BOTANICARE TRACK BENCH: 5FT WIDE x 23.5FT LONG x 30IN HIGH, TRILOCK",5,23.5,30]
[{"$f":"IF(B396=0,0,MAX($A$2:A395)+1)","v":0},{"$f":"IF(D396=Calcs!$X$38,Calcs!$W$38,IF(D396=Calcs!$X$39,Calcs!$W$39,IF(D396=Calcs!$X$40,Calcs!$W$40,IF(TRUE,0))))","v":0},395,"TB60-294-30BT",13,"TRACK BENCH: 5FTx24.5FTx30INxBT",31,"BOTANICARE TRACK BENCH: 5FT WIDE x 24.5FT LONG x 30IN HIGH, TRILOCK",5,24.5,30]
[{"$f":"IF(B397=0,0,MAX($A$2:A396)+1)","v":0},{"$f":"IF(D397=Calcs!$X$38,Calcs!$W$38,IF(D397=Calcs!$X$39,Calcs!$W$39,IF(D397=Calcs!$X$40,Calcs!$W$40,IF(TRUE,0))))","v":0},396,"TB60-306-30BT",13,"TRACK BENCH: 5FTx25.5FTx30INxBT",31,"BOTANICARE TRACK BENCH: 5FT WIDE x 25.5FT LONG x 30IN HIGH, TRILOCK",5,25.5,30]
[{"$f":"IF(B398=0,0,MAX($A$2:A397)+1)","v":0},{"$f":"IF(D398=Calcs!$X$38,Calcs!$W$38,IF(D398=Calcs!$X$39,Calcs!$W$39,IF(D398=Calcs!$X$40,Calcs!$W$40,IF(TRUE,0))))","v":0},397,"TB60-330-30BT",13,"TRACK BENCH: 5FTx27.5FTx30INxBT",31,"BOTANICARE TRACK BENCH: 5FT WIDE x 27.5FT LONG x 30IN HIGH, TRILOCK",5,27.5,30]
[{"$f":"IF(B399=0,0,MAX($A$2:A398)+1)","v":0},{"$f":"IF(D399=Calcs!$X$38,Calcs!$W$38,IF(D399=Calcs!$X$39,Calcs!$W$39,IF(D399=Calcs!$X$40,Calcs!$W$40,IF(TRUE,0))))","v":0},398,"TB60-342-30BT",13,"TRACK BENCH: 5FTx28.5FTx30INxBT",31,"BOTANICARE TRACK BENCH: 5FT WIDE x 28.5FT LONG x 30IN HIGH, TRILOCK",5,28.5,30]
[{"$f":"IF(B400=0,0,MAX($A$2:A399)+1)","v":0},{"$f":"IF(D400=Calcs!$X$38,Calcs!$W$38,IF(D400=Calcs!$X$39,Calcs!$W$39,IF(D400=Calcs!$X$40,Calcs!$W$40,IF(TRUE,0))))","v":0},399,"TB60-354-30BT",13,"TRACK BENCH: 5FTx29.5FTx30INxBT",31,"BOTANICARE TRACK BENCH: 5FT WIDE x 29.5FT LONG x 30IN HIGH, TRILOCK",5,29.5,30]
[{"$f":"IF(B401=0,0,MAX($A$2:A400)+1)","v":0},{"$f":"IF(D401=Calcs!$X$38,Calcs!$W$38,IF(D401=Calcs!$X$39,Calcs!$W$39,IF(D401=Calcs!$X$40,Calcs!$W$40,IF(TRUE,0))))","v":0},400,"TB60-366-30BT",13,"TRACK BENCH: 5FTx30.5FTx30INxBT",31,"BOTANICARE TRACK BENCH: 5FT WIDE x 30.5FT LONG x 30IN HIGH, TRILOCK",5,30.5,30]
[{"$f":"IF(B402=0,0,MAX($A$2:A401)+1)","v":0},{"$f":"IF(D402=Calcs!$X$38,Calcs!$W$38,IF(D402=Calcs!$X$39,Calcs!$W$39,IF(D402=Calcs!$X$40,Calcs!$W$40,IF(TRUE,0))))","v":0},401,"TB60-390-30BT",13,"TRACK BENCH: 5FTx32.5FTx30INxBT",31,"BOTANICARE TRACK BENCH: 5FT WIDE x 32.5FT LONG x 30IN HIGH, TRILOCK",5,32.5,30]
[{"$f":"IF(B403=0,0,MAX($A$2:A402)+1)","v":0},{"$f":"IF(D403=Calcs!$X$38,Calcs!$W$38,IF(D403=Calcs!$X$39,Calcs!$W$39,IF(D403=Calcs!$X$40,Calcs!$W$40,IF(TRUE,0))))","v":0},402,"TB60-402-30BT",13,"TRACK BENCH: 5FTx33.5FTx30INxBT",31,"BOTANICARE TRACK BENCH: 5FT WIDE x 33.5FT LONG x 30IN HIGH, TRILOCK",5,33.5,30]
[{"$f":"IF(B404=0,0,MAX($A$2:A403)+1)","v":0},{"$f":"IF(D404=Calcs!$X$38,Calcs!$W$38,IF(D404=Calcs!$X$39,Calcs!$W$39,IF(D404=Calcs!$X$40,Calcs!$W$40,IF(TRUE,0))))","v":0},403,"TB60-414-30BT",13,"TRACK BENCH: 5FTx34.5FTx30INxBT",31,"BOTANICARE TRACK BENCH: 5FT WIDE x 34.5FT LONG x 30IN HIGH, TRILOCK",5,34.5,30]
[{"$f":"IF(B405=0,0,MAX($A$2:A404)+1)","v":0},{"$f":"IF(D405=Calcs!$X$38,Calcs!$W$38,IF(D405=Calcs!$X$39,Calcs!$W$39,IF(D405=Calcs!$X$40,Calcs!$W$40,IF(TRUE,0))))","v":0},404,"TB60-426-30BT",13,"TRACK BENCH: 5FTx35.5FTx30INxBT",31,"BOTANICARE TRACK BENCH: 5FT WIDE x 35.5FT LONG x 30IN HIGH, TRILOCK",5,35.5,30]
[{"$f":"IF(B406=0,0,MAX($A$2:A405)+1)","v":0},{"$f":"IF(D406=Calcs!$X$38,Calcs!$W$38,IF(D406=Calcs!$X$39,Calcs!$W$39,IF(D406=Calcs!$X$40,Calcs!$W$40,IF(TRUE,0))))","v":0},405,"TB60-450-30BT",13,"TRACK BENCH: 5FTx37.5FTx30INxBT",31,"BOTANICARE TRACK BENCH: 5FT WIDE x 37.5FT LONG x 30IN HIGH, TRILOCK",5,37.5,30]
[{"$f":"IF(B407=0,0,MAX($A$2:A406)+1)","v":0},{"$f":"IF(D407=Calcs!$X$38,Calcs!$W$38,IF(D407=Calcs!$X$39,Calcs!$W$39,IF(D407=Calcs!$X$40,Calcs!$W$40,IF(TRUE,0))))","v":0},406,"TB60-462-30BT",13,"TRACK BENCH: 5FTx38.5FTx30INxBT",31,"BOTANICARE TRACK BENCH: 5FT WIDE x 38.5FT LONG x 30IN HIGH, TRILOCK",5,38.5,30]
[{"$f":"IF(B408=0,0,MAX($A$2:A407)+1)","v":0},{"$f":"IF(D408=Calcs!$X$38,Calcs!$W$38,IF(D408=Calcs!$X$39,Calcs!$W$39,IF(D408=Calcs!$X$40,Calcs!$W$40,IF(TRUE,0))))","v":0},407,"TB60-474-30BT",13,"TRACK BENCH: 5FTx39.5FTx30INxBT",31,"BOTANICARE TRACK BENCH: 5FT WIDE x 39.5FT LONG x 30IN HIGH, TRILOCK",5,39.5,30]
[{"$f":"IF(B409=0,0,MAX($A$2:A408)+1)","v":0},{"$f":"IF(D409=Calcs!$X$38,Calcs!$W$38,IF(D409=Calcs!$X$39,Calcs!$W$39,IF(D409=Calcs!$X$40,Calcs!$W$40,IF(TRUE,0))))","v":0},408,"TB60-486-30BT",13,"TRACK BENCH: 5FTx40.5FTx30INxBT",31,"BOTANICARE TRACK BENCH: 5FT WIDE x 40.5FT LONG x 30IN HIGH, TRILOCK",5,40.5,30]
[{"$f":"IF(B410=0,0,MAX($A$2:A409)+1)","v":0},{"$f":"IF(D410=Calcs!$X$38,Calcs!$W$38,IF(D410=Calcs!$X$39,Calcs!$W$39,IF(D410=Calcs!$X$40,Calcs!$W$40,IF(TRUE,0))))","v":0},409,"TB60-510-30BT",13,"TRACK BENCH: 5FTx42.5FTx30INxBT",31,"BOTANICARE TRACK BENCH: 5FT WIDE x 42.5FT LONG x 30IN HIGH, TRILOCK",5,42.5,30]
[{"$f":"IF(B411=0,0,MAX($A$2:A410)+1)","v":0},{"$f":"IF(D411=Calcs!$X$38,Calcs!$W$38,IF(D411=Calcs!$X$39,Calcs!$W$39,IF(D411=Calcs!$X$40,Calcs!$W$40,IF(TRUE,0))))","v":0},410,"TB60-522-30BT",13,"TRACK BENCH: 5FTx43.5FTx30INxBT",31,"BOTANICARE TRACK BENCH: 5FT WIDE x 43.5FT LONG x 30IN HIGH, TRILOCK",5,43.5,30]
[{"$f":"IF(B412=0,0,MAX($A$2:A411)+1)","v":0},{"$f":"IF(D412=Calcs!$X$38,Calcs!$W$38,IF(D412=Calcs!$X$39,Calcs!$W$39,IF(D412=Calcs!$X$40,Calcs!$W$40,IF(TRUE,0))))","v":0},411,"TB60-534-30BT",13,"TRACK BENCH: 5FTx44.5FTx30INxBT",31,"BOTANICARE TRACK BENCH: 5FT WIDE x 44.5FT LONG x 30IN HIGH, TRILOCK",5,44.5,30]
[{"$f":"IF(B413=0,0,MAX($A$2:A412)+1)","v":0},{"$f":"IF(D413=Calcs!$X$38,Calcs!$W$38,IF(D413=Calcs!$X$39,Calcs!$W$39,IF(D413=Calcs!$X$40,Calcs!$W$40,IF(TRUE,0))))","v":0},412,"TB60-546-30BT",13,"TRACK BENCH: 5FTx45.5FTx30INxBT",31,"BOTANICARE TRACK BENCH: 5FT WIDE x 45.5FT LONG x 30IN HIGH, TRILOCK",5,45.5,30]
[{"$f":"IF(B414=0,0,MAX($A$2:A413)+1)","v":0},{"$f":"IF(D414=Calcs!$X$38,Calcs!$W$38,IF(D414=Calcs!$X$39,Calcs!$W$39,IF(D414=Calcs!$X$40,Calcs!$W$40,IF(TRUE,0))))","v":0},413,"TB60-570-30BT",13,"TRACK BENCH: 5FTx47.5FTx30INxBT",31,"BOTANICARE TRACK BENCH: 5FT WIDE x 47.5FT LONG x 30IN HIGH, TRILOCK",5,47.5,30]
[{"$f":"IF(B415=0,0,MAX($A$2:A414)+1)","v":0},{"$f":"IF(D415=Calcs!$X$38,Calcs!$W$38,IF(D415=Calcs!$X$39,Calcs!$W$39,IF(D415=Calcs!$X$40,Calcs!$W$40,IF(TRUE,0))))","v":0},414,"TB60-582-30BT",13,"TRACK BENCH: 5FTx48.5FTx30INxBT",31,"BOTANICARE TRACK BENCH: 5FT WIDE x 48.5FT LONG x 30IN HIGH, TRILOCK",5,48.5,30]
[{"$f":"IF(B416=0,0,MAX($A$2:A415)+1)","v":0},{"$f":"IF(D416=Calcs!$X$38,Calcs!$W$38,IF(D416=Calcs!$X$39,Calcs!$W$39,IF(D416=Calcs!$X$40,Calcs!$W$40,IF(TRUE,0))))","v":0},415,"TB60-594-30BT",13,"TRACK BENCH: 5FTx49.5FTx30INxBT",31,"BOTANICARE TRACK BENCH: 5FT WIDE x 49.5FT LONG x 30IN HIGH, TRILOCK",5,49.5,30]
[{"$f":"IF(B417=0,0,MAX($A$2:A416)+1)","v":0},{"$f":"IF(D417=Calcs!$X$38,Calcs!$W$38,IF(D417=Calcs!$X$39,Calcs!$W$39,IF(D417=Calcs!$X$40,Calcs!$W$40,IF(TRUE,0))))","v":0},416,"TB60-606-30BT",13,"TRACK BENCH: 5FTx50.5FTx30INxBT",31,"BOTANICARE TRACK BENCH: 5FT WIDE x 50.5FT LONG x 30IN HIGH, TRILOCK",5,50.5,30]
[{"$f":"IF(B418=0,0,MAX($A$2:A417)+1)","v":0},{"$f":"IF(D418=Calcs!$X$38,Calcs!$W$38,IF(D418=Calcs!$X$39,Calcs!$W$39,IF(D418=Calcs!$X$40,Calcs!$W$40,IF(TRUE,0))))","v":0},417,"TB60-630-30BT",13,"TRACK BENCH: 5FTx52.5FTx30INxBT",31,"BOTANICARE TRACK BENCH: 5FT WIDE x 52.5FT LONG x 30IN HIGH, TRILOCK",5,52.5,30]
[{"$f":"IF(B419=0,0,MAX($A$2:A418)+1)","v":0},{"$f":"IF(D419=Calcs!$X$38,Calcs!$W$38,IF(D419=Calcs!$X$39,Calcs!$W$39,IF(D419=Calcs!$X$40,Calcs!$W$40,IF(TRUE,0))))","v":0},418,"TB60-642-30BT",13,"TRACK BENCH: 5FTx53.5FTx30INxBT",31,"BOTANICARE TRACK BENCH: 5FT WIDE x 53.5FT LONG x 30IN HIGH, TRILOCK",5,53.5,30]
[{"$f":"IF(B420=0,0,MAX($A$2:A419)+1)","v":0},{"$f":"IF(D420=Calcs!$X$38,Calcs!$W$38,IF(D420=Calcs!$X$39,Calcs!$W$39,IF(D420=Calcs!$X$40,Calcs!$W$40,IF(TRUE,0))))","v":0},419,"TB60-654-30BT",13,"TRACK BENCH: 5FTx54.5FTx30INxBT",31,"BOTANICARE TRACK BENCH: 5FT WIDE x 54.5FT LONG x 30IN HIGH, TRILOCK",5,54.5,30]
[{"$f":"IF(B421=0,0,MAX($A$2:A420)+1)","v":0},{"$f":"IF(D421=Calcs!$X$38,Calcs!$W$38,IF(D421=Calcs!$X$39,Calcs!$W$39,IF(D421=Calcs!$X$40,Calcs!$W$40,IF(TRUE,0))))","v":0},420,"TB60-666-30BT",13,"TRACK BENCH: 5FTx55.5FTx30INxBT",31,"BOTANICARE TRACK BENCH: 5FT WIDE x 55.5FT LONG x 30IN HIGH, TRILOCK",5,55.5,30]
[{"$f":"IF(B422=0,0,MAX($A$2:A421)+1)","v":0},{"$f":"IF(D422=Calcs!$X$38,Calcs!$W$38,IF(D422=Calcs!$X$39,Calcs!$W$39,IF(D422=Calcs!$X$40,Calcs!$W$40,IF(TRUE,0))))","v":0},421,"TB60-690-30BT",13,"TRACK BENCH: 5FTx57.5FTx30INxBT",31,"BOTANICARE TRACK BENCH: 5FT WIDE x 57.5FT LONG x 30IN HIGH, TRILOCK",5,57.5,30]
[{"$f":"IF(B423=0,0,MAX($A$2:A422)+1)","v":0},{"$f":"IF(D423=Calcs!$X$38,Calcs!$W$38,IF(D423=Calcs!$X$39,Calcs!$W$39,IF(D423=Calcs!$X$40,Calcs!$W$40,IF(TRUE,0))))","v":0},422,"TB60-702-30BT",13,"TRACK BENCH: 5FTx58.5FTx30INxBT",31,"BOTANICARE TRACK BENCH: 5FT WIDE x 58.5FT LONG x 30IN HIGH, TRILOCK",5,58.5,30]
[{"$f":"IF(B424=0,0,MAX($A$2:A423)+1)","v":0},{"$f":"IF(D424=Calcs!$X$38,Calcs!$W$38,IF(D424=Calcs!$X$39,Calcs!$W$39,IF(D424=Calcs!$X$40,Calcs!$W$40,IF(TRUE,0))))","v":0},423,"TB60-714-30BT",13,"TRACK BENCH: 5FTx59.5FTx30INxBT",31,"BOTANICARE TRACK BENCH: 5FT WIDE x 59.5FT LONG x 30IN HIGH, TRILOCK",5,59.5,30]
[{"$f":"IF(B425=0,0,MAX($A$2:A424)+1)","v":0},{"$f":"IF(D425=Calcs!$X$38,Calcs!$W$38,IF(D425=Calcs!$X$39,Calcs!$W$39,IF(D425=Calcs!$X$40,Calcs!$W$40,IF(TRUE,0))))","v":0},424,"TB60-726-30BT",13,"TRACK BENCH: 5FTx60.5FTx30INxBT",31,"BOTANICARE TRACK BENCH: 5FT WIDE x 60.5FT LONG x 30IN HIGH, TRILOCK",5,60.5,30]
[{"$f":"IF(B426=0,0,MAX($A$2:A425)+1)","v":0},{"$f":"IF(D426=Calcs!$X$38,Calcs!$W$38,IF(D426=Calcs!$X$39,Calcs!$W$39,IF(D426=Calcs!$X$40,Calcs!$W$40,IF(TRUE,0))))","v":0},425,"TB60-750-30BT",13,"TRACK BENCH: 5FTx62.5FTx30INxBT",31,"BOTANICARE TRACK BENCH: 5FT WIDE x 62.5FT LONG x 30IN HIGH, TRILOCK",5,62.5,30]
[{"$f":"IF(B427=0,0,MAX($A$2:A426)+1)","v":0},{"$f":"IF(D427=Calcs!$X$38,Calcs!$W$38,IF(D427=Calcs!$X$39,Calcs!$W$39,IF(D427=Calcs!$X$40,Calcs!$W$40,IF(TRUE,0))))","v":0},426,"TB60-762-30BT",13,"TRACK BENCH: 5FTx63.5FTx30INxBT",31,"BOTANICARE TRACK BENCH: 5FT WIDE x 63.5FT LONG x 30IN HIGH, TRILOCK",5,63.5,30]
[{"$f":"IF(B428=0,0,MAX($A$2:A427)+1)","v":0},{"$f":"IF(D428=Calcs!$X$38,Calcs!$W$38,IF(D428=Calcs!$X$39,Calcs!$W$39,IF(D428=Calcs!$X$40,Calcs!$W$40,IF(TRUE,0))))","v":0},427,"TB60-774-30BT",13,"TRACK BENCH: 5FTx64.5FTx30INxBT",31,"BOTANICARE TRACK BENCH: 5FT WIDE x 64.5FT LONG x 30IN HIGH, TRILOCK",5,64.5,30]
[{"$f":"IF(B429=0,0,MAX($A$2:A428)+1)","v":0},{"$f":"IF(D429=Calcs!$X$38,Calcs!$W$38,IF(D429=Calcs!$X$39,Calcs!$W$39,IF(D429=Calcs!$X$40,Calcs!$W$40,IF(TRUE,0))))","v":0},428,"TB60-786-30BT",13,"TRACK BENCH: 5FTx65.5FTx30INxBT",31,"BOTANICARE TRACK BENCH: 5FT WIDE x 65.5FT LONG x 30IN HIGH, TRILOCK",5,65.5,30]
[{"$f":"IF(B430=0,0,MAX($A$2:A429)+1)","v":0},{"$f":"IF(D430=Calcs!$X$38,Calcs!$W$38,IF(D430=Calcs!$X$39,Calcs!$W$39,IF(D430=Calcs!$X$40,Calcs!$W$40,IF(TRUE,0))))","v":0},429,"TB60-810-30BT",13,"TRACK BENCH: 5FTx67.5FTx30INxBT",31,"BOTANICARE TRACK BENCH: 5FT WIDE x 67.5FT LONG x 30IN HIGH, TRILOCK",5,67.5,30]
[{"$f":"IF(B431=0,0,MAX($A$2:A430)+1)","v":0},{"$f":"IF(D431=Calcs!$X$38,Calcs!$W$38,IF(D431=Calcs!$X$39,Calcs!$W$39,IF(D431=Calcs!$X$40,Calcs!$W$40,IF(TRUE,0))))","v":0},430,"TB60-822-30BT",13,"TRACK BENCH: 5FTx68.5FTx30INxBT",31,"BOTANICARE TRACK BENCH: 5FT WIDE x 68.5FT LONG x 30IN HIGH, TRILOCK",5,68.5,30]
[{"$f":"IF(B432=0,0,MAX($A$2:A431)+1)","v":0},{"$f":"IF(D432=Calcs!$X$38,Calcs!$W$38,IF(D432=Calcs!$X$39,Calcs!$W$39,IF(D432=Calcs!$X$40,Calcs!$W$40,IF(TRUE,0))))","v":0},431,"TB60-834-30BT",13,"TRACK BENCH: 5FTx69.5FTx30INxBT",31,"BOTANICARE TRACK BENCH: 5FT WIDE x 69.5FT LONG x 30IN HIGH, TRILOCK",5,69.5,30]
[{"$f":"IF(B433=0,0,MAX($A$2:A432)+1)","v":0},{"$f":"IF(D433=Calcs!$X$38,Calcs!$W$38,IF(D433=Calcs!$X$39,Calcs!$W$39,IF(D433=Calcs!$X$40,Calcs!$W$40,IF(TRUE,0))))","v":0},432,"TB60-846-30BT",13,"TRACK BENCH: 5FTx70.5FTx30INxBT",31,"BOTANICARE TRACK BENCH: 5FT WIDE x 70.5FT LONG x 30IN HIGH, TRILOCK",5,70.5,30]
[{"$f":"IF(B434=0,0,MAX($A$2:A433)+1)","v":0},{"$f":"IF(D434=Calcs!$X$38,Calcs!$W$38,IF(D434=Calcs!$X$39,Calcs!$W$39,IF(D434=Calcs!$X$40,Calcs!$W$40,IF(TRUE,0))))","v":0},433,"TB60-870-30BT",13,"TRACK BENCH: 5FTx72.5FTx30INxBT",31,"BOTANICARE TRACK BENCH: 5FT WIDE x 72.5FT LONG x 30IN HIGH, TRILOCK",5,72.5,30]
[{"$f":"IF(B435=0,0,MAX($A$2:A434)+1)","v":0},{"$f":"IF(D435=Calcs!$X$38,Calcs!$W$38,IF(D435=Calcs!$X$39,Calcs!$W$39,IF(D435=Calcs!$X$40,Calcs!$W$40,IF(TRUE,0))))","v":0},434,"TB60-882-30BT",13,"TRACK BENCH: 5FTx73.5FTx30INxBT",31,"BOTANICARE TRACK BENCH: 5FT WIDE x 73.5FT LONG x 30IN HIGH, TRILOCK",5,73.5,30]
[{"$f":"IF(B436=0,0,MAX($A$2:A435)+1)","v":0},{"$f":"IF(D436=Calcs!$X$38,Calcs!$W$38,IF(D436=Calcs!$X$39,Calcs!$W$39,IF(D436=Calcs!$X$40,Calcs!$W$40,IF(TRUE,0))))","v":0},435,"TB60-894-30BT",13,"TRACK BENCH: 5FTx74.5FTx30INxBT",31,"BOTANICARE TRACK BENCH: 5FT WIDE x 74.5FT LONG x 30IN HIGH, TRILOCK",5,74.5,30]
[{"$f":"IF(B437=0,0,MAX($A$2:A436)+1)","v":0},{"$f":"IF(D437=Calcs!$X$38,Calcs!$W$38,IF(D437=Calcs!$X$39,Calcs!$W$39,IF(D437=Calcs!$X$40,Calcs!$W$40,IF(TRUE,0))))","v":0},436,"TB60-906-30BT",13,"TRACK BENCH: 5FTx75.5FTx30INxBT",31,"BOTANICARE TRACK BENCH: 5FT WIDE x 75.5FT LONG x 30IN HIGH, TRILOCK",5,75.5,30]
[{"$f":"IF(B438=0,0,MAX($A$2:A437)+1)","v":0},{"$f":"IF(D438=Calcs!$X$38,Calcs!$W$38,IF(D438=Calcs!$X$39,Calcs!$W$39,IF(D438=Calcs!$X$40,Calcs!$W$40,IF(TRUE,0))))","v":0},437,"TB60-930-30BT",13,"TRACK BENCH: 5FTx77.5FTx30INxBT",31,"BOTANICARE TRACK BENCH: 5FT WIDE x 77.5FT LONG x 30IN HIGH, TRILOCK",5,77.5,30]
[{"$f":"IF(B439=0,0,MAX($A$2:A438)+1)","v":0},{"$f":"IF(D439=Calcs!$X$38,Calcs!$W$38,IF(D439=Calcs!$X$39,Calcs!$W$39,IF(D439=Calcs!$X$40,Calcs!$W$40,IF(TRUE,0))))","v":0},438,"TB60-942-30BT",13,"TRACK BENCH: 5FTx78.5FTx30INxBT",31,"BOTANICARE TRACK BENCH: 5FT WIDE x 78.5FT LONG x 30IN HIGH, TRILOCK",5,78.5,30]
[{"$f":"IF(B440=0,0,MAX($A$2:A439)+1)","v":0},{"$f":"IF(D440=Calcs!$X$38,Calcs!$W$38,IF(D440=Calcs!$X$39,Calcs!$W$39,IF(D440=Calcs!$X$40,Calcs!$W$40,IF(TRUE,0))))","v":0},439,"TB60-954-30BT",13,"TRACK BENCH: 5FTx79.5FTx30INxBT",31,"BOTANICARE TRACK BENCH: 5FT WIDE x 79.5FT LONG x 30IN HIGH, TRILOCK",5,79.5,30]
[{"$f":"IF(B441=0,0,MAX($A$2:A440)+1)","v":0},{"$f":"IF(D441=Calcs!$X$38,Calcs!$W$38,IF(D441=Calcs!$X$39,Calcs!$W$39,IF(D441=Calcs!$X$40,Calcs!$W$40,IF(TRUE,0))))","v":0},440,"TB60-966-30BT",13,"TRACK BENCH: 5FTx80.5FTx30INxBT",31,"BOTANICARE TRACK BENCH: 5FT WIDE x 80.5FT LONG x 30IN HIGH, TRILOCK",5,80.5,30]
[{"$f":"IF(B442=0,0,MAX($A$2:A441)+1)","v":0},{"$f":"IF(D442=Calcs!$X$38,Calcs!$W$38,IF(D442=Calcs!$X$39,Calcs!$W$39,IF(D442=Calcs!$X$40,Calcs!$W$40,IF(TRUE,0))))","v":0},441,"TB60-990-30BT",13,"TRACK BENCH: 5FTx82.5FTx30INxBT",31,"BOTANICARE TRACK BENCH: 5FT WIDE x 82.5FT LONG x 30IN HIGH, TRILOCK",5,82.5,30]
[{"$f":"IF(B443=0,0,MAX($A$2:A442)+1)","v":0},{"$f":"IF(D443=Calcs!$X$38,Calcs!$W$38,IF(D443=Calcs!$X$39,Calcs!$W$39,IF(D443=Calcs!$X$40,Calcs!$W$40,IF(TRUE,0))))","v":0},442,"TB60-1002-30BT",14,"TRACK BENCH: 5FTx83.5FTx30INxBT",31,"BOTANICARE TRACK BENCH: 5FT WIDE x 83.5FT LONG x 30IN HIGH, TRILOCK",5,83.5,30]
[{"$f":"IF(B444=0,0,MAX($A$2:A443)+1)","v":0},{"$f":"IF(D444=Calcs!$X$38,Calcs!$W$38,IF(D444=Calcs!$X$39,Calcs!$W$39,IF(D444=Calcs!$X$40,Calcs!$W$40,IF(TRUE,0))))","v":0},443,"TB60-1014-30BT",14,"TRACK BENCH: 5FTx84.5FTx30INxBT",31,"BOTANICARE TRACK BENCH: 5FT WIDE x 84.5FT LONG x 30IN HIGH, TRILOCK",5,84.5,30]
[{"$f":"IF(B445=0,0,MAX($A$2:A444)+1)","v":0},{"$f":"IF(D445=Calcs!$X$38,Calcs!$W$38,IF(D445=Calcs!$X$39,Calcs!$W$39,IF(D445=Calcs!$X$40,Calcs!$W$40,IF(TRUE,0))))","v":0},444,"TB60-1026-30BT",14,"TRACK BENCH: 5FTx85.5FTx30INxBT",31,"BOTANICARE TRACK BENCH: 5FT WIDE x 85.5FT LONG x 30IN HIGH, TRILOCK",5,85.5,30]
[{"$f":"IF(B446=0,0,MAX($A$2:A445)+1)","v":0},{"$f":"IF(D446=Calcs!$X$38,Calcs!$W$38,IF(D446=Calcs!$X$39,Calcs!$W$39,IF(D446=Calcs!$X$40,Calcs!$W$40,IF(TRUE,0))))","v":0},445,"TB60-1050-30BT",14,"TRACK BENCH: 5FTx87.5FTx30INxBT",31,"BOTANICARE TRACK BENCH: 5FT WIDE x 87.5FT LONG x 30IN HIGH, TRILOCK",5,87.5,30]
[{"$f":"IF(B447=0,0,MAX($A$2:A446)+1)","v":0},{"$f":"IF(D447=Calcs!$X$38,Calcs!$W$38,IF(D447=Calcs!$X$39,Calcs!$W$39,IF(D447=Calcs!$X$40,Calcs!$W$40,IF(TRUE,0))))","v":0},446,"TB60-1062-30BT",14,"TRACK BENCH: 5FTx88.5FTx30INxBT",31,"BOTANICARE TRACK BENCH: 5FT WIDE x 88.5FT LONG x 30IN HIGH, TRILOCK",5,88.5,30]
[{"$f":"IF(B448=0,0,MAX($A$2:A447)+1)","v":0},{"$f":"IF(D448=Calcs!$X$38,Calcs!$W$38,IF(D448=Calcs!$X$39,Calcs!$W$39,IF(D448=Calcs!$X$40,Calcs!$W$40,IF(TRUE,0))))","v":0},447,"TB60-1074-30BT",14,"TRACK BENCH: 5FTx89.5FTx30INxBT",31,"BOTANICARE TRACK BENCH: 5FT WIDE x 89.5FT LONG x 30IN HIGH, TRILOCK",5,89.5,30]
[{"$f":"IF(B449=0,0,MAX($A$2:A448)+1)","v":0},{"$f":"IF(D449=Calcs!$X$38,Calcs!$W$38,IF(D449=Calcs!$X$39,Calcs!$W$39,IF(D449=Calcs!$X$40,Calcs!$W$40,IF(TRUE,0))))","v":0},448,"TB60-1086-30BT",14,"TRACK BENCH: 5FTx90.5FTx30INxBT",31,"BOTANICARE TRACK BENCH: 5FT WIDE x 90.5FT LONG x 30IN HIGH, TRILOCK",5,90.5,30]
[{"$f":"IF(B450=0,0,MAX($A$2:A449)+1)","v":0},{"$f":"IF(D450=Calcs!$X$38,Calcs!$W$38,IF(D450=Calcs!$X$39,Calcs!$W$39,IF(D450=Calcs!$X$40,Calcs!$W$40,IF(TRUE,0))))","v":0},449,"TB60-1110-30BT",14,"TRACK BENCH: 5FTx92.5FTx30INxBT",31,"BOTANICARE TRACK BENCH: 5FT WIDE x 92.5FT LONG x 30IN HIGH, TRILOCK",5,92.5,30]
[{"$f":"IF(B451=0,0,MAX($A$2:A450)+1)","v":0},{"$f":"IF(D451=Calcs!$X$38,Calcs!$W$38,IF(D451=Calcs!$X$39,Calcs!$W$39,IF(D451=Calcs!$X$40,Calcs!$W$40,IF(TRUE,0))))","v":0},450,"TB60-1122-30BT",14,"TRACK BENCH: 5FTx93.5FTx30INxBT",31,"BOTANICARE TRACK BENCH: 5FT WIDE x 93.5FT LONG x 30IN HIGH, TRILOCK",5,93.5,30]
[{"$f":"IF(B452=0,0,MAX($A$2:A451)+1)","v":0},{"$f":"IF(D452=Calcs!$X$38,Calcs!$W$38,IF(D452=Calcs!$X$39,Calcs!$W$39,IF(D452=Calcs!$X$40,Calcs!$W$40,IF(TRUE,0))))","v":0},451,"TB60-1134-30BT",14,"TRACK BENCH: 5FTx94.5FTx30INxBT",31,"BOTANICARE TRACK BENCH: 5FT WIDE x 94.5FT LONG x 30IN HIGH, TRILOCK",5,94.5,30]
[{"$f":"IF(B453=0,0,MAX($A$2:A452)+1)","v":0},{"$f":"IF(D453=Calcs!$X$38,Calcs!$W$38,IF(D453=Calcs!$X$39,Calcs!$W$39,IF(D453=Calcs!$X$40,Calcs!$W$40,IF(TRUE,0))))","v":0},452,"TB60-1146-30BT",14,"TRACK BENCH: 5FTx95.5FTx30INxBT",31,"BOTANICARE TRACK BENCH: 5FT WIDE x 95.5FT LONG x 30IN HIGH, TRILOCK",5,95.5,30]
[{"$f":"IF(B454=0,0,MAX($A$2:A453)+1)","v":0},{"$f":"IF(D454=Calcs!$X$38,Calcs!$W$38,IF(D454=Calcs!$X$39,Calcs!$W$39,IF(D454=Calcs!$X$40,Calcs!$W$40,IF(TRUE,0))))","v":0},453,"TB60-1170-30BT",14,"TRACK BENCH: 5FTx97.5FTx30INxBT",31,"BOTANICARE TRACK BENCH: 5FT WIDE x 97.5FT LONG x 30IN HIGH, TRILOCK",5,97.5,30]
[{"$f":"IF(B455=0,0,MAX($A$2:A454)+1)","v":0},{"$f":"IF(D455=Calcs!$X$38,Calcs!$W$38,IF(D455=Calcs!$X$39,Calcs!$W$39,IF(D455=Calcs!$X$40,Calcs!$W$40,IF(TRUE,0))))","v":0},454,"TB60-1182-30BT",14,"TRACK BENCH: 5FTx98.5FTx30INxBT",31,"BOTANICARE TRACK BENCH: 5FT WIDE x 98.5FT LONG x 30IN HIGH, TRILOCK",5,98.5,30]
[{"$f":"IF(B456=0,0,MAX($A$2:A455)+1)","v":0},{"$f":"IF(D456=Calcs!$X$38,Calcs!$W$38,IF(D456=Calcs!$X$39,Calcs!$W$39,IF(D456=Calcs!$X$40,Calcs!$W$40,IF(TRUE,0))))","v":0},455,"TB60-1194-30BT",14,"TRACK BENCH: 5FTx99.5FTx30INxBT",31,"BOTANICARE TRACK BENCH: 5FT WIDE x 99.5FT LONG x 30IN HIGH, TRILOCK",5,99.5,30]
[{"$f":"IF(B457=0,0,MAX($A$2:A456)+1)","v":0},{"$f":"IF(D457=Calcs!$X$38,Calcs!$W$38,IF(D457=Calcs!$X$39,Calcs!$W$39,IF(D457=Calcs!$X$40,Calcs!$W$40,IF(TRUE,0))))","v":0},456,"TB60-1206-30BT",14,"TRACK BENCH: 5FTx100.5FTx30INxBT",32,"BOTANICARE TRACK BENCH: 5FT WIDE x 100.5FT LONG x 30IN HIGH, TRILOCK",5,100.5,30]
[{"$f":"IF(B458=0,0,MAX($A$2:A457)+1)","v":0},{"$f":"IF(D458=Calcs!$X$38,Calcs!$W$38,IF(D458=Calcs!$X$39,Calcs!$W$39,IF(D458=Calcs!$X$40,Calcs!$W$40,IF(TRUE,0))))","v":0},457,"TB48-90-14BTG",13,"TRACK BENCH: 4FTx7.5FTx14INxBTG",31,"BOTANICARE TRACK BENCH: 4FT WIDE x 7.5FT LONG x 14IN HIGH, TRILOCK, GUTTER",4,7.5,14]
[{"$f":"IF(B459=0,0,MAX($A$2:A458)+1)","v":0},{"$f":"IF(D459=Calcs!$X$38,Calcs!$W$38,IF(D459=Calcs!$X$39,Calcs!$W$39,IF(D459=Calcs!$X$40,Calcs!$W$40,IF(TRUE,0))))","v":0},458,"TB48-102-14BTG",14,"TRACK BENCH: 4FTx8.5FTx14INxBTG",31,"BOTANICARE TRACK BENCH: 4FT WIDE x 8.5FT LONG x 14IN HIGH, TRILOCK, GUTTER",4,8.5,14]
[{"$f":"IF(B460=0,0,MAX($A$2:A459)+1)","v":0},{"$f":"IF(D460=Calcs!$X$38,Calcs!$W$38,IF(D460=Calcs!$X$39,Calcs!$W$39,IF(D460=Calcs!$X$40,Calcs!$W$40,IF(TRUE,0))))","v":0},459,"TB48-114-14BTG",14,"TRACK BENCH: 4FTx9.5FTx14INxBTG",31,"BOTANICARE TRACK BENCH: 4FT WIDE x 9.5FT LONG x 14IN HIGH, TRILOCK, GUTTER",4,9.5,14]
[{"$f":"IF(B461=0,0,MAX($A$2:A460)+1)","v":0},{"$f":"IF(D461=Calcs!$X$38,Calcs!$W$38,IF(D461=Calcs!$X$39,Calcs!$W$39,IF(D461=Calcs!$X$40,Calcs!$W$40,IF(TRUE,0))))","v":0},460,"TB48-126-14BTG",14,"TRACK BENCH: 4FTx10.5FTx14INxBTG",32,"BOTANICARE TRACK BENCH: 4FT WIDE x 10.5FT LONG x 14IN HIGH, TRILOCK, GUTTER",4,10.5,14]
[{"$f":"IF(B462=0,0,MAX($A$2:A461)+1)","v":0},{"$f":"IF(D462=Calcs!$X$38,Calcs!$W$38,IF(D462=Calcs!$X$39,Calcs!$W$39,IF(D462=Calcs!$X$40,Calcs!$W$40,IF(TRUE,0))))","v":0},461,"TB48-150-14BTG",14,"TRACK BENCH: 4FTx12.5FTx14INxBTG",32,"BOTANICARE TRACK BENCH: 4FT WIDE x 12.5FT LONG x 14IN HIGH, TRILOCK, GUTTER",4,12.5,14]
[{"$f":"IF(B463=0,0,MAX($A$2:A462)+1)","v":0},{"$f":"IF(D463=Calcs!$X$38,Calcs!$W$38,IF(D463=Calcs!$X$39,Calcs!$W$39,IF(D463=Calcs!$X$40,Calcs!$W$40,IF(TRUE,0))))","v":0},462,"TB48-162-14BTG",14,"TRACK BENCH: 4FTx13.5FTx14INxBTG",32,"BOTANICARE TRACK BENCH: 4FT WIDE x 13.5FT LONG x 14IN HIGH, TRILOCK, GUTTER",4,13.5,14]
[{"$f":"IF(B464=0,0,MAX($A$2:A463)+1)","v":0},{"$f":"IF(D464=Calcs!$X$38,Calcs!$W$38,IF(D464=Calcs!$X$39,Calcs!$W$39,IF(D464=Calcs!$X$40,Calcs!$W$40,IF(TRUE,0))))","v":0},463,"TB48-174-14BTG",14,"TRACK BENCH: 4FTx14.5FTx14INxBTG",32,"BOTANICARE TRACK BENCH: 4FT WIDE x 14.5FT LONG x 14IN HIGH, TRILOCK, GUTTER",4,14.5,14]
[{"$f":"IF(B465=0,0,MAX($A$2:A464)+1)","v":0},{"$f":"IF(D465=Calcs!$X$38,Calcs!$W$38,IF(D465=Calcs!$X$39,Calcs!$W$39,IF(D465=Calcs!$X$40,Calcs!$W$40,IF(TRUE,0))))","v":0},464,"TB48-186-14BTG",14,"TRACK BENCH: 4FTx15.5FTx14INxBTG",32,"BOTANICARE TRACK BENCH: 4FT WIDE x 15.5FT LONG x 14IN HIGH, TRILOCK, GUTTER",4,15.5,14]
[{"$f":"IF(B466=0,0,MAX($A$2:A465)+1)","v":0},{"$f":"IF(D466=Calcs!$X$38,Calcs!$W$38,IF(D466=Calcs!$X$39,Calcs!$W$39,IF(D466=Calcs!$X$40,Calcs!$W$40,IF(TRUE,0))))","v":0},465,"TB48-210-14BTG",14,"TRACK BENCH: 4FTx17.5FTx14INxBTG",32,"BOTANICARE TRACK BENCH: 4FT WIDE x 17.5FT LONG x 14IN HIGH, TRILOCK, GUTTER",4,17.5,14]
[{"$f":"IF(B467=0,0,MAX($A$2:A466)+1)","v":0},{"$f":"IF(D467=Calcs!$X$38,Calcs!$W$38,IF(D467=Calcs!$X$39,Calcs!$W$39,IF(D467=Calcs!$X$40,Calcs!$W$40,IF(TRUE,0))))","v":0},466,"TB48-222-14BTG",14,"TRACK BENCH: 4FTx18.5FTx14INxBTG",32,"BOTANICARE TRACK BENCH: 4FT WIDE x 18.5FT LONG x 14IN HIGH, TRILOCK, GUTTER",4,18.5,14]
[{"$f":"IF(B468=0,0,MAX($A$2:A467)+1)","v":0},{"$f":"IF(D468=Calcs!$X$38,Calcs!$W$38,IF(D468=Calcs!$X$39,Calcs!$W$39,IF(D468=Calcs!$X$40,Calcs!$W$40,IF(TRUE,0))))","v":0},467,"TB48-234-14BTG",14,"TRACK BENCH: 4FTx19.5FTx14INxBTG",32,"BOTANICARE TRACK BENCH: 4FT WIDE x 19.5FT LONG x 14IN HIGH, TRILOCK, GUTTER",4,19.5,14]
[{"$f":"IF(B469=0,0,MAX($A$2:A468)+1)","v":0},{"$f":"IF(D469=Calcs!$X$38,Calcs!$W$38,IF(D469=Calcs!$X$39,Calcs!$W$39,IF(D469=Calcs!$X$40,Calcs!$W$40,IF(TRUE,0))))","v":0},468,"TB48-246-14BTG",14,"TRACK BENCH: 4FTx20.5FTx14INxBTG",32,"BOTANICARE TRACK BENCH: 4FT WIDE x 20.5FT LONG x 14IN HIGH, TRILOCK, GUTTER",4,20.5,14]
[{"$f":"IF(B470=0,0,MAX($A$2:A469)+1)","v":0},{"$f":"IF(D470=Calcs!$X$38,Calcs!$W$38,IF(D470=Calcs!$X$39,Calcs!$W$39,IF(D470=Calcs!$X$40,Calcs!$W$40,IF(TRUE,0))))","v":0},469,"TB48-270-14BTG",14,"TRACK BENCH: 4FTx22.5FTx14INxBTG",32,"BOTANICARE TRACK BENCH: 4FT WIDE x 22.5FT LONG x 14IN HIGH, TRILOCK, GUTTER",4,22.5,14]
[{"$f":"IF(B471=0,0,MAX($A$2:A470)+1)","v":0},{"$f":"IF(D471=Calcs!$X$38,Calcs!$W$38,IF(D471=Calcs!$X$39,Calcs!$W$39,IF(D471=Calcs!$X$40,Calcs!$W$40,IF(TRUE,0))))","v":0},470,"TB48-282-14BTG",14,"TRACK BENCH: 4FTx23.5FTx14INxBTG",32,"BOTANICARE TRACK BENCH: 4FT WIDE x 23.5FT LONG x 14IN HIGH, TRILOCK, GUTTER",4,23.5,14]
[{"$f":"IF(B472=0,0,MAX($A$2:A471)+1)","v":0},{"$f":"IF(D472=Calcs!$X$38,Calcs!$W$38,IF(D472=Calcs!$X$39,Calcs!$W$39,IF(D472=Calcs!$X$40,Calcs!$W$40,IF(TRUE,0))))","v":0},471,"TB48-294-14BTG",14,"TRACK BENCH: 4FTx24.5FTx14INxBTG",32,"BOTANICARE TRACK BENCH: 4FT WIDE x 24.5FT LONG x 14IN HIGH, TRILOCK, GUTTER",4,24.5,14]
[{"$f":"IF(B473=0,0,MAX($A$2:A472)+1)","v":0},{"$f":"IF(D473=Calcs!$X$38,Calcs!$W$38,IF(D473=Calcs!$X$39,Calcs!$W$39,IF(D473=Calcs!$X$40,Calcs!$W$40,IF(TRUE,0))))","v":0},472,"TB48-306-14BTG",14,"TRACK BENCH: 4FTx25.5FTx14INxBTG",32,"BOTANICARE TRACK BENCH: 4FT WIDE x 25.5FT LONG x 14IN HIGH, TRILOCK, GUTTER",4,25.5,14]
[{"$f":"IF(B474=0,0,MAX($A$2:A473)+1)","v":0},{"$f":"IF(D474=Calcs!$X$38,Calcs!$W$38,IF(D474=Calcs!$X$39,Calcs!$W$39,IF(D474=Calcs!$X$40,Calcs!$W$40,IF(TRUE,0))))","v":0},473,"TB48-330-14BTG",14,"TRACK BENCH: 4FTx27.5FTx14INxBTG",32,"BOTANICARE TRACK BENCH: 4FT WIDE x 27.5FT LONG x 14IN HIGH, TRILOCK, GUTTER",4,27.5,14]
[{"$f":"IF(B475=0,0,MAX($A$2:A474)+1)","v":0},{"$f":"IF(D475=Calcs!$X$38,Calcs!$W$38,IF(D475=Calcs!$X$39,Calcs!$W$39,IF(D475=Calcs!$X$40,Calcs!$W$40,IF(TRUE,0))))","v":0},474,"TB48-342-14BTG",14,"TRACK BENCH: 4FTx28.5FTx14INxBTG",32,"BOTANICARE TRACK BENCH: 4FT WIDE x 28.5FT LONG x 14IN HIGH, TRILOCK, GUTTER",4,28.5,14]
[{"$f":"IF(B476=0,0,MAX($A$2:A475)+1)","v":0},{"$f":"IF(D476=Calcs!$X$38,Calcs!$W$38,IF(D476=Calcs!$X$39,Calcs!$W$39,IF(D476=Calcs!$X$40,Calcs!$W$40,IF(TRUE,0))))","v":0},475,"TB48-354-14BTG",14,"TRACK BENCH: 4FTx29.5FTx14INxBTG",32,"BOTANICARE TRACK BENCH: 4FT WIDE x 29.5FT LONG x 14IN HIGH, TRILOCK, GUTTER",4,29.5,14]
[{"$f":"IF(B477=0,0,MAX($A$2:A476)+1)","v":0},{"$f":"IF(D477=Calcs!$X$38,Calcs!$W$38,IF(D477=Calcs!$X$39,Calcs!$W$39,IF(D477=Calcs!$X$40,Calcs!$W$40,IF(TRUE,0))))","v":0},476,"TB48-366-14BTG",14,"TRACK BENCH: 4FTx30.5FTx14INxBTG",32,"BOTANICARE TRACK BENCH: 4FT WIDE x 30.5FT LONG x 14IN HIGH, TRILOCK, GUTTER",4,30.5,14]
[{"$f":"IF(B478=0,0,MAX($A$2:A477)+1)","v":0},{"$f":"IF(D478=Calcs!$X$38,Calcs!$W$38,IF(D478=Calcs!$X$39,Calcs!$W$39,IF(D478=Calcs!$X$40,Calcs!$W$40,IF(TRUE,0))))","v":0},477,"TB48-390-14BTG",14,"TRACK BENCH: 4FTx32.5FTx14INxBTG",32,"BOTANICARE TRACK BENCH: 4FT WIDE x 32.5FT LONG x 14IN HIGH, TRILOCK, GUTTER",4,32.5,14]
[{"$f":"IF(B479=0,0,MAX($A$2:A478)+1)","v":0},{"$f":"IF(D479=Calcs!$X$38,Calcs!$W$38,IF(D479=Calcs!$X$39,Calcs!$W$39,IF(D479=Calcs!$X$40,Calcs!$W$40,IF(TRUE,0))))","v":0},478,"TB48-402-14BTG",14,"TRACK BENCH: 4FTx33.5FTx14INxBTG",32,"BOTANICARE TRACK BENCH: 4FT WIDE x 33.5FT LONG x 14IN HIGH, TRILOCK, GUTTER",4,33.5,14]
[{"$f":"IF(B480=0,0,MAX($A$2:A479)+1)","v":0},{"$f":"IF(D480=Calcs!$X$38,Calcs!$W$38,IF(D480=Calcs!$X$39,Calcs!$W$39,IF(D480=Calcs!$X$40,Calcs!$W$40,IF(TRUE,0))))","v":0},479,"TB48-414-14BTG",14,"TRACK BENCH: 4FTx34.5FTx14INxBTG",32,"BOTANICARE TRACK BENCH: 4FT WIDE x 34.5FT LONG x 14IN HIGH, TRILOCK, GUTTER",4,34.5,14]
[{"$f":"IF(B481=0,0,MAX($A$2:A480)+1)","v":0},{"$f":"IF(D481=Calcs!$X$38,Calcs!$W$38,IF(D481=Calcs!$X$39,Calcs!$W$39,IF(D481=Calcs!$X$40,Calcs!$W$40,IF(TRUE,0))))","v":0},480,"TB48-426-14BTG",14,"TRACK BENCH: 4FTx35.5FTx14INxBTG",32,"BOTANICARE TRACK BENCH: 4FT WIDE x 35.5FT LONG x 14IN HIGH, TRILOCK, GUTTER",4,35.5,14]
[{"$f":"IF(B482=0,0,MAX($A$2:A481)+1)","v":0},{"$f":"IF(D482=Calcs!$X$38,Calcs!$W$38,IF(D482=Calcs!$X$39,Calcs!$W$39,IF(D482=Calcs!$X$40,Calcs!$W$40,IF(TRUE,0))))","v":0},481,"TB48-450-14BTG",14,"TRACK BENCH: 4FTx37.5FTx14INxBTG",32,"BOTANICARE TRACK BENCH: 4FT WIDE x 37.5FT LONG x 14IN HIGH, TRILOCK, GUTTER",4,37.5,14]
[{"$f":"IF(B483=0,0,MAX($A$2:A482)+1)","v":0},{"$f":"IF(D483=Calcs!$X$38,Calcs!$W$38,IF(D483=Calcs!$X$39,Calcs!$W$39,IF(D483=Calcs!$X$40,Calcs!$W$40,IF(TRUE,0))))","v":0},482,"TB48-462-14BTG",14,"TRACK BENCH: 4FTx38.5FTx14INxBTG",32,"BOTANICARE TRACK BENCH: 4FT WIDE x 38.5FT LONG x 14IN HIGH, TRILOCK, GUTTER",4,38.5,14]
[{"$f":"IF(B484=0,0,MAX($A$2:A483)+1)","v":0},{"$f":"IF(D484=Calcs!$X$38,Calcs!$W$38,IF(D484=Calcs!$X$39,Calcs!$W$39,IF(D484=Calcs!$X$40,Calcs!$W$40,IF(TRUE,0))))","v":0},483,"TB48-474-14BTG",14,"TRACK BENCH: 4FTx39.5FTx14INxBTG",32,"BOTANICARE TRACK BENCH: 4FT WIDE x 39.5FT LONG x 14IN HIGH, TRILOCK, GUTTER",4,39.5,14]
[{"$f":"IF(B485=0,0,MAX($A$2:A484)+1)","v":0},{"$f":"IF(D485=Calcs!$X$38,Calcs!$W$38,IF(D485=Calcs!$X$39,Calcs!$W$39,IF(D485=Calcs!$X$40,Calcs!$W$40,IF(TRUE,0))))","v":0},484,"TB48-486-14BTG",14,"TRACK BENCH: 4FTx40.5FTx14INxBTG",32,"BOTANICARE TRACK BENCH: 4FT WIDE x 40.5FT LONG x 14IN HIGH, TRILOCK, GUTTER",4,40.5,14]
[{"$f":"IF(B486=0,0,MAX($A$2:A485)+1)","v":0},{"$f":"IF(D486=Calcs!$X$38,Calcs!$W$38,IF(D486=Calcs!$X$39,Calcs!$W$39,IF(D486=Calcs!$X$40,Calcs!$W$40,IF(TRUE,0))))","v":0},485,"TB48-510-14BTG",14,"TRACK BENCH: 4FTx42.5FTx14INxBTG",32,"BOTANICARE TRACK BENCH: 4FT WIDE x 42.5FT LONG x 14IN HIGH, TRILOCK, GUTTER",4,42.5,14]
[{"$f":"IF(B487=0,0,MAX($A$2:A486)+1)","v":0},{"$f":"IF(D487=Calcs!$X$38,Calcs!$W$38,IF(D487=Calcs!$X$39,Calcs!$W$39,IF(D487=Calcs!$X$40,Calcs!$W$40,IF(TRUE,0))))","v":0},486,"TB48-522-14BTG",14,"TRACK BENCH: 4FTx43.5FTx14INxBTG",32,"BOTANICARE TRACK BENCH: 4FT WIDE x 43.5FT LONG x 14IN HIGH, TRILOCK, GUTTER",4,43.5,14]
[{"$f":"IF(B488=0,0,MAX($A$2:A487)+1)","v":0},{"$f":"IF(D488=Calcs!$X$38,Calcs!$W$38,IF(D488=Calcs!$X$39,Calcs!$W$39,IF(D488=Calcs!$X$40,Calcs!$W$40,IF(TRUE,0))))","v":0},487,"TB48-534-14BTG",14,"TRACK BENCH: 4FTx44.5FTx14INxBTG",32,"BOTANICARE TRACK BENCH: 4FT WIDE x 44.5FT LONG x 14IN HIGH, TRILOCK, GUTTER",4,44.5,14]
[{"$f":"IF(B489=0,0,MAX($A$2:A488)+1)","v":0},{"$f":"IF(D489=Calcs!$X$38,Calcs!$W$38,IF(D489=Calcs!$X$39,Calcs!$W$39,IF(D489=Calcs!$X$40,Calcs!$W$40,IF(TRUE,0))))","v":0},488,"TB48-546-14BTG",14,"TRACK BENCH: 4FTx45.5FTx14INxBTG",32,"BOTANICARE TRACK BENCH: 4FT WIDE x 45.5FT LONG x 14IN HIGH, TRILOCK, GUTTER",4,45.5,14]
[{"$f":"IF(B490=0,0,MAX($A$2:A489)+1)","v":0},{"$f":"IF(D490=Calcs!$X$38,Calcs!$W$38,IF(D490=Calcs!$X$39,Calcs!$W$39,IF(D490=Calcs!$X$40,Calcs!$W$40,IF(TRUE,0))))","v":0},489,"TB48-570-14BTG",14,"TRACK BENCH: 4FTx47.5FTx14INxBTG",32,"BOTANICARE TRACK BENCH: 4FT WIDE x 47.5FT LONG x 14IN HIGH, TRILOCK, GUTTER",4,47.5,14]
[{"$f":"IF(B491=0,0,MAX($A$2:A490)+1)","v":0},{"$f":"IF(D491=Calcs!$X$38,Calcs!$W$38,IF(D491=Calcs!$X$39,Calcs!$W$39,IF(D491=Calcs!$X$40,Calcs!$W$40,IF(TRUE,0))))","v":0},490,"TB48-582-14BTG",14,"TRACK BENCH: 4FTx48.5FTx14INxBTG",32,"BOTANICARE TRACK BENCH: 4FT WIDE x 48.5FT LONG x 14IN HIGH, TRILOCK, GUTTER",4,48.5,14]
[{"$f":"IF(B492=0,0,MAX($A$2:A491)+1)","v":0},{"$f":"IF(D492=Calcs!$X$38,Calcs!$W$38,IF(D492=Calcs!$X$39,Calcs!$W$39,IF(D492=Calcs!$X$40,Calcs!$W$40,IF(TRUE,0))))","v":0},491,"TB48-594-14BTG",14,"TRACK BENCH: 4FTx49.5FTx14INxBTG",32,"BOTANICARE TRACK BENCH: 4FT WIDE x 49.5FT LONG x 14IN HIGH, TRILOCK, GUTTER",4,49.5,14]
[{"$f":"IF(B493=0,0,MAX($A$2:A492)+1)","v":0},{"$f":"IF(D493=Calcs!$X$38,Calcs!$W$38,IF(D493=Calcs!$X$39,Calcs!$W$39,IF(D493=Calcs!$X$40,Calcs!$W$40,IF(TRUE,0))))","v":0},492,"TB48-606-14BTG",14,"TRACK BENCH: 4FTx50.5FTx14INxBTG",32,"BOTANICARE TRACK BENCH: 4FT WIDE x 50.5FT LONG x 14IN HIGH, TRILOCK, GUTTER",4,50.5,14]
[{"$f":"IF(B494=0,0,MAX($A$2:A493)+1)","v":0},{"$f":"IF(D494=Calcs!$X$38,Calcs!$W$38,IF(D494=Calcs!$X$39,Calcs!$W$39,IF(D494=Calcs!$X$40,Calcs!$W$40,IF(TRUE,0))))","v":0},493,"TB48-630-14BTG",14,"TRACK BENCH: 4FTx52.5FTx14INxBTG",32,"BOTANICARE TRACK BENCH: 4FT WIDE x 52.5FT LONG x 14IN HIGH, TRILOCK, GUTTER",4,52.5,14]
[{"$f":"IF(B495=0,0,MAX($A$2:A494)+1)","v":0},{"$f":"IF(D495=Calcs!$X$38,Calcs!$W$38,IF(D495=Calcs!$X$39,Calcs!$W$39,IF(D495=Calcs!$X$40,Calcs!$W$40,IF(TRUE,0))))","v":0},494,"TB48-642-14BTG",14,"TRACK BENCH: 4FTx53.5FTx14INxBTG",32,"BOTANICARE TRACK BENCH: 4FT WIDE x 53.5FT LONG x 14IN HIGH, TRILOCK, GUTTER",4,53.5,14]
[{"$f":"IF(B496=0,0,MAX($A$2:A495)+1)","v":0},{"$f":"IF(D496=Calcs!$X$38,Calcs!$W$38,IF(D496=Calcs!$X$39,Calcs!$W$39,IF(D496=Calcs!$X$40,Calcs!$W$40,IF(TRUE,0))))","v":0},495,"TB48-654-14BTG",14,"TRACK BENCH: 4FTx54.5FTx14INxBTG",32,"BOTANICARE TRACK BENCH: 4FT WIDE x 54.5FT LONG x 14IN HIGH, TRILOCK, GUTTER",4,54.5,14]
[{"$f":"IF(B497=0,0,MAX($A$2:A496)+1)","v":0},{"$f":"IF(D497=Calcs!$X$38,Calcs!$W$38,IF(D497=Calcs!$X$39,Calcs!$W$39,IF(D497=Calcs!$X$40,Calcs!$W$40,IF(TRUE,0))))","v":0},496,"TB48-666-14BTG",14,"TRACK BENCH: 4FTx55.5FTx14INxBTG",32,"BOTANICARE TRACK BENCH: 4FT WIDE x 55.5FT LONG x 14IN HIGH, TRILOCK, GUTTER",4,55.5,14]
[{"$f":"IF(B498=0,0,MAX($A$2:A497)+1)","v":0},{"$f":"IF(D498=Calcs!$X$38,Calcs!$W$38,IF(D498=Calcs!$X$39,Calcs!$W$39,IF(D498=Calcs!$X$40,Calcs!$W$40,IF(TRUE,0))))","v":0},497,"TB48-690-14BTG",14,"TRACK BENCH: 4FTx57.5FTx14INxBTG",32,"BOTANICARE TRACK BENCH: 4FT WIDE x 57.5FT LONG x 14IN HIGH, TRILOCK, GUTTER",4,57.5,14]
[{"$f":"IF(B499=0,0,MAX($A$2:A498)+1)","v":0},{"$f":"IF(D499=Calcs!$X$38,Calcs!$W$38,IF(D499=Calcs!$X$39,Calcs!$W$39,IF(D499=Calcs!$X$40,Calcs!$W$40,IF(TRUE,0))))","v":0},498,"TB48-702-14BTG",14,"TRACK BENCH: 4FTx58.5FTx14INxBTG",32,"BOTANICARE TRACK BENCH: 4FT WIDE x 58.5FT LONG x 14IN HIGH, TRILOCK, GUTTER",4,58.5,14]
[{"$f":"IF(B500=0,0,MAX($A$2:A499)+1)","v":0},{"$f":"IF(D500=Calcs!$X$38,Calcs!$W$38,IF(D500=Calcs!$X$39,Calcs!$W$39,IF(D500=Calcs!$X$40,Calcs!$W$40,IF(TRUE,0))))","v":0},499,"TB48-714-14BTG",14,"TRACK BENCH: 4FTx59.5FTx14INxBTG",32,"BOTANICARE TRACK BENCH: 4FT WIDE x 59.5FT LONG x 14IN HIGH, TRILOCK, GUTTER",4,59.5,14]
[{"$f":"IF(B501=0,0,MAX($A$2:A500)+1)","v":0},{"$f":"IF(D501=Calcs!$X$38,Calcs!$W$38,IF(D501=Calcs!$X$39,Calcs!$W$39,IF(D501=Calcs!$X$40,Calcs!$W$40,IF(TRUE,0))))","v":0},500,"TB48-726-14BTG",14,"TRACK BENCH: 4FTx60.5FTx14INxBTG",32,"BOTANICARE TRACK BENCH: 4FT WIDE x 60.5FT LONG x 14IN HIGH, TRILOCK, GUTTER",4,60.5,14]
[{"$f":"IF(B502=0,0,MAX($A$2:A501)+1)","v":0},{"$f":"IF(D502=Calcs!$X$38,Calcs!$W$38,IF(D502=Calcs!$X$39,Calcs!$W$39,IF(D502=Calcs!$X$40,Calcs!$W$40,IF(TRUE,0))))","v":0},501,"TB48-750-14BTG",14,"TRACK BENCH: 4FTx62.5FTx14INxBTG",32,"BOTANICARE TRACK BENCH: 4FT WIDE x 62.5FT LONG x 14IN HIGH, TRILOCK, GUTTER",4,62.5,14]
[{"$f":"IF(B503=0,0,MAX($A$2:A502)+1)","v":0},{"$f":"IF(D503=Calcs!$X$38,Calcs!$W$38,IF(D503=Calcs!$X$39,Calcs!$W$39,IF(D503=Calcs!$X$40,Calcs!$W$40,IF(TRUE,0))))","v":0},502,"TB48-762-14BTG",14,"TRACK BENCH: 4FTx63.5FTx14INxBTG",32,"BOTANICARE TRACK BENCH: 4FT WIDE x 63.5FT LONG x 14IN HIGH, TRILOCK, GUTTER",4,63.5,14]
[{"$f":"IF(B504=0,0,MAX($A$2:A503)+1)","v":0},{"$f":"IF(D504=Calcs!$X$38,Calcs!$W$38,IF(D504=Calcs!$X$39,Calcs!$W$39,IF(D504=Calcs!$X$40,Calcs!$W$40,IF(TRUE,0))))","v":0},503,"TB48-774-14BTG",14,"TRACK BENCH: 4FTx64.5FTx14INxBTG",32,"BOTANICARE TRACK BENCH: 4FT WIDE x 64.5FT LONG x 14IN HIGH, TRILOCK, GUTTER",4,64.5,14]
[{"$f":"IF(B505=0,0,MAX($A$2:A504)+1)","v":0},{"$f":"IF(D505=Calcs!$X$38,Calcs!$W$38,IF(D505=Calcs!$X$39,Calcs!$W$39,IF(D505=Calcs!$X$40,Calcs!$W$40,IF(TRUE,0))))","v":0},504,"TB48-786-14BTG",14,"TRACK BENCH: 4FTx65.5FTx14INxBTG",32,"BOTANICARE TRACK BENCH: 4FT WIDE x 65.5FT LONG x 14IN HIGH, TRILOCK, GUTTER",4,65.5,14]
[{"$f":"IF(B506=0,0,MAX($A$2:A505)+1)","v":0},{"$f":"IF(D506=Calcs!$X$38,Calcs!$W$38,IF(D506=Calcs!$X$39,Calcs!$W$39,IF(D506=Calcs!$X$40,Calcs!$W$40,IF(TRUE,0))))","v":0},505,"TB48-810-14BTG",14,"TRACK BENCH: 4FTx67.5FTx14INxBTG",32,"BOTANICARE TRACK BENCH: 4FT WIDE x 67.5FT LONG x 14IN HIGH, TRILOCK, GUTTER",4,67.5,14]
[{"$f":"IF(B507=0,0,MAX($A$2:A506)+1)","v":0},{"$f":"IF(D507=Calcs!$X$38,Calcs!$W$38,IF(D507=Calcs!$X$39,Calcs!$W$39,IF(D507=Calcs!$X$40,Calcs!$W$40,IF(TRUE,0))))","v":0},506,"TB48-822-14BTG",14,"TRACK BENCH: 4FTx68.5FTx14INxBTG",32,"BOTANICARE TRACK BENCH: 4FT WIDE x 68.5FT LONG x 14IN HIGH, TRILOCK, GUTTER",4,68.5,14]
[{"$f":"IF(B508=0,0,MAX($A$2:A507)+1)","v":0},{"$f":"IF(D508=Calcs!$X$38,Calcs!$W$38,IF(D508=Calcs!$X$39,Calcs!$W$39,IF(D508=Calcs!$X$40,Calcs!$W$40,IF(TRUE,0))))","v":0},507,"TB48-834-14BTG",14,"TRACK BENCH: 4FTx69.5FTx14INxBTG",32,"BOTANICARE TRACK BENCH: 4FT WIDE x 69.5FT LONG x 14IN HIGH, TRILOCK, GUTTER",4,69.5,14]
[{"$f":"IF(B509=0,0,MAX($A$2:A508)+1)","v":0},{"$f":"IF(D509=Calcs!$X$38,Calcs!$W$38,IF(D509=Calcs!$X$39,Calcs!$W$39,IF(D509=Calcs!$X$40,Calcs!$W$40,IF(TRUE,0))))","v":0},508,"TB48-846-14BTG",14,"TRACK BENCH: 4FTx70.5FTx14INxBTG",32,"BOTANICARE TRACK BENCH: 4FT WIDE x 70.5FT LONG x 14IN HIGH, TRILOCK, GUTTER",4,70.5,14]
[{"$f":"IF(B510=0,0,MAX($A$2:A509)+1)","v":0},{"$f":"IF(D510=Calcs!$X$38,Calcs!$W$38,IF(D510=Calcs!$X$39,Calcs!$W$39,IF(D510=Calcs!$X$40,Calcs!$W$40,IF(TRUE,0))))","v":0},509,"TB48-870-14BTG",14,"TRACK BENCH: 4FTx72.5FTx14INxBTG",32,"BOTANICARE TRACK BENCH: 4FT WIDE x 72.5FT LONG x 14IN HIGH, TRILOCK, GUTTER",4,72.5,14]
[{"$f":"IF(B511=0,0,MAX($A$2:A510)+1)","v":0},{"$f":"IF(D511=Calcs!$X$38,Calcs!$W$38,IF(D511=Calcs!$X$39,Calcs!$W$39,IF(D511=Calcs!$X$40,Calcs!$W$40,IF(TRUE,0))))","v":0},510,"TB48-882-14BTG",14,"TRACK BENCH: 4FTx73.5FTx14INxBTG",32,"BOTANICARE TRACK BENCH: 4FT WIDE x 73.5FT LONG x 14IN HIGH, TRILOCK, GUTTER",4,73.5,14]
[{"$f":"IF(B512=0,0,MAX($A$2:A511)+1)","v":0},{"$f":"IF(D512=Calcs!$X$38,Calcs!$W$38,IF(D512=Calcs!$X$39,Calcs!$W$39,IF(D512=Calcs!$X$40,Calcs!$W$40,IF(TRUE,0))))","v":0},511,"TB48-894-14BTG",14,"TRACK BENCH: 4FTx74.5FTx14INxBTG",32,"BOTANICARE TRACK BENCH: 4FT WIDE x 74.5FT LONG x 14IN HIGH, TRILOCK, GUTTER",4,74.5,14]
[{"$f":"IF(B513=0,0,MAX($A$2:A512)+1)","v":0},{"$f":"IF(D513=Calcs!$X$38,Calcs!$W$38,IF(D513=Calcs!$X$39,Calcs!$W$39,IF(D513=Calcs!$X$40,Calcs!$W$40,IF(TRUE,0))))","v":0},512,"TB48-906-14BTG",14,"TRACK BENCH: 4FTx75.5FTx14INxBTG",32,"BOTANICARE TRACK BENCH: 4FT WIDE x 75.5FT LONG x 14IN HIGH, TRILOCK, GUTTER",4,75.5,14]
[{"$f":"IF(B514=0,0,MAX($A$2:A513)+1)","v":0},{"$f":"IF(D514=Calcs!$X$38,Calcs!$W$38,IF(D514=Calcs!$X$39,Calcs!$W$39,IF(D514=Calcs!$X$40,Calcs!$W$40,IF(TRUE,0))))","v":0},513,"TB48-930-14BTG",14,"TRACK BENCH: 4FTx77.5FTx14INxBTG",32,"BOTANICARE TRACK BENCH: 4FT WIDE x 77.5FT LONG x 14IN HIGH, TRILOCK, GUTTER",4,77.5,14]
[{"$f":"IF(B515=0,0,MAX($A$2:A514)+1)","v":0},{"$f":"IF(D515=Calcs!$X$38,Calcs!$W$38,IF(D515=Calcs!$X$39,Calcs!$W$39,IF(D515=Calcs!$X$40,Calcs!$W$40,IF(TRUE,0))))","v":0},514,"TB48-942-14BTG",14,"TRACK BENCH: 4FTx78.5FTx14INxBTG",32,"BOTANICARE TRACK BENCH: 4FT WIDE x 78.5FT LONG x 14IN HIGH, TRILOCK, GUTTER",4,78.5,14]
[{"$f":"IF(B516=0,0,MAX($A$2:A515)+1)","v":0},{"$f":"IF(D516=Calcs!$X$38,Calcs!$W$38,IF(D516=Calcs!$X$39,Calcs!$W$39,IF(D516=Calcs!$X$40,Calcs!$W$40,IF(TRUE,0))))","v":0},515,"TB48-954-14BTG",14,"TRACK BENCH: 4FTx79.5FTx14INxBTG",32,"BOTANICARE TRACK BENCH: 4FT WIDE x 79.5FT LONG x 14IN HIGH, TRILOCK, GUTTER",4,79.5,14]
[{"$f":"IF(B517=0,0,MAX($A$2:A516)+1)","v":0},{"$f":"IF(D517=Calcs!$X$38,Calcs!$W$38,IF(D517=Calcs!$X$39,Calcs!$W$39,IF(D517=Calcs!$X$40,Calcs!$W$40,IF(TRUE,0))))","v":0},516,"TB48-966-14BTG",14,"TRACK BENCH: 4FTx80.5FTx14INxBTG",32,"BOTANICARE TRACK BENCH: 4FT WIDE x 80.5FT LONG x 14IN HIGH, TRILOCK, GUTTER",4,80.5,14]
[{"$f":"IF(B518=0,0,MAX($A$2:A517)+1)","v":0},{"$f":"IF(D518=Calcs!$X$38,Calcs!$W$38,IF(D518=Calcs!$X$39,Calcs!$W$39,IF(D518=Calcs!$X$40,Calcs!$W$40,IF(TRUE,0))))","v":0},517,"TB48-990-14BTG",14,"TRACK BENCH: 4FTx82.5FTx14INxBTG",32,"BOTANICARE TRACK BENCH: 4FT WIDE x 82.5FT LONG x 14IN HIGH, TRILOCK, GUTTER",4,82.5,14]
[{"$f":"IF(B519=0,0,MAX($A$2:A518)+1)","v":0},{"$f":"IF(D519=Calcs!$X$38,Calcs!$W$38,IF(D519=Calcs!$X$39,Calcs!$W$39,IF(D519=Calcs!$X$40,Calcs!$W$40,IF(TRUE,0))))","v":0},518,"TB48-1002-14BTG",15,"TRACK BENCH: 4FTx83.5FTx14INxBTG",32,"BOTANICARE TRACK BENCH: 4FT WIDE x 83.5FT LONG x 14IN HIGH, TRILOCK, GUTTER",4,83.5,14]
[{"$f":"IF(B520=0,0,MAX($A$2:A519)+1)","v":0},{"$f":"IF(D520=Calcs!$X$38,Calcs!$W$38,IF(D520=Calcs!$X$39,Calcs!$W$39,IF(D520=Calcs!$X$40,Calcs!$W$40,IF(TRUE,0))))","v":0},519,"TB48-1014-14BTG",15,"TRACK BENCH: 4FTx84.5FTx14INxBTG",32,"BOTANICARE TRACK BENCH: 4FT WIDE x 84.5FT LONG x 14IN HIGH, TRILOCK, GUTTER",4,84.5,14]
[{"$f":"IF(B521=0,0,MAX($A$2:A520)+1)","v":0},{"$f":"IF(D521=Calcs!$X$38,Calcs!$W$38,IF(D521=Calcs!$X$39,Calcs!$W$39,IF(D521=Calcs!$X$40,Calcs!$W$40,IF(TRUE,0))))","v":0},520,"TB48-1026-14BTG",15,"TRACK BENCH: 4FTx85.5FTx14INxBTG",32,"BOTANICARE TRACK BENCH: 4FT WIDE x 85.5FT LONG x 14IN HIGH, TRILOCK, GUTTER",4,85.5,14]
[{"$f":"IF(B522=0,0,MAX($A$2:A521)+1)","v":0},{"$f":"IF(D522=Calcs!$X$38,Calcs!$W$38,IF(D522=Calcs!$X$39,Calcs!$W$39,IF(D522=Calcs!$X$40,Calcs!$W$40,IF(TRUE,0))))","v":0},521,"TB48-1050-14BTG",15,"TRACK BENCH: 4FTx87.5FTx14INxBTG",32,"BOTANICARE TRACK BENCH: 4FT WIDE x 87.5FT LONG x 14IN HIGH, TRILOCK, GUTTER",4,87.5,14]
[{"$f":"IF(B523=0,0,MAX($A$2:A522)+1)","v":0},{"$f":"IF(D523=Calcs!$X$38,Calcs!$W$38,IF(D523=Calcs!$X$39,Calcs!$W$39,IF(D523=Calcs!$X$40,Calcs!$W$40,IF(TRUE,0))))","v":0},522,"TB48-1062-14BTG",15,"TRACK BENCH: 4FTx88.5FTx14INxBTG",32,"BOTANICARE TRACK BENCH: 4FT WIDE x 88.5FT LONG x 14IN HIGH, TRILOCK, GUTTER",4,88.5,14]
[{"$f":"IF(B524=0,0,MAX($A$2:A523)+1)","v":0},{"$f":"IF(D524=Calcs!$X$38,Calcs!$W$38,IF(D524=Calcs!$X$39,Calcs!$W$39,IF(D524=Calcs!$X$40,Calcs!$W$40,IF(TRUE,0))))","v":0},523,"TB48-1074-14BTG",15,"TRACK BENCH: 4FTx89.5FTx14INxBTG",32,"BOTANICARE TRACK BENCH: 4FT WIDE x 89.5FT LONG x 14IN HIGH, TRILOCK, GUTTER",4,89.5,14]
[{"$f":"IF(B525=0,0,MAX($A$2:A524)+1)","v":0},{"$f":"IF(D525=Calcs!$X$38,Calcs!$W$38,IF(D525=Calcs!$X$39,Calcs!$W$39,IF(D525=Calcs!$X$40,Calcs!$W$40,IF(TRUE,0))))","v":0},524,"TB48-1086-14BTG",15,"TRACK BENCH: 4FTx90.5FTx14INxBTG",32,"BOTANICARE TRACK BENCH: 4FT WIDE x 90.5FT LONG x 14IN HIGH, TRILOCK, GUTTER",4,90.5,14]
[{"$f":"IF(B526=0,0,MAX($A$2:A525)+1)","v":0},{"$f":"IF(D526=Calcs!$X$38,Calcs!$W$38,IF(D526=Calcs!$X$39,Calcs!$W$39,IF(D526=Calcs!$X$40,Calcs!$W$40,IF(TRUE,0))))","v":0},525,"TB48-1110-14BTG",15,"TRACK BENCH: 4FTx92.5FTx14INxBTG",32,"BOTANICARE TRACK BENCH: 4FT WIDE x 92.5FT LONG x 14IN HIGH, TRILOCK, GUTTER",4,92.5,14]
[{"$f":"IF(B527=0,0,MAX($A$2:A526)+1)","v":0},{"$f":"IF(D527=Calcs!$X$38,Calcs!$W$38,IF(D527=Calcs!$X$39,Calcs!$W$39,IF(D527=Calcs!$X$40,Calcs!$W$40,IF(TRUE,0))))","v":0},526,"TB48-1122-14BTG",15,"TRACK BENCH: 4FTx93.5FTx14INxBTG",32,"BOTANICARE TRACK BENCH: 4FT WIDE x 93.5FT LONG x 14IN HIGH, TRILOCK, GUTTER",4,93.5,14]
[{"$f":"IF(B528=0,0,MAX($A$2:A527)+1)","v":0},{"$f":"IF(D528=Calcs!$X$38,Calcs!$W$38,IF(D528=Calcs!$X$39,Calcs!$W$39,IF(D528=Calcs!$X$40,Calcs!$W$40,IF(TRUE,0))))","v":0},527,"TB48-1134-14BTG",15,"TRACK BENCH: 4FTx94.5FTx14INxBTG",32,"BOTANICARE TRACK BENCH: 4FT WIDE x 94.5FT LONG x 14IN HIGH, TRILOCK, GUTTER",4,94.5,14]
[{"$f":"IF(B529=0,0,MAX($A$2:A528)+1)","v":0},{"$f":"IF(D529=Calcs!$X$38,Calcs!$W$38,IF(D529=Calcs!$X$39,Calcs!$W$39,IF(D529=Calcs!$X$40,Calcs!$W$40,IF(TRUE,0))))","v":0},528,"TB48-1146-14BTG",15,"TRACK BENCH: 4FTx95.5FTx14INxBTG",32,"BOTANICARE TRACK BENCH: 4FT WIDE x 95.5FT LONG x 14IN HIGH, TRILOCK, GUTTER",4,95.5,14]
[{"$f":"IF(B530=0,0,MAX($A$2:A529)+1)","v":0},{"$f":"IF(D530=Calcs!$X$38,Calcs!$W$38,IF(D530=Calcs!$X$39,Calcs!$W$39,IF(D530=Calcs!$X$40,Calcs!$W$40,IF(TRUE,0))))","v":0},529,"TB48-1170-14BTG",15,"TRACK BENCH: 4FTx97.5FTx14INxBTG",32,"BOTANICARE TRACK BENCH: 4FT WIDE x 97.5FT LONG x 14IN HIGH, TRILOCK, GUTTER",4,97.5,14]
[{"$f":"IF(B531=0,0,MAX($A$2:A530)+1)","v":0},{"$f":"IF(D531=Calcs!$X$38,Calcs!$W$38,IF(D531=Calcs!$X$39,Calcs!$W$39,IF(D531=Calcs!$X$40,Calcs!$W$40,IF(TRUE,0))))","v":0},530,"TB48-1182-14BTG",15,"TRACK BENCH: 4FTx98.5FTx14INxBTG",32,"BOTANICARE TRACK BENCH: 4FT WIDE x 98.5FT LONG x 14IN HIGH, TRILOCK, GUTTER",4,98.5,14]
[{"$f":"IF(B532=0,0,MAX($A$2:A531)+1)","v":0},{"$f":"IF(D532=Calcs!$X$38,Calcs!$W$38,IF(D532=Calcs!$X$39,Calcs!$W$39,IF(D532=Calcs!$X$40,Calcs!$W$40,IF(TRUE,0))))","v":0},531,"TB48-1194-14BTG",15,"TRACK BENCH: 4FTx99.5FTx14INxBTG",32,"BOTANICARE TRACK BENCH: 4FT WIDE x 99.5FT LONG x 14IN HIGH, TRILOCK, GUTTER",4,99.5,14]
[{"$f":"IF(B533=0,0,MAX($A$2:A532)+1)","v":0},{"$f":"IF(D533=Calcs!$X$38,Calcs!$W$38,IF(D533=Calcs!$X$39,Calcs!$W$39,IF(D533=Calcs!$X$40,Calcs!$W$40,IF(TRUE,0))))","v":0},532,"TB48-1206-14BTG",15,"TRACK BENCH: 4FTx100.5FTx14INxBTG",33,"BOTANICARE TRACK BENCH: 4FT WIDE x 100.5FT LONG x 14IN HIGH, TRILOCK, GUTTER",4,100.5,14]
[{"$f":"IF(B534=0,0,MAX($A$2:A533)+1)","v":0},{"$f":"IF(D534=Calcs!$X$38,Calcs!$W$38,IF(D534=Calcs!$X$39,Calcs!$W$39,IF(D534=Calcs!$X$40,Calcs!$W$40,IF(TRUE,0))))","v":0},533,"TB48-90-20BTG",13,"TRACK BENCH: 4FTx7.5FTx20INxBTG",31,"BOTANICARE TRACK BENCH: 4FT WIDE x 7.5FT LONG x 20IN HIGH, TRILOCK, GUTTER",4,7.5,20]
[{"$f":"IF(B535=0,0,MAX($A$2:A534)+1)","v":0},{"$f":"IF(D535=Calcs!$X$38,Calcs!$W$38,IF(D535=Calcs!$X$39,Calcs!$W$39,IF(D535=Calcs!$X$40,Calcs!$W$40,IF(TRUE,0))))","v":0},534,"TB48-102-20BTG",14,"TRACK BENCH: 4FTx8.5FTx20INxBTG",31,"BOTANICARE TRACK BENCH: 4FT WIDE x 8.5FT LONG x 20IN HIGH, TRILOCK, GUTTER",4,8.5,20]
[{"$f":"IF(B536=0,0,MAX($A$2:A535)+1)","v":0},{"$f":"IF(D536=Calcs!$X$38,Calcs!$W$38,IF(D536=Calcs!$X$39,Calcs!$W$39,IF(D536=Calcs!$X$40,Calcs!$W$40,IF(TRUE,0))))","v":0},535,"TB48-114-20BTG",14,"TRACK BENCH: 4FTx9.5FTx20INxBTG",31,"BOTANICARE TRACK BENCH: 4FT WIDE x 9.5FT LONG x 20IN HIGH, TRILOCK, GUTTER",4,9.5,20]
[{"$f":"IF(B537=0,0,MAX($A$2:A536)+1)","v":0},{"$f":"IF(D537=Calcs!$X$38,Calcs!$W$38,IF(D537=Calcs!$X$39,Calcs!$W$39,IF(D537=Calcs!$X$40,Calcs!$W$40,IF(TRUE,0))))","v":0},536,"TB48-126-20BTG",14,"TRACK BENCH: 4FTx10.5FTx20INxBTG",32,"BOTANICARE TRACK BENCH: 4FT WIDE x 10.5FT LONG x 20IN HIGH, TRILOCK, GUTTER",4,10.5,20]
[{"$f":"IF(B538=0,0,MAX($A$2:A537)+1)","v":0},{"$f":"IF(D538=Calcs!$X$38,Calcs!$W$38,IF(D538=Calcs!$X$39,Calcs!$W$39,IF(D538=Calcs!$X$40,Calcs!$W$40,IF(TRUE,0))))","v":0},537,"TB48-150-20BTG",14,"TRACK BENCH: 4FTx12.5FTx20INxBTG",32,"BOTANICARE TRACK BENCH: 4FT WIDE x 12.5FT LONG x 20IN HIGH, TRILOCK, GUTTER",4,12.5,20]
[{"$f":"IF(B539=0,0,MAX($A$2:A538)+1)","v":0},{"$f":"IF(D539=Calcs!$X$38,Calcs!$W$38,IF(D539=Calcs!$X$39,Calcs!$W$39,IF(D539=Calcs!$X$40,Calcs!$W$40,IF(TRUE,0))))","v":0},538,"TB48-162-20BTG",14,"TRACK BENCH: 4FTx13.5FTx20INxBTG",32,"BOTANICARE TRACK BENCH: 4FT WIDE x 13.5FT LONG x 20IN HIGH, TRILOCK, GUTTER",4,13.5,20]
[{"$f":"IF(B540=0,0,MAX($A$2:A539)+1)","v":0},{"$f":"IF(D540=Calcs!$X$38,Calcs!$W$38,IF(D540=Calcs!$X$39,Calcs!$W$39,IF(D540=Calcs!$X$40,Calcs!$W$40,IF(TRUE,0))))","v":0},539,"TB48-174-20BTG",14,"TRACK BENCH: 4FTx14.5FTx20INxBTG",32,"BOTANICARE TRACK BENCH: 4FT WIDE x 14.5FT LONG x 20IN HIGH, TRILOCK, GUTTER",4,14.5,20]
[{"$f":"IF(B541=0,0,MAX($A$2:A540)+1)","v":0},{"$f":"IF(D541=Calcs!$X$38,Calcs!$W$38,IF(D541=Calcs!$X$39,Calcs!$W$39,IF(D541=Calcs!$X$40,Calcs!$W$40,IF(TRUE,0))))","v":0},540,"TB48-186-20BTG",14,"TRACK BENCH: 4FTx15.5FTx20INxBTG",32,"BOTANICARE TRACK BENCH: 4FT WIDE x 15.5FT LONG x 20IN HIGH, TRILOCK, GUTTER",4,15.5,20]
[{"$f":"IF(B542=0,0,MAX($A$2:A541)+1)","v":0},{"$f":"IF(D542=Calcs!$X$38,Calcs!$W$38,IF(D542=Calcs!$X$39,Calcs!$W$39,IF(D542=Calcs!$X$40,Calcs!$W$40,IF(TRUE,0))))","v":0},541,"TB48-210-20BTG",14,"TRACK BENCH: 4FTx17.5FTx20INxBTG",32,"BOTANICARE TRACK BENCH: 4FT WIDE x 17.5FT LONG x 20IN HIGH, TRILOCK, GUTTER",4,17.5,20]
[{"$f":"IF(B543=0,0,MAX($A$2:A542)+1)","v":0},{"$f":"IF(D543=Calcs!$X$38,Calcs!$W$38,IF(D543=Calcs!$X$39,Calcs!$W$39,IF(D543=Calcs!$X$40,Calcs!$W$40,IF(TRUE,0))))","v":0},542,"TB48-222-20BTG",14,"TRACK BENCH: 4FTx18.5FTx20INxBTG",32,"BOTANICARE TRACK BENCH: 4FT WIDE x 18.5FT LONG x 20IN HIGH, TRILOCK, GUTTER",4,18.5,20]
[{"$f":"IF(B544=0,0,MAX($A$2:A543)+1)","v":0},{"$f":"IF(D544=Calcs!$X$38,Calcs!$W$38,IF(D544=Calcs!$X$39,Calcs!$W$39,IF(D544=Calcs!$X$40,Calcs!$W$40,IF(TRUE,0))))","v":0},543,"TB48-234-20BTG",14,"TRACK BENCH: 4FTx19.5FTx20INxBTG",32,"BOTANICARE TRACK BENCH: 4FT WIDE x 19.5FT LONG x 20IN HIGH, TRILOCK, GUTTER",4,19.5,20]
[{"$f":"IF(B545=0,0,MAX($A$2:A544)+1)","v":0},{"$f":"IF(D545=Calcs!$X$38,Calcs!$W$38,IF(D545=Calcs!$X$39,Calcs!$W$39,IF(D545=Calcs!$X$40,Calcs!$W$40,IF(TRUE,0))))","v":0},544,"TB48-246-20BTG",14,"TRACK BENCH: 4FTx20.5FTx20INxBTG",32,"BOTANICARE TRACK BENCH: 4FT WIDE x 20.5FT LONG x 20IN HIGH, TRILOCK, GUTTER",4,20.5,20]
[{"$f":"IF(B546=0,0,MAX($A$2:A545)+1)","v":0},{"$f":"IF(D546=Calcs!$X$38,Calcs!$W$38,IF(D546=Calcs!$X$39,Calcs!$W$39,IF(D546=Calcs!$X$40,Calcs!$W$40,IF(TRUE,0))))","v":0},545,"TB48-270-20BTG",14,"TRACK BENCH: 4FTx22.5FTx20INxBTG",32,"BOTANICARE TRACK BENCH: 4FT WIDE x 22.5FT LONG x 20IN HIGH, TRILOCK, GUTTER",4,22.5,20]
[{"$f":"IF(B547=0,0,MAX($A$2:A546)+1)","v":0},{"$f":"IF(D547=Calcs!$X$38,Calcs!$W$38,IF(D547=Calcs!$X$39,Calcs!$W$39,IF(D547=Calcs!$X$40,Calcs!$W$40,IF(TRUE,0))))","v":0},546,"TB48-282-20BTG",14,"TRACK BENCH: 4FTx23.5FTx20INxBTG",32,"BOTANICARE TRACK BENCH: 4FT WIDE x 23.5FT LONG x 20IN HIGH, TRILOCK, GUTTER",4,23.5,20]
[{"$f":"IF(B548=0,0,MAX($A$2:A547)+1)","v":0},{"$f":"IF(D548=Calcs!$X$38,Calcs!$W$38,IF(D548=Calcs!$X$39,Calcs!$W$39,IF(D548=Calcs!$X$40,Calcs!$W$40,IF(TRUE,0))))","v":0},547,"TB48-294-20BTG",14,"TRACK BENCH: 4FTx24.5FTx20INxBTG",32,"BOTANICARE TRACK BENCH: 4FT WIDE x 24.5FT LONG x 20IN HIGH, TRILOCK, GUTTER",4,24.5,20]
[{"$f":"IF(B549=0,0,MAX($A$2:A548)+1)","v":0},{"$f":"IF(D549=Calcs!$X$38,Calcs!$W$38,IF(D549=Calcs!$X$39,Calcs!$W$39,IF(D549=Calcs!$X$40,Calcs!$W$40,IF(TRUE,0))))","v":0},548,"TB48-306-20BTG",14,"TRACK BENCH: 4FTx25.5FTx20INxBTG",32,"BOTANICARE TRACK BENCH: 4FT WIDE x 25.5FT LONG x 20IN HIGH, TRILOCK, GUTTER",4,25.5,20]
[{"$f":"IF(B550=0,0,MAX($A$2:A549)+1)","v":0},{"$f":"IF(D550=Calcs!$X$38,Calcs!$W$38,IF(D550=Calcs!$X$39,Calcs!$W$39,IF(D550=Calcs!$X$40,Calcs!$W$40,IF(TRUE,0))))","v":0},549,"TB48-330-20BTG",14,"TRACK BENCH: 4FTx27.5FTx20INxBTG",32,"BOTANICARE TRACK BENCH: 4FT WIDE x 27.5FT LONG x 20IN HIGH, TRILOCK, GUTTER",4,27.5,20]
[{"$f":"IF(B551=0,0,MAX($A$2:A550)+1)","v":0},{"$f":"IF(D551=Calcs!$X$38,Calcs!$W$38,IF(D551=Calcs!$X$39,Calcs!$W$39,IF(D551=Calcs!$X$40,Calcs!$W$40,IF(TRUE,0))))","v":0},550,"TB48-342-20BTG",14,"TRACK BENCH: 4FTx28.5FTx20INxBTG",32,"BOTANICARE TRACK BENCH: 4FT WIDE x 28.5FT LONG x 20IN HIGH, TRILOCK, GUTTER",4,28.5,20]
[{"$f":"IF(B552=0,0,MAX($A$2:A551)+1)","v":0},{"$f":"IF(D552=Calcs!$X$38,Calcs!$W$38,IF(D552=Calcs!$X$39,Calcs!$W$39,IF(D552=Calcs!$X$40,Calcs!$W$40,IF(TRUE,0))))","v":0},551,"TB48-354-20BTG",14,"TRACK BENCH: 4FTx29.5FTx20INxBTG",32,"BOTANICARE TRACK BENCH: 4FT WIDE x 29.5FT LONG x 20IN HIGH, TRILOCK, GUTTER",4,29.5,20]
[{"$f":"IF(B553=0,0,MAX($A$2:A552)+1)","v":0},{"$f":"IF(D553=Calcs!$X$38,Calcs!$W$38,IF(D553=Calcs!$X$39,Calcs!$W$39,IF(D553=Calcs!$X$40,Calcs!$W$40,IF(TRUE,0))))","v":0},552,"TB48-366-20BTG",14,"TRACK BENCH: 4FTx30.5FTx20INxBTG",32,"BOTANICARE TRACK BENCH: 4FT WIDE x 30.5FT LONG x 20IN HIGH, TRILOCK, GUTTER",4,30.5,20]
[{"$f":"IF(B554=0,0,MAX($A$2:A553)+1)","v":0},{"$f":"IF(D554=Calcs!$X$38,Calcs!$W$38,IF(D554=Calcs!$X$39,Calcs!$W$39,IF(D554=Calcs!$X$40,Calcs!$W$40,IF(TRUE,0))))","v":0},553,"TB48-390-20BTG",14,"TRACK BENCH: 4FTx32.5FTx20INxBTG",32,"BOTANICARE TRACK BENCH: 4FT WIDE x 32.5FT LONG x 20IN HIGH, TRILOCK, GUTTER",4,32.5,20]
[{"$f":"IF(B555=0,0,MAX($A$2:A554)+1)","v":0},{"$f":"IF(D555=Calcs!$X$38,Calcs!$W$38,IF(D555=Calcs!$X$39,Calcs!$W$39,IF(D555=Calcs!$X$40,Calcs!$W$40,IF(TRUE,0))))","v":0},554,"TB48-402-20BTG",14,"TRACK BENCH: 4FTx33.5FTx20INxBTG",32,"BOTANICARE TRACK BENCH: 4FT WIDE x 33.5FT LONG x 20IN HIGH, TRILOCK, GUTTER",4,33.5,20]
[{"$f":"IF(B556=0,0,MAX($A$2:A555)+1)","v":0},{"$f":"IF(D556=Calcs!$X$38,Calcs!$W$38,IF(D556=Calcs!$X$39,Calcs!$W$39,IF(D556=Calcs!$X$40,Calcs!$W$40,IF(TRUE,0))))","v":0},555,"TB48-414-20BTG",14,"TRACK BENCH: 4FTx34.5FTx20INxBTG",32,"BOTANICARE TRACK BENCH: 4FT WIDE x 34.5FT LONG x 20IN HIGH, TRILOCK, GUTTER",4,34.5,20]
[{"$f":"IF(B557=0,0,MAX($A$2:A556)+1)","v":0},{"$f":"IF(D557=Calcs!$X$38,Calcs!$W$38,IF(D557=Calcs!$X$39,Calcs!$W$39,IF(D557=Calcs!$X$40,Calcs!$W$40,IF(TRUE,0))))","v":0},556,"TB48-426-20BTG",14,"TRACK BENCH: 4FTx35.5FTx20INxBTG",32,"BOTANICARE TRACK BENCH: 4FT WIDE x 35.5FT LONG x 20IN HIGH, TRILOCK, GUTTER",4,35.5,20]
[{"$f":"IF(B558=0,0,MAX($A$2:A557)+1)","v":0},{"$f":"IF(D558=Calcs!$X$38,Calcs!$W$38,IF(D558=Calcs!$X$39,Calcs!$W$39,IF(D558=Calcs!$X$40,Calcs!$W$40,IF(TRUE,0))))","v":0},557,"TB48-450-20BTG",14,"TRACK BENCH: 4FTx37.5FTx20INxBTG",32,"BOTANICARE TRACK BENCH: 4FT WIDE x 37.5FT LONG x 20IN HIGH, TRILOCK, GUTTER",4,37.5,20]
[{"$f":"IF(B559=0,0,MAX($A$2:A558)+1)","v":0},{"$f":"IF(D559=Calcs!$X$38,Calcs!$W$38,IF(D559=Calcs!$X$39,Calcs!$W$39,IF(D559=Calcs!$X$40,Calcs!$W$40,IF(TRUE,0))))","v":0},558,"TB48-462-20BTG",14,"TRACK BENCH: 4FTx38.5FTx20INxBTG",32,"BOTANICARE TRACK BENCH: 4FT WIDE x 38.5FT LONG x 20IN HIGH, TRILOCK, GUTTER",4,38.5,20]
[{"$f":"IF(B560=0,0,MAX($A$2:A559)+1)","v":0},{"$f":"IF(D560=Calcs!$X$38,Calcs!$W$38,IF(D560=Calcs!$X$39,Calcs!$W$39,IF(D560=Calcs!$X$40,Calcs!$W$40,IF(TRUE,0))))","v":0},559,"TB48-474-20BTG",14,"TRACK BENCH: 4FTx39.5FTx20INxBTG",32,"BOTANICARE TRACK BENCH: 4FT WIDE x 39.5FT LONG x 20IN HIGH, TRILOCK, GUTTER",4,39.5,20]
[{"$f":"IF(B561=0,0,MAX($A$2:A560)+1)","v":0},{"$f":"IF(D561=Calcs!$X$38,Calcs!$W$38,IF(D561=Calcs!$X$39,Calcs!$W$39,IF(D561=Calcs!$X$40,Calcs!$W$40,IF(TRUE,0))))","v":0},560,"TB48-486-20BTG",14,"TRACK BENCH: 4FTx40.5FTx20INxBTG",32,"BOTANICARE TRACK BENCH: 4FT WIDE x 40.5FT LONG x 20IN HIGH, TRILOCK, GUTTER",4,40.5,20]
[{"$f":"IF(B562=0,0,MAX($A$2:A561)+1)","v":0},{"$f":"IF(D562=Calcs!$X$38,Calcs!$W$38,IF(D562=Calcs!$X$39,Calcs!$W$39,IF(D562=Calcs!$X$40,Calcs!$W$40,IF(TRUE,0))))","v":0},561,"TB48-510-20BTG",14,"TRACK BENCH: 4FTx42.5FTx20INxBTG",32,"BOTANICARE TRACK BENCH: 4FT WIDE x 42.5FT LONG x 20IN HIGH, TRILOCK, GUTTER",4,42.5,20]
[{"$f":"IF(B563=0,0,MAX($A$2:A562)+1)","v":0},{"$f":"IF(D563=Calcs!$X$38,Calcs!$W$38,IF(D563=Calcs!$X$39,Calcs!$W$39,IF(D563=Calcs!$X$40,Calcs!$W$40,IF(TRUE,0))))","v":0},562,"TB48-522-20BTG",14,"TRACK BENCH: 4FTx43.5FTx20INxBTG",32,"BOTANICARE TRACK BENCH: 4FT WIDE x 43.5FT LONG x 20IN HIGH, TRILOCK, GUTTER",4,43.5,20]
[{"$f":"IF(B564=0,0,MAX($A$2:A563)+1)","v":0},{"$f":"IF(D564=Calcs!$X$38,Calcs!$W$38,IF(D564=Calcs!$X$39,Calcs!$W$39,IF(D564=Calcs!$X$40,Calcs!$W$40,IF(TRUE,0))))","v":0},563,"TB48-534-20BTG",14,"TRACK BENCH: 4FTx44.5FTx20INxBTG",32,"BOTANICARE TRACK BENCH: 4FT WIDE x 44.5FT LONG x 20IN HIGH, TRILOCK, GUTTER",4,44.5,20]
[{"$f":"IF(B565=0,0,MAX($A$2:A564)+1)","v":0},{"$f":"IF(D565=Calcs!$X$38,Calcs!$W$38,IF(D565=Calcs!$X$39,Calcs!$W$39,IF(D565=Calcs!$X$40,Calcs!$W$40,IF(TRUE,0))))","v":0},564,"TB48-546-20BTG",14,"TRACK BENCH: 4FTx45.5FTx20INxBTG",32,"BOTANICARE TRACK BENCH: 4FT WIDE x 45.5FT LONG x 20IN HIGH, TRILOCK, GUTTER",4,45.5,20]
[{"$f":"IF(B566=0,0,MAX($A$2:A565)+1)","v":0},{"$f":"IF(D566=Calcs!$X$38,Calcs!$W$38,IF(D566=Calcs!$X$39,Calcs!$W$39,IF(D566=Calcs!$X$40,Calcs!$W$40,IF(TRUE,0))))","v":0},565,"TB48-570-20BTG",14,"TRACK BENCH: 4FTx47.5FTx20INxBTG",32,"BOTANICARE TRACK BENCH: 4FT WIDE x 47.5FT LONG x 20IN HIGH, TRILOCK, GUTTER",4,47.5,20]
[{"$f":"IF(B567=0,0,MAX($A$2:A566)+1)","v":0},{"$f":"IF(D567=Calcs!$X$38,Calcs!$W$38,IF(D567=Calcs!$X$39,Calcs!$W$39,IF(D567=Calcs!$X$40,Calcs!$W$40,IF(TRUE,0))))","v":0},566,"TB48-582-20BTG",14,"TRACK BENCH: 4FTx48.5FTx20INxBTG",32,"BOTANICARE TRACK BENCH: 4FT WIDE x 48.5FT LONG x 20IN HIGH, TRILOCK, GUTTER",4,48.5,20]
[{"$f":"IF(B568=0,0,MAX($A$2:A567)+1)","v":0},{"$f":"IF(D568=Calcs!$X$38,Calcs!$W$38,IF(D568=Calcs!$X$39,Calcs!$W$39,IF(D568=Calcs!$X$40,Calcs!$W$40,IF(TRUE,0))))","v":0},567,"TB48-594-20BTG",14,"TRACK BENCH: 4FTx49.5FTx20INxBTG",32,"BOTANICARE TRACK BENCH: 4FT WIDE x 49.5FT LONG x 20IN HIGH, TRILOCK, GUTTER",4,49.5,20]
[{"$f":"IF(B569=0,0,MAX($A$2:A568)+1)","v":0},{"$f":"IF(D569=Calcs!$X$38,Calcs!$W$38,IF(D569=Calcs!$X$39,Calcs!$W$39,IF(D569=Calcs!$X$40,Calcs!$W$40,IF(TRUE,0))))","v":0},568,"TB48-606-20BTG",14,"TRACK BENCH: 4FTx50.5FTx20INxBTG",32,"BOTANICARE TRACK BENCH: 4FT WIDE x 50.5FT LONG x 20IN HIGH, TRILOCK, GUTTER",4,50.5,20]
[{"$f":"IF(B570=0,0,MAX($A$2:A569)+1)","v":0},{"$f":"IF(D570=Calcs!$X$38,Calcs!$W$38,IF(D570=Calcs!$X$39,Calcs!$W$39,IF(D570=Calcs!$X$40,Calcs!$W$40,IF(TRUE,0))))","v":0},569,"TB48-630-20BTG",14,"TRACK BENCH: 4FTx52.5FTx20INxBTG",32,"BOTANICARE TRACK BENCH: 4FT WIDE x 52.5FT LONG x 20IN HIGH, TRILOCK, GUTTER",4,52.5,20]
[{"$f":"IF(B571=0,0,MAX($A$2:A570)+1)","v":0},{"$f":"IF(D571=Calcs!$X$38,Calcs!$W$38,IF(D571=Calcs!$X$39,Calcs!$W$39,IF(D571=Calcs!$X$40,Calcs!$W$40,IF(TRUE,0))))","v":0},570,"TB48-642-20BTG",14,"TRACK BENCH: 4FTx53.5FTx20INxBTG",32,"BOTANICARE TRACK BENCH: 4FT WIDE x 53.5FT LONG x 20IN HIGH, TRILOCK, GUTTER",4,53.5,20]
[{"$f":"IF(B572=0,0,MAX($A$2:A571)+1)","v":0},{"$f":"IF(D572=Calcs!$X$38,Calcs!$W$38,IF(D572=Calcs!$X$39,Calcs!$W$39,IF(D572=Calcs!$X$40,Calcs!$W$40,IF(TRUE,0))))","v":0},571,"TB48-654-20BTG",14,"TRACK BENCH: 4FTx54.5FTx20INxBTG",32,"BOTANICARE TRACK BENCH: 4FT WIDE x 54.5FT LONG x 20IN HIGH, TRILOCK, GUTTER",4,54.5,20]
[{"$f":"IF(B573=0,0,MAX($A$2:A572)+1)","v":0},{"$f":"IF(D573=Calcs!$X$38,Calcs!$W$38,IF(D573=Calcs!$X$39,Calcs!$W$39,IF(D573=Calcs!$X$40,Calcs!$W$40,IF(TRUE,0))))","v":0},572,"TB48-666-20BTG",14,"TRACK BENCH: 4FTx55.5FTx20INxBTG",32,"BOTANICARE TRACK BENCH: 4FT WIDE x 55.5FT LONG x 20IN HIGH, TRILOCK, GUTTER",4,55.5,20]
[{"$f":"IF(B574=0,0,MAX($A$2:A573)+1)","v":0},{"$f":"IF(D574=Calcs!$X$38,Calcs!$W$38,IF(D574=Calcs!$X$39,Calcs!$W$39,IF(D574=Calcs!$X$40,Calcs!$W$40,IF(TRUE,0))))","v":0},573,"TB48-690-20BTG",14,"TRACK BENCH: 4FTx57.5FTx20INxBTG",32,"BOTANICARE TRACK BENCH: 4FT WIDE x 57.5FT LONG x 20IN HIGH, TRILOCK, GUTTER",4,57.5,20]
[{"$f":"IF(B575=0,0,MAX($A$2:A574)+1)","v":0},{"$f":"IF(D575=Calcs!$X$38,Calcs!$W$38,IF(D575=Calcs!$X$39,Calcs!$W$39,IF(D575=Calcs!$X$40,Calcs!$W$40,IF(TRUE,0))))","v":0},574,"TB48-702-20BTG",14,"TRACK BENCH: 4FTx58.5FTx20INxBTG",32,"BOTANICARE TRACK BENCH: 4FT WIDE x 58.5FT LONG x 20IN HIGH, TRILOCK, GUTTER",4,58.5,20]
[{"$f":"IF(B576=0,0,MAX($A$2:A575)+1)","v":0},{"$f":"IF(D576=Calcs!$X$38,Calcs!$W$38,IF(D576=Calcs!$X$39,Calcs!$W$39,IF(D576=Calcs!$X$40,Calcs!$W$40,IF(TRUE,0))))","v":0},575,"TB48-714-20BTG",14,"TRACK BENCH: 4FTx59.5FTx20INxBTG",32,"BOTANICARE TRACK BENCH: 4FT WIDE x 59.5FT LONG x 20IN HIGH, TRILOCK, GUTTER",4,59.5,20]
[{"$f":"IF(B577=0,0,MAX($A$2:A576)+1)","v":0},{"$f":"IF(D577=Calcs!$X$38,Calcs!$W$38,IF(D577=Calcs!$X$39,Calcs!$W$39,IF(D577=Calcs!$X$40,Calcs!$W$40,IF(TRUE,0))))","v":0},576,"TB48-726-20BTG",14,"TRACK BENCH: 4FTx60.5FTx20INxBTG",32,"BOTANICARE TRACK BENCH: 4FT WIDE x 60.5FT LONG x 20IN HIGH, TRILOCK, GUTTER",4,60.5,20]
[{"$f":"IF(B578=0,0,MAX($A$2:A577)+1)","v":0},{"$f":"IF(D578=Calcs!$X$38,Calcs!$W$38,IF(D578=Calcs!$X$39,Calcs!$W$39,IF(D578=Calcs!$X$40,Calcs!$W$40,IF(TRUE,0))))","v":0},577,"TB48-750-20BTG",14,"TRACK BENCH: 4FTx62.5FTx20INxBTG",32,"BOTANICARE TRACK BENCH: 4FT WIDE x 62.5FT LONG x 20IN HIGH, TRILOCK, GUTTER",4,62.5,20]
[{"$f":"IF(B579=0,0,MAX($A$2:A578)+1)","v":0},{"$f":"IF(D579=Calcs!$X$38,Calcs!$W$38,IF(D579=Calcs!$X$39,Calcs!$W$39,IF(D579=Calcs!$X$40,Calcs!$W$40,IF(TRUE,0))))","v":0},578,"TB48-762-20BTG",14,"TRACK BENCH: 4FTx63.5FTx20INxBTG",32,"BOTANICARE TRACK BENCH: 4FT WIDE x 63.5FT LONG x 20IN HIGH, TRILOCK, GUTTER",4,63.5,20]
[{"$f":"IF(B580=0,0,MAX($A$2:A579)+1)","v":0},{"$f":"IF(D580=Calcs!$X$38,Calcs!$W$38,IF(D580=Calcs!$X$39,Calcs!$W$39,IF(D580=Calcs!$X$40,Calcs!$W$40,IF(TRUE,0))))","v":0},579,"TB48-774-20BTG",14,"TRACK BENCH: 4FTx64.5FTx20INxBTG",32,"BOTANICARE TRACK BENCH: 4FT WIDE x 64.5FT LONG x 20IN HIGH, TRILOCK, GUTTER",4,64.5,20]
[{"$f":"IF(B581=0,0,MAX($A$2:A580)+1)","v":0},{"$f":"IF(D581=Calcs!$X$38,Calcs!$W$38,IF(D581=Calcs!$X$39,Calcs!$W$39,IF(D581=Calcs!$X$40,Calcs!$W$40,IF(TRUE,0))))","v":0},580,"TB48-786-20BTG",14,"TRACK BENCH: 4FTx65.5FTx20INxBTG",32,"BOTANICARE TRACK BENCH: 4FT WIDE x 65.5FT LONG x 20IN HIGH, TRILOCK, GUTTER",4,65.5,20]
[{"$f":"IF(B582=0,0,MAX($A$2:A581)+1)","v":0},{"$f":"IF(D582=Calcs!$X$38,Calcs!$W$38,IF(D582=Calcs!$X$39,Calcs!$W$39,IF(D582=Calcs!$X$40,Calcs!$W$40,IF(TRUE,0))))","v":0},581,"TB48-810-20BTG",14,"TRACK BENCH: 4FTx67.5FTx20INxBTG",32,"BOTANICARE TRACK BENCH: 4FT WIDE x 67.5FT LONG x 20IN HIGH, TRILOCK, GUTTER",4,67.5,20]
[{"$f":"IF(B583=0,0,MAX($A$2:A582)+1)","v":0},{"$f":"IF(D583=Calcs!$X$38,Calcs!$W$38,IF(D583=Calcs!$X$39,Calcs!$W$39,IF(D583=Calcs!$X$40,Calcs!$W$40,IF(TRUE,0))))","v":0},582,"TB48-822-20BTG",14,"TRACK BENCH: 4FTx68.5FTx20INxBTG",32,"BOTANICARE TRACK BENCH: 4FT WIDE x 68.5FT LONG x 20IN HIGH, TRILOCK, GUTTER",4,68.5,20]
[{"$f":"IF(B584=0,0,MAX($A$2:A583)+1)","v":0},{"$f":"IF(D584=Calcs!$X$38,Calcs!$W$38,IF(D584=Calcs!$X$39,Calcs!$W$39,IF(D584=Calcs!$X$40,Calcs!$W$40,IF(TRUE,0))))","v":0},583,"TB48-834-20BTG",14,"TRACK BENCH: 4FTx69.5FTx20INxBTG",32,"BOTANICARE TRACK BENCH: 4FT WIDE x 69.5FT LONG x 20IN HIGH, TRILOCK, GUTTER",4,69.5,20]
[{"$f":"IF(B585=0,0,MAX($A$2:A584)+1)","v":0},{"$f":"IF(D585=Calcs!$X$38,Calcs!$W$38,IF(D585=Calcs!$X$39,Calcs!$W$39,IF(D585=Calcs!$X$40,Calcs!$W$40,IF(TRUE,0))))","v":0},584,"TB48-846-20BTG",14,"TRACK BENCH: 4FTx70.5FTx20INxBTG",32,"BOTANICARE TRACK BENCH: 4FT WIDE x 70.5FT LONG x 20IN HIGH, TRILOCK, GUTTER",4,70.5,20]
[{"$f":"IF(B586=0,0,MAX($A$2:A585)+1)","v":0},{"$f":"IF(D586=Calcs!$X$38,Calcs!$W$38,IF(D586=Calcs!$X$39,Calcs!$W$39,IF(D586=Calcs!$X$40,Calcs!$W$40,IF(TRUE,0))))","v":0},585,"TB48-870-20BTG",14,"TRACK BENCH: 4FTx72.5FTx20INxBTG",32,"BOTANICARE TRACK BENCH: 4FT WIDE x 72.5FT LONG x 20IN HIGH, TRILOCK, GUTTER",4,72.5,20]
[{"$f":"IF(B587=0,0,MAX($A$2:A586)+1)","v":0},{"$f":"IF(D587=Calcs!$X$38,Calcs!$W$38,IF(D587=Calcs!$X$39,Calcs!$W$39,IF(D587=Calcs!$X$40,Calcs!$W$40,IF(TRUE,0))))","v":0},586,"TB48-882-20BTG",14,"TRACK BENCH: 4FTx73.5FTx20INxBTG",32,"BOTANICARE TRACK BENCH: 4FT WIDE x 73.5FT LONG x 20IN HIGH, TRILOCK, GUTTER",4,73.5,20]
[{"$f":"IF(B588=0,0,MAX($A$2:A587)+1)","v":0},{"$f":"IF(D588=Calcs!$X$38,Calcs!$W$38,IF(D588=Calcs!$X$39,Calcs!$W$39,IF(D588=Calcs!$X$40,Calcs!$W$40,IF(TRUE,0))))","v":0},587,"TB48-894-20BTG",14,"TRACK BENCH: 4FTx74.5FTx20INxBTG",32,"BOTANICARE TRACK BENCH: 4FT WIDE x 74.5FT LONG x 20IN HIGH, TRILOCK, GUTTER",4,74.5,20]
[{"$f":"IF(B589=0,0,MAX($A$2:A588)+1)","v":0},{"$f":"IF(D589=Calcs!$X$38,Calcs!$W$38,IF(D589=Calcs!$X$39,Calcs!$W$39,IF(D589=Calcs!$X$40,Calcs!$W$40,IF(TRUE,0))))","v":0},588,"TB48-906-20BTG",14,"TRACK BENCH: 4FTx75.5FTx20INxBTG",32,"BOTANICARE TRACK BENCH: 4FT WIDE x 75.5FT LONG x 20IN HIGH, TRILOCK, GUTTER",4,75.5,20]
[{"$f":"IF(B590=0,0,MAX($A$2:A589)+1)","v":0},{"$f":"IF(D590=Calcs!$X$38,Calcs!$W$38,IF(D590=Calcs!$X$39,Calcs!$W$39,IF(D590=Calcs!$X$40,Calcs!$W$40,IF(TRUE,0))))","v":0},589,"TB48-930-20BTG",14,"TRACK BENCH: 4FTx77.5FTx20INxBTG",32,"BOTANICARE TRACK BENCH: 4FT WIDE x 77.5FT LONG x 20IN HIGH, TRILOCK, GUTTER",4,77.5,20]
[{"$f":"IF(B591=0,0,MAX($A$2:A590)+1)","v":0},{"$f":"IF(D591=Calcs!$X$38,Calcs!$W$38,IF(D591=Calcs!$X$39,Calcs!$W$39,IF(D591=Calcs!$X$40,Calcs!$W$40,IF(TRUE,0))))","v":0},590,"TB48-942-20BTG",14,"TRACK BENCH: 4FTx78.5FTx20INxBTG",32,"BOTANICARE TRACK BENCH: 4FT WIDE x 78.5FT LONG x 20IN HIGH, TRILOCK, GUTTER",4,78.5,20]
[{"$f":"IF(B592=0,0,MAX($A$2:A591)+1)","v":0},{"$f":"IF(D592=Calcs!$X$38,Calcs!$W$38,IF(D592=Calcs!$X$39,Calcs!$W$39,IF(D592=Calcs!$X$40,Calcs!$W$40,IF(TRUE,0))))","v":0},591,"TB48-954-20BTG",14,"TRACK BENCH: 4FTx79.5FTx20INxBTG",32,"BOTANICARE TRACK BENCH: 4FT WIDE x 79.5FT LONG x 20IN HIGH, TRILOCK, GUTTER",4,79.5,20]
[{"$f":"IF(B593=0,0,MAX($A$2:A592)+1)","v":0},{"$f":"IF(D593=Calcs!$X$38,Calcs!$W$38,IF(D593=Calcs!$X$39,Calcs!$W$39,IF(D593=Calcs!$X$40,Calcs!$W$40,IF(TRUE,0))))","v":0},592,"TB48-966-20BTG",14,"TRACK BENCH: 4FTx80.5FTx20INxBTG",32,"BOTANICARE TRACK BENCH: 4FT WIDE x 80.5FT LONG x 20IN HIGH, TRILOCK, GUTTER",4,80.5,20]
[{"$f":"IF(B594=0,0,MAX($A$2:A593)+1)","v":0},{"$f":"IF(D594=Calcs!$X$38,Calcs!$W$38,IF(D594=Calcs!$X$39,Calcs!$W$39,IF(D594=Calcs!$X$40,Calcs!$W$40,IF(TRUE,0))))","v":0},593,"TB48-990-20BTG",14,"TRACK BENCH: 4FTx82.5FTx20INxBTG",32,"BOTANICARE TRACK BENCH: 4FT WIDE x 82.5FT LONG x 20IN HIGH, TRILOCK, GUTTER",4,82.5,20]
[{"$f":"IF(B595=0,0,MAX($A$2:A594)+1)","v":0},{"$f":"IF(D595=Calcs!$X$38,Calcs!$W$38,IF(D595=Calcs!$X$39,Calcs!$W$39,IF(D595=Calcs!$X$40,Calcs!$W$40,IF(TRUE,0))))","v":0},594,"TB48-1002-20BTG",15,"TRACK BENCH: 4FTx83.5FTx20INxBTG",32,"BOTANICARE TRACK BENCH: 4FT WIDE x 83.5FT LONG x 20IN HIGH, TRILOCK, GUTTER",4,83.5,20]
[{"$f":"IF(B596=0,0,MAX($A$2:A595)+1)","v":0},{"$f":"IF(D596=Calcs!$X$38,Calcs!$W$38,IF(D596=Calcs!$X$39,Calcs!$W$39,IF(D596=Calcs!$X$40,Calcs!$W$40,IF(TRUE,0))))","v":0},595,"TB48-1014-20BTG",15,"TRACK BENCH: 4FTx84.5FTx20INxBTG",32,"BOTANICARE TRACK BENCH: 4FT WIDE x 84.5FT LONG x 20IN HIGH, TRILOCK, GUTTER",4,84.5,20]
[{"$f":"IF(B597=0,0,MAX($A$2:A596)+1)","v":0},{"$f":"IF(D597=Calcs!$X$38,Calcs!$W$38,IF(D597=Calcs!$X$39,Calcs!$W$39,IF(D597=Calcs!$X$40,Calcs!$W$40,IF(TRUE,0))))","v":0},596,"TB48-1026-20BTG",15,"TRACK BENCH: 4FTx85.5FTx20INxBTG",32,"BOTANICARE TRACK BENCH: 4FT WIDE x 85.5FT LONG x 20IN HIGH, TRILOCK, GUTTER",4,85.5,20]
[{"$f":"IF(B598=0,0,MAX($A$2:A597)+1)","v":0},{"$f":"IF(D598=Calcs!$X$38,Calcs!$W$38,IF(D598=Calcs!$X$39,Calcs!$W$39,IF(D598=Calcs!$X$40,Calcs!$W$40,IF(TRUE,0))))","v":0},597,"TB48-1050-20BTG",15,"TRACK BENCH: 4FTx87.5FTx20INxBTG",32,"BOTANICARE TRACK BENCH: 4FT WIDE x 87.5FT LONG x 20IN HIGH, TRILOCK, GUTTER",4,87.5,20]
[{"$f":"IF(B599=0,0,MAX($A$2:A598)+1)","v":0},{"$f":"IF(D599=Calcs!$X$38,Calcs!$W$38,IF(D599=Calcs!$X$39,Calcs!$W$39,IF(D599=Calcs!$X$40,Calcs!$W$40,IF(TRUE,0))))","v":0},598,"TB48-1062-20BTG",15,"TRACK BENCH: 4FTx88.5FTx20INxBTG",32,"BOTANICARE TRACK BENCH: 4FT WIDE x 88.5FT LONG x 20IN HIGH, TRILOCK, GUTTER",4,88.5,20]
[{"$f":"IF(B600=0,0,MAX($A$2:A599)+1)","v":0},{"$f":"IF(D600=Calcs!$X$38,Calcs!$W$38,IF(D600=Calcs!$X$39,Calcs!$W$39,IF(D600=Calcs!$X$40,Calcs!$W$40,IF(TRUE,0))))","v":0},599,"TB48-1074-20BTG",15,"TRACK BENCH: 4FTx89.5FTx20INxBTG",32,"BOTANICARE TRACK BENCH: 4FT WIDE x 89.5FT LONG x 20IN HIGH, TRILOCK, GUTTER",4,89.5,20]
[{"$f":"IF(B601=0,0,MAX($A$2:A600)+1)","v":0},{"$f":"IF(D601=Calcs!$X$38,Calcs!$W$38,IF(D601=Calcs!$X$39,Calcs!$W$39,IF(D601=Calcs!$X$40,Calcs!$W$40,IF(TRUE,0))))","v":0},600,"TB48-1086-20BTG",15,"TRACK BENCH: 4FTx90.5FTx20INxBTG",32,"BOTANICARE TRACK BENCH: 4FT WIDE x 90.5FT LONG x 20IN HIGH, TRILOCK, GUTTER",4,90.5,20]
[{"$f":"IF(B602=0,0,MAX($A$2:A601)+1)","v":0},{"$f":"IF(D602=Calcs!$X$38,Calcs!$W$38,IF(D602=Calcs!$X$39,Calcs!$W$39,IF(D602=Calcs!$X$40,Calcs!$W$40,IF(TRUE,0))))","v":0},601,"TB48-1110-20BTG",15,"TRACK BENCH: 4FTx92.5FTx20INxBTG",32,"BOTANICARE TRACK BENCH: 4FT WIDE x 92.5FT LONG x 20IN HIGH, TRILOCK, GUTTER",4,92.5,20]
[{"$f":"IF(B603=0,0,MAX($A$2:A602)+1)","v":0},{"$f":"IF(D603=Calcs!$X$38,Calcs!$W$38,IF(D603=Calcs!$X$39,Calcs!$W$39,IF(D603=Calcs!$X$40,Calcs!$W$40,IF(TRUE,0))))","v":0},602,"TB48-1122-20BTG",15,"TRACK BENCH: 4FTx93.5FTx20INxBTG",32,"BOTANICARE TRACK BENCH: 4FT WIDE x 93.5FT LONG x 20IN HIGH, TRILOCK, GUTTER",4,93.5,20]
[{"$f":"IF(B604=0,0,MAX($A$2:A603)+1)","v":0},{"$f":"IF(D604=Calcs!$X$38,Calcs!$W$38,IF(D604=Calcs!$X$39,Calcs!$W$39,IF(D604=Calcs!$X$40,Calcs!$W$40,IF(TRUE,0))))","v":0},603,"TB48-1134-20BTG",15,"TRACK BENCH: 4FTx94.5FTx20INxBTG",32,"BOTANICARE TRACK BENCH: 4FT WIDE x 94.5FT LONG x 20IN HIGH, TRILOCK, GUTTER",4,94.5,20]
[{"$f":"IF(B605=0,0,MAX($A$2:A604)+1)","v":0},{"$f":"IF(D605=Calcs!$X$38,Calcs!$W$38,IF(D605=Calcs!$X$39,Calcs!$W$39,IF(D605=Calcs!$X$40,Calcs!$W$40,IF(TRUE,0))))","v":0},604,"TB48-1146-20BTG",15,"TRACK BENCH: 4FTx95.5FTx20INxBTG",32,"BOTANICARE TRACK BENCH: 4FT WIDE x 95.5FT LONG x 20IN HIGH, TRILOCK, GUTTER",4,95.5,20]
[{"$f":"IF(B606=0,0,MAX($A$2:A605)+1)","v":0},{"$f":"IF(D606=Calcs!$X$38,Calcs!$W$38,IF(D606=Calcs!$X$39,Calcs!$W$39,IF(D606=Calcs!$X$40,Calcs!$W$40,IF(TRUE,0))))","v":0},605,"TB48-1170-20BTG",15,"TRACK BENCH: 4FTx97.5FTx20INxBTG",32,"BOTANICARE TRACK BENCH: 4FT WIDE x 97.5FT LONG x 20IN HIGH, TRILOCK, GUTTER",4,97.5,20]
[{"$f":"IF(B607=0,0,MAX($A$2:A606)+1)","v":0},{"$f":"IF(D607=Calcs!$X$38,Calcs!$W$38,IF(D607=Calcs!$X$39,Calcs!$W$39,IF(D607=Calcs!$X$40,Calcs!$W$40,IF(TRUE,0))))","v":0},606,"TB48-1182-20BTG",15,"TRACK BENCH: 4FTx98.5FTx20INxBTG",32,"BOTANICARE TRACK BENCH: 4FT WIDE x 98.5FT LONG x 20IN HIGH, TRILOCK, GUTTER",4,98.5,20]
[{"$f":"IF(B608=0,0,MAX($A$2:A607)+1)","v":0},{"$f":"IF(D608=Calcs!$X$38,Calcs!$W$38,IF(D608=Calcs!$X$39,Calcs!$W$39,IF(D608=Calcs!$X$40,Calcs!$W$40,IF(TRUE,0))))","v":0},607,"TB48-1194-20BTG",15,"TRACK BENCH: 4FTx99.5FTx20INxBTG",32,"BOTANICARE TRACK BENCH: 4FT WIDE x 99.5FT LONG x 20IN HIGH, TRILOCK, GUTTER",4,99.5,20]
[{"$f":"IF(B609=0,0,MAX($A$2:A608)+1)","v":0},{"$f":"IF(D609=Calcs!$X$38,Calcs!$W$38,IF(D609=Calcs!$X$39,Calcs!$W$39,IF(D609=Calcs!$X$40,Calcs!$W$40,IF(TRUE,0))))","v":0},608,"TB48-1206-20BTG",15,"TRACK BENCH: 4FTx100.5FTx20INxBTG",33,"BOTANICARE TRACK BENCH: 4FT WIDE x 100.5FT LONG x 20IN HIGH, TRILOCK, GUTTER",4,100.5,20]
[{"$f":"IF(B610=0,0,MAX($A$2:A609)+1)","v":0},{"$f":"IF(D610=Calcs!$X$38,Calcs!$W$38,IF(D610=Calcs!$X$39,Calcs!$W$39,IF(D610=Calcs!$X$40,Calcs!$W$40,IF(TRUE,0))))","v":0},609,"TB48-90-30BTG",13,"TRACK BENCH: 4FTx7.5FTx30INxBTG",31,"BOTANICARE TRACK BENCH: 4FT WIDE x 7.5FT LONG x 30IN HIGH, TRILOCK, GUTTER",4,7.5,30]
[{"$f":"IF(B611=0,0,MAX($A$2:A610)+1)","v":0},{"$f":"IF(D611=Calcs!$X$38,Calcs!$W$38,IF(D611=Calcs!$X$39,Calcs!$W$39,IF(D611=Calcs!$X$40,Calcs!$W$40,IF(TRUE,0))))","v":0},610,"TB48-102-30BTG",14,"TRACK BENCH: 4FTx8.5FTx30INxBTG",31,"BOTANICARE TRACK BENCH: 4FT WIDE x 8.5FT LONG x 30IN HIGH, TRILOCK, GUTTER",4,8.5,30]
[{"$f":"IF(B612=0,0,MAX($A$2:A611)+1)","v":0},{"$f":"IF(D612=Calcs!$X$38,Calcs!$W$38,IF(D612=Calcs!$X$39,Calcs!$W$39,IF(D612=Calcs!$X$40,Calcs!$W$40,IF(TRUE,0))))","v":0},611,"TB48-114-30BTG",14,"TRACK BENCH: 4FTx9.5FTx30INxBTG",31,"BOTANICARE TRACK BENCH: 4FT WIDE x 9.5FT LONG x 30IN HIGH, TRILOCK, GUTTER",4,9.5,30]
[{"$f":"IF(B613=0,0,MAX($A$2:A612)+1)","v":0},{"$f":"IF(D613=Calcs!$X$38,Calcs!$W$38,IF(D613=Calcs!$X$39,Calcs!$W$39,IF(D613=Calcs!$X$40,Calcs!$W$40,IF(TRUE,0))))","v":0},612,"TB48-126-30BTG",14,"TRACK BENCH: 4FTx10.5FTx30INxBTG",32,"BOTANICARE TRACK BENCH: 4FT WIDE x 10.5FT LONG x 30IN HIGH, TRILOCK, GUTTER",4,10.5,30]
[{"$f":"IF(B614=0,0,MAX($A$2:A613)+1)","v":0},{"$f":"IF(D614=Calcs!$X$38,Calcs!$W$38,IF(D614=Calcs!$X$39,Calcs!$W$39,IF(D614=Calcs!$X$40,Calcs!$W$40,IF(TRUE,0))))","v":0},613,"TB48-150-30BTG",14,"TRACK BENCH: 4FTx12.5FTx30INxBTG",32,"BOTANICARE TRACK BENCH: 4FT WIDE x 12.5FT LONG x 30IN HIGH, TRILOCK, GUTTER",4,12.5,30]
[{"$f":"IF(B615=0,0,MAX($A$2:A614)+1)","v":0},{"$f":"IF(D615=Calcs!$X$38,Calcs!$W$38,IF(D615=Calcs!$X$39,Calcs!$W$39,IF(D615=Calcs!$X$40,Calcs!$W$40,IF(TRUE,0))))","v":0},614,"TB48-162-30BTG",14,"TRACK BENCH: 4FTx13.5FTx30INxBTG",32,"BOTANICARE TRACK BENCH: 4FT WIDE x 13.5FT LONG x 30IN HIGH, TRILOCK, GUTTER",4,13.5,30]
[{"$f":"IF(B616=0,0,MAX($A$2:A615)+1)","v":0},{"$f":"IF(D616=Calcs!$X$38,Calcs!$W$38,IF(D616=Calcs!$X$39,Calcs!$W$39,IF(D616=Calcs!$X$40,Calcs!$W$40,IF(TRUE,0))))","v":0},615,"TB48-174-30BTG",14,"TRACK BENCH: 4FTx14.5FTx30INxBTG",32,"BOTANICARE TRACK BENCH: 4FT WIDE x 14.5FT LONG x 30IN HIGH, TRILOCK, GUTTER",4,14.5,30]
[{"$f":"IF(B617=0,0,MAX($A$2:A616)+1)","v":0},{"$f":"IF(D617=Calcs!$X$38,Calcs!$W$38,IF(D617=Calcs!$X$39,Calcs!$W$39,IF(D617=Calcs!$X$40,Calcs!$W$40,IF(TRUE,0))))","v":0},616,"TB48-186-30BTG",14,"TRACK BENCH: 4FTx15.5FTx30INxBTG",32,"BOTANICARE TRACK BENCH: 4FT WIDE x 15.5FT LONG x 30IN HIGH, TRILOCK, GUTTER",4,15.5,30]
[{"$f":"IF(B618=0,0,MAX($A$2:A617)+1)","v":0},{"$f":"IF(D618=Calcs!$X$38,Calcs!$W$38,IF(D618=Calcs!$X$39,Calcs!$W$39,IF(D618=Calcs!$X$40,Calcs!$W$40,IF(TRUE,0))))","v":0},617,"TB48-210-30BTG",14,"TRACK BENCH: 4FTx17.5FTx30INxBTG",32,"BOTANICARE TRACK BENCH: 4FT WIDE x 17.5FT LONG x 30IN HIGH, TRILOCK, GUTTER",4,17.5,30]
[{"$f":"IF(B619=0,0,MAX($A$2:A618)+1)","v":0},{"$f":"IF(D619=Calcs!$X$38,Calcs!$W$38,IF(D619=Calcs!$X$39,Calcs!$W$39,IF(D619=Calcs!$X$40,Calcs!$W$40,IF(TRUE,0))))","v":0},618,"TB48-222-30BTG",14,"TRACK BENCH: 4FTx18.5FTx30INxBTG",32,"BOTANICARE TRACK BENCH: 4FT WIDE x 18.5FT LONG x 30IN HIGH, TRILOCK, GUTTER",4,18.5,30]
[{"$f":"IF(B620=0,0,MAX($A$2:A619)+1)","v":0},{"$f":"IF(D620=Calcs!$X$38,Calcs!$W$38,IF(D620=Calcs!$X$39,Calcs!$W$39,IF(D620=Calcs!$X$40,Calcs!$W$40,IF(TRUE,0))))","v":0},619,"TB48-234-30BTG",14,"TRACK BENCH: 4FTx19.5FTx30INxBTG",32,"BOTANICARE TRACK BENCH: 4FT WIDE x 19.5FT LONG x 30IN HIGH, TRILOCK, GUTTER",4,19.5,30]
[{"$f":"IF(B621=0,0,MAX($A$2:A620)+1)","v":0},{"$f":"IF(D621=Calcs!$X$38,Calcs!$W$38,IF(D621=Calcs!$X$39,Calcs!$W$39,IF(D621=Calcs!$X$40,Calcs!$W$40,IF(TRUE,0))))","v":0},620,"TB48-246-30BTG",14,"TRACK BENCH: 4FTx20.5FTx30INxBTG",32,"BOTANICARE TRACK BENCH: 4FT WIDE x 20.5FT LONG x 30IN HIGH, TRILOCK, GUTTER",4,20.5,30]
[{"$f":"IF(B622=0,0,MAX($A$2:A621)+1)","v":0},{"$f":"IF(D622=Calcs!$X$38,Calcs!$W$38,IF(D622=Calcs!$X$39,Calcs!$W$39,IF(D622=Calcs!$X$40,Calcs!$W$40,IF(TRUE,0))))","v":0},621,"TB48-270-30BTG",14,"TRACK BENCH: 4FTx22.5FTx30INxBTG",32,"BOTANICARE TRACK BENCH: 4FT WIDE x 22.5FT LONG x 30IN HIGH, TRILOCK, GUTTER",4,22.5,30]
[{"$f":"IF(B623=0,0,MAX($A$2:A622)+1)","v":0},{"$f":"IF(D623=Calcs!$X$38,Calcs!$W$38,IF(D623=Calcs!$X$39,Calcs!$W$39,IF(D623=Calcs!$X$40,Calcs!$W$40,IF(TRUE,0))))","v":0},622,"TB48-282-30BTG",14,"TRACK BENCH: 4FTx23.5FTx30INxBTG",32,"BOTANICARE TRACK BENCH: 4FT WIDE x 23.5FT LONG x 30IN HIGH, TRILOCK, GUTTER",4,23.5,30]
[{"$f":"IF(B624=0,0,MAX($A$2:A623)+1)","v":0},{"$f":"IF(D624=Calcs!$X$38,Calcs!$W$38,IF(D624=Calcs!$X$39,Calcs!$W$39,IF(D624=Calcs!$X$40,Calcs!$W$40,IF(TRUE,0))))","v":0},623,"TB48-294-30BTG",14,"TRACK BENCH: 4FTx24.5FTx30INxBTG",32,"BOTANICARE TRACK BENCH: 4FT WIDE x 24.5FT LONG x 30IN HIGH, TRILOCK, GUTTER",4,24.5,30]
[{"$f":"IF(B625=0,0,MAX($A$2:A624)+1)","v":0},{"$f":"IF(D625=Calcs!$X$38,Calcs!$W$38,IF(D625=Calcs!$X$39,Calcs!$W$39,IF(D625=Calcs!$X$40,Calcs!$W$40,IF(TRUE,0))))","v":0},624,"TB48-306-30BTG",14,"TRACK BENCH: 4FTx25.5FTx30INxBTG",32,"BOTANICARE TRACK BENCH: 4FT WIDE x 25.5FT LONG x 30IN HIGH, TRILOCK, GUTTER",4,25.5,30]
[{"$f":"IF(B626=0,0,MAX($A$2:A625)+1)","v":0},{"$f":"IF(D626=Calcs!$X$38,Calcs!$W$38,IF(D626=Calcs!$X$39,Calcs!$W$39,IF(D626=Calcs!$X$40,Calcs!$W$40,IF(TRUE,0))))","v":0},625,"TB48-330-30BTG",14,"TRACK BENCH: 4FTx27.5FTx30INxBTG",32,"BOTANICARE TRACK BENCH: 4FT WIDE x 27.5FT LONG x 30IN HIGH, TRILOCK, GUTTER",4,27.5,30]
[{"$f":"IF(B627=0,0,MAX($A$2:A626)+1)","v":0},{"$f":"IF(D627=Calcs!$X$38,Calcs!$W$38,IF(D627=Calcs!$X$39,Calcs!$W$39,IF(D627=Calcs!$X$40,Calcs!$W$40,IF(TRUE,0))))","v":0},626,"TB48-342-30BTG",14,"TRACK BENCH: 4FTx28.5FTx30INxBTG",32,"BOTANICARE TRACK BENCH: 4FT WIDE x 28.5FT LONG x 30IN HIGH, TRILOCK, GUTTER",4,28.5,30]
[{"$f":"IF(B628=0,0,MAX($A$2:A627)+1)","v":0},{"$f":"IF(D628=Calcs!$X$38,Calcs!$W$38,IF(D628=Calcs!$X$39,Calcs!$W$39,IF(D628=Calcs!$X$40,Calcs!$W$40,IF(TRUE,0))))","v":0},627,"TB48-354-30BTG",14,"TRACK BENCH: 4FTx29.5FTx30INxBTG",32,"BOTANICARE TRACK BENCH: 4FT WIDE x 29.5FT LONG x 30IN HIGH, TRILOCK, GUTTER",4,29.5,30]
[{"$f":"IF(B629=0,0,MAX($A$2:A628)+1)","v":0},{"$f":"IF(D629=Calcs!$X$38,Calcs!$W$38,IF(D629=Calcs!$X$39,Calcs!$W$39,IF(D629=Calcs!$X$40,Calcs!$W$40,IF(TRUE,0))))","v":0},628,"TB48-366-30BTG",14,"TRACK BENCH: 4FTx30.5FTx30INxBTG",32,"BOTANICARE TRACK BENCH: 4FT WIDE x 30.5FT LONG x 30IN HIGH, TRILOCK, GUTTER",4,30.5,30]
[{"$f":"IF(B630=0,0,MAX($A$2:A629)+1)","v":0},{"$f":"IF(D630=Calcs!$X$38,Calcs!$W$38,IF(D630=Calcs!$X$39,Calcs!$W$39,IF(D630=Calcs!$X$40,Calcs!$W$40,IF(TRUE,0))))","v":0},629,"TB48-390-30BTG",14,"TRACK BENCH: 4FTx32.5FTx30INxBTG",32,"BOTANICARE TRACK BENCH: 4FT WIDE x 32.5FT LONG x 30IN HIGH, TRILOCK, GUTTER",4,32.5,30]
[{"$f":"IF(B631=0,0,MAX($A$2:A630)+1)","v":0},{"$f":"IF(D631=Calcs!$X$38,Calcs!$W$38,IF(D631=Calcs!$X$39,Calcs!$W$39,IF(D631=Calcs!$X$40,Calcs!$W$40,IF(TRUE,0))))","v":0},630,"TB48-402-30BTG",14,"TRACK BENCH: 4FTx33.5FTx30INxBTG",32,"BOTANICARE TRACK BENCH: 4FT WIDE x 33.5FT LONG x 30IN HIGH, TRILOCK, GUTTER",4,33.5,30]
[{"$f":"IF(B632=0,0,MAX($A$2:A631)+1)","v":0},{"$f":"IF(D632=Calcs!$X$38,Calcs!$W$38,IF(D632=Calcs!$X$39,Calcs!$W$39,IF(D632=Calcs!$X$40,Calcs!$W$40,IF(TRUE,0))))","v":0},631,"TB48-414-30BTG",14,"TRACK BENCH: 4FTx34.5FTx30INxBTG",32,"BOTANICARE TRACK BENCH: 4FT WIDE x 34.5FT LONG x 30IN HIGH, TRILOCK, GUTTER",4,34.5,30]
[{"$f":"IF(B633=0,0,MAX($A$2:A632)+1)","v":0},{"$f":"IF(D633=Calcs!$X$38,Calcs!$W$38,IF(D633=Calcs!$X$39,Calcs!$W$39,IF(D633=Calcs!$X$40,Calcs!$W$40,IF(TRUE,0))))","v":0},632,"TB48-426-30BTG",14,"TRACK BENCH: 4FTx35.5FTx30INxBTG",32,"BOTANICARE TRACK BENCH: 4FT WIDE x 35.5FT LONG x 30IN HIGH, TRILOCK, GUTTER",4,35.5,30]
[{"$f":"IF(B634=0,0,MAX($A$2:A633)+1)","v":0},{"$f":"IF(D634=Calcs!$X$38,Calcs!$W$38,IF(D634=Calcs!$X$39,Calcs!$W$39,IF(D634=Calcs!$X$40,Calcs!$W$40,IF(TRUE,0))))","v":0},633,"TB48-450-30BTG",14,"TRACK BENCH: 4FTx37.5FTx30INxBTG",32,"BOTANICARE TRACK BENCH: 4FT WIDE x 37.5FT LONG x 30IN HIGH, TRILOCK, GUTTER",4,37.5,30]
[{"$f":"IF(B635=0,0,MAX($A$2:A634)+1)","v":0},{"$f":"IF(D635=Calcs!$X$38,Calcs!$W$38,IF(D635=Calcs!$X$39,Calcs!$W$39,IF(D635=Calcs!$X$40,Calcs!$W$40,IF(TRUE,0))))","v":0},634,"TB48-462-30BTG",14,"TRACK BENCH: 4FTx38.5FTx30INxBTG",32,"BOTANICARE TRACK BENCH: 4FT WIDE x 38.5FT LONG x 30IN HIGH, TRILOCK, GUTTER",4,38.5,30]
[{"$f":"IF(B636=0,0,MAX($A$2:A635)+1)","v":0},{"$f":"IF(D636=Calcs!$X$38,Calcs!$W$38,IF(D636=Calcs!$X$39,Calcs!$W$39,IF(D636=Calcs!$X$40,Calcs!$W$40,IF(TRUE,0))))","v":0},635,"TB48-474-30BTG",14,"TRACK BENCH: 4FTx39.5FTx30INxBTG",32,"BOTANICARE TRACK BENCH: 4FT WIDE x 39.5FT LONG x 30IN HIGH, TRILOCK, GUTTER",4,39.5,30]
[{"$f":"IF(B637=0,0,MAX($A$2:A636)+1)","v":0},{"$f":"IF(D637=Calcs!$X$38,Calcs!$W$38,IF(D637=Calcs!$X$39,Calcs!$W$39,IF(D637=Calcs!$X$40,Calcs!$W$40,IF(TRUE,0))))","v":0},636,"TB48-486-30BTG",14,"TRACK BENCH: 4FTx40.5FTx30INxBTG",32,"BOTANICARE TRACK BENCH: 4FT WIDE x 40.5FT LONG x 30IN HIGH, TRILOCK, GUTTER",4,40.5,30]
[{"$f":"IF(B638=0,0,MAX($A$2:A637)+1)","v":0},{"$f":"IF(D638=Calcs!$X$38,Calcs!$W$38,IF(D638=Calcs!$X$39,Calcs!$W$39,IF(D638=Calcs!$X$40,Calcs!$W$40,IF(TRUE,0))))","v":0},637,"TB48-510-30BTG",14,"TRACK BENCH: 4FTx42.5FTx30INxBTG",32,"BOTANICARE TRACK BENCH: 4FT WIDE x 42.5FT LONG x 30IN HIGH, TRILOCK, GUTTER",4,42.5,30]
[{"$f":"IF(B639=0,0,MAX($A$2:A638)+1)","v":0},{"$f":"IF(D639=Calcs!$X$38,Calcs!$W$38,IF(D639=Calcs!$X$39,Calcs!$W$39,IF(D639=Calcs!$X$40,Calcs!$W$40,IF(TRUE,0))))","v":0},638,"TB48-522-30BTG",14,"TRACK BENCH: 4FTx43.5FTx30INxBTG",32,"BOTANICARE TRACK BENCH: 4FT WIDE x 43.5FT LONG x 30IN HIGH, TRILOCK, GUTTER",4,43.5,30]
[{"$f":"IF(B640=0,0,MAX($A$2:A639)+1)","v":0},{"$f":"IF(D640=Calcs!$X$38,Calcs!$W$38,IF(D640=Calcs!$X$39,Calcs!$W$39,IF(D640=Calcs!$X$40,Calcs!$W$40,IF(TRUE,0))))","v":0},639,"TB48-534-30BTG",14,"TRACK BENCH: 4FTx44.5FTx30INxBTG",32,"BOTANICARE TRACK BENCH: 4FT WIDE x 44.5FT LONG x 30IN HIGH, TRILOCK, GUTTER",4,44.5,30]
[{"$f":"IF(B641=0,0,MAX($A$2:A640)+1)","v":0},{"$f":"IF(D641=Calcs!$X$38,Calcs!$W$38,IF(D641=Calcs!$X$39,Calcs!$W$39,IF(D641=Calcs!$X$40,Calcs!$W$40,IF(TRUE,0))))","v":0},640,"TB48-546-30BTG",14,"TRACK BENCH: 4FTx45.5FTx30INxBTG",32,"BOTANICARE TRACK BENCH: 4FT WIDE x 45.5FT LONG x 30IN HIGH, TRILOCK, GUTTER",4,45.5,30]
[{"$f":"IF(B642=0,0,MAX($A$2:A641)+1)","v":0},{"$f":"IF(D642=Calcs!$X$38,Calcs!$W$38,IF(D642=Calcs!$X$39,Calcs!$W$39,IF(D642=Calcs!$X$40,Calcs!$W$40,IF(TRUE,0))))","v":0},641,"TB48-570-30BTG",14,"TRACK BENCH: 4FTx47.5FTx30INxBTG",32,"BOTANICARE TRACK BENCH: 4FT WIDE x 47.5FT LONG x 30IN HIGH, TRILOCK, GUTTER",4,47.5,30]
[{"$f":"IF(B643=0,0,MAX($A$2:A642)+1)","v":0},{"$f":"IF(D643=Calcs!$X$38,Calcs!$W$38,IF(D643=Calcs!$X$39,Calcs!$W$39,IF(D643=Calcs!$X$40,Calcs!$W$40,IF(TRUE,0))))","v":0},642,"TB48-582-30BTG",14,"TRACK BENCH: 4FTx48.5FTx30INxBTG",32,"BOTANICARE TRACK BENCH: 4FT WIDE x 48.5FT LONG x 30IN HIGH, TRILOCK, GUTTER",4,48.5,30]
[{"$f":"IF(B644=0,0,MAX($A$2:A643)+1)","v":0},{"$f":"IF(D644=Calcs!$X$38,Calcs!$W$38,IF(D644=Calcs!$X$39,Calcs!$W$39,IF(D644=Calcs!$X$40,Calcs!$W$40,IF(TRUE,0))))","v":0},643,"TB48-594-30BTG",14,"TRACK BENCH: 4FTx49.5FTx30INxBTG",32,"BOTANICARE TRACK BENCH: 4FT WIDE x 49.5FT LONG x 30IN HIGH, TRILOCK, GUTTER",4,49.5,30]
[{"$f":"IF(B645=0,0,MAX($A$2:A644)+1)","v":0},{"$f":"IF(D645=Calcs!$X$38,Calcs!$W$38,IF(D645=Calcs!$X$39,Calcs!$W$39,IF(D645=Calcs!$X$40,Calcs!$W$40,IF(TRUE,0))))","v":0},644,"TB48-606-30BTG",14,"TRACK BENCH: 4FTx50.5FTx30INxBTG",32,"BOTANICARE TRACK BENCH: 4FT WIDE x 50.5FT LONG x 30IN HIGH, TRILOCK, GUTTER",4,50.5,30]
[{"$f":"IF(B646=0,0,MAX($A$2:A645)+1)","v":0},{"$f":"IF(D646=Calcs!$X$38,Calcs!$W$38,IF(D646=Calcs!$X$39,Calcs!$W$39,IF(D646=Calcs!$X$40,Calcs!$W$40,IF(TRUE,0))))","v":0},645,"TB48-630-30BTG",14,"TRACK BENCH: 4FTx52.5FTx30INxBTG",32,"BOTANICARE TRACK BENCH: 4FT WIDE x 52.5FT LONG x 30IN HIGH, TRILOCK, GUTTER",4,52.5,30]
[{"$f":"IF(B647=0,0,MAX($A$2:A646)+1)","v":0},{"$f":"IF(D647=Calcs!$X$38,Calcs!$W$38,IF(D647=Calcs!$X$39,Calcs!$W$39,IF(D647=Calcs!$X$40,Calcs!$W$40,IF(TRUE,0))))","v":0},646,"TB48-642-30BTG",14,"TRACK BENCH: 4FTx53.5FTx30INxBTG",32,"BOTANICARE TRACK BENCH: 4FT WIDE x 53.5FT LONG x 30IN HIGH, TRILOCK, GUTTER",4,53.5,30]
[{"$f":"IF(B648=0,0,MAX($A$2:A647)+1)","v":0},{"$f":"IF(D648=Calcs!$X$38,Calcs!$W$38,IF(D648=Calcs!$X$39,Calcs!$W$39,IF(D648=Calcs!$X$40,Calcs!$W$40,IF(TRUE,0))))","v":0},647,"TB48-654-30BTG",14,"TRACK BENCH: 4FTx54.5FTx30INxBTG",32,"BOTANICARE TRACK BENCH: 4FT WIDE x 54.5FT LONG x 30IN HIGH, TRILOCK, GUTTER",4,54.5,30]
[{"$f":"IF(B649=0,0,MAX($A$2:A648)+1)","v":0},{"$f":"IF(D649=Calcs!$X$38,Calcs!$W$38,IF(D649=Calcs!$X$39,Calcs!$W$39,IF(D649=Calcs!$X$40,Calcs!$W$40,IF(TRUE,0))))","v":0},648,"TB48-666-30BTG",14,"TRACK BENCH: 4FTx55.5FTx30INxBTG",32,"BOTANICARE TRACK BENCH: 4FT WIDE x 55.5FT LONG x 30IN HIGH, TRILOCK, GUTTER",4,55.5,30]
[{"$f":"IF(B650=0,0,MAX($A$2:A649)+1)","v":0},{"$f":"IF(D650=Calcs!$X$38,Calcs!$W$38,IF(D650=Calcs!$X$39,Calcs!$W$39,IF(D650=Calcs!$X$40,Calcs!$W$40,IF(TRUE,0))))","v":0},649,"TB48-690-30BTG",14,"TRACK BENCH: 4FTx57.5FTx30INxBTG",32,"BOTANICARE TRACK BENCH: 4FT WIDE x 57.5FT LONG x 30IN HIGH, TRILOCK, GUTTER",4,57.5,30]
[{"$f":"IF(B651=0,0,MAX($A$2:A650)+1)","v":0},{"$f":"IF(D651=Calcs!$X$38,Calcs!$W$38,IF(D651=Calcs!$X$39,Calcs!$W$39,IF(D651=Calcs!$X$40,Calcs!$W$40,IF(TRUE,0))))","v":0},650,"TB48-702-30BTG",14,"TRACK BENCH: 4FTx58.5FTx30INxBTG",32,"BOTANICARE TRACK BENCH: 4FT WIDE x 58.5FT LONG x 30IN HIGH, TRILOCK, GUTTER",4,58.5,30]
[{"$f":"IF(B652=0,0,MAX($A$2:A651)+1)","v":0},{"$f":"IF(D652=Calcs!$X$38,Calcs!$W$38,IF(D652=Calcs!$X$39,Calcs!$W$39,IF(D652=Calcs!$X$40,Calcs!$W$40,IF(TRUE,0))))","v":0},651,"TB48-714-30BTG",14,"TRACK BENCH: 4FTx59.5FTx30INxBTG",32,"BOTANICARE TRACK BENCH: 4FT WIDE x 59.5FT LONG x 30IN HIGH, TRILOCK, GUTTER",4,59.5,30]
[{"$f":"IF(B653=0,0,MAX($A$2:A652)+1)","v":0},{"$f":"IF(D653=Calcs!$X$38,Calcs!$W$38,IF(D653=Calcs!$X$39,Calcs!$W$39,IF(D653=Calcs!$X$40,Calcs!$W$40,IF(TRUE,0))))","v":0},652,"TB48-726-30BTG",14,"TRACK BENCH: 4FTx60.5FTx30INxBTG",32,"BOTANICARE TRACK BENCH: 4FT WIDE x 60.5FT LONG x 30IN HIGH, TRILOCK, GUTTER",4,60.5,30]
[{"$f":"IF(B654=0,0,MAX($A$2:A653)+1)","v":0},{"$f":"IF(D654=Calcs!$X$38,Calcs!$W$38,IF(D654=Calcs!$X$39,Calcs!$W$39,IF(D654=Calcs!$X$40,Calcs!$W$40,IF(TRUE,0))))","v":0},653,"TB48-750-30BTG",14,"TRACK BENCH: 4FTx62.5FTx30INxBTG",32,"BOTANICARE TRACK BENCH: 4FT WIDE x 62.5FT LONG x 30IN HIGH, TRILOCK, GUTTER",4,62.5,30]
[{"$f":"IF(B655=0,0,MAX($A$2:A654)+1)","v":0},{"$f":"IF(D655=Calcs!$X$38,Calcs!$W$38,IF(D655=Calcs!$X$39,Calcs!$W$39,IF(D655=Calcs!$X$40,Calcs!$W$40,IF(TRUE,0))))","v":0},654,"TB48-762-30BTG",14,"TRACK BENCH: 4FTx63.5FTx30INxBTG",32,"BOTANICARE TRACK BENCH: 4FT WIDE x 63.5FT LONG x 30IN HIGH, TRILOCK, GUTTER",4,63.5,30]
[{"$f":"IF(B656=0,0,MAX($A$2:A655)+1)","v":0},{"$f":"IF(D656=Calcs!$X$38,Calcs!$W$38,IF(D656=Calcs!$X$39,Calcs!$W$39,IF(D656=Calcs!$X$40,Calcs!$W$40,IF(TRUE,0))))","v":0},655,"TB48-774-30BTG",14,"TRACK BENCH: 4FTx64.5FTx30INxBTG",32,"BOTANICARE TRACK BENCH: 4FT WIDE x 64.5FT LONG x 30IN HIGH, TRILOCK, GUTTER",4,64.5,30]
[{"$f":"IF(B657=0,0,MAX($A$2:A656)+1)","v":0},{"$f":"IF(D657=Calcs!$X$38,Calcs!$W$38,IF(D657=Calcs!$X$39,Calcs!$W$39,IF(D657=Calcs!$X$40,Calcs!$W$40,IF(TRUE,0))))","v":0},656,"TB48-786-30BTG",14,"TRACK BENCH: 4FTx65.5FTx30INxBTG",32,"BOTANICARE TRACK BENCH: 4FT WIDE x 65.5FT LONG x 30IN HIGH, TRILOCK, GUTTER",4,65.5,30]
[{"$f":"IF(B658=0,0,MAX($A$2:A657)+1)","v":0},{"$f":"IF(D658=Calcs!$X$38,Calcs!$W$38,IF(D658=Calcs!$X$39,Calcs!$W$39,IF(D658=Calcs!$X$40,Calcs!$W$40,IF(TRUE,0))))","v":0},657,"TB48-810-30BTG",14,"TRACK BENCH: 4FTx67.5FTx30INxBTG",32,"BOTANICARE TRACK BENCH: 4FT WIDE x 67.5FT LONG x 30IN HIGH, TRILOCK, GUTTER",4,67.5,30]
[{"$f":"IF(B659=0,0,MAX($A$2:A658)+1)","v":0},{"$f":"IF(D659=Calcs!$X$38,Calcs!$W$38,IF(D659=Calcs!$X$39,Calcs!$W$39,IF(D659=Calcs!$X$40,Calcs!$W$40,IF(TRUE,0))))","v":0},658,"TB48-822-30BTG",14,"TRACK BENCH: 4FTx68.5FTx30INxBTG",32,"BOTANICARE TRACK BENCH: 4FT WIDE x 68.5FT LONG x 30IN HIGH, TRILOCK, GUTTER",4,68.5,30]
[{"$f":"IF(B660=0,0,MAX($A$2:A659)+1)","v":0},{"$f":"IF(D660=Calcs!$X$38,Calcs!$W$38,IF(D660=Calcs!$X$39,Calcs!$W$39,IF(D660=Calcs!$X$40,Calcs!$W$40,IF(TRUE,0))))","v":0},659,"TB48-834-30BTG",14,"TRACK BENCH: 4FTx69.5FTx30INxBTG",32,"BOTANICARE TRACK BENCH: 4FT WIDE x 69.5FT LONG x 30IN HIGH, TRILOCK, GUTTER",4,69.5,30]
[{"$f":"IF(B661=0,0,MAX($A$2:A660)+1)","v":0},{"$f":"IF(D661=Calcs!$X$38,Calcs!$W$38,IF(D661=Calcs!$X$39,Calcs!$W$39,IF(D661=Calcs!$X$40,Calcs!$W$40,IF(TRUE,0))))","v":0},660,"TB48-846-30BTG",14,"TRACK BENCH: 4FTx70.5FTx30INxBTG",32,"BOTANICARE TRACK BENCH: 4FT WIDE x 70.5FT LONG x 30IN HIGH, TRILOCK, GUTTER",4,70.5,30]
[{"$f":"IF(B662=0,0,MAX($A$2:A661)+1)","v":0},{"$f":"IF(D662=Calcs!$X$38,Calcs!$W$38,IF(D662=Calcs!$X$39,Calcs!$W$39,IF(D662=Calcs!$X$40,Calcs!$W$40,IF(TRUE,0))))","v":0},661,"TB48-870-30BTG",14,"TRACK BENCH: 4FTx72.5FTx30INxBTG",32,"BOTANICARE TRACK BENCH: 4FT WIDE x 72.5FT LONG x 30IN HIGH, TRILOCK, GUTTER",4,72.5,30]
[{"$f":"IF(B663=0,0,MAX($A$2:A662)+1)","v":0},{"$f":"IF(D663=Calcs!$X$38,Calcs!$W$38,IF(D663=Calcs!$X$39,Calcs!$W$39,IF(D663=Calcs!$X$40,Calcs!$W$40,IF(TRUE,0))))","v":0},662,"TB48-882-30BTG",14,"TRACK BENCH: 4FTx73.5FTx30INxBTG",32,"BOTANICARE TRACK BENCH: 4FT WIDE x 73.5FT LONG x 30IN HIGH, TRILOCK, GUTTER",4,73.5,30]
[{"$f":"IF(B664=0,0,MAX($A$2:A663)+1)","v":0},{"$f":"IF(D664=Calcs!$X$38,Calcs!$W$38,IF(D664=Calcs!$X$39,Calcs!$W$39,IF(D664=Calcs!$X$40,Calcs!$W$40,IF(TRUE,0))))","v":0},663,"TB48-894-30BTG",14,"TRACK BENCH: 4FTx74.5FTx30INxBTG",32,"BOTANICARE TRACK BENCH: 4FT WIDE x 74.5FT LONG x 30IN HIGH, TRILOCK, GUTTER",4,74.5,30]
[{"$f":"IF(B665=0,0,MAX($A$2:A664)+1)","v":0},{"$f":"IF(D665=Calcs!$X$38,Calcs!$W$38,IF(D665=Calcs!$X$39,Calcs!$W$39,IF(D665=Calcs!$X$40,Calcs!$W$40,IF(TRUE,0))))","v":0},664,"TB48-906-30BTG",14,"TRACK BENCH: 4FTx75.5FTx30INxBTG",32,"BOTANICARE TRACK BENCH: 4FT WIDE x 75.5FT LONG x 30IN HIGH, TRILOCK, GUTTER",4,75.5,30]
[{"$f":"IF(B666=0,0,MAX($A$2:A665)+1)","v":0},{"$f":"IF(D666=Calcs!$X$38,Calcs!$W$38,IF(D666=Calcs!$X$39,Calcs!$W$39,IF(D666=Calcs!$X$40,Calcs!$W$40,IF(TRUE,0))))","v":0},665,"TB48-930-30BTG",14,"TRACK BENCH: 4FTx77.5FTx30INxBTG",32,"BOTANICARE TRACK BENCH: 4FT WIDE x 77.5FT LONG x 30IN HIGH, TRILOCK, GUTTER",4,77.5,30]
[{"$f":"IF(B667=0,0,MAX($A$2:A666)+1)","v":0},{"$f":"IF(D667=Calcs!$X$38,Calcs!$W$38,IF(D667=Calcs!$X$39,Calcs!$W$39,IF(D667=Calcs!$X$40,Calcs!$W$40,IF(TRUE,0))))","v":0},666,"TB48-942-30BTG",14,"TRACK BENCH: 4FTx78.5FTx30INxBTG",32,"BOTANICARE TRACK BENCH: 4FT WIDE x 78.5FT LONG x 30IN HIGH, TRILOCK, GUTTER",4,78.5,30]
[{"$f":"IF(B668=0,0,MAX($A$2:A667)+1)","v":0},{"$f":"IF(D668=Calcs!$X$38,Calcs!$W$38,IF(D668=Calcs!$X$39,Calcs!$W$39,IF(D668=Calcs!$X$40,Calcs!$W$40,IF(TRUE,0))))","v":0},667,"TB48-954-30BTG",14,"TRACK BENCH: 4FTx79.5FTx30INxBTG",32,"BOTANICARE TRACK BENCH: 4FT WIDE x 79.5FT LONG x 30IN HIGH, TRILOCK, GUTTER",4,79.5,30]
[{"$f":"IF(B669=0,0,MAX($A$2:A668)+1)","v":0},{"$f":"IF(D669=Calcs!$X$38,Calcs!$W$38,IF(D669=Calcs!$X$39,Calcs!$W$39,IF(D669=Calcs!$X$40,Calcs!$W$40,IF(TRUE,0))))","v":0},668,"TB48-966-30BTG",14,"TRACK BENCH: 4FTx80.5FTx30INxBTG",32,"BOTANICARE TRACK BENCH: 4FT WIDE x 80.5FT LONG x 30IN HIGH, TRILOCK, GUTTER",4,80.5,30]
[{"$f":"IF(B670=0,0,MAX($A$2:A669)+1)","v":0},{"$f":"IF(D670=Calcs!$X$38,Calcs!$W$38,IF(D670=Calcs!$X$39,Calcs!$W$39,IF(D670=Calcs!$X$40,Calcs!$W$40,IF(TRUE,0))))","v":0},669,"TB48-990-30BTG",14,"TRACK BENCH: 4FTx82.5FTx30INxBTG",32,"BOTANICARE TRACK BENCH: 4FT WIDE x 82.5FT LONG x 30IN HIGH, TRILOCK, GUTTER",4,82.5,30]
[{"$f":"IF(B671=0,0,MAX($A$2:A670)+1)","v":0},{"$f":"IF(D671=Calcs!$X$38,Calcs!$W$38,IF(D671=Calcs!$X$39,Calcs!$W$39,IF(D671=Calcs!$X$40,Calcs!$W$40,IF(TRUE,0))))","v":0},670,"TB48-1002-30BTG",15,"TRACK BENCH: 4FTx83.5FTx30INxBTG",32,"BOTANICARE TRACK BENCH: 4FT WIDE x 83.5FT LONG x 30IN HIGH, TRILOCK, GUTTER",4,83.5,30]
[{"$f":"IF(B672=0,0,MAX($A$2:A671)+1)","v":0},{"$f":"IF(D672=Calcs!$X$38,Calcs!$W$38,IF(D672=Calcs!$X$39,Calcs!$W$39,IF(D672=Calcs!$X$40,Calcs!$W$40,IF(TRUE,0))))","v":0},671,"TB48-1014-30BTG",15,"TRACK BENCH: 4FTx84.5FTx30INxBTG",32,"BOTANICARE TRACK BENCH: 4FT WIDE x 84.5FT LONG x 30IN HIGH, TRILOCK, GUTTER",4,84.5,30]
[{"$f":"IF(B673=0,0,MAX($A$2:A672)+1)","v":0},{"$f":"IF(D673=Calcs!$X$38,Calcs!$W$38,IF(D673=Calcs!$X$39,Calcs!$W$39,IF(D673=Calcs!$X$40,Calcs!$W$40,IF(TRUE,0))))","v":0},672,"TB48-1026-30BTG",15,"TRACK BENCH: 4FTx85.5FTx30INxBTG",32,"BOTANICARE TRACK BENCH: 4FT WIDE x 85.5FT LONG x 30IN HIGH, TRILOCK, GUTTER",4,85.5,30]
[{"$f":"IF(B674=0,0,MAX($A$2:A673)+1)","v":0},{"$f":"IF(D674=Calcs!$X$38,Calcs!$W$38,IF(D674=Calcs!$X$39,Calcs!$W$39,IF(D674=Calcs!$X$40,Calcs!$W$40,IF(TRUE,0))))","v":0},673,"TB48-1050-30BTG",15,"TRACK BENCH: 4FTx87.5FTx30INxBTG",32,"BOTANICARE TRACK BENCH: 4FT WIDE x 87.5FT LONG x 30IN HIGH, TRILOCK, GUTTER",4,87.5,30]
[{"$f":"IF(B675=0,0,MAX($A$2:A674)+1)","v":0},{"$f":"IF(D675=Calcs!$X$38,Calcs!$W$38,IF(D675=Calcs!$X$39,Calcs!$W$39,IF(D675=Calcs!$X$40,Calcs!$W$40,IF(TRUE,0))))","v":0},674,"TB48-1062-30BTG",15,"TRACK BENCH: 4FTx88.5FTx30INxBTG",32,"BOTANICARE TRACK BENCH: 4FT WIDE x 88.5FT LONG x 30IN HIGH, TRILOCK, GUTTER",4,88.5,30]
[{"$f":"IF(B676=0,0,MAX($A$2:A675)+1)","v":0},{"$f":"IF(D676=Calcs!$X$38,Calcs!$W$38,IF(D676=Calcs!$X$39,Calcs!$W$39,IF(D676=Calcs!$X$40,Calcs!$W$40,IF(TRUE,0))))","v":0},675,"TB48-1074-30BTG",15,"TRACK BENCH: 4FTx89.5FTx30INxBTG",32,"BOTANICARE TRACK BENCH: 4FT WIDE x 89.5FT LONG x 30IN HIGH, TRILOCK, GUTTER",4,89.5,30]
[{"$f":"IF(B677=0,0,MAX($A$2:A676)+1)","v":0},{"$f":"IF(D677=Calcs!$X$38,Calcs!$W$38,IF(D677=Calcs!$X$39,Calcs!$W$39,IF(D677=Calcs!$X$40,Calcs!$W$40,IF(TRUE,0))))","v":0},676,"TB48-1086-30BTG",15,"TRACK BENCH: 4FTx90.5FTx30INxBTG",32,"BOTANICARE TRACK BENCH: 4FT WIDE x 90.5FT LONG x 30IN HIGH, TRILOCK, GUTTER",4,90.5,30]
[{"$f":"IF(B678=0,0,MAX($A$2:A677)+1)","v":0},{"$f":"IF(D678=Calcs!$X$38,Calcs!$W$38,IF(D678=Calcs!$X$39,Calcs!$W$39,IF(D678=Calcs!$X$40,Calcs!$W$40,IF(TRUE,0))))","v":0},677,"TB48-1110-30BTG",15,"TRACK BENCH: 4FTx92.5FTx30INxBTG",32,"BOTANICARE TRACK BENCH: 4FT WIDE x 92.5FT LONG x 30IN HIGH, TRILOCK, GUTTER",4,92.5,30]
[{"$f":"IF(B679=0,0,MAX($A$2:A678)+1)","v":0},{"$f":"IF(D679=Calcs!$X$38,Calcs!$W$38,IF(D679=Calcs!$X$39,Calcs!$W$39,IF(D679=Calcs!$X$40,Calcs!$W$40,IF(TRUE,0))))","v":0},678,"TB48-1122-30BTG",15,"TRACK BENCH: 4FTx93.5FTx30INxBTG",32,"BOTANICARE TRACK BENCH: 4FT WIDE x 93.5FT LONG x 30IN HIGH, TRILOCK, GUTTER",4,93.5,30]
[{"$f":"IF(B680=0,0,MAX($A$2:A679)+1)","v":0},{"$f":"IF(D680=Calcs!$X$38,Calcs!$W$38,IF(D680=Calcs!$X$39,Calcs!$W$39,IF(D680=Calcs!$X$40,Calcs!$W$40,IF(TRUE,0))))","v":0},679,"TB48-1134-30BTG",15,"TRACK BENCH: 4FTx94.5FTx30INxBTG",32,"BOTANICARE TRACK BENCH: 4FT WIDE x 94.5FT LONG x 30IN HIGH, TRILOCK, GUTTER",4,94.5,30]
[{"$f":"IF(B681=0,0,MAX($A$2:A680)+1)","v":0},{"$f":"IF(D681=Calcs!$X$38,Calcs!$W$38,IF(D681=Calcs!$X$39,Calcs!$W$39,IF(D681=Calcs!$X$40,Calcs!$W$40,IF(TRUE,0))))","v":0},680,"TB48-1146-30BTG",15,"TRACK BENCH: 4FTx95.5FTx30INxBTG",32,"BOTANICARE TRACK BENCH: 4FT WIDE x 95.5FT LONG x 30IN HIGH, TRILOCK, GUTTER",4,95.5,30]
[{"$f":"IF(B682=0,0,MAX($A$2:A681)+1)","v":0},{"$f":"IF(D682=Calcs!$X$38,Calcs!$W$38,IF(D682=Calcs!$X$39,Calcs!$W$39,IF(D682=Calcs!$X$40,Calcs!$W$40,IF(TRUE,0))))","v":0},681,"TB48-1170-30BTG",15,"TRACK BENCH: 4FTx97.5FTx30INxBTG",32,"BOTANICARE TRACK BENCH: 4FT WIDE x 97.5FT LONG x 30IN HIGH, TRILOCK, GUTTER",4,97.5,30]
[{"$f":"IF(B683=0,0,MAX($A$2:A682)+1)","v":0},{"$f":"IF(D683=Calcs!$X$38,Calcs!$W$38,IF(D683=Calcs!$X$39,Calcs!$W$39,IF(D683=Calcs!$X$40,Calcs!$W$40,IF(TRUE,0))))","v":0},682,"TB48-1182-30BTG",15,"TRACK BENCH: 4FTx98.5FTx30INxBTG",32,"BOTANICARE TRACK BENCH: 4FT WIDE x 98.5FT LONG x 30IN HIGH, TRILOCK, GUTTER",4,98.5,30]
[{"$f":"IF(B684=0,0,MAX($A$2:A683)+1)","v":0},{"$f":"IF(D684=Calcs!$X$38,Calcs!$W$38,IF(D684=Calcs!$X$39,Calcs!$W$39,IF(D684=Calcs!$X$40,Calcs!$W$40,IF(TRUE,0))))","v":0},683,"TB48-1194-30BTG",15,"TRACK BENCH: 4FTx99.5FTx30INxBTG",32,"BOTANICARE TRACK BENCH: 4FT WIDE x 99.5FT LONG x 30IN HIGH, TRILOCK, GUTTER",4,99.5,30]
[{"$f":"IF(B685=0,0,MAX($A$2:A684)+1)","v":0},{"$f":"IF(D685=Calcs!$X$38,Calcs!$W$38,IF(D685=Calcs!$X$39,Calcs!$W$39,IF(D685=Calcs!$X$40,Calcs!$W$40,IF(TRUE,0))))","v":0},684,"TB48-1206-30BTG",15,"TRACK BENCH: 4FTx100.5FTx30INxBTG",33,"BOTANICARE TRACK BENCH: 4FT WIDE x 100.5FT LONG x 30IN HIGH, TRILOCK, GUTTER",4,100.5,30]
[{"$f":"IF(B686=0,0,MAX($A$2:A685)+1)","v":0},{"$f":"IF(D686=Calcs!$X$38,Calcs!$W$38,IF(D686=Calcs!$X$39,Calcs!$W$39,IF(D686=Calcs!$X$40,Calcs!$W$40,IF(TRUE,0))))","v":0},685,"TB60-90-14BTG",13,"TRACK BENCH: 5FTx7.5FTx14INxBTG",31,"BOTANICARE TRACK BENCH: 5FT WIDE x 7.5FT LONG x 14IN HIGH, TRILOCK, GUTTER",5,7.5,14]
[{"$f":"IF(B687=0,0,MAX($A$2:A686)+1)","v":0},{"$f":"IF(D687=Calcs!$X$38,Calcs!$W$38,IF(D687=Calcs!$X$39,Calcs!$W$39,IF(D687=Calcs!$X$40,Calcs!$W$40,IF(TRUE,0))))","v":0},686,"TB60-102-14BTG",14,"TRACK BENCH: 5FTx8.5FTx14INxBTG",31,"BOTANICARE TRACK BENCH: 5FT WIDE x 8.5FT LONG x 14IN HIGH, TRILOCK, GUTTER",5,8.5,14]
[{"$f":"IF(B688=0,0,MAX($A$2:A687)+1)","v":0},{"$f":"IF(D688=Calcs!$X$38,Calcs!$W$38,IF(D688=Calcs!$X$39,Calcs!$W$39,IF(D688=Calcs!$X$40,Calcs!$W$40,IF(TRUE,0))))","v":0},687,"TB60-114-14BTG",14,"TRACK BENCH: 5FTx9.5FTx14INxBTG",31,"BOTANICARE TRACK BENCH: 5FT WIDE x 9.5FT LONG x 14IN HIGH, TRILOCK, GUTTER",5,9.5,14]
[{"$f":"IF(B689=0,0,MAX($A$2:A688)+1)","v":0},{"$f":"IF(D689=Calcs!$X$38,Calcs!$W$38,IF(D689=Calcs!$X$39,Calcs!$W$39,IF(D689=Calcs!$X$40,Calcs!$W$40,IF(TRUE,0))))","v":0},688,"TB60-126-14BTG",14,"TRACK BENCH: 5FTx10.5FTx14INxBTG",32,"BOTANICARE TRACK BENCH: 5FT WIDE x 10.5FT LONG x 14IN HIGH, TRILOCK, GUTTER",5,10.5,14]
[{"$f":"IF(B690=0,0,MAX($A$2:A689)+1)","v":0},{"$f":"IF(D690=Calcs!$X$38,Calcs!$W$38,IF(D690=Calcs!$X$39,Calcs!$W$39,IF(D690=Calcs!$X$40,Calcs!$W$40,IF(TRUE,0))))","v":0},689,"TB60-150-14BTG",14,"TRACK BENCH: 5FTx12.5FTx14INxBTG",32,"BOTANICARE TRACK BENCH: 5FT WIDE x 12.5FT LONG x 14IN HIGH, TRILOCK, GUTTER",5,12.5,14]
[{"$f":"IF(B691=0,0,MAX($A$2:A690)+1)","v":0},{"$f":"IF(D691=Calcs!$X$38,Calcs!$W$38,IF(D691=Calcs!$X$39,Calcs!$W$39,IF(D691=Calcs!$X$40,Calcs!$W$40,IF(TRUE,0))))","v":0},690,"TB60-162-14BTG",14,"TRACK BENCH: 5FTx13.5FTx14INxBTG",32,"BOTANICARE TRACK BENCH: 5FT WIDE x 13.5FT LONG x 14IN HIGH, TRILOCK, GUTTER",5,13.5,14]
[{"$f":"IF(B692=0,0,MAX($A$2:A691)+1)","v":0},{"$f":"IF(D692=Calcs!$X$38,Calcs!$W$38,IF(D692=Calcs!$X$39,Calcs!$W$39,IF(D692=Calcs!$X$40,Calcs!$W$40,IF(TRUE,0))))","v":0},691,"TB60-174-14BTG",14,"TRACK BENCH: 5FTx14.5FTx14INxBTG",32,"BOTANICARE TRACK BENCH: 5FT WIDE x 14.5FT LONG x 14IN HIGH, TRILOCK, GUTTER",5,14.5,14]
[{"$f":"IF(B693=0,0,MAX($A$2:A692)+1)","v":0},{"$f":"IF(D693=Calcs!$X$38,Calcs!$W$38,IF(D693=Calcs!$X$39,Calcs!$W$39,IF(D693=Calcs!$X$40,Calcs!$W$40,IF(TRUE,0))))","v":0},692,"TB60-186-14BTG",14,"TRACK BENCH: 5FTx15.5FTx14INxBTG",32,"BOTANICARE TRACK BENCH: 5FT WIDE x 15.5FT LONG x 14IN HIGH, TRILOCK, GUTTER",5,15.5,14]
[{"$f":"IF(B694=0,0,MAX($A$2:A693)+1)","v":0},{"$f":"IF(D694=Calcs!$X$38,Calcs!$W$38,IF(D694=Calcs!$X$39,Calcs!$W$39,IF(D694=Calcs!$X$40,Calcs!$W$40,IF(TRUE,0))))","v":0},693,"TB60-210-14BTG",14,"TRACK BENCH: 5FTx17.5FTx14INxBTG",32,"BOTANICARE TRACK BENCH: 5FT WIDE x 17.5FT LONG x 14IN HIGH, TRILOCK, GUTTER",5,17.5,14]
[{"$f":"IF(B695=0,0,MAX($A$2:A694)+1)","v":0},{"$f":"IF(D695=Calcs!$X$38,Calcs!$W$38,IF(D695=Calcs!$X$39,Calcs!$W$39,IF(D695=Calcs!$X$40,Calcs!$W$40,IF(TRUE,0))))","v":0},694,"TB60-222-14BTG",14,"TRACK BENCH: 5FTx18.5FTx14INxBTG",32,"BOTANICARE TRACK BENCH: 5FT WIDE x 18.5FT LONG x 14IN HIGH, TRILOCK, GUTTER",5,18.5,14]
[{"$f":"IF(B696=0,0,MAX($A$2:A695)+1)","v":0},{"$f":"IF(D696=Calcs!$X$38,Calcs!$W$38,IF(D696=Calcs!$X$39,Calcs!$W$39,IF(D696=Calcs!$X$40,Calcs!$W$40,IF(TRUE,0))))","v":0},695,"TB60-234-14BTG",14,"TRACK BENCH: 5FTx19.5FTx14INxBTG",32,"BOTANICARE TRACK BENCH: 5FT WIDE x 19.5FT LONG x 14IN HIGH, TRILOCK, GUTTER",5,19.5,14]
[{"$f":"IF(B697=0,0,MAX($A$2:A696)+1)","v":0},{"$f":"IF(D697=Calcs!$X$38,Calcs!$W$38,IF(D697=Calcs!$X$39,Calcs!$W$39,IF(D697=Calcs!$X$40,Calcs!$W$40,IF(TRUE,0))))","v":0},696,"TB60-246-14BTG",14,"TRACK BENCH: 5FTx20.5FTx14INxBTG",32,"BOTANICARE TRACK BENCH: 5FT WIDE x 20.5FT LONG x 14IN HIGH, TRILOCK, GUTTER",5,20.5,14]
[{"$f":"IF(B698=0,0,MAX($A$2:A697)+1)","v":0},{"$f":"IF(D698=Calcs!$X$38,Calcs!$W$38,IF(D698=Calcs!$X$39,Calcs!$W$39,IF(D698=Calcs!$X$40,Calcs!$W$40,IF(TRUE,0))))","v":0},697,"TB60-270-14BTG",14,"TRACK BENCH: 5FTx22.5FTx14INxBTG",32,"BOTANICARE TRACK BENCH: 5FT WIDE x 22.5FT LONG x 14IN HIGH, TRILOCK, GUTTER",5,22.5,14]
[{"$f":"IF(B699=0,0,MAX($A$2:A698)+1)","v":0},{"$f":"IF(D699=Calcs!$X$38,Calcs!$W$38,IF(D699=Calcs!$X$39,Calcs!$W$39,IF(D699=Calcs!$X$40,Calcs!$W$40,IF(TRUE,0))))","v":0},698,"TB60-282-14BTG",14,"TRACK BENCH: 5FTx23.5FTx14INxBTG",32,"BOTANICARE TRACK BENCH: 5FT WIDE x 23.5FT LONG x 14IN HIGH, TRILOCK, GUTTER",5,23.5,14]
[{"$f":"IF(B700=0,0,MAX($A$2:A699)+1)","v":0},{"$f":"IF(D700=Calcs!$X$38,Calcs!$W$38,IF(D700=Calcs!$X$39,Calcs!$W$39,IF(D700=Calcs!$X$40,Calcs!$W$40,IF(TRUE,0))))","v":0},699,"TB60-294-14BTG",14,"TRACK BENCH: 5FTx24.5FTx14INxBTG",32,"BOTANICARE TRACK BENCH: 5FT WIDE x 24.5FT LONG x 14IN HIGH, TRILOCK, GUTTER",5,24.5,14]
[{"$f":"IF(B701=0,0,MAX($A$2:A700)+1)","v":0},{"$f":"IF(D701=Calcs!$X$38,Calcs!$W$38,IF(D701=Calcs!$X$39,Calcs!$W$39,IF(D701=Calcs!$X$40,Calcs!$W$40,IF(TRUE,0))))","v":0},700,"TB60-306-14BTG",14,"TRACK BENCH: 5FTx25.5FTx14INxBTG",32,"BOTANICARE TRACK BENCH: 5FT WIDE x 25.5FT LONG x 14IN HIGH, TRILOCK, GUTTER",5,25.5,14]
[{"$f":"IF(B702=0,0,MAX($A$2:A701)+1)","v":0},{"$f":"IF(D702=Calcs!$X$38,Calcs!$W$38,IF(D702=Calcs!$X$39,Calcs!$W$39,IF(D702=Calcs!$X$40,Calcs!$W$40,IF(TRUE,0))))","v":0},701,"TB60-330-14BTG",14,"TRACK BENCH: 5FTx27.5FTx14INxBTG",32,"BOTANICARE TRACK BENCH: 5FT WIDE x 27.5FT LONG x 14IN HIGH, TRILOCK, GUTTER",5,27.5,14]
[{"$f":"IF(B703=0,0,MAX($A$2:A702)+1)","v":0},{"$f":"IF(D703=Calcs!$X$38,Calcs!$W$38,IF(D703=Calcs!$X$39,Calcs!$W$39,IF(D703=Calcs!$X$40,Calcs!$W$40,IF(TRUE,0))))","v":0},702,"TB60-342-14BTG",14,"TRACK BENCH: 5FTx28.5FTx14INxBTG",32,"BOTANICARE TRACK BENCH: 5FT WIDE x 28.5FT LONG x 14IN HIGH, TRILOCK, GUTTER",5,28.5,14]
[{"$f":"IF(B704=0,0,MAX($A$2:A703)+1)","v":0},{"$f":"IF(D704=Calcs!$X$38,Calcs!$W$38,IF(D704=Calcs!$X$39,Calcs!$W$39,IF(D704=Calcs!$X$40,Calcs!$W$40,IF(TRUE,0))))","v":0},703,"TB60-354-14BTG",14,"TRACK BENCH: 5FTx29.5FTx14INxBTG",32,"BOTANICARE TRACK BENCH: 5FT WIDE x 29.5FT LONG x 14IN HIGH, TRILOCK, GUTTER",5,29.5,14]
[{"$f":"IF(B705=0,0,MAX($A$2:A704)+1)","v":0},{"$f":"IF(D705=Calcs!$X$38,Calcs!$W$38,IF(D705=Calcs!$X$39,Calcs!$W$39,IF(D705=Calcs!$X$40,Calcs!$W$40,IF(TRUE,0))))","v":0},704,"TB60-366-14BTG",14,"TRACK BENCH: 5FTx30.5FTx14INxBTG",32,"BOTANICARE TRACK BENCH: 5FT WIDE x 30.5FT LONG x 14IN HIGH, TRILOCK, GUTTER",5,30.5,14]
[{"$f":"IF(B706=0,0,MAX($A$2:A705)+1)","v":0},{"$f":"IF(D706=Calcs!$X$38,Calcs!$W$38,IF(D706=Calcs!$X$39,Calcs!$W$39,IF(D706=Calcs!$X$40,Calcs!$W$40,IF(TRUE,0))))","v":0},705,"TB60-390-14BTG",14,"TRACK BENCH: 5FTx32.5FTx14INxBTG",32,"BOTANICARE TRACK BENCH: 5FT WIDE x 32.5FT LONG x 14IN HIGH, TRILOCK, GUTTER",5,32.5,14]
[{"$f":"IF(B707=0,0,MAX($A$2:A706)+1)","v":0},{"$f":"IF(D707=Calcs!$X$38,Calcs!$W$38,IF(D707=Calcs!$X$39,Calcs!$W$39,IF(D707=Calcs!$X$40,Calcs!$W$40,IF(TRUE,0))))","v":0},706,"TB60-402-14BTG",14,"TRACK BENCH: 5FTx33.5FTx14INxBTG",32,"BOTANICARE TRACK BENCH: 5FT WIDE x 33.5FT LONG x 14IN HIGH, TRILOCK, GUTTER",5,33.5,14]
[{"$f":"IF(B708=0,0,MAX($A$2:A707)+1)","v":0},{"$f":"IF(D708=Calcs!$X$38,Calcs!$W$38,IF(D708=Calcs!$X$39,Calcs!$W$39,IF(D708=Calcs!$X$40,Calcs!$W$40,IF(TRUE,0))))","v":0},707,"TB60-414-14BTG",14,"TRACK BENCH: 5FTx34.5FTx14INxBTG",32,"BOTANICARE TRACK BENCH: 5FT WIDE x 34.5FT LONG x 14IN HIGH, TRILOCK, GUTTER",5,34.5,14]
[{"$f":"IF(B709=0,0,MAX($A$2:A708)+1)","v":0},{"$f":"IF(D709=Calcs!$X$38,Calcs!$W$38,IF(D709=Calcs!$X$39,Calcs!$W$39,IF(D709=Calcs!$X$40,Calcs!$W$40,IF(TRUE,0))))","v":0},708,"TB60-426-14BTG",14,"TRACK BENCH: 5FTx35.5FTx14INxBTG",32,"BOTANICARE TRACK BENCH: 5FT WIDE x 35.5FT LONG x 14IN HIGH, TRILOCK, GUTTER",5,35.5,14]
[{"$f":"IF(B710=0,0,MAX($A$2:A709)+1)","v":0},{"$f":"IF(D710=Calcs!$X$38,Calcs!$W$38,IF(D710=Calcs!$X$39,Calcs!$W$39,IF(D710=Calcs!$X$40,Calcs!$W$40,IF(TRUE,0))))","v":0},709,"TB60-450-14BTG",14,"TRACK BENCH: 5FTx37.5FTx14INxBTG",32,"BOTANICARE TRACK BENCH: 5FT WIDE x 37.5FT LONG x 14IN HIGH, TRILOCK, GUTTER",5,37.5,14]
[{"$f":"IF(B711=0,0,MAX($A$2:A710)+1)","v":0},{"$f":"IF(D711=Calcs!$X$38,Calcs!$W$38,IF(D711=Calcs!$X$39,Calcs!$W$39,IF(D711=Calcs!$X$40,Calcs!$W$40,IF(TRUE,0))))","v":0},710,"TB60-462-14BTG",14,"TRACK BENCH: 5FTx38.5FTx14INxBTG",32,"BOTANICARE TRACK BENCH: 5FT WIDE x 38.5FT LONG x 14IN HIGH, TRILOCK, GUTTER",5,38.5,14]
[{"$f":"IF(B712=0,0,MAX($A$2:A711)+1)","v":0},{"$f":"IF(D712=Calcs!$X$38,Calcs!$W$38,IF(D712=Calcs!$X$39,Calcs!$W$39,IF(D712=Calcs!$X$40,Calcs!$W$40,IF(TRUE,0))))","v":0},711,"TB60-474-14BTG",14,"TRACK BENCH: 5FTx39.5FTx14INxBTG",32,"BOTANICARE TRACK BENCH: 5FT WIDE x 39.5FT LONG x 14IN HIGH, TRILOCK, GUTTER",5,39.5,14]
[{"$f":"IF(B713=0,0,MAX($A$2:A712)+1)","v":0},{"$f":"IF(D713=Calcs!$X$38,Calcs!$W$38,IF(D713=Calcs!$X$39,Calcs!$W$39,IF(D713=Calcs!$X$40,Calcs!$W$40,IF(TRUE,0))))","v":0},712,"TB60-486-14BTG",14,"TRACK BENCH: 5FTx40.5FTx14INxBTG",32,"BOTANICARE TRACK BENCH: 5FT WIDE x 40.5FT LONG x 14IN HIGH, TRILOCK, GUTTER",5,40.5,14]
[{"$f":"IF(B714=0,0,MAX($A$2:A713)+1)","v":0},{"$f":"IF(D714=Calcs!$X$38,Calcs!$W$38,IF(D714=Calcs!$X$39,Calcs!$W$39,IF(D714=Calcs!$X$40,Calcs!$W$40,IF(TRUE,0))))","v":0},713,"TB60-510-14BTG",14,"TRACK BENCH: 5FTx42.5FTx14INxBTG",32,"BOTANICARE TRACK BENCH: 5FT WIDE x 42.5FT LONG x 14IN HIGH, TRILOCK, GUTTER",5,42.5,14]
[{"$f":"IF(B715=0,0,MAX($A$2:A714)+1)","v":0},{"$f":"IF(D715=Calcs!$X$38,Calcs!$W$38,IF(D715=Calcs!$X$39,Calcs!$W$39,IF(D715=Calcs!$X$40,Calcs!$W$40,IF(TRUE,0))))","v":0},714,"TB60-522-14BTG",14,"TRACK BENCH: 5FTx43.5FTx14INxBTG",32,"BOTANICARE TRACK BENCH: 5FT WIDE x 43.5FT LONG x 14IN HIGH, TRILOCK, GUTTER",5,43.5,14]
[{"$f":"IF(B716=0,0,MAX($A$2:A715)+1)","v":0},{"$f":"IF(D716=Calcs!$X$38,Calcs!$W$38,IF(D716=Calcs!$X$39,Calcs!$W$39,IF(D716=Calcs!$X$40,Calcs!$W$40,IF(TRUE,0))))","v":0},715,"TB60-534-14BTG",14,"TRACK BENCH: 5FTx44.5FTx14INxBTG",32,"BOTANICARE TRACK BENCH: 5FT WIDE x 44.5FT LONG x 14IN HIGH, TRILOCK, GUTTER",5,44.5,14]
[{"$f":"IF(B717=0,0,MAX($A$2:A716)+1)","v":0},{"$f":"IF(D717=Calcs!$X$38,Calcs!$W$38,IF(D717=Calcs!$X$39,Calcs!$W$39,IF(D717=Calcs!$X$40,Calcs!$W$40,IF(TRUE,0))))","v":0},716,"TB60-546-14BTG",14,"TRACK BENCH: 5FTx45.5FTx14INxBTG",32,"BOTANICARE TRACK BENCH: 5FT WIDE x 45.5FT LONG x 14IN HIGH, TRILOCK, GUTTER",5,45.5,14]
[{"$f":"IF(B718=0,0,MAX($A$2:A717)+1)","v":0},{"$f":"IF(D718=Calcs!$X$38,Calcs!$W$38,IF(D718=Calcs!$X$39,Calcs!$W$39,IF(D718=Calcs!$X$40,Calcs!$W$40,IF(TRUE,0))))","v":0},717,"TB60-570-14BTG",14,"TRACK BENCH: 5FTx47.5FTx14INxBTG",32,"BOTANICARE TRACK BENCH: 5FT WIDE x 47.5FT LONG x 14IN HIGH, TRILOCK, GUTTER",5,47.5,14]
[{"$f":"IF(B719=0,0,MAX($A$2:A718)+1)","v":0},{"$f":"IF(D719=Calcs!$X$38,Calcs!$W$38,IF(D719=Calcs!$X$39,Calcs!$W$39,IF(D719=Calcs!$X$40,Calcs!$W$40,IF(TRUE,0))))","v":0},718,"TB60-582-14BTG",14,"TRACK BENCH: 5FTx48.5FTx14INxBTG",32,"BOTANICARE TRACK BENCH: 5FT WIDE x 48.5FT LONG x 14IN HIGH, TRILOCK, GUTTER",5,48.5,14]
[{"$f":"IF(B720=0,0,MAX($A$2:A719)+1)","v":0},{"$f":"IF(D720=Calcs!$X$38,Calcs!$W$38,IF(D720=Calcs!$X$39,Calcs!$W$39,IF(D720=Calcs!$X$40,Calcs!$W$40,IF(TRUE,0))))","v":0},719,"TB60-594-14BTG",14,"TRACK BENCH: 5FTx49.5FTx14INxBTG",32,"BOTANICARE TRACK BENCH: 5FT WIDE x 49.5FT LONG x 14IN HIGH, TRILOCK, GUTTER",5,49.5,14]
[{"$f":"IF(B721=0,0,MAX($A$2:A720)+1)","v":0},{"$f":"IF(D721=Calcs!$X$38,Calcs!$W$38,IF(D721=Calcs!$X$39,Calcs!$W$39,IF(D721=Calcs!$X$40,Calcs!$W$40,IF(TRUE,0))))","v":0},720,"TB60-606-14BTG",14,"TRACK BENCH: 5FTx50.5FTx14INxBTG",32,"BOTANICARE TRACK BENCH: 5FT WIDE x 50.5FT LONG x 14IN HIGH, TRILOCK, GUTTER",5,50.5,14]
[{"$f":"IF(B722=0,0,MAX($A$2:A721)+1)","v":0},{"$f":"IF(D722=Calcs!$X$38,Calcs!$W$38,IF(D722=Calcs!$X$39,Calcs!$W$39,IF(D722=Calcs!$X$40,Calcs!$W$40,IF(TRUE,0))))","v":0},721,"TB60-630-14BTG",14,"TRACK BENCH: 5FTx52.5FTx14INxBTG",32,"BOTANICARE TRACK BENCH: 5FT WIDE x 52.5FT LONG x 14IN HIGH, TRILOCK, GUTTER",5,52.5,14]
[{"$f":"IF(B723=0,0,MAX($A$2:A722)+1)","v":0},{"$f":"IF(D723=Calcs!$X$38,Calcs!$W$38,IF(D723=Calcs!$X$39,Calcs!$W$39,IF(D723=Calcs!$X$40,Calcs!$W$40,IF(TRUE,0))))","v":0},722,"TB60-642-14BTG",14,"TRACK BENCH: 5FTx53.5FTx14INxBTG",32,"BOTANICARE TRACK BENCH: 5FT WIDE x 53.5FT LONG x 14IN HIGH, TRILOCK, GUTTER",5,53.5,14]
[{"$f":"IF(B724=0,0,MAX($A$2:A723)+1)","v":0},{"$f":"IF(D724=Calcs!$X$38,Calcs!$W$38,IF(D724=Calcs!$X$39,Calcs!$W$39,IF(D724=Calcs!$X$40,Calcs!$W$40,IF(TRUE,0))))","v":0},723,"TB60-654-14BTG",14,"TRACK BENCH: 5FTx54.5FTx14INxBTG",32,"BOTANICARE TRACK BENCH: 5FT WIDE x 54.5FT LONG x 14IN HIGH, TRILOCK, GUTTER",5,54.5,14]
[{"$f":"IF(B725=0,0,MAX($A$2:A724)+1)","v":0},{"$f":"IF(D725=Calcs!$X$38,Calcs!$W$38,IF(D725=Calcs!$X$39,Calcs!$W$39,IF(D725=Calcs!$X$40,Calcs!$W$40,IF(TRUE,0))))","v":0},724,"TB60-666-14BTG",14,"TRACK BENCH: 5FTx55.5FTx14INxBTG",32,"BOTANICARE TRACK BENCH: 5FT WIDE x 55.5FT LONG x 14IN HIGH, TRILOCK, GUTTER",5,55.5,14]
[{"$f":"IF(B726=0,0,MAX($A$2:A725)+1)","v":0},{"$f":"IF(D726=Calcs!$X$38,Calcs!$W$38,IF(D726=Calcs!$X$39,Calcs!$W$39,IF(D726=Calcs!$X$40,Calcs!$W$40,IF(TRUE,0))))","v":0},725,"TB60-690-14BTG",14,"TRACK BENCH: 5FTx57.5FTx14INxBTG",32,"BOTANICARE TRACK BENCH: 5FT WIDE x 57.5FT LONG x 14IN HIGH, TRILOCK, GUTTER",5,57.5,14]
[{"$f":"IF(B727=0,0,MAX($A$2:A726)+1)","v":0},{"$f":"IF(D727=Calcs!$X$38,Calcs!$W$38,IF(D727=Calcs!$X$39,Calcs!$W$39,IF(D727=Calcs!$X$40,Calcs!$W$40,IF(TRUE,0))))","v":0},726,"TB60-702-14BTG",14,"TRACK BENCH: 5FTx58.5FTx14INxBTG",32,"BOTANICARE TRACK BENCH: 5FT WIDE x 58.5FT LONG x 14IN HIGH, TRILOCK, GUTTER",5,58.5,14]
[{"$f":"IF(B728=0,0,MAX($A$2:A727)+1)","v":0},{"$f":"IF(D728=Calcs!$X$38,Calcs!$W$38,IF(D728=Calcs!$X$39,Calcs!$W$39,IF(D728=Calcs!$X$40,Calcs!$W$40,IF(TRUE,0))))","v":0},727,"TB60-714-14BTG",14,"TRACK BENCH: 5FTx59.5FTx14INxBTG",32,"BOTANICARE TRACK BENCH: 5FT WIDE x 59.5FT LONG x 14IN HIGH, TRILOCK, GUTTER",5,59.5,14]
[{"$f":"IF(B729=0,0,MAX($A$2:A728)+1)","v":0},{"$f":"IF(D729=Calcs!$X$38,Calcs!$W$38,IF(D729=Calcs!$X$39,Calcs!$W$39,IF(D729=Calcs!$X$40,Calcs!$W$40,IF(TRUE,0))))","v":0},728,"TB60-726-14BTG",14,"TRACK BENCH: 5FTx60.5FTx14INxBTG",32,"BOTANICARE TRACK BENCH: 5FT WIDE x 60.5FT LONG x 14IN HIGH, TRILOCK, GUTTER",5,60.5,14]
[{"$f":"IF(B730=0,0,MAX($A$2:A729)+1)","v":0},{"$f":"IF(D730=Calcs!$X$38,Calcs!$W$38,IF(D730=Calcs!$X$39,Calcs!$W$39,IF(D730=Calcs!$X$40,Calcs!$W$40,IF(TRUE,0))))","v":0},729,"TB60-750-14BTG",14,"TRACK BENCH: 5FTx62.5FTx14INxBTG",32,"BOTANICARE TRACK BENCH: 5FT WIDE x 62.5FT LONG x 14IN HIGH, TRILOCK, GUTTER",5,62.5,14]
[{"$f":"IF(B731=0,0,MAX($A$2:A730)+1)","v":0},{"$f":"IF(D731=Calcs!$X$38,Calcs!$W$38,IF(D731=Calcs!$X$39,Calcs!$W$39,IF(D731=Calcs!$X$40,Calcs!$W$40,IF(TRUE,0))))","v":0},730,"TB60-762-14BTG",14,"TRACK BENCH: 5FTx63.5FTx14INxBTG",32,"BOTANICARE TRACK BENCH: 5FT WIDE x 63.5FT LONG x 14IN HIGH, TRILOCK, GUTTER",5,63.5,14]
[{"$f":"IF(B732=0,0,MAX($A$2:A731)+1)","v":0},{"$f":"IF(D732=Calcs!$X$38,Calcs!$W$38,IF(D732=Calcs!$X$39,Calcs!$W$39,IF(D732=Calcs!$X$40,Calcs!$W$40,IF(TRUE,0))))","v":0},731,"TB60-774-14BTG",14,"TRACK BENCH: 5FTx64.5FTx14INxBTG",32,"BOTANICARE TRACK BENCH: 5FT WIDE x 64.5FT LONG x 14IN HIGH, TRILOCK, GUTTER",5,64.5,14]
[{"$f":"IF(B733=0,0,MAX($A$2:A732)+1)","v":0},{"$f":"IF(D733=Calcs!$X$38,Calcs!$W$38,IF(D733=Calcs!$X$39,Calcs!$W$39,IF(D733=Calcs!$X$40,Calcs!$W$40,IF(TRUE,0))))","v":0},732,"TB60-786-14BTG",14,"TRACK BENCH: 5FTx65.5FTx14INxBTG",32,"BOTANICARE TRACK BENCH: 5FT WIDE x 65.5FT LONG x 14IN HIGH, TRILOCK, GUTTER",5,65.5,14]
[{"$f":"IF(B734=0,0,MAX($A$2:A733)+1)","v":0},{"$f":"IF(D734=Calcs!$X$38,Calcs!$W$38,IF(D734=Calcs!$X$39,Calcs!$W$39,IF(D734=Calcs!$X$40,Calcs!$W$40,IF(TRUE,0))))","v":0},733,"TB60-810-14BTG",14,"TRACK BENCH: 5FTx67.5FTx14INxBTG",32,"BOTANICARE TRACK BENCH: 5FT WIDE x 67.5FT LONG x 14IN HIGH, TRILOCK, GUTTER",5,67.5,14]
[{"$f":"IF(B735=0,0,MAX($A$2:A734)+1)","v":0},{"$f":"IF(D735=Calcs!$X$38,Calcs!$W$38,IF(D735=Calcs!$X$39,Calcs!$W$39,IF(D735=Calcs!$X$40,Calcs!$W$40,IF(TRUE,0))))","v":0},734,"TB60-822-14BTG",14,"TRACK BENCH: 5FTx68.5FTx14INxBTG",32,"BOTANICARE TRACK BENCH: 5FT WIDE x 68.5FT LONG x 14IN HIGH, TRILOCK, GUTTER",5,68.5,14]
[{"$f":"IF(B736=0,0,MAX($A$2:A735)+1)","v":0},{"$f":"IF(D736=Calcs!$X$38,Calcs!$W$38,IF(D736=Calcs!$X$39,Calcs!$W$39,IF(D736=Calcs!$X$40,Calcs!$W$40,IF(TRUE,0))))","v":0},735,"TB60-834-14BTG",14,"TRACK BENCH: 5FTx69.5FTx14INxBTG",32,"BOTANICARE TRACK BENCH: 5FT WIDE x 69.5FT LONG x 14IN HIGH, TRILOCK, GUTTER",5,69.5,14]
[{"$f":"IF(B737=0,0,MAX($A$2:A736)+1)","v":0},{"$f":"IF(D737=Calcs!$X$38,Calcs!$W$38,IF(D737=Calcs!$X$39,Calcs!$W$39,IF(D737=Calcs!$X$40,Calcs!$W$40,IF(TRUE,0))))","v":0},736,"TB60-846-14BTG",14,"TRACK BENCH: 5FTx70.5FTx14INxBTG",32,"BOTANICARE TRACK BENCH: 5FT WIDE x 70.5FT LONG x 14IN HIGH, TRILOCK, GUTTER",5,70.5,14]
[{"$f":"IF(B738=0,0,MAX($A$2:A737)+1)","v":0},{"$f":"IF(D738=Calcs!$X$38,Calcs!$W$38,IF(D738=Calcs!$X$39,Calcs!$W$39,IF(D738=Calcs!$X$40,Calcs!$W$40,IF(TRUE,0))))","v":0},737,"TB60-870-14BTG",14,"TRACK BENCH: 5FTx72.5FTx14INxBTG",32,"BOTANICARE TRACK BENCH: 5FT WIDE x 72.5FT LONG x 14IN HIGH, TRILOCK, GUTTER",5,72.5,14]
[{"$f":"IF(B739=0,0,MAX($A$2:A738)+1)","v":0},{"$f":"IF(D739=Calcs!$X$38,Calcs!$W$38,IF(D739=Calcs!$X$39,Calcs!$W$39,IF(D739=Calcs!$X$40,Calcs!$W$40,IF(TRUE,0))))","v":0},738,"TB60-882-14BTG",14,"TRACK BENCH: 5FTx73.5FTx14INxBTG",32,"BOTANICARE TRACK BENCH: 5FT WIDE x 73.5FT LONG x 14IN HIGH, TRILOCK, GUTTER",5,73.5,14]
[{"$f":"IF(B740=0,0,MAX($A$2:A739)+1)","v":0},{"$f":"IF(D740=Calcs!$X$38,Calcs!$W$38,IF(D740=Calcs!$X$39,Calcs!$W$39,IF(D740=Calcs!$X$40,Calcs!$W$40,IF(TRUE,0))))","v":0},739,"TB60-894-14BTG",14,"TRACK BENCH: 5FTx74.5FTx14INxBTG",32,"BOTANICARE TRACK BENCH: 5FT WIDE x 74.5FT LONG x 14IN HIGH, TRILOCK, GUTTER",5,74.5,14]
[{"$f":"IF(B741=0,0,MAX($A$2:A740)+1)","v":0},{"$f":"IF(D741=Calcs!$X$38,Calcs!$W$38,IF(D741=Calcs!$X$39,Calcs!$W$39,IF(D741=Calcs!$X$40,Calcs!$W$40,IF(TRUE,0))))","v":0},740,"TB60-906-14BTG",14,"TRACK BENCH: 5FTx75.5FTx14INxBTG",32,"BOTANICARE TRACK BENCH: 5FT WIDE x 75.5FT LONG x 14IN HIGH, TRILOCK, GUTTER",5,75.5,14]
[{"$f":"IF(B742=0,0,MAX($A$2:A741)+1)","v":0},{"$f":"IF(D742=Calcs!$X$38,Calcs!$W$38,IF(D742=Calcs!$X$39,Calcs!$W$39,IF(D742=Calcs!$X$40,Calcs!$W$40,IF(TRUE,0))))","v":0},741,"TB60-930-14BTG",14,"TRACK BENCH: 5FTx77.5FTx14INxBTG",32,"BOTANICARE TRACK BENCH: 5FT WIDE x 77.5FT LONG x 14IN HIGH, TRILOCK, GUTTER",5,77.5,14]
[{"$f":"IF(B743=0,0,MAX($A$2:A742)+1)","v":0},{"$f":"IF(D743=Calcs!$X$38,Calcs!$W$38,IF(D743=Calcs!$X$39,Calcs!$W$39,IF(D743=Calcs!$X$40,Calcs!$W$40,IF(TRUE,0))))","v":0},742,"TB60-942-14BTG",14,"TRACK BENCH: 5FTx78.5FTx14INxBTG",32,"BOTANICARE TRACK BENCH: 5FT WIDE x 78.5FT LONG x 14IN HIGH, TRILOCK, GUTTER",5,78.5,14]
[{"$f":"IF(B744=0,0,MAX($A$2:A743)+1)","v":0},{"$f":"IF(D744=Calcs!$X$38,Calcs!$W$38,IF(D744=Calcs!$X$39,Calcs!$W$39,IF(D744=Calcs!$X$40,Calcs!$W$40,IF(TRUE,0))))","v":0},743,"TB60-954-14BTG",14,"TRACK BENCH: 5FTx79.5FTx14INxBTG",32,"BOTANICARE TRACK BENCH: 5FT WIDE x 79.5FT LONG x 14IN HIGH, TRILOCK, GUTTER",5,79.5,14]
[{"$f":"IF(B745=0,0,MAX($A$2:A744)+1)","v":0},{"$f":"IF(D745=Calcs!$X$38,Calcs!$W$38,IF(D745=Calcs!$X$39,Calcs!$W$39,IF(D745=Calcs!$X$40,Calcs!$W$40,IF(TRUE,0))))","v":0},744,"TB60-966-14BTG",14,"TRACK BENCH: 5FTx80.5FTx14INxBTG",32,"BOTANICARE TRACK BENCH: 5FT WIDE x 80.5FT LONG x 14IN HIGH, TRILOCK, GUTTER",5,80.5,14]
[{"$f":"IF(B746=0,0,MAX($A$2:A745)+1)","v":0},{"$f":"IF(D746=Calcs!$X$38,Calcs!$W$38,IF(D746=Calcs!$X$39,Calcs!$W$39,IF(D746=Calcs!$X$40,Calcs!$W$40,IF(TRUE,0))))","v":0},745,"TB60-990-14BTG",14,"TRACK BENCH: 5FTx82.5FTx14INxBTG",32,"BOTANICARE TRACK BENCH: 5FT WIDE x 82.5FT LONG x 14IN HIGH, TRILOCK, GUTTER",5,82.5,14]
[{"$f":"IF(B747=0,0,MAX($A$2:A746)+1)","v":0},{"$f":"IF(D747=Calcs!$X$38,Calcs!$W$38,IF(D747=Calcs!$X$39,Calcs!$W$39,IF(D747=Calcs!$X$40,Calcs!$W$40,IF(TRUE,0))))","v":0},746,"TB60-1002-14BTG",15,"TRACK BENCH: 5FTx83.5FTx14INxBTG",32,"BOTANICARE TRACK BENCH: 5FT WIDE x 83.5FT LONG x 14IN HIGH, TRILOCK, GUTTER",5,83.5,14]
[{"$f":"IF(B748=0,0,MAX($A$2:A747)+1)","v":0},{"$f":"IF(D748=Calcs!$X$38,Calcs!$W$38,IF(D748=Calcs!$X$39,Calcs!$W$39,IF(D748=Calcs!$X$40,Calcs!$W$40,IF(TRUE,0))))","v":0},747,"TB60-1014-14BTG",15,"TRACK BENCH: 5FTx84.5FTx14INxBTG",32,"BOTANICARE TRACK BENCH: 5FT WIDE x 84.5FT LONG x 14IN HIGH, TRILOCK, GUTTER",5,84.5,14]
[{"$f":"IF(B749=0,0,MAX($A$2:A748)+1)","v":0},{"$f":"IF(D749=Calcs!$X$38,Calcs!$W$38,IF(D749=Calcs!$X$39,Calcs!$W$39,IF(D749=Calcs!$X$40,Calcs!$W$40,IF(TRUE,0))))","v":0},748,"TB60-1026-14BTG",15,"TRACK BENCH: 5FTx85.5FTx14INxBTG",32,"BOTANICARE TRACK BENCH: 5FT WIDE x 85.5FT LONG x 14IN HIGH, TRILOCK, GUTTER",5,85.5,14]
[{"$f":"IF(B750=0,0,MAX($A$2:A749)+1)","v":0},{"$f":"IF(D750=Calcs!$X$38,Calcs!$W$38,IF(D750=Calcs!$X$39,Calcs!$W$39,IF(D750=Calcs!$X$40,Calcs!$W$40,IF(TRUE,0))))","v":0},749,"TB60-1050-14BTG",15,"TRACK BENCH: 5FTx87.5FTx14INxBTG",32,"BOTANICARE TRACK BENCH: 5FT WIDE x 87.5FT LONG x 14IN HIGH, TRILOCK, GUTTER",5,87.5,14]
[{"$f":"IF(B751=0,0,MAX($A$2:A750)+1)","v":0},{"$f":"IF(D751=Calcs!$X$38,Calcs!$W$38,IF(D751=Calcs!$X$39,Calcs!$W$39,IF(D751=Calcs!$X$40,Calcs!$W$40,IF(TRUE,0))))","v":0},750,"TB60-1062-14BTG",15,"TRACK BENCH: 5FTx88.5FTx14INxBTG",32,"BOTANICARE TRACK BENCH: 5FT WIDE x 88.5FT LONG x 14IN HIGH, TRILOCK, GUTTER",5,88.5,14]
[{"$f":"IF(B752=0,0,MAX($A$2:A751)+1)","v":0},{"$f":"IF(D752=Calcs!$X$38,Calcs!$W$38,IF(D752=Calcs!$X$39,Calcs!$W$39,IF(D752=Calcs!$X$40,Calcs!$W$40,IF(TRUE,0))))","v":0},751,"TB60-1074-14BTG",15,"TRACK BENCH: 5FTx89.5FTx14INxBTG",32,"BOTANICARE TRACK BENCH: 5FT WIDE x 89.5FT LONG x 14IN HIGH, TRILOCK, GUTTER",5,89.5,14]
[{"$f":"IF(B753=0,0,MAX($A$2:A752)+1)","v":0},{"$f":"IF(D753=Calcs!$X$38,Calcs!$W$38,IF(D753=Calcs!$X$39,Calcs!$W$39,IF(D753=Calcs!$X$40,Calcs!$W$40,IF(TRUE,0))))","v":0},752,"TB60-1086-14BTG",15,"TRACK BENCH: 5FTx90.5FTx14INxBTG",32,"BOTANICARE TRACK BENCH: 5FT WIDE x 90.5FT LONG x 14IN HIGH, TRILOCK, GUTTER",5,90.5,14]
[{"$f":"IF(B754=0,0,MAX($A$2:A753)+1)","v":0},{"$f":"IF(D754=Calcs!$X$38,Calcs!$W$38,IF(D754=Calcs!$X$39,Calcs!$W$39,IF(D754=Calcs!$X$40,Calcs!$W$40,IF(TRUE,0))))","v":0},753,"TB60-1110-14BTG",15,"TRACK BENCH: 5FTx92.5FTx14INxBTG",32,"BOTANICARE TRACK BENCH: 5FT WIDE x 92.5FT LONG x 14IN HIGH, TRILOCK, GUTTER",5,92.5,14]
[{"$f":"IF(B755=0,0,MAX($A$2:A754)+1)","v":0},{"$f":"IF(D755=Calcs!$X$38,Calcs!$W$38,IF(D755=Calcs!$X$39,Calcs!$W$39,IF(D755=Calcs!$X$40,Calcs!$W$40,IF(TRUE,0))))","v":0},754,"TB60-1122-14BTG",15,"TRACK BENCH: 5FTx93.5FTx14INxBTG",32,"BOTANICARE TRACK BENCH: 5FT WIDE x 93.5FT LONG x 14IN HIGH, TRILOCK, GUTTER",5,93.5,14]
[{"$f":"IF(B756=0,0,MAX($A$2:A755)+1)","v":0},{"$f":"IF(D756=Calcs!$X$38,Calcs!$W$38,IF(D756=Calcs!$X$39,Calcs!$W$39,IF(D756=Calcs!$X$40,Calcs!$W$40,IF(TRUE,0))))","v":0},755,"TB60-1134-14BTG",15,"TRACK BENCH: 5FTx94.5FTx14INxBTG",32,"BOTANICARE TRACK BENCH: 5FT WIDE x 94.5FT LONG x 14IN HIGH, TRILOCK, GUTTER",5,94.5,14]
[{"$f":"IF(B757=0,0,MAX($A$2:A756)+1)","v":0},{"$f":"IF(D757=Calcs!$X$38,Calcs!$W$38,IF(D757=Calcs!$X$39,Calcs!$W$39,IF(D757=Calcs!$X$40,Calcs!$W$40,IF(TRUE,0))))","v":0},756,"TB60-1146-14BTG",15,"TRACK BENCH: 5FTx95.5FTx14INxBTG",32,"BOTANICARE TRACK BENCH: 5FT WIDE x 95.5FT LONG x 14IN HIGH, TRILOCK, GUTTER",5,95.5,14]
[{"$f":"IF(B758=0,0,MAX($A$2:A757)+1)","v":0},{"$f":"IF(D758=Calcs!$X$38,Calcs!$W$38,IF(D758=Calcs!$X$39,Calcs!$W$39,IF(D758=Calcs!$X$40,Calcs!$W$40,IF(TRUE,0))))","v":0},757,"TB60-1170-14BTG",15,"TRACK BENCH: 5FTx97.5FTx14INxBTG",32,"BOTANICARE TRACK BENCH: 5FT WIDE x 97.5FT LONG x 14IN HIGH, TRILOCK, GUTTER",5,97.5,14]
[{"$f":"IF(B759=0,0,MAX($A$2:A758)+1)","v":0},{"$f":"IF(D759=Calcs!$X$38,Calcs!$W$38,IF(D759=Calcs!$X$39,Calcs!$W$39,IF(D759=Calcs!$X$40,Calcs!$W$40,IF(TRUE,0))))","v":0},758,"TB60-1182-14BTG",15,"TRACK BENCH: 5FTx98.5FTx14INxBTG",32,"BOTANICARE TRACK BENCH: 5FT WIDE x 98.5FT LONG x 14IN HIGH, TRILOCK, GUTTER",5,98.5,14]
[{"$f":"IF(B760=0,0,MAX($A$2:A759)+1)","v":0},{"$f":"IF(D760=Calcs!$X$38,Calcs!$W$38,IF(D760=Calcs!$X$39,Calcs!$W$39,IF(D760=Calcs!$X$40,Calcs!$W$40,IF(TRUE,0))))","v":0},759,"TB60-1194-14BTG",15,"TRACK BENCH: 5FTx99.5FTx14INxBTG",32,"BOTANICARE TRACK BENCH: 5FT WIDE x 99.5FT LONG x 14IN HIGH, TRILOCK, GUTTER",5,99.5,14]
[{"$f":"IF(B761=0,0,MAX($A$2:A760)+1)","v":0},{"$f":"IF(D761=Calcs!$X$38,Calcs!$W$38,IF(D761=Calcs!$X$39,Calcs!$W$39,IF(D761=Calcs!$X$40,Calcs!$W$40,IF(TRUE,0))))","v":0},760,"TB60-1206-14BTG",15,"TRACK BENCH: 5FTx100.5FTx14INxBTG",33,"BOTANICARE TRACK BENCH: 5FT WIDE x 100.5FT LONG x 14IN HIGH, TRILOCK, GUTTER",5,100.5,14]
[{"$f":"IF(B762=0,0,MAX($A$2:A761)+1)","v":0},{"$f":"IF(D762=Calcs!$X$38,Calcs!$W$38,IF(D762=Calcs!$X$39,Calcs!$W$39,IF(D762=Calcs!$X$40,Calcs!$W$40,IF(TRUE,0))))","v":0},761,"TB60-90-20BTG",13,"TRACK BENCH: 5FTx7.5FTx20INxBTG",31,"BOTANICARE TRACK BENCH: 5FT WIDE x 7.5FT LONG x 20IN HIGH, TRILOCK, GUTTER",5,7.5,20]
[{"$f":"IF(B763=0,0,MAX($A$2:A762)+1)","v":0},{"$f":"IF(D763=Calcs!$X$38,Calcs!$W$38,IF(D763=Calcs!$X$39,Calcs!$W$39,IF(D763=Calcs!$X$40,Calcs!$W$40,IF(TRUE,0))))","v":0},762,"TB60-102-20BTG",14,"TRACK BENCH: 5FTx8.5FTx20INxBTG",31,"BOTANICARE TRACK BENCH: 5FT WIDE x 8.5FT LONG x 20IN HIGH, TRILOCK, GUTTER",5,8.5,20]
[{"$f":"IF(B764=0,0,MAX($A$2:A763)+1)","v":0},{"$f":"IF(D764=Calcs!$X$38,Calcs!$W$38,IF(D764=Calcs!$X$39,Calcs!$W$39,IF(D764=Calcs!$X$40,Calcs!$W$40,IF(TRUE,0))))","v":0},763,"TB60-114-20BTG",14,"TRACK BENCH: 5FTx9.5FTx20INxBTG",31,"BOTANICARE TRACK BENCH: 5FT WIDE x 9.5FT LONG x 20IN HIGH, TRILOCK, GUTTER",5,9.5,20]
[{"$f":"IF(B765=0,0,MAX($A$2:A764)+1)","v":0},{"$f":"IF(D765=Calcs!$X$38,Calcs!$W$38,IF(D765=Calcs!$X$39,Calcs!$W$39,IF(D765=Calcs!$X$40,Calcs!$W$40,IF(TRUE,0))))","v":0},764,"TB60-126-20BTG",14,"TRACK BENCH: 5FTx10.5FTx20INxBTG",32,"BOTANICARE TRACK BENCH: 5FT WIDE x 10.5FT LONG x 20IN HIGH, TRILOCK, GUTTER",5,10.5,20]
[{"$f":"IF(B766=0,0,MAX($A$2:A765)+1)","v":0},{"$f":"IF(D766=Calcs!$X$38,Calcs!$W$38,IF(D766=Calcs!$X$39,Calcs!$W$39,IF(D766=Calcs!$X$40,Calcs!$W$40,IF(TRUE,0))))","v":0},765,"TB60-150-20BTG",14,"TRACK BENCH: 5FTx12.5FTx20INxBTG",32,"BOTANICARE TRACK BENCH: 5FT WIDE x 12.5FT LONG x 20IN HIGH, TRILOCK, GUTTER",5,12.5,20]
[{"$f":"IF(B767=0,0,MAX($A$2:A766)+1)","v":0},{"$f":"IF(D767=Calcs!$X$38,Calcs!$W$38,IF(D767=Calcs!$X$39,Calcs!$W$39,IF(D767=Calcs!$X$40,Calcs!$W$40,IF(TRUE,0))))","v":0},766,"TB60-162-20BTG",14,"TRACK BENCH: 5FTx13.5FTx20INxBTG",32,"BOTANICARE TRACK BENCH: 5FT WIDE x 13.5FT LONG x 20IN HIGH, TRILOCK, GUTTER",5,13.5,20]
[{"$f":"IF(B768=0,0,MAX($A$2:A767)+1)","v":0},{"$f":"IF(D768=Calcs!$X$38,Calcs!$W$38,IF(D768=Calcs!$X$39,Calcs!$W$39,IF(D768=Calcs!$X$40,Calcs!$W$40,IF(TRUE,0))))","v":0},767,"TB60-174-20BTG",14,"TRACK BENCH: 5FTx14.5FTx20INxBTG",32,"BOTANICARE TRACK BENCH: 5FT WIDE x 14.5FT LONG x 20IN HIGH, TRILOCK, GUTTER",5,14.5,20]
[{"$f":"IF(B769=0,0,MAX($A$2:A768)+1)","v":0},{"$f":"IF(D769=Calcs!$X$38,Calcs!$W$38,IF(D769=Calcs!$X$39,Calcs!$W$39,IF(D769=Calcs!$X$40,Calcs!$W$40,IF(TRUE,0))))","v":0},768,"TB60-186-20BTG",14,"TRACK BENCH: 5FTx15.5FTx20INxBTG",32,"BOTANICARE TRACK BENCH: 5FT WIDE x 15.5FT LONG x 20IN HIGH, TRILOCK, GUTTER",5,15.5,20]
[{"$f":"IF(B770=0,0,MAX($A$2:A769)+1)","v":0},{"$f":"IF(D770=Calcs!$X$38,Calcs!$W$38,IF(D770=Calcs!$X$39,Calcs!$W$39,IF(D770=Calcs!$X$40,Calcs!$W$40,IF(TRUE,0))))","v":0},769,"TB60-210-20BTG",14,"TRACK BENCH: 5FTx17.5FTx20INxBTG",32,"BOTANICARE TRACK BENCH: 5FT WIDE x 17.5FT LONG x 20IN HIGH, TRILOCK, GUTTER",5,17.5,20]
[{"$f":"IF(B771=0,0,MAX($A$2:A770)+1)","v":0},{"$f":"IF(D771=Calcs!$X$38,Calcs!$W$38,IF(D771=Calcs!$X$39,Calcs!$W$39,IF(D771=Calcs!$X$40,Calcs!$W$40,IF(TRUE,0))))","v":0},770,"TB60-222-20BTG",14,"TRACK BENCH: 5FTx18.5FTx20INxBTG",32,"BOTANICARE TRACK BENCH: 5FT WIDE x 18.5FT LONG x 20IN HIGH, TRILOCK, GUTTER",5,18.5,20]
[{"$f":"IF(B772=0,0,MAX($A$2:A771)+1)","v":0},{"$f":"IF(D772=Calcs!$X$38,Calcs!$W$38,IF(D772=Calcs!$X$39,Calcs!$W$39,IF(D772=Calcs!$X$40,Calcs!$W$40,IF(TRUE,0))))","v":0},771,"TB60-234-20BTG",14,"TRACK BENCH: 5FTx19.5FTx20INxBTG",32,"BOTANICARE TRACK BENCH: 5FT WIDE x 19.5FT LONG x 20IN HIGH, TRILOCK, GUTTER",5,19.5,20]
[{"$f":"IF(B773=0,0,MAX($A$2:A772)+1)","v":0},{"$f":"IF(D773=Calcs!$X$38,Calcs!$W$38,IF(D773=Calcs!$X$39,Calcs!$W$39,IF(D773=Calcs!$X$40,Calcs!$W$40,IF(TRUE,0))))","v":0},772,"TB60-246-20BTG",14,"TRACK BENCH: 5FTx20.5FTx20INxBTG",32,"BOTANICARE TRACK BENCH: 5FT WIDE x 20.5FT LONG x 20IN HIGH, TRILOCK, GUTTER",5,20.5,20]
[{"$f":"IF(B774=0,0,MAX($A$2:A773)+1)","v":0},{"$f":"IF(D774=Calcs!$X$38,Calcs!$W$38,IF(D774=Calcs!$X$39,Calcs!$W$39,IF(D774=Calcs!$X$40,Calcs!$W$40,IF(TRUE,0))))","v":0},773,"TB60-270-20BTG",14,"TRACK BENCH: 5FTx22.5FTx20INxBTG",32,"BOTANICARE TRACK BENCH: 5FT WIDE x 22.5FT LONG x 20IN HIGH, TRILOCK, GUTTER",5,22.5,20]
[{"$f":"IF(B775=0,0,MAX($A$2:A774)+1)","v":0},{"$f":"IF(D775=Calcs!$X$38,Calcs!$W$38,IF(D775=Calcs!$X$39,Calcs!$W$39,IF(D775=Calcs!$X$40,Calcs!$W$40,IF(TRUE,0))))","v":0},774,"TB60-282-20BTG",14,"TRACK BENCH: 5FTx23.5FTx20INxBTG",32,"BOTANICARE TRACK BENCH: 5FT WIDE x 23.5FT LONG x 20IN HIGH, TRILOCK, GUTTER",5,23.5,20]
[{"$f":"IF(B776=0,0,MAX($A$2:A775)+1)","v":0},{"$f":"IF(D776=Calcs!$X$38,Calcs!$W$38,IF(D776=Calcs!$X$39,Calcs!$W$39,IF(D776=Calcs!$X$40,Calcs!$W$40,IF(TRUE,0))))","v":0},775,"TB60-294-20BTG",14,"TRACK BENCH: 5FTx24.5FTx20INxBTG",32,"BOTANICARE TRACK BENCH: 5FT WIDE x 24.5FT LONG x 20IN HIGH, TRILOCK, GUTTER",5,24.5,20]
[{"$f":"IF(B777=0,0,MAX($A$2:A776)+1)","v":0},{"$f":"IF(D777=Calcs!$X$38,Calcs!$W$38,IF(D777=Calcs!$X$39,Calcs!$W$39,IF(D777=Calcs!$X$40,Calcs!$W$40,IF(TRUE,0))))","v":0},776,"TB60-306-20BTG",14,"TRACK BENCH: 5FTx25.5FTx20INxBTG",32,"BOTANICARE TRACK BENCH: 5FT WIDE x 25.5FT LONG x 20IN HIGH, TRILOCK, GUTTER",5,25.5,20]
[{"$f":"IF(B778=0,0,MAX($A$2:A777)+1)","v":0},{"$f":"IF(D778=Calcs!$X$38,Calcs!$W$38,IF(D778=Calcs!$X$39,Calcs!$W$39,IF(D778=Calcs!$X$40,Calcs!$W$40,IF(TRUE,0))))","v":0},777,"TB60-330-20BTG",14,"TRACK BENCH: 5FTx27.5FTx20INxBTG",32,"BOTANICARE TRACK BENCH: 5FT WIDE x 27.5FT LONG x 20IN HIGH, TRILOCK, GUTTER",5,27.5,20]
[{"$f":"IF(B779=0,0,MAX($A$2:A778)+1)","v":0},{"$f":"IF(D779=Calcs!$X$38,Calcs!$W$38,IF(D779=Calcs!$X$39,Calcs!$W$39,IF(D779=Calcs!$X$40,Calcs!$W$40,IF(TRUE,0))))","v":0},778,"TB60-342-20BTG",14,"TRACK BENCH: 5FTx28.5FTx20INxBTG",32,"BOTANICARE TRACK BENCH: 5FT WIDE x 28.5FT LONG x 20IN HIGH, TRILOCK, GUTTER",5,28.5,20]
[{"$f":"IF(B780=0,0,MAX($A$2:A779)+1)","v":0},{"$f":"IF(D780=Calcs!$X$38,Calcs!$W$38,IF(D780=Calcs!$X$39,Calcs!$W$39,IF(D780=Calcs!$X$40,Calcs!$W$40,IF(TRUE,0))))","v":0},779,"TB60-354-20BTG",14,"TRACK BENCH: 5FTx29.5FTx20INxBTG",32,"BOTANICARE TRACK BENCH: 5FT WIDE x 29.5FT LONG x 20IN HIGH, TRILOCK, GUTTER",5,29.5,20]
[{"$f":"IF(B781=0,0,MAX($A$2:A780)+1)","v":0},{"$f":"IF(D781=Calcs!$X$38,Calcs!$W$38,IF(D781=Calcs!$X$39,Calcs!$W$39,IF(D781=Calcs!$X$40,Calcs!$W$40,IF(TRUE,0))))","v":0},780,"TB60-366-20BTG",14,"TRACK BENCH: 5FTx30.5FTx20INxBTG",32,"BOTANICARE TRACK BENCH: 5FT WIDE x 30.5FT LONG x 20IN HIGH, TRILOCK, GUTTER",5,30.5,20]
[{"$f":"IF(B782=0,0,MAX($A$2:A781)+1)","v":0},{"$f":"IF(D782=Calcs!$X$38,Calcs!$W$38,IF(D782=Calcs!$X$39,Calcs!$W$39,IF(D782=Calcs!$X$40,Calcs!$W$40,IF(TRUE,0))))","v":0},781,"TB60-390-20BTG",14,"TRACK BENCH: 5FTx32.5FTx20INxBTG",32,"BOTANICARE TRACK BENCH: 5FT WIDE x 32.5FT LONG x 20IN HIGH, TRILOCK, GUTTER",5,32.5,20]
[{"$f":"IF(B783=0,0,MAX($A$2:A782)+1)","v":0},{"$f":"IF(D783=Calcs!$X$38,Calcs!$W$38,IF(D783=Calcs!$X$39,Calcs!$W$39,IF(D783=Calcs!$X$40,Calcs!$W$40,IF(TRUE,0))))","v":0},782,"TB60-402-20BTG",14,"TRACK BENCH: 5FTx33.5FTx20INxBTG",32,"BOTANICARE TRACK BENCH: 5FT WIDE x 33.5FT LONG x 20IN HIGH, TRILOCK, GUTTER",5,33.5,20]
[{"$f":"IF(B784=0,0,MAX($A$2:A783)+1)","v":0},{"$f":"IF(D784=Calcs!$X$38,Calcs!$W$38,IF(D784=Calcs!$X$39,Calcs!$W$39,IF(D784=Calcs!$X$40,Calcs!$W$40,IF(TRUE,0))))","v":0},783,"TB60-414-20BTG",14,"TRACK BENCH: 5FTx34.5FTx20INxBTG",32,"BOTANICARE TRACK BENCH: 5FT WIDE x 34.5FT LONG x 20IN HIGH, TRILOCK, GUTTER",5,34.5,20]
[{"$f":"IF(B785=0,0,MAX($A$2:A784)+1)","v":0},{"$f":"IF(D785=Calcs!$X$38,Calcs!$W$38,IF(D785=Calcs!$X$39,Calcs!$W$39,IF(D785=Calcs!$X$40,Calcs!$W$40,IF(TRUE,0))))","v":0},784,"TB60-426-20BTG",14,"TRACK BENCH: 5FTx35.5FTx20INxBTG",32,"BOTANICARE TRACK BENCH: 5FT WIDE x 35.5FT LONG x 20IN HIGH, TRILOCK, GUTTER",5,35.5,20]
[{"$f":"IF(B786=0,0,MAX($A$2:A785)+1)","v":0},{"$f":"IF(D786=Calcs!$X$38,Calcs!$W$38,IF(D786=Calcs!$X$39,Calcs!$W$39,IF(D786=Calcs!$X$40,Calcs!$W$40,IF(TRUE,0))))","v":0},785,"TB60-450-20BTG",14,"TRACK BENCH: 5FTx37.5FTx20INxBTG",32,"BOTANICARE TRACK BENCH: 5FT WIDE x 37.5FT LONG x 20IN HIGH, TRILOCK, GUTTER",5,37.5,20]
[{"$f":"IF(B787=0,0,MAX($A$2:A786)+1)","v":0},{"$f":"IF(D787=Calcs!$X$38,Calcs!$W$38,IF(D787=Calcs!$X$39,Calcs!$W$39,IF(D787=Calcs!$X$40,Calcs!$W$40,IF(TRUE,0))))","v":0},786,"TB60-462-20BTG",14,"TRACK BENCH: 5FTx38.5FTx20INxBTG",32,"BOTANICARE TRACK BENCH: 5FT WIDE x 38.5FT LONG x 20IN HIGH, TRILOCK, GUTTER",5,38.5,20]
[{"$f":"IF(B788=0,0,MAX($A$2:A787)+1)","v":0},{"$f":"IF(D788=Calcs!$X$38,Calcs!$W$38,IF(D788=Calcs!$X$39,Calcs!$W$39,IF(D788=Calcs!$X$40,Calcs!$W$40,IF(TRUE,0))))","v":0},787,"TB60-474-20BTG",14,"TRACK BENCH: 5FTx39.5FTx20INxBTG",32,"BOTANICARE TRACK BENCH: 5FT WIDE x 39.5FT LONG x 20IN HIGH, TRILOCK, GUTTER",5,39.5,20]
[{"$f":"IF(B789=0,0,MAX($A$2:A788)+1)","v":0},{"$f":"IF(D789=Calcs!$X$38,Calcs!$W$38,IF(D789=Calcs!$X$39,Calcs!$W$39,IF(D789=Calcs!$X$40,Calcs!$W$40,IF(TRUE,0))))","v":0},788,"TB60-486-20BTG",14,"TRACK BENCH: 5FTx40.5FTx20INxBTG",32,"BOTANICARE TRACK BENCH: 5FT WIDE x 40.5FT LONG x 20IN HIGH, TRILOCK, GUTTER",5,40.5,20]
[{"$f":"IF(B790=0,0,MAX($A$2:A789)+1)","v":0},{"$f":"IF(D790=Calcs!$X$38,Calcs!$W$38,IF(D790=Calcs!$X$39,Calcs!$W$39,IF(D790=Calcs!$X$40,Calcs!$W$40,IF(TRUE,0))))","v":0},789,"TB60-510-20BTG",14,"TRACK BENCH: 5FTx42.5FTx20INxBTG",32,"BOTANICARE TRACK BENCH: 5FT WIDE x 42.5FT LONG x 20IN HIGH, TRILOCK, GUTTER",5,42.5,20]
[{"$f":"IF(B791=0,0,MAX($A$2:A790)+1)","v":0},{"$f":"IF(D791=Calcs!$X$38,Calcs!$W$38,IF(D791=Calcs!$X$39,Calcs!$W$39,IF(D791=Calcs!$X$40,Calcs!$W$40,IF(TRUE,0))))","v":0},790,"TB60-522-20BTG",14,"TRACK BENCH: 5FTx43.5FTx20INxBTG",32,"BOTANICARE TRACK BENCH: 5FT WIDE x 43.5FT LONG x 20IN HIGH, TRILOCK, GUTTER",5,43.5,20]
[{"$f":"IF(B792=0,0,MAX($A$2:A791)+1)","v":0},{"$f":"IF(D792=Calcs!$X$38,Calcs!$W$38,IF(D792=Calcs!$X$39,Calcs!$W$39,IF(D792=Calcs!$X$40,Calcs!$W$40,IF(TRUE,0))))","v":0},791,"TB60-534-20BTG",14,"TRACK BENCH: 5FTx44.5FTx20INxBTG",32,"BOTANICARE TRACK BENCH: 5FT WIDE x 44.5FT LONG x 20IN HIGH, TRILOCK, GUTTER",5,44.5,20]
[{"$f":"IF(B793=0,0,MAX($A$2:A792)+1)","v":0},{"$f":"IF(D793=Calcs!$X$38,Calcs!$W$38,IF(D793=Calcs!$X$39,Calcs!$W$39,IF(D793=Calcs!$X$40,Calcs!$W$40,IF(TRUE,0))))","v":0},792,"TB60-546-20BTG",14,"TRACK BENCH: 5FTx45.5FTx20INxBTG",32,"BOTANICARE TRACK BENCH: 5FT WIDE x 45.5FT LONG x 20IN HIGH, TRILOCK, GUTTER",5,45.5,20]
[{"$f":"IF(B794=0,0,MAX($A$2:A793)+1)","v":0},{"$f":"IF(D794=Calcs!$X$38,Calcs!$W$38,IF(D794=Calcs!$X$39,Calcs!$W$39,IF(D794=Calcs!$X$40,Calcs!$W$40,IF(TRUE,0))))","v":0},793,"TB60-570-20BTG",14,"TRACK BENCH: 5FTx47.5FTx20INxBTG",32,"BOTANICARE TRACK BENCH: 5FT WIDE x 47.5FT LONG x 20IN HIGH, TRILOCK, GUTTER",5,47.5,20]
[{"$f":"IF(B795=0,0,MAX($A$2:A794)+1)","v":0},{"$f":"IF(D795=Calcs!$X$38,Calcs!$W$38,IF(D795=Calcs!$X$39,Calcs!$W$39,IF(D795=Calcs!$X$40,Calcs!$W$40,IF(TRUE,0))))","v":0},794,"TB60-582-20BTG",14,"TRACK BENCH: 5FTx48.5FTx20INxBTG",32,"BOTANICARE TRACK BENCH: 5FT WIDE x 48.5FT LONG x 20IN HIGH, TRILOCK, GUTTER",5,48.5,20]
[{"$f":"IF(B796=0,0,MAX($A$2:A795)+1)","v":0},{"$f":"IF(D796=Calcs!$X$38,Calcs!$W$38,IF(D796=Calcs!$X$39,Calcs!$W$39,IF(D796=Calcs!$X$40,Calcs!$W$40,IF(TRUE,0))))","v":0},795,"TB60-594-20BTG",14,"TRACK BENCH: 5FTx49.5FTx20INxBTG",32,"BOTANICARE TRACK BENCH: 5FT WIDE x 49.5FT LONG x 20IN HIGH, TRILOCK, GUTTER",5,49.5,20]
[{"$f":"IF(B797=0,0,MAX($A$2:A796)+1)","v":0},{"$f":"IF(D797=Calcs!$X$38,Calcs!$W$38,IF(D797=Calcs!$X$39,Calcs!$W$39,IF(D797=Calcs!$X$40,Calcs!$W$40,IF(TRUE,0))))","v":0},796,"TB60-606-20BTG",14,"TRACK BENCH: 5FTx50.5FTx20INxBTG",32,"BOTANICARE TRACK BENCH: 5FT WIDE x 50.5FT LONG x 20IN HIGH, TRILOCK, GUTTER",5,50.5,20]
[{"$f":"IF(B798=0,0,MAX($A$2:A797)+1)","v":0},{"$f":"IF(D798=Calcs!$X$38,Calcs!$W$38,IF(D798=Calcs!$X$39,Calcs!$W$39,IF(D798=Calcs!$X$40,Calcs!$W$40,IF(TRUE,0))))","v":0},797,"TB60-630-20BTG",14,"TRACK BENCH: 5FTx52.5FTx20INxBTG",32,"BOTANICARE TRACK BENCH: 5FT WIDE x 52.5FT LONG x 20IN HIGH, TRILOCK, GUTTER",5,52.5,20]
[{"$f":"IF(B799=0,0,MAX($A$2:A798)+1)","v":0},{"$f":"IF(D799=Calcs!$X$38,Calcs!$W$38,IF(D799=Calcs!$X$39,Calcs!$W$39,IF(D799=Calcs!$X$40,Calcs!$W$40,IF(TRUE,0))))","v":0},798,"TB60-642-20BTG",14,"TRACK BENCH: 5FTx53.5FTx20INxBTG",32,"BOTANICARE TRACK BENCH: 5FT WIDE x 53.5FT LONG x 20IN HIGH, TRILOCK, GUTTER",5,53.5,20]
[{"$f":"IF(B800=0,0,MAX($A$2:A799)+1)","v":0},{"$f":"IF(D800=Calcs!$X$38,Calcs!$W$38,IF(D800=Calcs!$X$39,Calcs!$W$39,IF(D800=Calcs!$X$40,Calcs!$W$40,IF(TRUE,0))))","v":0},799,"TB60-654-20BTG",14,"TRACK BENCH: 5FTx54.5FTx20INxBTG",32,"BOTANICARE TRACK BENCH: 5FT WIDE x 54.5FT LONG x 20IN HIGH, TRILOCK, GUTTER",5,54.5,20]
[{"$f":"IF(B801=0,0,MAX($A$2:A800)+1)","v":0},{"$f":"IF(D801=Calcs!$X$38,Calcs!$W$38,IF(D801=Calcs!$X$39,Calcs!$W$39,IF(D801=Calcs!$X$40,Calcs!$W$40,IF(TRUE,0))))","v":0},800,"TB60-666-20BTG",14,"TRACK BENCH: 5FTx55.5FTx20INxBTG",32,"BOTANICARE TRACK BENCH: 5FT WIDE x 55.5FT LONG x 20IN HIGH, TRILOCK, GUTTER",5,55.5,20]
[{"$f":"IF(B802=0,0,MAX($A$2:A801)+1)","v":0},{"$f":"IF(D802=Calcs!$X$38,Calcs!$W$38,IF(D802=Calcs!$X$39,Calcs!$W$39,IF(D802=Calcs!$X$40,Calcs!$W$40,IF(TRUE,0))))","v":0},801,"TB60-690-20BTG",14,"TRACK BENCH: 5FTx57.5FTx20INxBTG",32,"BOTANICARE TRACK BENCH: 5FT WIDE x 57.5FT LONG x 20IN HIGH, TRILOCK, GUTTER",5,57.5,20]
[{"$f":"IF(B803=0,0,MAX($A$2:A802)+1)","v":0},{"$f":"IF(D803=Calcs!$X$38,Calcs!$W$38,IF(D803=Calcs!$X$39,Calcs!$W$39,IF(D803=Calcs!$X$40,Calcs!$W$40,IF(TRUE,0))))","v":0},802,"TB60-702-20BTG",14,"TRACK BENCH: 5FTx58.5FTx20INxBTG",32,"BOTANICARE TRACK BENCH: 5FT WIDE x 58.5FT LONG x 20IN HIGH, TRILOCK, GUTTER",5,58.5,20]
[{"$f":"IF(B804=0,0,MAX($A$2:A803)+1)","v":0},{"$f":"IF(D804=Calcs!$X$38,Calcs!$W$38,IF(D804=Calcs!$X$39,Calcs!$W$39,IF(D804=Calcs!$X$40,Calcs!$W$40,IF(TRUE,0))))","v":0},803,"TB60-714-20BTG",14,"TRACK BENCH: 5FTx59.5FTx20INxBTG",32,"BOTANICARE TRACK BENCH: 5FT WIDE x 59.5FT LONG x 20IN HIGH, TRILOCK, GUTTER",5,59.5,20]
[{"$f":"IF(B805=0,0,MAX($A$2:A804)+1)","v":0},{"$f":"IF(D805=Calcs!$X$38,Calcs!$W$38,IF(D805=Calcs!$X$39,Calcs!$W$39,IF(D805=Calcs!$X$40,Calcs!$W$40,IF(TRUE,0))))","v":0},804,"TB60-726-20BTG",14,"TRACK BENCH: 5FTx60.5FTx20INxBTG",32,"BOTANICARE TRACK BENCH: 5FT WIDE x 60.5FT LONG x 20IN HIGH, TRILOCK, GUTTER",5,60.5,20]
[{"$f":"IF(B806=0,0,MAX($A$2:A805)+1)","v":0},{"$f":"IF(D806=Calcs!$X$38,Calcs!$W$38,IF(D806=Calcs!$X$39,Calcs!$W$39,IF(D806=Calcs!$X$40,Calcs!$W$40,IF(TRUE,0))))","v":0},805,"TB60-750-20BTG",14,"TRACK BENCH: 5FTx62.5FTx20INxBTG",32,"BOTANICARE TRACK BENCH: 5FT WIDE x 62.5FT LONG x 20IN HIGH, TRILOCK, GUTTER",5,62.5,20]
[{"$f":"IF(B807=0,0,MAX($A$2:A806)+1)","v":0},{"$f":"IF(D807=Calcs!$X$38,Calcs!$W$38,IF(D807=Calcs!$X$39,Calcs!$W$39,IF(D807=Calcs!$X$40,Calcs!$W$40,IF(TRUE,0))))","v":0},806,"TB60-762-20BTG",14,"TRACK BENCH: 5FTx63.5FTx20INxBTG",32,"BOTANICARE TRACK BENCH: 5FT WIDE x 63.5FT LONG x 20IN HIGH, TRILOCK, GUTTER",5,63.5,20]
[{"$f":"IF(B808=0,0,MAX($A$2:A807)+1)","v":0},{"$f":"IF(D808=Calcs!$X$38,Calcs!$W$38,IF(D808=Calcs!$X$39,Calcs!$W$39,IF(D808=Calcs!$X$40,Calcs!$W$40,IF(TRUE,0))))","v":0},807,"TB60-774-20BTG",14,"TRACK BENCH: 5FTx64.5FTx20INxBTG",32,"BOTANICARE TRACK BENCH: 5FT WIDE x 64.5FT LONG x 20IN HIGH, TRILOCK, GUTTER",5,64.5,20]
[{"$f":"IF(B809=0,0,MAX($A$2:A808)+1)","v":0},{"$f":"IF(D809=Calcs!$X$38,Calcs!$W$38,IF(D809=Calcs!$X$39,Calcs!$W$39,IF(D809=Calcs!$X$40,Calcs!$W$40,IF(TRUE,0))))","v":0},808,"TB60-786-20BTG",14,"TRACK BENCH: 5FTx65.5FTx20INxBTG",32,"BOTANICARE TRACK BENCH: 5FT WIDE x 65.5FT LONG x 20IN HIGH, TRILOCK, GUTTER",5,65.5,20]
[{"$f":"IF(B810=0,0,MAX($A$2:A809)+1)","v":0},{"$f":"IF(D810=Calcs!$X$38,Calcs!$W$38,IF(D810=Calcs!$X$39,Calcs!$W$39,IF(D810=Calcs!$X$40,Calcs!$W$40,IF(TRUE,0))))","v":0},809,"TB60-810-20BTG",14,"TRACK BENCH: 5FTx67.5FTx20INxBTG",32,"BOTANICARE TRACK BENCH: 5FT WIDE x 67.5FT LONG x 20IN HIGH, TRILOCK, GUTTER",5,67.5,20]
[{"$f":"IF(B811=0,0,MAX($A$2:A810)+1)","v":0},{"$f":"IF(D811=Calcs!$X$38,Calcs!$W$38,IF(D811=Calcs!$X$39,Calcs!$W$39,IF(D811=Calcs!$X$40,Calcs!$W$40,IF(TRUE,0))))","v":0},810,"TB60-822-20BTG",14,"TRACK BENCH: 5FTx68.5FTx20INxBTG",32,"BOTANICARE TRACK BENCH: 5FT WIDE x 68.5FT LONG x 20IN HIGH, TRILOCK, GUTTER",5,68.5,20]
[{"$f":"IF(B812=0,0,MAX($A$2:A811)+1)","v":0},{"$f":"IF(D812=Calcs!$X$38,Calcs!$W$38,IF(D812=Calcs!$X$39,Calcs!$W$39,IF(D812=Calcs!$X$40,Calcs!$W$40,IF(TRUE,0))))","v":0},811,"TB60-834-20BTG",14,"TRACK BENCH: 5FTx69.5FTx20INxBTG",32,"BOTANICARE TRACK BENCH: 5FT WIDE x 69.5FT LONG x 20IN HIGH, TRILOCK, GUTTER",5,69.5,20]
[{"$f":"IF(B813=0,0,MAX($A$2:A812)+1)","v":0},{"$f":"IF(D813=Calcs!$X$38,Calcs!$W$38,IF(D813=Calcs!$X$39,Calcs!$W$39,IF(D813=Calcs!$X$40,Calcs!$W$40,IF(TRUE,0))))","v":0},812,"TB60-846-20BTG",14,"TRACK BENCH: 5FTx70.5FTx20INxBTG",32,"BOTANICARE TRACK BENCH: 5FT WIDE x 70.5FT LONG x 20IN HIGH, TRILOCK, GUTTER",5,70.5,20]
[{"$f":"IF(B814=0,0,MAX($A$2:A813)+1)","v":0},{"$f":"IF(D814=Calcs!$X$38,Calcs!$W$38,IF(D814=Calcs!$X$39,Calcs!$W$39,IF(D814=Calcs!$X$40,Calcs!$W$40,IF(TRUE,0))))","v":0},813,"TB60-870-20BTG",14,"TRACK BENCH: 5FTx72.5FTx20INxBTG",32,"BOTANICARE TRACK BENCH: 5FT WIDE x 72.5FT LONG x 20IN HIGH, TRILOCK, GUTTER",5,72.5,20]
[{"$f":"IF(B815=0,0,MAX($A$2:A814)+1)","v":0},{"$f":"IF(D815=Calcs!$X$38,Calcs!$W$38,IF(D815=Calcs!$X$39,Calcs!$W$39,IF(D815=Calcs!$X$40,Calcs!$W$40,IF(TRUE,0))))","v":0},814,"TB60-882-20BTG",14,"TRACK BENCH: 5FTx73.5FTx20INxBTG",32,"BOTANICARE TRACK BENCH: 5FT WIDE x 73.5FT LONG x 20IN HIGH, TRILOCK, GUTTER",5,73.5,20]
[{"$f":"IF(B816=0,0,MAX($A$2:A815)+1)","v":0},{"$f":"IF(D816=Calcs!$X$38,Calcs!$W$38,IF(D816=Calcs!$X$39,Calcs!$W$39,IF(D816=Calcs!$X$40,Calcs!$W$40,IF(TRUE,0))))","v":0},815,"TB60-894-20BTG",14,"TRACK BENCH: 5FTx74.5FTx20INxBTG",32,"BOTANICARE TRACK BENCH: 5FT WIDE x 74.5FT LONG x 20IN HIGH, TRILOCK, GUTTER",5,74.5,20]
[{"$f":"IF(B817=0,0,MAX($A$2:A816)+1)","v":0},{"$f":"IF(D817=Calcs!$X$38,Calcs!$W$38,IF(D817=Calcs!$X$39,Calcs!$W$39,IF(D817=Calcs!$X$40,Calcs!$W$40,IF(TRUE,0))))","v":0},816,"TB60-906-20BTG",14,"TRACK BENCH: 5FTx75.5FTx20INxBTG",32,"BOTANICARE TRACK BENCH: 5FT WIDE x 75.5FT LONG x 20IN HIGH, TRILOCK, GUTTER",5,75.5,20]
[{"$f":"IF(B818=0,0,MAX($A$2:A817)+1)","v":0},{"$f":"IF(D818=Calcs!$X$38,Calcs!$W$38,IF(D818=Calcs!$X$39,Calcs!$W$39,IF(D818=Calcs!$X$40,Calcs!$W$40,IF(TRUE,0))))","v":0},817,"TB60-930-20BTG",14,"TRACK BENCH: 5FTx77.5FTx20INxBTG",32,"BOTANICARE TRACK BENCH: 5FT WIDE x 77.5FT LONG x 20IN HIGH, TRILOCK, GUTTER",5,77.5,20]
[{"$f":"IF(B819=0,0,MAX($A$2:A818)+1)","v":0},{"$f":"IF(D819=Calcs!$X$38,Calcs!$W$38,IF(D819=Calcs!$X$39,Calcs!$W$39,IF(D819=Calcs!$X$40,Calcs!$W$40,IF(TRUE,0))))","v":0},818,"TB60-942-20BTG",14,"TRACK BENCH: 5FTx78.5FTx20INxBTG",32,"BOTANICARE TRACK BENCH: 5FT WIDE x 78.5FT LONG x 20IN HIGH, TRILOCK, GUTTER",5,78.5,20]
[{"$f":"IF(B820=0,0,MAX($A$2:A819)+1)","v":0},{"$f":"IF(D820=Calcs!$X$38,Calcs!$W$38,IF(D820=Calcs!$X$39,Calcs!$W$39,IF(D820=Calcs!$X$40,Calcs!$W$40,IF(TRUE,0))))","v":0},819,"TB60-954-20BTG",14,"TRACK BENCH: 5FTx79.5FTx20INxBTG",32,"BOTANICARE TRACK BENCH: 5FT WIDE x 79.5FT LONG x 20IN HIGH, TRILOCK, GUTTER",5,79.5,20]
[{"$f":"IF(B821=0,0,MAX($A$2:A820)+1)","v":0},{"$f":"IF(D821=Calcs!$X$38,Calcs!$W$38,IF(D821=Calcs!$X$39,Calcs!$W$39,IF(D821=Calcs!$X$40,Calcs!$W$40,IF(TRUE,0))))","v":0},820,"TB60-966-20BTG",14,"TRACK BENCH: 5FTx80.5FTx20INxBTG",32,"BOTANICARE TRACK BENCH: 5FT WIDE x 80.5FT LONG x 20IN HIGH, TRILOCK, GUTTER",5,80.5,20]
[{"$f":"IF(B822=0,0,MAX($A$2:A821)+1)","v":0},{"$f":"IF(D822=Calcs!$X$38,Calcs!$W$38,IF(D822=Calcs!$X$39,Calcs!$W$39,IF(D822=Calcs!$X$40,Calcs!$W$40,IF(TRUE,0))))","v":0},821,"TB60-990-20BTG",14,"TRACK BENCH: 5FTx82.5FTx20INxBTG",32,"BOTANICARE TRACK BENCH: 5FT WIDE x 82.5FT LONG x 20IN HIGH, TRILOCK, GUTTER",5,82.5,20]
[{"$f":"IF(B823=0,0,MAX($A$2:A822)+1)","v":0},{"$f":"IF(D823=Calcs!$X$38,Calcs!$W$38,IF(D823=Calcs!$X$39,Calcs!$W$39,IF(D823=Calcs!$X$40,Calcs!$W$40,IF(TRUE,0))))","v":0},822,"TB60-1002-20BTG",15,"TRACK BENCH: 5FTx83.5FTx20INxBTG",32,"BOTANICARE TRACK BENCH: 5FT WIDE x 83.5FT LONG x 20IN HIGH, TRILOCK, GUTTER",5,83.5,20]
[{"$f":"IF(B824=0,0,MAX($A$2:A823)+1)","v":0},{"$f":"IF(D824=Calcs!$X$38,Calcs!$W$38,IF(D824=Calcs!$X$39,Calcs!$W$39,IF(D824=Calcs!$X$40,Calcs!$W$40,IF(TRUE,0))))","v":0},823,"TB60-1014-20BTG",15,"TRACK BENCH: 5FTx84.5FTx20INxBTG",32,"BOTANICARE TRACK BENCH: 5FT WIDE x 84.5FT LONG x 20IN HIGH, TRILOCK, GUTTER",5,84.5,20]
[{"$f":"IF(B825=0,0,MAX($A$2:A824)+1)","v":0},{"$f":"IF(D825=Calcs!$X$38,Calcs!$W$38,IF(D825=Calcs!$X$39,Calcs!$W$39,IF(D825=Calcs!$X$40,Calcs!$W$40,IF(TRUE,0))))","v":0},824,"TB60-1026-20BTG",15,"TRACK BENCH: 5FTx85.5FTx20INxBTG",32,"BOTANICARE TRACK BENCH: 5FT WIDE x 85.5FT LONG x 20IN HIGH, TRILOCK, GUTTER",5,85.5,20]
[{"$f":"IF(B826=0,0,MAX($A$2:A825)+1)","v":0},{"$f":"IF(D826=Calcs!$X$38,Calcs!$W$38,IF(D826=Calcs!$X$39,Calcs!$W$39,IF(D826=Calcs!$X$40,Calcs!$W$40,IF(TRUE,0))))","v":0},825,"TB60-1050-20BTG",15,"TRACK BENCH: 5FTx87.5FTx20INxBTG",32,"BOTANICARE TRACK BENCH: 5FT WIDE x 87.5FT LONG x 20IN HIGH, TRILOCK, GUTTER",5,87.5,20]
[{"$f":"IF(B827=0,0,MAX($A$2:A826)+1)","v":0},{"$f":"IF(D827=Calcs!$X$38,Calcs!$W$38,IF(D827=Calcs!$X$39,Calcs!$W$39,IF(D827=Calcs!$X$40,Calcs!$W$40,IF(TRUE,0))))","v":0},826,"TB60-1062-20BTG",15,"TRACK BENCH: 5FTx88.5FTx20INxBTG",32,"BOTANICARE TRACK BENCH: 5FT WIDE x 88.5FT LONG x 20IN HIGH, TRILOCK, GUTTER",5,88.5,20]
[{"$f":"IF(B828=0,0,MAX($A$2:A827)+1)","v":0},{"$f":"IF(D828=Calcs!$X$38,Calcs!$W$38,IF(D828=Calcs!$X$39,Calcs!$W$39,IF(D828=Calcs!$X$40,Calcs!$W$40,IF(TRUE,0))))","v":0},827,"TB60-1074-20BTG",15,"TRACK BENCH: 5FTx89.5FTx20INxBTG",32,"BOTANICARE TRACK BENCH: 5FT WIDE x 89.5FT LONG x 20IN HIGH, TRILOCK, GUTTER",5,89.5,20]
[{"$f":"IF(B829=0,0,MAX($A$2:A828)+1)","v":0},{"$f":"IF(D829=Calcs!$X$38,Calcs!$W$38,IF(D829=Calcs!$X$39,Calcs!$W$39,IF(D829=Calcs!$X$40,Calcs!$W$40,IF(TRUE,0))))","v":0},828,"TB60-1086-20BTG",15,"TRACK BENCH: 5FTx90.5FTx20INxBTG",32,"BOTANICARE TRACK BENCH: 5FT WIDE x 90.5FT LONG x 20IN HIGH, TRILOCK, GUTTER",5,90.5,20]
[{"$f":"IF(B830=0,0,MAX($A$2:A829)+1)","v":0},{"$f":"IF(D830=Calcs!$X$38,Calcs!$W$38,IF(D830=Calcs!$X$39,Calcs!$W$39,IF(D830=Calcs!$X$40,Calcs!$W$40,IF(TRUE,0))))","v":0},829,"TB60-1110-20BTG",15,"TRACK BENCH: 5FTx92.5FTx20INxBTG",32,"BOTANICARE TRACK BENCH: 5FT WIDE x 92.5FT LONG x 20IN HIGH, TRILOCK, GUTTER",5,92.5,20]
[{"$f":"IF(B831=0,0,MAX($A$2:A830)+1)","v":0},{"$f":"IF(D831=Calcs!$X$38,Calcs!$W$38,IF(D831=Calcs!$X$39,Calcs!$W$39,IF(D831=Calcs!$X$40,Calcs!$W$40,IF(TRUE,0))))","v":0},830,"TB60-1122-20BTG",15,"TRACK BENCH: 5FTx93.5FTx20INxBTG",32,"BOTANICARE TRACK BENCH: 5FT WIDE x 93.5FT LONG x 20IN HIGH, TRILOCK, GUTTER",5,93.5,20]
[{"$f":"IF(B832=0,0,MAX($A$2:A831)+1)","v":0},{"$f":"IF(D832=Calcs!$X$38,Calcs!$W$38,IF(D832=Calcs!$X$39,Calcs!$W$39,IF(D832=Calcs!$X$40,Calcs!$W$40,IF(TRUE,0))))","v":0},831,"TB60-1134-20BTG",15,"TRACK BENCH: 5FTx94.5FTx20INxBTG",32,"BOTANICARE TRACK BENCH: 5FT WIDE x 94.5FT LONG x 20IN HIGH, TRILOCK, GUTTER",5,94.5,20]
[{"$f":"IF(B833=0,0,MAX($A$2:A832)+1)","v":0},{"$f":"IF(D833=Calcs!$X$38,Calcs!$W$38,IF(D833=Calcs!$X$39,Calcs!$W$39,IF(D833=Calcs!$X$40,Calcs!$W$40,IF(TRUE,0))))","v":0},832,"TB60-1146-20BTG",15,"TRACK BENCH: 5FTx95.5FTx20INxBTG",32,"BOTANICARE TRACK BENCH: 5FT WIDE x 95.5FT LONG x 20IN HIGH, TRILOCK, GUTTER",5,95.5,20]
[{"$f":"IF(B834=0,0,MAX($A$2:A833)+1)","v":0},{"$f":"IF(D834=Calcs!$X$38,Calcs!$W$38,IF(D834=Calcs!$X$39,Calcs!$W$39,IF(D834=Calcs!$X$40,Calcs!$W$40,IF(TRUE,0))))","v":0},833,"TB60-1170-20BTG",15,"TRACK BENCH: 5FTx97.5FTx20INxBTG",32,"BOTANICARE TRACK BENCH: 5FT WIDE x 97.5FT LONG x 20IN HIGH, TRILOCK, GUTTER",5,97.5,20]
[{"$f":"IF(B835=0,0,MAX($A$2:A834)+1)","v":0},{"$f":"IF(D835=Calcs!$X$38,Calcs!$W$38,IF(D835=Calcs!$X$39,Calcs!$W$39,IF(D835=Calcs!$X$40,Calcs!$W$40,IF(TRUE,0))))","v":0},834,"TB60-1182-20BTG",15,"TRACK BENCH: 5FTx98.5FTx20INxBTG",32,"BOTANICARE TRACK BENCH: 5FT WIDE x 98.5FT LONG x 20IN HIGH, TRILOCK, GUTTER",5,98.5,20]
[{"$f":"IF(B836=0,0,MAX($A$2:A835)+1)","v":0},{"$f":"IF(D836=Calcs!$X$38,Calcs!$W$38,IF(D836=Calcs!$X$39,Calcs!$W$39,IF(D836=Calcs!$X$40,Calcs!$W$40,IF(TRUE,0))))","v":0},835,"TB60-1194-20BTG",15,"TRACK BENCH: 5FTx99.5FTx20INxBTG",32,"BOTANICARE TRACK BENCH: 5FT WIDE x 99.5FT LONG x 20IN HIGH, TRILOCK, GUTTER",5,99.5,20]
[{"$f":"IF(B837=0,0,MAX($A$2:A836)+1)","v":0},{"$f":"IF(D837=Calcs!$X$38,Calcs!$W$38,IF(D837=Calcs!$X$39,Calcs!$W$39,IF(D837=Calcs!$X$40,Calcs!$W$40,IF(TRUE,0))))","v":0},836,"TB60-1206-20BTG",15,"TRACK BENCH: 5FTx100.5FTx20INxBTG",33,"BOTANICARE TRACK BENCH: 5FT WIDE x 100.5FT LONG x 20IN HIGH, TRILOCK, GUTTER",5,100.5,20]
[{"$f":"IF(B838=0,0,MAX($A$2:A837)+1)","v":0},{"$f":"IF(D838=Calcs!$X$38,Calcs!$W$38,IF(D838=Calcs!$X$39,Calcs!$W$39,IF(D838=Calcs!$X$40,Calcs!$W$40,IF(TRUE,0))))","v":0},837,"TB60-90-30BTG",13,"TRACK BENCH: 5FTx7.5FTx30INxBTG",31,"BOTANICARE TRACK BENCH: 5FT WIDE x 7.5FT LONG x 30IN HIGH, TRILOCK, GUTTER",5,7.5,30]
[{"$f":"IF(B839=0,0,MAX($A$2:A838)+1)","v":0},{"$f":"IF(D839=Calcs!$X$38,Calcs!$W$38,IF(D839=Calcs!$X$39,Calcs!$W$39,IF(D839=Calcs!$X$40,Calcs!$W$40,IF(TRUE,0))))","v":0},838,"TB60-102-30BTG",14,"TRACK BENCH: 5FTx8.5FTx30INxBTG",31,"BOTANICARE TRACK BENCH: 5FT WIDE x 8.5FT LONG x 30IN HIGH, TRILOCK, GUTTER",5,8.5,30]
[{"$f":"IF(B840=0,0,MAX($A$2:A839)+1)","v":0},{"$f":"IF(D840=Calcs!$X$38,Calcs!$W$38,IF(D840=Calcs!$X$39,Calcs!$W$39,IF(D840=Calcs!$X$40,Calcs!$W$40,IF(TRUE,0))))","v":0},839,"TB60-114-30BTG",14,"TRACK BENCH: 5FTx9.5FTx30INxBTG",31,"BOTANICARE TRACK BENCH: 5FT WIDE x 9.5FT LONG x 30IN HIGH, TRILOCK, GUTTER",5,9.5,30]
[{"$f":"IF(B841=0,0,MAX($A$2:A840)+1)","v":0},{"$f":"IF(D841=Calcs!$X$38,Calcs!$W$38,IF(D841=Calcs!$X$39,Calcs!$W$39,IF(D841=Calcs!$X$40,Calcs!$W$40,IF(TRUE,0))))","v":0},840,"TB60-126-30BTG",14,"TRACK BENCH: 5FTx10.5FTx30INxBTG",32,"BOTANICARE TRACK BENCH: 5FT WIDE x 10.5FT LONG x 30IN HIGH, TRILOCK, GUTTER",5,10.5,30]
[{"$f":"IF(B842=0,0,MAX($A$2:A841)+1)","v":0},{"$f":"IF(D842=Calcs!$X$38,Calcs!$W$38,IF(D842=Calcs!$X$39,Calcs!$W$39,IF(D842=Calcs!$X$40,Calcs!$W$40,IF(TRUE,0))))","v":0},841,"TB60-150-30BTG",14,"TRACK BENCH: 5FTx12.5FTx30INxBTG",32,"BOTANICARE TRACK BENCH: 5FT WIDE x 12.5FT LONG x 30IN HIGH, TRILOCK, GUTTER",5,12.5,30]
[{"$f":"IF(B843=0,0,MAX($A$2:A842)+1)","v":0},{"$f":"IF(D843=Calcs!$X$38,Calcs!$W$38,IF(D843=Calcs!$X$39,Calcs!$W$39,IF(D843=Calcs!$X$40,Calcs!$W$40,IF(TRUE,0))))","v":0},842,"TB60-162-30BTG",14,"TRACK BENCH: 5FTx13.5FTx30INxBTG",32,"BOTANICARE TRACK BENCH: 5FT WIDE x 13.5FT LONG x 30IN HIGH, TRILOCK, GUTTER",5,13.5,30]
[{"$f":"IF(B844=0,0,MAX($A$2:A843)+1)","v":0},{"$f":"IF(D844=Calcs!$X$38,Calcs!$W$38,IF(D844=Calcs!$X$39,Calcs!$W$39,IF(D844=Calcs!$X$40,Calcs!$W$40,IF(TRUE,0))))","v":0},843,"TB60-174-30BTG",14,"TRACK BENCH: 5FTx14.5FTx30INxBTG",32,"BOTANICARE TRACK BENCH: 5FT WIDE x 14.5FT LONG x 30IN HIGH, TRILOCK, GUTTER",5,14.5,30]
[{"$f":"IF(B845=0,0,MAX($A$2:A844)+1)","v":0},{"$f":"IF(D845=Calcs!$X$38,Calcs!$W$38,IF(D845=Calcs!$X$39,Calcs!$W$39,IF(D845=Calcs!$X$40,Calcs!$W$40,IF(TRUE,0))))","v":0},844,"TB60-186-30BTG",14,"TRACK BENCH: 5FTx15.5FTx30INxBTG",32,"BOTANICARE TRACK BENCH: 5FT WIDE x 15.5FT LONG x 30IN HIGH, TRILOCK, GUTTER",5,15.5,30]
[{"$f":"IF(B846=0,0,MAX($A$2:A845)+1)","v":0},{"$f":"IF(D846=Calcs!$X$38,Calcs!$W$38,IF(D846=Calcs!$X$39,Calcs!$W$39,IF(D846=Calcs!$X$40,Calcs!$W$40,IF(TRUE,0))))","v":0},845,"TB60-210-30BTG",14,"TRACK BENCH: 5FTx17.5FTx30INxBTG",32,"BOTANICARE TRACK BENCH: 5FT WIDE x 17.5FT LONG x 30IN HIGH, TRILOCK, GUTTER",5,17.5,30]
[{"$f":"IF(B847=0,0,MAX($A$2:A846)+1)","v":0},{"$f":"IF(D847=Calcs!$X$38,Calcs!$W$38,IF(D847=Calcs!$X$39,Calcs!$W$39,IF(D847=Calcs!$X$40,Calcs!$W$40,IF(TRUE,0))))","v":0},846,"TB60-222-30BTG",14,"TRACK BENCH: 5FTx18.5FTx30INxBTG",32,"BOTANICARE TRACK BENCH: 5FT WIDE x 18.5FT LONG x 30IN HIGH, TRILOCK, GUTTER",5,18.5,30]
[{"$f":"IF(B848=0,0,MAX($A$2:A847)+1)","v":0},{"$f":"IF(D848=Calcs!$X$38,Calcs!$W$38,IF(D848=Calcs!$X$39,Calcs!$W$39,IF(D848=Calcs!$X$40,Calcs!$W$40,IF(TRUE,0))))","v":0},847,"TB60-234-30BTG",14,"TRACK BENCH: 5FTx19.5FTx30INxBTG",32,"BOTANICARE TRACK BENCH: 5FT WIDE x 19.5FT LONG x 30IN HIGH, TRILOCK, GUTTER",5,19.5,30]
[{"$f":"IF(B849=0,0,MAX($A$2:A848)+1)","v":0},{"$f":"IF(D849=Calcs!$X$38,Calcs!$W$38,IF(D849=Calcs!$X$39,Calcs!$W$39,IF(D849=Calcs!$X$40,Calcs!$W$40,IF(TRUE,0))))","v":0},848,"TB60-246-30BTG",14,"TRACK BENCH: 5FTx20.5FTx30INxBTG",32,"BOTANICARE TRACK BENCH: 5FT WIDE x 20.5FT LONG x 30IN HIGH, TRILOCK, GUTTER",5,20.5,30]
[{"$f":"IF(B850=0,0,MAX($A$2:A849)+1)","v":0},{"$f":"IF(D850=Calcs!$X$38,Calcs!$W$38,IF(D850=Calcs!$X$39,Calcs!$W$39,IF(D850=Calcs!$X$40,Calcs!$W$40,IF(TRUE,0))))","v":0},849,"TB60-270-30BTG",14,"TRACK BENCH: 5FTx22.5FTx30INxBTG",32,"BOTANICARE TRACK BENCH: 5FT WIDE x 22.5FT LONG x 30IN HIGH, TRILOCK, GUTTER",5,22.5,30]
[{"$f":"IF(B851=0,0,MAX($A$2:A850)+1)","v":0},{"$f":"IF(D851=Calcs!$X$38,Calcs!$W$38,IF(D851=Calcs!$X$39,Calcs!$W$39,IF(D851=Calcs!$X$40,Calcs!$W$40,IF(TRUE,0))))","v":0},850,"TB60-282-30BTG",14,"TRACK BENCH: 5FTx23.5FTx30INxBTG",32,"BOTANICARE TRACK BENCH: 5FT WIDE x 23.5FT LONG x 30IN HIGH, TRILOCK, GUTTER",5,23.5,30]
[{"$f":"IF(B852=0,0,MAX($A$2:A851)+1)","v":0},{"$f":"IF(D852=Calcs!$X$38,Calcs!$W$38,IF(D852=Calcs!$X$39,Calcs!$W$39,IF(D852=Calcs!$X$40,Calcs!$W$40,IF(TRUE,0))))","v":0},851,"TB60-294-30BTG",14,"TRACK BENCH: 5FTx24.5FTx30INxBTG",32,"BOTANICARE TRACK BENCH: 5FT WIDE x 24.5FT LONG x 30IN HIGH, TRILOCK, GUTTER",5,24.5,30]
[{"$f":"IF(B853=0,0,MAX($A$2:A852)+1)","v":0},{"$f":"IF(D853=Calcs!$X$38,Calcs!$W$38,IF(D853=Calcs!$X$39,Calcs!$W$39,IF(D853=Calcs!$X$40,Calcs!$W$40,IF(TRUE,0))))","v":0},852,"TB60-306-30BTG",14,"TRACK BENCH: 5FTx25.5FTx30INxBTG",32,"BOTANICARE TRACK BENCH: 5FT WIDE x 25.5FT LONG x 30IN HIGH, TRILOCK, GUTTER",5,25.5,30]
[{"$f":"IF(B854=0,0,MAX($A$2:A853)+1)","v":0},{"$f":"IF(D854=Calcs!$X$38,Calcs!$W$38,IF(D854=Calcs!$X$39,Calcs!$W$39,IF(D854=Calcs!$X$40,Calcs!$W$40,IF(TRUE,0))))","v":0},853,"TB60-330-30BTG",14,"TRACK BENCH: 5FTx27.5FTx30INxBTG",32,"BOTANICARE TRACK BENCH: 5FT WIDE x 27.5FT LONG x 30IN HIGH, TRILOCK, GUTTER",5,27.5,30]
[{"$f":"IF(B855=0,0,MAX($A$2:A854)+1)","v":0},{"$f":"IF(D855=Calcs!$X$38,Calcs!$W$38,IF(D855=Calcs!$X$39,Calcs!$W$39,IF(D855=Calcs!$X$40,Calcs!$W$40,IF(TRUE,0))))","v":0},854,"TB60-342-30BTG",14,"TRACK BENCH: 5FTx28.5FTx30INxBTG",32,"BOTANICARE TRACK BENCH: 5FT WIDE x 28.5FT LONG x 30IN HIGH, TRILOCK, GUTTER",5,28.5,30]
[{"$f":"IF(B856=0,0,MAX($A$2:A855)+1)","v":0},{"$f":"IF(D856=Calcs!$X$38,Calcs!$W$38,IF(D856=Calcs!$X$39,Calcs!$W$39,IF(D856=Calcs!$X$40,Calcs!$W$40,IF(TRUE,0))))","v":0},855,"TB60-354-30BTG",14,"TRACK BENCH: 5FTx29.5FTx30INxBTG",32,"BOTANICARE TRACK BENCH: 5FT WIDE x 29.5FT LONG x 30IN HIGH, TRILOCK, GUTTER",5,29.5,30]
[{"$f":"IF(B857=0,0,MAX($A$2:A856)+1)","v":0},{"$f":"IF(D857=Calcs!$X$38,Calcs!$W$38,IF(D857=Calcs!$X$39,Calcs!$W$39,IF(D857=Calcs!$X$40,Calcs!$W$40,IF(TRUE,0))))","v":0},856,"TB60-366-30BTG",14,"TRACK BENCH: 5FTx30.5FTx30INxBTG",32,"BOTANICARE TRACK BENCH: 5FT WIDE x 30.5FT LONG x 30IN HIGH, TRILOCK, GUTTER",5,30.5,30]
[{"$f":"IF(B858=0,0,MAX($A$2:A857)+1)","v":0},{"$f":"IF(D858=Calcs!$X$38,Calcs!$W$38,IF(D858=Calcs!$X$39,Calcs!$W$39,IF(D858=Calcs!$X$40,Calcs!$W$40,IF(TRUE,0))))","v":0},857,"TB60-390-30BTG",14,"TRACK BENCH: 5FTx32.5FTx30INxBTG",32,"BOTANICARE TRACK BENCH: 5FT WIDE x 32.5FT LONG x 30IN HIGH, TRILOCK, GUTTER",5,32.5,30]
[{"$f":"IF(B859=0,0,MAX($A$2:A858)+1)","v":0},{"$f":"IF(D859=Calcs!$X$38,Calcs!$W$38,IF(D859=Calcs!$X$39,Calcs!$W$39,IF(D859=Calcs!$X$40,Calcs!$W$40,IF(TRUE,0))))","v":0},858,"TB60-402-30BTG",14,"TRACK BENCH: 5FTx33.5FTx30INxBTG",32,"BOTANICARE TRACK BENCH: 5FT WIDE x 33.5FT LONG x 30IN HIGH, TRILOCK, GUTTER",5,33.5,30]
[{"$f":"IF(B860=0,0,MAX($A$2:A859)+1)","v":0},{"$f":"IF(D860=Calcs!$X$38,Calcs!$W$38,IF(D860=Calcs!$X$39,Calcs!$W$39,IF(D860=Calcs!$X$40,Calcs!$W$40,IF(TRUE,0))))","v":0},859,"TB60-414-30BTG",14,"TRACK BENCH: 5FTx34.5FTx30INxBTG",32,"BOTANICARE TRACK BENCH: 5FT WIDE x 34.5FT LONG x 30IN HIGH, TRILOCK, GUTTER",5,34.5,30]
[{"$f":"IF(B861=0,0,MAX($A$2:A860)+1)","v":0},{"$f":"IF(D861=Calcs!$X$38,Calcs!$W$38,IF(D861=Calcs!$X$39,Calcs!$W$39,IF(D861=Calcs!$X$40,Calcs!$W$40,IF(TRUE,0))))","v":0},860,"TB60-426-30BTG",14,"TRACK BENCH: 5FTx35.5FTx30INxBTG",32,"BOTANICARE TRACK BENCH: 5FT WIDE x 35.5FT LONG x 30IN HIGH, TRILOCK, GUTTER",5,35.5,30]
[{"$f":"IF(B862=0,0,MAX($A$2:A861)+1)","v":0},{"$f":"IF(D862=Calcs!$X$38,Calcs!$W$38,IF(D862=Calcs!$X$39,Calcs!$W$39,IF(D862=Calcs!$X$40,Calcs!$W$40,IF(TRUE,0))))","v":0},861,"TB60-450-30BTG",14,"TRACK BENCH: 5FTx37.5FTx30INxBTG",32,"BOTANICARE TRACK BENCH: 5FT WIDE x 37.5FT LONG x 30IN HIGH, TRILOCK, GUTTER",5,37.5,30]
[{"$f":"IF(B863=0,0,MAX($A$2:A862)+1)","v":0},{"$f":"IF(D863=Calcs!$X$38,Calcs!$W$38,IF(D863=Calcs!$X$39,Calcs!$W$39,IF(D863=Calcs!$X$40,Calcs!$W$40,IF(TRUE,0))))","v":0},862,"TB60-462-30BTG",14,"TRACK BENCH: 5FTx38.5FTx30INxBTG",32,"BOTANICARE TRACK BENCH: 5FT WIDE x 38.5FT LONG x 30IN HIGH, TRILOCK, GUTTER",5,38.5,30]
[{"$f":"IF(B864=0,0,MAX($A$2:A863)+1)","v":0},{"$f":"IF(D864=Calcs!$X$38,Calcs!$W$38,IF(D864=Calcs!$X$39,Calcs!$W$39,IF(D864=Calcs!$X$40,Calcs!$W$40,IF(TRUE,0))))","v":0},863,"TB60-474-30BTG",14,"TRACK BENCH: 5FTx39.5FTx30INxBTG",32,"BOTANICARE TRACK BENCH: 5FT WIDE x 39.5FT LONG x 30IN HIGH, TRILOCK, GUTTER",5,39.5,30]
[{"$f":"IF(B865=0,0,MAX($A$2:A864)+1)","v":0},{"$f":"IF(D865=Calcs!$X$38,Calcs!$W$38,IF(D865=Calcs!$X$39,Calcs!$W$39,IF(D865=Calcs!$X$40,Calcs!$W$40,IF(TRUE,0))))","v":0},864,"TB60-486-30BTG",14,"TRACK BENCH: 5FTx40.5FTx30INxBTG",32,"BOTANICARE TRACK BENCH: 5FT WIDE x 40.5FT LONG x 30IN HIGH, TRILOCK, GUTTER",5,40.5,30]
[{"$f":"IF(B866=0,0,MAX($A$2:A865)+1)","v":0},{"$f":"IF(D866=Calcs!$X$38,Calcs!$W$38,IF(D866=Calcs!$X$39,Calcs!$W$39,IF(D866=Calcs!$X$40,Calcs!$W$40,IF(TRUE,0))))","v":0},865,"TB60-510-30BTG",14,"TRACK BENCH: 5FTx42.5FTx30INxBTG",32,"BOTANICARE TRACK BENCH: 5FT WIDE x 42.5FT LONG x 30IN HIGH, TRILOCK, GUTTER",5,42.5,30]
[{"$f":"IF(B867=0,0,MAX($A$2:A866)+1)","v":0},{"$f":"IF(D867=Calcs!$X$38,Calcs!$W$38,IF(D867=Calcs!$X$39,Calcs!$W$39,IF(D867=Calcs!$X$40,Calcs!$W$40,IF(TRUE,0))))","v":0},866,"TB60-522-30BTG",14,"TRACK BENCH: 5FTx43.5FTx30INxBTG",32,"BOTANICARE TRACK BENCH: 5FT WIDE x 43.5FT LONG x 30IN HIGH, TRILOCK, GUTTER",5,43.5,30]
[{"$f":"IF(B868=0,0,MAX($A$2:A867)+1)","v":0},{"$f":"IF(D868=Calcs!$X$38,Calcs!$W$38,IF(D868=Calcs!$X$39,Calcs!$W$39,IF(D868=Calcs!$X$40,Calcs!$W$40,IF(TRUE,0))))","v":0},867,"TB60-534-30BTG",14,"TRACK BENCH: 5FTx44.5FTx30INxBTG",32,"BOTANICARE TRACK BENCH: 5FT WIDE x 44.5FT LONG x 30IN HIGH, TRILOCK, GUTTER",5,44.5,30]
[{"$f":"IF(B869=0,0,MAX($A$2:A868)+1)","v":0},{"$f":"IF(D869=Calcs!$X$38,Calcs!$W$38,IF(D869=Calcs!$X$39,Calcs!$W$39,IF(D869=Calcs!$X$40,Calcs!$W$40,IF(TRUE,0))))","v":0},868,"TB60-546-30BTG",14,"TRACK BENCH: 5FTx45.5FTx30INxBTG",32,"BOTANICARE TRACK BENCH: 5FT WIDE x 45.5FT LONG x 30IN HIGH, TRILOCK, GUTTER",5,45.5,30]
[{"$f":"IF(B870=0,0,MAX($A$2:A869)+1)","v":0},{"$f":"IF(D870=Calcs!$X$38,Calcs!$W$38,IF(D870=Calcs!$X$39,Calcs!$W$39,IF(D870=Calcs!$X$40,Calcs!$W$40,IF(TRUE,0))))","v":0},869,"TB60-570-30BTG",14,"TRACK BENCH: 5FTx47.5FTx30INxBTG",32,"BOTANICARE TRACK BENCH: 5FT WIDE x 47.5FT LONG x 30IN HIGH, TRILOCK, GUTTER",5,47.5,30]
[{"$f":"IF(B871=0,0,MAX($A$2:A870)+1)","v":0},{"$f":"IF(D871=Calcs!$X$38,Calcs!$W$38,IF(D871=Calcs!$X$39,Calcs!$W$39,IF(D871=Calcs!$X$40,Calcs!$W$40,IF(TRUE,0))))","v":0},870,"TB60-582-30BTG",14,"TRACK BENCH: 5FTx48.5FTx30INxBTG",32,"BOTANICARE TRACK BENCH: 5FT WIDE x 48.5FT LONG x 30IN HIGH, TRILOCK, GUTTER",5,48.5,30]
[{"$f":"IF(B872=0,0,MAX($A$2:A871)+1)","v":0},{"$f":"IF(D872=Calcs!$X$38,Calcs!$W$38,IF(D872=Calcs!$X$39,Calcs!$W$39,IF(D872=Calcs!$X$40,Calcs!$W$40,IF(TRUE,0))))","v":0},871,"TB60-594-30BTG",14,"TRACK BENCH: 5FTx49.5FTx30INxBTG",32,"BOTANICARE TRACK BENCH: 5FT WIDE x 49.5FT LONG x 30IN HIGH, TRILOCK, GUTTER",5,49.5,30]
[{"$f":"IF(B873=0,0,MAX($A$2:A872)+1)","v":0},{"$f":"IF(D873=Calcs!$X$38,Calcs!$W$38,IF(D873=Calcs!$X$39,Calcs!$W$39,IF(D873=Calcs!$X$40,Calcs!$W$40,IF(TRUE,0))))","v":0},872,"TB60-606-30BTG",14,"TRACK BENCH: 5FTx50.5FTx30INxBTG",32,"BOTANICARE TRACK BENCH: 5FT WIDE x 50.5FT LONG x 30IN HIGH, TRILOCK, GUTTER",5,50.5,30]
[{"$f":"IF(B874=0,0,MAX($A$2:A873)+1)","v":0},{"$f":"IF(D874=Calcs!$X$38,Calcs!$W$38,IF(D874=Calcs!$X$39,Calcs!$W$39,IF(D874=Calcs!$X$40,Calcs!$W$40,IF(TRUE,0))))","v":0},873,"TB60-630-30BTG",14,"TRACK BENCH: 5FTx52.5FTx30INxBTG",32,"BOTANICARE TRACK BENCH: 5FT WIDE x 52.5FT LONG x 30IN HIGH, TRILOCK, GUTTER",5,52.5,30]
[{"$f":"IF(B875=0,0,MAX($A$2:A874)+1)","v":0},{"$f":"IF(D875=Calcs!$X$38,Calcs!$W$38,IF(D875=Calcs!$X$39,Calcs!$W$39,IF(D875=Calcs!$X$40,Calcs!$W$40,IF(TRUE,0))))","v":0},874,"TB60-642-30BTG",14,"TRACK BENCH: 5FTx53.5FTx30INxBTG",32,"BOTANICARE TRACK BENCH: 5FT WIDE x 53.5FT LONG x 30IN HIGH, TRILOCK, GUTTER",5,53.5,30]
[{"$f":"IF(B876=0,0,MAX($A$2:A875)+1)","v":0},{"$f":"IF(D876=Calcs!$X$38,Calcs!$W$38,IF(D876=Calcs!$X$39,Calcs!$W$39,IF(D876=Calcs!$X$40,Calcs!$W$40,IF(TRUE,0))))","v":0},875,"TB60-654-30BTG",14,"TRACK BENCH: 5FTx54.5FTx30INxBTG",32,"BOTANICARE TRACK BENCH: 5FT WIDE x 54.5FT LONG x 30IN HIGH, TRILOCK, GUTTER",5,54.5,30]
[{"$f":"IF(B877=0,0,MAX($A$2:A876)+1)","v":0},{"$f":"IF(D877=Calcs!$X$38,Calcs!$W$38,IF(D877=Calcs!$X$39,Calcs!$W$39,IF(D877=Calcs!$X$40,Calcs!$W$40,IF(TRUE,0))))","v":0},876,"TB60-666-30BTG",14,"TRACK BENCH: 5FTx55.5FTx30INxBTG",32,"BOTANICARE TRACK BENCH: 5FT WIDE x 55.5FT LONG x 30IN HIGH, TRILOCK, GUTTER",5,55.5,30]
[{"$f":"IF(B878=0,0,MAX($A$2:A877)+1)","v":0},{"$f":"IF(D878=Calcs!$X$38,Calcs!$W$38,IF(D878=Calcs!$X$39,Calcs!$W$39,IF(D878=Calcs!$X$40,Calcs!$W$40,IF(TRUE,0))))","v":0},877,"TB60-690-30BTG",14,"TRACK BENCH: 5FTx57.5FTx30INxBTG",32,"BOTANICARE TRACK BENCH: 5FT WIDE x 57.5FT LONG x 30IN HIGH, TRILOCK, GUTTER",5,57.5,30]
[{"$f":"IF(B879=0,0,MAX($A$2:A878)+1)","v":0},{"$f":"IF(D879=Calcs!$X$38,Calcs!$W$38,IF(D879=Calcs!$X$39,Calcs!$W$39,IF(D879=Calcs!$X$40,Calcs!$W$40,IF(TRUE,0))))","v":0},878,"TB60-702-30BTG",14,"TRACK BENCH: 5FTx58.5FTx30INxBTG",32,"BOTANICARE TRACK BENCH: 5FT WIDE x 58.5FT LONG x 30IN HIGH, TRILOCK, GUTTER",5,58.5,30]
[{"$f":"IF(B880=0,0,MAX($A$2:A879)+1)","v":0},{"$f":"IF(D880=Calcs!$X$38,Calcs!$W$38,IF(D880=Calcs!$X$39,Calcs!$W$39,IF(D880=Calcs!$X$40,Calcs!$W$40,IF(TRUE,0))))","v":0},879,"TB60-714-30BTG",14,"TRACK BENCH: 5FTx59.5FTx30INxBTG",32,"BOTANICARE TRACK BENCH: 5FT WIDE x 59.5FT LONG x 30IN HIGH, TRILOCK, GUTTER",5,59.5,30]
[{"$f":"IF(B881=0,0,MAX($A$2:A880)+1)","v":0},{"$f":"IF(D881=Calcs!$X$38,Calcs!$W$38,IF(D881=Calcs!$X$39,Calcs!$W$39,IF(D881=Calcs!$X$40,Calcs!$W$40,IF(TRUE,0))))","v":0},880,"TB60-726-30BTG",14,"TRACK BENCH: 5FTx60.5FTx30INxBTG",32,"BOTANICARE TRACK BENCH: 5FT WIDE x 60.5FT LONG x 30IN HIGH, TRILOCK, GUTTER",5,60.5,30]
[{"$f":"IF(B882=0,0,MAX($A$2:A881)+1)","v":0},{"$f":"IF(D882=Calcs!$X$38,Calcs!$W$38,IF(D882=Calcs!$X$39,Calcs!$W$39,IF(D882=Calcs!$X$40,Calcs!$W$40,IF(TRUE,0))))","v":0},881,"TB60-750-30BTG",14,"TRACK BENCH: 5FTx62.5FTx30INxBTG",32,"BOTANICARE TRACK BENCH: 5FT WIDE x 62.5FT LONG x 30IN HIGH, TRILOCK, GUTTER",5,62.5,30]
[{"$f":"IF(B883=0,0,MAX($A$2:A882)+1)","v":0},{"$f":"IF(D883=Calcs!$X$38,Calcs!$W$38,IF(D883=Calcs!$X$39,Calcs!$W$39,IF(D883=Calcs!$X$40,Calcs!$W$40,IF(TRUE,0))))","v":0},882,"TB60-762-30BTG",14,"TRACK BENCH: 5FTx63.5FTx30INxBTG",32,"BOTANICARE TRACK BENCH: 5FT WIDE x 63.5FT LONG x 30IN HIGH, TRILOCK, GUTTER",5,63.5,30]
[{"$f":"IF(B884=0,0,MAX($A$2:A883)+1)","v":0},{"$f":"IF(D884=Calcs!$X$38,Calcs!$W$38,IF(D884=Calcs!$X$39,Calcs!$W$39,IF(D884=Calcs!$X$40,Calcs!$W$40,IF(TRUE,0))))","v":0},883,"TB60-774-30BTG",14,"TRACK BENCH: 5FTx64.5FTx30INxBTG",32,"BOTANICARE TRACK BENCH: 5FT WIDE x 64.5FT LONG x 30IN HIGH, TRILOCK, GUTTER",5,64.5,30]
[{"$f":"IF(B885=0,0,MAX($A$2:A884)+1)","v":0},{"$f":"IF(D885=Calcs!$X$38,Calcs!$W$38,IF(D885=Calcs!$X$39,Calcs!$W$39,IF(D885=Calcs!$X$40,Calcs!$W$40,IF(TRUE,0))))","v":0},884,"TB60-786-30BTG",14,"TRACK BENCH: 5FTx65.5FTx30INxBTG",32,"BOTANICARE TRACK BENCH: 5FT WIDE x 65.5FT LONG x 30IN HIGH, TRILOCK, GUTTER",5,65.5,30]
[{"$f":"IF(B886=0,0,MAX($A$2:A885)+1)","v":0},{"$f":"IF(D886=Calcs!$X$38,Calcs!$W$38,IF(D886=Calcs!$X$39,Calcs!$W$39,IF(D886=Calcs!$X$40,Calcs!$W$40,IF(TRUE,0))))","v":0},885,"TB60-810-30BTG",14,"TRACK BENCH: 5FTx67.5FTx30INxBTG",32,"BOTANICARE TRACK BENCH: 5FT WIDE x 67.5FT LONG x 30IN HIGH, TRILOCK, GUTTER",5,67.5,30]
[{"$f":"IF(B887=0,0,MAX($A$2:A886)+1)","v":0},{"$f":"IF(D887=Calcs!$X$38,Calcs!$W$38,IF(D887=Calcs!$X$39,Calcs!$W$39,IF(D887=Calcs!$X$40,Calcs!$W$40,IF(TRUE,0))))","v":0},886,"TB60-822-30BTG",14,"TRACK BENCH: 5FTx68.5FTx30INxBTG",32,"BOTANICARE TRACK BENCH: 5FT WIDE x 68.5FT LONG x 30IN HIGH, TRILOCK, GUTTER",5,68.5,30]
[{"$f":"IF(B888=0,0,MAX($A$2:A887)+1)","v":0},{"$f":"IF(D888=Calcs!$X$38,Calcs!$W$38,IF(D888=Calcs!$X$39,Calcs!$W$39,IF(D888=Calcs!$X$40,Calcs!$W$40,IF(TRUE,0))))","v":0},887,"TB60-834-30BTG",14,"TRACK BENCH: 5FTx69.5FTx30INxBTG",32,"BOTANICARE TRACK BENCH: 5FT WIDE x 69.5FT LONG x 30IN HIGH, TRILOCK, GUTTER",5,69.5,30]
[{"$f":"IF(B889=0,0,MAX($A$2:A888)+1)","v":0},{"$f":"IF(D889=Calcs!$X$38,Calcs!$W$38,IF(D889=Calcs!$X$39,Calcs!$W$39,IF(D889=Calcs!$X$40,Calcs!$W$40,IF(TRUE,0))))","v":0},888,"TB60-846-30BTG",14,"TRACK BENCH: 5FTx70.5FTx30INxBTG",32,"BOTANICARE TRACK BENCH: 5FT WIDE x 70.5FT LONG x 30IN HIGH, TRILOCK, GUTTER",5,70.5,30]
[{"$f":"IF(B890=0,0,MAX($A$2:A889)+1)","v":0},{"$f":"IF(D890=Calcs!$X$38,Calcs!$W$38,IF(D890=Calcs!$X$39,Calcs!$W$39,IF(D890=Calcs!$X$40,Calcs!$W$40,IF(TRUE,0))))","v":0},889,"TB60-870-30BTG",14,"TRACK BENCH: 5FTx72.5FTx30INxBTG",32,"BOTANICARE TRACK BENCH: 5FT WIDE x 72.5FT LONG x 30IN HIGH, TRILOCK, GUTTER",5,72.5,30]
[{"$f":"IF(B891=0,0,MAX($A$2:A890)+1)","v":0},{"$f":"IF(D891=Calcs!$X$38,Calcs!$W$38,IF(D891=Calcs!$X$39,Calcs!$W$39,IF(D891=Calcs!$X$40,Calcs!$W$40,IF(TRUE,0))))","v":0},890,"TB60-882-30BTG",14,"TRACK BENCH: 5FTx73.5FTx30INxBTG",32,"BOTANICARE TRACK BENCH: 5FT WIDE x 73.5FT LONG x 30IN HIGH, TRILOCK, GUTTER",5,73.5,30]
[{"$f":"IF(B892=0,0,MAX($A$2:A891)+1)","v":0},{"$f":"IF(D892=Calcs!$X$38,Calcs!$W$38,IF(D892=Calcs!$X$39,Calcs!$W$39,IF(D892=Calcs!$X$40,Calcs!$W$40,IF(TRUE,0))))","v":0},891,"TB60-894-30BTG",14,"TRACK BENCH: 5FTx74.5FTx30INxBTG",32,"BOTANICARE TRACK BENCH: 5FT WIDE x 74.5FT LONG x 30IN HIGH, TRILOCK, GUTTER",5,74.5,30]
[{"$f":"IF(B893=0,0,MAX($A$2:A892)+1)","v":0},{"$f":"IF(D893=Calcs!$X$38,Calcs!$W$38,IF(D893=Calcs!$X$39,Calcs!$W$39,IF(D893=Calcs!$X$40,Calcs!$W$40,IF(TRUE,0))))","v":0},892,"TB60-906-30BTG",14,"TRACK BENCH: 5FTx75.5FTx30INxBTG",32,"BOTANICARE TRACK BENCH: 5FT WIDE x 75.5FT LONG x 30IN HIGH, TRILOCK, GUTTER",5,75.5,30]
[{"$f":"IF(B894=0,0,MAX($A$2:A893)+1)","v":0},{"$f":"IF(D894=Calcs!$X$38,Calcs!$W$38,IF(D894=Calcs!$X$39,Calcs!$W$39,IF(D894=Calcs!$X$40,Calcs!$W$40,IF(TRUE,0))))","v":0},893,"TB60-930-30BTG",14,"TRACK BENCH: 5FTx77.5FTx30INxBTG",32,"BOTANICARE TRACK BENCH: 5FT WIDE x 77.5FT LONG x 30IN HIGH, TRILOCK, GUTTER",5,77.5,30]
[{"$f":"IF(B895=0,0,MAX($A$2:A894)+1)","v":0},{"$f":"IF(D895=Calcs!$X$38,Calcs!$W$38,IF(D895=Calcs!$X$39,Calcs!$W$39,IF(D895=Calcs!$X$40,Calcs!$W$40,IF(TRUE,0))))","v":0},894,"TB60-942-30BTG",14,"TRACK BENCH: 5FTx78.5FTx30INxBTG",32,"BOTANICARE TRACK BENCH: 5FT WIDE x 78.5FT LONG x 30IN HIGH, TRILOCK, GUTTER",5,78.5,30]
[{"$f":"IF(B896=0,0,MAX($A$2:A895)+1)","v":0},{"$f":"IF(D896=Calcs!$X$38,Calcs!$W$38,IF(D896=Calcs!$X$39,Calcs!$W$39,IF(D896=Calcs!$X$40,Calcs!$W$40,IF(TRUE,0))))","v":0},895,"TB60-954-30BTG",14,"TRACK BENCH: 5FTx79.5FTx30INxBTG",32,"BOTANICARE TRACK BENCH: 5FT WIDE x 79.5FT LONG x 30IN HIGH, TRILOCK, GUTTER",5,79.5,30]
[{"$f":"IF(B897=0,0,MAX($A$2:A896)+1)","v":0},{"$f":"IF(D897=Calcs!$X$38,Calcs!$W$38,IF(D897=Calcs!$X$39,Calcs!$W$39,IF(D897=Calcs!$X$40,Calcs!$W$40,IF(TRUE,0))))","v":0},896,"TB60-966-30BTG",14,"TRACK BENCH: 5FTx80.5FTx30INxBTG",32,"BOTANICARE TRACK BENCH: 5FT WIDE x 80.5FT LONG x 30IN HIGH, TRILOCK, GUTTER",5,80.5,30]
[{"$f":"IF(B898=0,0,MAX($A$2:A897)+1)","v":0},{"$f":"IF(D898=Calcs!$X$38,Calcs!$W$38,IF(D898=Calcs!$X$39,Calcs!$W$39,IF(D898=Calcs!$X$40,Calcs!$W$40,IF(TRUE,0))))","v":0},897,"TB60-990-30BTG",14,"TRACK BENCH: 5FTx82.5FTx30INxBTG",32,"BOTANICARE TRACK BENCH: 5FT WIDE x 82.5FT LONG x 30IN HIGH, TRILOCK, GUTTER",5,82.5,30]
[{"$f":"IF(B899=0,0,MAX($A$2:A898)+1)","v":0},{"$f":"IF(D899=Calcs!$X$38,Calcs!$W$38,IF(D899=Calcs!$X$39,Calcs!$W$39,IF(D899=Calcs!$X$40,Calcs!$W$40,IF(TRUE,0))))","v":0},898,"TB60-1002-30BTG",15,"TRACK BENCH: 5FTx83.5FTx30INxBTG",32,"BOTANICARE TRACK BENCH: 5FT WIDE x 83.5FT LONG x 30IN HIGH, TRILOCK, GUTTER",5,83.5,30]
[{"$f":"IF(B900=0,0,MAX($A$2:A899)+1)","v":0},{"$f":"IF(D900=Calcs!$X$38,Calcs!$W$38,IF(D900=Calcs!$X$39,Calcs!$W$39,IF(D900=Calcs!$X$40,Calcs!$W$40,IF(TRUE,0))))","v":0},899,"TB60-1014-30BTG",15,"TRACK BENCH: 5FTx84.5FTx30INxBTG",32,"BOTANICARE TRACK BENCH: 5FT WIDE x 84.5FT LONG x 30IN HIGH, TRILOCK, GUTTER",5,84.5,30]
[{"$f":"IF(B901=0,0,MAX($A$2:A900)+1)","v":0},{"$f":"IF(D901=Calcs!$X$38,Calcs!$W$38,IF(D901=Calcs!$X$39,Calcs!$W$39,IF(D901=Calcs!$X$40,Calcs!$W$40,IF(TRUE,0))))","v":0},900,"TB60-1026-30BTG",15,"TRACK BENCH: 5FTx85.5FTx30INxBTG",32,"BOTANICARE TRACK BENCH: 5FT WIDE x 85.5FT LONG x 30IN HIGH, TRILOCK, GUTTER",5,85.5,30]
[{"$f":"IF(B902=0,0,MAX($A$2:A901)+1)","v":0},{"$f":"IF(D902=Calcs!$X$38,Calcs!$W$38,IF(D902=Calcs!$X$39,Calcs!$W$39,IF(D902=Calcs!$X$40,Calcs!$W$40,IF(TRUE,0))))","v":0},901,"TB60-1050-30BTG",15,"TRACK BENCH: 5FTx87.5FTx30INxBTG",32,"BOTANICARE TRACK BENCH: 5FT WIDE x 87.5FT LONG x 30IN HIGH, TRILOCK, GUTTER",5,87.5,30]
[{"$f":"IF(B903=0,0,MAX($A$2:A902)+1)","v":0},{"$f":"IF(D903=Calcs!$X$38,Calcs!$W$38,IF(D903=Calcs!$X$39,Calcs!$W$39,IF(D903=Calcs!$X$40,Calcs!$W$40,IF(TRUE,0))))","v":0},902,"TB60-1062-30BTG",15,"TRACK BENCH: 5FTx88.5FTx30INxBTG",32,"BOTANICARE TRACK BENCH: 5FT WIDE x 88.5FT LONG x 30IN HIGH, TRILOCK, GUTTER",5,88.5,30]
[{"$f":"IF(B904=0,0,MAX($A$2:A903)+1)","v":0},{"$f":"IF(D904=Calcs!$X$38,Calcs!$W$38,IF(D904=Calcs!$X$39,Calcs!$W$39,IF(D904=Calcs!$X$40,Calcs!$W$40,IF(TRUE,0))))","v":0},903,"TB60-1074-30BTG",15,"TRACK BENCH: 5FTx89.5FTx30INxBTG",32,"BOTANICARE TRACK BENCH: 5FT WIDE x 89.5FT LONG x 30IN HIGH, TRILOCK, GUTTER",5,89.5,30]
[{"$f":"IF(B905=0,0,MAX($A$2:A904)+1)","v":0},{"$f":"IF(D905=Calcs!$X$38,Calcs!$W$38,IF(D905=Calcs!$X$39,Calcs!$W$39,IF(D905=Calcs!$X$40,Calcs!$W$40,IF(TRUE,0))))","v":0},904,"TB60-1086-30BTG",15,"TRACK BENCH: 5FTx90.5FTx30INxBTG",32,"BOTANICARE TRACK BENCH: 5FT WIDE x 90.5FT LONG x 30IN HIGH, TRILOCK, GUTTER",5,90.5,30]
[{"$f":"IF(B906=0,0,MAX($A$2:A905)+1)","v":0},{"$f":"IF(D906=Calcs!$X$38,Calcs!$W$38,IF(D906=Calcs!$X$39,Calcs!$W$39,IF(D906=Calcs!$X$40,Calcs!$W$40,IF(TRUE,0))))","v":0},905,"TB60-1110-30BTG",15,"TRACK BENCH: 5FTx92.5FTx30INxBTG",32,"BOTANICARE TRACK BENCH: 5FT WIDE x 92.5FT LONG x 30IN HIGH, TRILOCK, GUTTER",5,92.5,30]
[{"$f":"IF(B907=0,0,MAX($A$2:A906)+1)","v":0},{"$f":"IF(D907=Calcs!$X$38,Calcs!$W$38,IF(D907=Calcs!$X$39,Calcs!$W$39,IF(D907=Calcs!$X$40,Calcs!$W$40,IF(TRUE,0))))","v":0},906,"TB60-1122-30BTG",15,"TRACK BENCH: 5FTx93.5FTx30INxBTG",32,"BOTANICARE TRACK BENCH: 5FT WIDE x 93.5FT LONG x 30IN HIGH, TRILOCK, GUTTER",5,93.5,30]
[{"$f":"IF(B908=0,0,MAX($A$2:A907)+1)","v":0},{"$f":"IF(D908=Calcs!$X$38,Calcs!$W$38,IF(D908=Calcs!$X$39,Calcs!$W$39,IF(D908=Calcs!$X$40,Calcs!$W$40,IF(TRUE,0))))","v":0},907,"TB60-1134-30BTG",15,"TRACK BENCH: 5FTx94.5FTx30INxBTG",32,"BOTANICARE TRACK BENCH: 5FT WIDE x 94.5FT LONG x 30IN HIGH, TRILOCK, GUTTER",5,94.5,30]
[{"$f":"IF(B909=0,0,MAX($A$2:A908)+1)","v":0},{"$f":"IF(D909=Calcs!$X$38,Calcs!$W$38,IF(D909=Calcs!$X$39,Calcs!$W$39,IF(D909=Calcs!$X$40,Calcs!$W$40,IF(TRUE,0))))","v":0},908,"TB60-1146-30BTG",15,"TRACK BENCH: 5FTx95.5FTx30INxBTG",32,"BOTANICARE TRACK BENCH: 5FT WIDE x 95.5FT LONG x 30IN HIGH, TRILOCK, GUTTER",5,95.5,30]
[{"$f":"IF(B910=0,0,MAX($A$2:A909)+1)","v":0},{"$f":"IF(D910=Calcs!$X$38,Calcs!$W$38,IF(D910=Calcs!$X$39,Calcs!$W$39,IF(D910=Calcs!$X$40,Calcs!$W$40,IF(TRUE,0))))","v":0},909,"TB60-1170-30BTG",15,"TRACK BENCH: 5FTx97.5FTx30INxBTG",32,"BOTANICARE TRACK BENCH: 5FT WIDE x 97.5FT LONG x 30IN HIGH, TRILOCK, GUTTER",5,97.5,30]
[{"$f":"IF(B911=0,0,MAX($A$2:A910)+1)","v":0},{"$f":"IF(D911=Calcs!$X$38,Calcs!$W$38,IF(D911=Calcs!$X$39,Calcs!$W$39,IF(D911=Calcs!$X$40,Calcs!$W$40,IF(TRUE,0))))","v":0},910,"TB60-1182-30BTG",15,"TRACK BENCH: 5FTx98.5FTx30INxBTG",32,"BOTANICARE TRACK BENCH: 5FT WIDE x 98.5FT LONG x 30IN HIGH, TRILOCK, GUTTER",5,98.5,30]
[{"$f":"IF(B912=0,0,MAX($A$2:A911)+1)","v":0},{"$f":"IF(D912=Calcs!$X$38,Calcs!$W$38,IF(D912=Calcs!$X$39,Calcs!$W$39,IF(D912=Calcs!$X$40,Calcs!$W$40,IF(TRUE,0))))","v":0},911,"TB60-1194-30BTG",15,"TRACK BENCH: 5FTx99.5FTx30INxBTG",32,"BOTANICARE TRACK BENCH: 5FT WIDE x 99.5FT LONG x 30IN HIGH, TRILOCK, GUTTER",5,99.5,30]
[{"$f":"IF(B913=0,0,MAX($A$2:A912)+1)","v":0},{"$f":"IF(D913=Calcs!$X$38,Calcs!$W$38,IF(D913=Calcs!$X$39,Calcs!$W$39,IF(D913=Calcs!$X$40,Calcs!$W$40,IF(TRUE,0))))","v":0},912,"TB60-1206-30BTG",15,"TRACK BENCH: 5FTx100.5FTx30INxBTG",33,"BOTANICARE TRACK BENCH: 5FT WIDE x 100.5FT LONG x 30IN HIGH, TRILOCK, GUTTER",5,100.5,30]
[{"$f":"IF(B914=0,0,MAX($A$2:A913)+1)","v":0},{"$f":"IF(D914=Calcs!$X$38,Calcs!$W$38,IF(D914=Calcs!$X$39,Calcs!$W$39,IF(D914=Calcs!$X$40,Calcs!$W$40,IF(TRUE,0))))","v":0},913,"TRACK-96",8,"8 LINEAR FEET OF TRACK",22]
[{"$f":"IF(B915=0,0,MAX($A$2:A914)+1)","v":0},{"$f":"IF(D915=Calcs!$X$38,Calcs!$W$38,IF(D915=Calcs!$X$39,Calcs!$W$39,IF(D915=Calcs!$X$40,Calcs!$W$40,IF(TRUE,0))))","v":0},914,"TRACK-108",9,"9 LINEAR FEET OF TRACK",22]
[{"$f":"IF(B916=0,0,MAX($A$2:A915)+1)","v":0},{"$f":"IF(D916=Calcs!$X$38,Calcs!$W$38,IF(D916=Calcs!$X$39,Calcs!$W$39,IF(D916=Calcs!$X$40,Calcs!$W$40,IF(TRUE,0))))","v":0},915,"TRACK-120",9,"10 LINEAR FEET OF TRACK",23]
[{"$f":"IF(B917=0,0,MAX($A$2:A916)+1)","v":0},{"$f":"IF(D917=Calcs!$X$38,Calcs!$W$38,IF(D917=Calcs!$X$39,Calcs!$W$39,IF(D917=Calcs!$X$40,Calcs!$W$40,IF(TRUE,0))))","v":0},916,"TRACK-132",9,"11 LINEAR FEET OF TRACK",23]
[{"$f":"IF(B918=0,0,MAX($A$2:A917)+1)","v":0},{"$f":"IF(D918=Calcs!$X$38,Calcs!$W$38,IF(D918=Calcs!$X$39,Calcs!$W$39,IF(D918=Calcs!$X$40,Calcs!$W$40,IF(TRUE,0))))","v":0},917,"TRACK-144",9,"12 LINEAR FEET OF TRACK",23]
[{"$f":"IF(B919=0,0,MAX($A$2:A918)+1)","v":0},{"$f":"IF(D919=Calcs!$X$38,Calcs!$W$38,IF(D919=Calcs!$X$39,Calcs!$W$39,IF(D919=Calcs!$X$40,Calcs!$W$40,IF(TRUE,0))))","v":0},918,"TRACK-156",9,"13 LINEAR FEET OF TRACK",23]
[{"$f":"IF(B920=0,0,MAX($A$2:A919)+1)","v":0},{"$f":"IF(D920=Calcs!$X$38,Calcs!$W$38,IF(D920=Calcs!$X$39,Calcs!$W$39,IF(D920=Calcs!$X$40,Calcs!$W$40,IF(TRUE,0))))","v":0},919,"TRACK-168",9,"14 LINEAR FEET OF TRACK",23]
[{"$f":"IF(B921=0,0,MAX($A$2:A920)+1)","v":0},{"$f":"IF(D921=Calcs!$X$38,Calcs!$W$38,IF(D921=Calcs!$X$39,Calcs!$W$39,IF(D921=Calcs!$X$40,Calcs!$W$40,IF(TRUE,0))))","v":0},920,"TRACK-180",9,"15 LINEAR FEET OF TRACK",23]
[{"$f":"IF(B922=0,0,MAX($A$2:A921)+1)","v":0},{"$f":"IF(D922=Calcs!$X$38,Calcs!$W$38,IF(D922=Calcs!$X$39,Calcs!$W$39,IF(D922=Calcs!$X$40,Calcs!$W$40,IF(TRUE,0))))","v":0},921,"TRACK-192",9,"16 LINEAR FEET OF TRACK",23]
[{"$f":"IF(B923=0,0,MAX($A$2:A922)+1)","v":0},{"$f":"IF(D923=Calcs!$X$38,Calcs!$W$38,IF(D923=Calcs!$X$39,Calcs!$W$39,IF(D923=Calcs!$X$40,Calcs!$W$40,IF(TRUE,0))))","v":0},922,"TRACK-204",9,"17 LINEAR FEET OF TRACK",23]
[{"$f":"IF(B924=0,0,MAX($A$2:A923)+1)","v":0},{"$f":"IF(D924=Calcs!$X$38,Calcs!$W$38,IF(D924=Calcs!$X$39,Calcs!$W$39,IF(D924=Calcs!$X$40,Calcs!$W$40,IF(TRUE,0))))","v":0},923,"TRACK-216",9,"18 LINEAR FEET OF TRACK",23]
[{"$f":"IF(B925=0,0,MAX($A$2:A924)+1)","v":0},{"$f":"IF(D925=Calcs!$X$38,Calcs!$W$38,IF(D925=Calcs!$X$39,Calcs!$W$39,IF(D925=Calcs!$X$40,Calcs!$W$40,IF(TRUE,0))))","v":0},924,"TRACK-228",9,"19 LINEAR FEET OF TRACK",23]
[{"$f":"IF(B926=0,0,MAX($A$2:A925)+1)","v":0},{"$f":"IF(D926=Calcs!$X$38,Calcs!$W$38,IF(D926=Calcs!$X$39,Calcs!$W$39,IF(D926=Calcs!$X$40,Calcs!$W$40,IF(TRUE,0))))","v":0},925,"TRACK-240",9,"20 LINEAR FEET OF TRACK",23]
[{"$f":"IF(B927=0,0,MAX($A$2:A926)+1)","v":0},{"$f":"IF(D927=Calcs!$X$38,Calcs!$W$38,IF(D927=Calcs!$X$39,Calcs!$W$39,IF(D927=Calcs!$X$40,Calcs!$W$40,IF(TRUE,0))))","v":0},926,"TRACK-252",9,"21 LINEAR FEET OF TRACK",23]
[{"$f":"IF(B928=0,0,MAX($A$2:A927)+1)","v":0},{"$f":"IF(D928=Calcs!$X$38,Calcs!$W$38,IF(D928=Calcs!$X$39,Calcs!$W$39,IF(D928=Calcs!$X$40,Calcs!$W$40,IF(TRUE,0))))","v":0},927,"TRACK-264",9,"22 LINEAR FEET OF TRACK",23]
[{"$f":"IF(B929=0,0,MAX($A$2:A928)+1)","v":0},{"$f":"IF(D929=Calcs!$X$38,Calcs!$W$38,IF(D929=Calcs!$X$39,Calcs!$W$39,IF(D929=Calcs!$X$40,Calcs!$W$40,IF(TRUE,0))))","v":0},928,"TRACK-276",9,"23 LINEAR FEET OF TRACK",23]
[{"$f":"IF(B930=0,0,MAX($A$2:A929)+1)","v":0},{"$f":"IF(D930=Calcs!$X$38,Calcs!$W$38,IF(D930=Calcs!$X$39,Calcs!$W$39,IF(D930=Calcs!$X$40,Calcs!$W$40,IF(TRUE,0))))","v":0},929,"TRACK-288",9,"24 LINEAR FEET OF TRACK",23]
[{"$f":"IF(B931=0,0,MAX($A$2:A930)+1)","v":0},{"$f":"IF(D931=Calcs!$X$38,Calcs!$W$38,IF(D931=Calcs!$X$39,Calcs!$W$39,IF(D931=Calcs!$X$40,Calcs!$W$40,IF(TRUE,0))))","v":0},930,"TRACK-300",9,"25 LINEAR FEET OF TRACK",23]
[{"$f":"IF(B932=0,0,MAX($A$2:A931)+1)","v":0},{"$f":"IF(D932=Calcs!$X$38,Calcs!$W$38,IF(D932=Calcs!$X$39,Calcs!$W$39,IF(D932=Calcs!$X$40,Calcs!$W$40,IF(TRUE,0))))","v":0},931,"TRACK-312",9,"26 LINEAR FEET OF TRACK",23]
[{"$f":"IF(B933=0,0,MAX($A$2:A932)+1)","v":0},{"$f":"IF(D933=Calcs!$X$38,Calcs!$W$38,IF(D933=Calcs!$X$39,Calcs!$W$39,IF(D933=Calcs!$X$40,Calcs!$W$40,IF(TRUE,0))))","v":0},932,"TRACK-324",9,"27 LINEAR FEET OF TRACK",23]
[{"$f":"IF(B934=0,0,MAX($A$2:A933)+1)","v":0},{"$f":"IF(D934=Calcs!$X$38,Calcs!$W$38,IF(D934=Calcs!$X$39,Calcs!$W$39,IF(D934=Calcs!$X$40,Calcs!$W$40,IF(TRUE,0))))","v":0},933,"TRACK-336",9,"28 LINEAR FEET OF TRACK",23]
[{"$f":"IF(B935=0,0,MAX($A$2:A934)+1)","v":0},{"$f":"IF(D935=Calcs!$X$38,Calcs!$W$38,IF(D935=Calcs!$X$39,Calcs!$W$39,IF(D935=Calcs!$X$40,Calcs!$W$40,IF(TRUE,0))))","v":0},934,"TRACK-348",9,"29 LINEAR FEET OF TRACK",23]
[{"$f":"IF(B936=0,0,MAX($A$2:A935)+1)","v":0},{"$f":"IF(D936=Calcs!$X$38,Calcs!$W$38,IF(D936=Calcs!$X$39,Calcs!$W$39,IF(D936=Calcs!$X$40,Calcs!$W$40,IF(TRUE,0))))","v":0},935,"TRACK-360",9,"30 LINEAR FEET OF TRACK",23]
[{"$f":"IF(B937=0,0,MAX($A$2:A936)+1)","v":0},{"$f":"IF(D937=Calcs!$X$38,Calcs!$W$38,IF(D937=Calcs!$X$39,Calcs!$W$39,IF(D937=Calcs!$X$40,Calcs!$W$40,IF(TRUE,0))))","v":0},936,"TRACK-372",9,"31 LINEAR FEET OF TRACK",23]
[{"$f":"IF(B938=0,0,MAX($A$2:A937)+1)","v":0},{"$f":"IF(D938=Calcs!$X$38,Calcs!$W$38,IF(D938=Calcs!$X$39,Calcs!$W$39,IF(D938=Calcs!$X$40,Calcs!$W$40,IF(TRUE,0))))","v":0},937,"TRACK-384",9,"32 LINEAR FEET OF TRACK",23]
[{"$f":"IF(B939=0,0,MAX($A$2:A938)+1)","v":0},{"$f":"IF(D939=Calcs!$X$38,Calcs!$W$38,IF(D939=Calcs!$X$39,Calcs!$W$39,IF(D939=Calcs!$X$40,Calcs!$W$40,IF(TRUE,0))))","v":0},938,"TRACK-396",9,"33 LINEAR FEET OF TRACK",23]
[{"$f":"IF(B940=0,0,MAX($A$2:A939)+1)","v":0},{"$f":"IF(D940=Calcs!$X$38,Calcs!$W$38,IF(D940=Calcs!$X$39,Calcs!$W$39,IF(D940=Calcs!$X$40,Calcs!$W$40,IF(TRUE,0))))","v":0},939,"TRACK-408",9,"34 LINEAR FEET OF TRACK",23]
[{"$f":"IF(B941=0,0,MAX($A$2:A940)+1)","v":0},{"$f":"IF(D941=Calcs!$X$38,Calcs!$W$38,IF(D941=Calcs!$X$39,Calcs!$W$39,IF(D941=Calcs!$X$40,Calcs!$W$40,IF(TRUE,0))))","v":0},940,"TRACK-420",9,"35 LINEAR FEET OF TRACK",23]
[{"$f":"IF(B942=0,0,MAX($A$2:A941)+1)","v":0},{"$f":"IF(D942=Calcs!$X$38,Calcs!$W$38,IF(D942=Calcs!$X$39,Calcs!$W$39,IF(D942=Calcs!$X$40,Calcs!$W$40,IF(TRUE,0))))","v":0},941,"TRACK-432",9,"36 LINEAR FEET OF TRACK",23]
[{"$f":"IF(B943=0,0,MAX($A$2:A942)+1)","v":0},{"$f":"IF(D943=Calcs!$X$38,Calcs!$W$38,IF(D943=Calcs!$X$39,Calcs!$W$39,IF(D943=Calcs!$X$40,Calcs!$W$40,IF(TRUE,0))))","v":0},942,"TRACK-444",9,"37 LINEAR FEET OF TRACK",23]
[{"$f":"IF(B944=0,0,MAX($A$2:A943)+1)","v":0},{"$f":"IF(D944=Calcs!$X$38,Calcs!$W$38,IF(D944=Calcs!$X$39,Calcs!$W$39,IF(D944=Calcs!$X$40,Calcs!$W$40,IF(TRUE,0))))","v":0},943,"TRACK-456",9,"38 LINEAR FEET OF TRACK",23]
[{"$f":"IF(B945=0,0,MAX($A$2:A944)+1)","v":0},{"$f":"IF(D945=Calcs!$X$38,Calcs!$W$38,IF(D945=Calcs!$X$39,Calcs!$W$39,IF(D945=Calcs!$X$40,Calcs!$W$40,IF(TRUE,0))))","v":0},944,"TRACK-468",9,"39 LINEAR FEET OF TRACK",23]
[{"$f":"IF(B946=0,0,MAX($A$2:A945)+1)","v":0},{"$f":"IF(D946=Calcs!$X$38,Calcs!$W$38,IF(D946=Calcs!$X$39,Calcs!$W$39,IF(D946=Calcs!$X$40,Calcs!$W$40,IF(TRUE,0))))","v":0},945,"TRACK-480",9,"40 LINEAR FEET OF TRACK",23]
[{"$f":"IF(B947=0,0,MAX($A$2:A946)+1)","v":0},{"$f":"IF(D947=Calcs!$X$38,Calcs!$W$38,IF(D947=Calcs!$X$39,Calcs!$W$39,IF(D947=Calcs!$X$40,Calcs!$W$40,IF(TRUE,0))))","v":0},946,"TRACK-492",9,"41 LINEAR FEET OF TRACK",23]
[{"$f":"IF(B948=0,0,MAX($A$2:A947)+1)","v":0},{"$f":"IF(D948=Calcs!$X$38,Calcs!$W$38,IF(D948=Calcs!$X$39,Calcs!$W$39,IF(D948=Calcs!$X$40,Calcs!$W$40,IF(TRUE,0))))","v":0},947,"TRACK-504",9,"42 LINEAR FEET OF TRACK",23]
[{"$f":"IF(B949=0,0,MAX($A$2:A948)+1)","v":0},{"$f":"IF(D949=Calcs!$X$38,Calcs!$W$38,IF(D949=Calcs!$X$39,Calcs!$W$39,IF(D949=Calcs!$X$40,Calcs!$W$40,IF(TRUE,0))))","v":0},948,"TRACK-516",9,"43 LINEAR FEET OF TRACK",23]
[{"$f":"IF(B950=0,0,MAX($A$2:A949)+1)","v":0},{"$f":"IF(D950=Calcs!$X$38,Calcs!$W$38,IF(D950=Calcs!$X$39,Calcs!$W$39,IF(D950=Calcs!$X$40,Calcs!$W$40,IF(TRUE,0))))","v":0},949,"TRACK-528",9,"44 LINEAR FEET OF TRACK",23]
[{"$f":"IF(B951=0,0,MAX($A$2:A950)+1)","v":0},{"$f":"IF(D951=Calcs!$X$38,Calcs!$W$38,IF(D951=Calcs!$X$39,Calcs!$W$39,IF(D951=Calcs!$X$40,Calcs!$W$40,IF(TRUE,0))))","v":0},950,"TRACK-540",9,"45 LINEAR FEET OF TRACK",23]
[{"$f":"IF(B952=0,0,MAX($A$2:A951)+1)","v":0},{"$f":"IF(D952=Calcs!$X$38,Calcs!$W$38,IF(D952=Calcs!$X$39,Calcs!$W$39,IF(D952=Calcs!$X$40,Calcs!$W$40,IF(TRUE,0))))","v":0},951,"TRACK-552",9,"46 LINEAR FEET OF TRACK",23]
[{"$f":"IF(B953=0,0,MAX($A$2:A952)+1)","v":0},{"$f":"IF(D953=Calcs!$X$38,Calcs!$W$38,IF(D953=Calcs!$X$39,Calcs!$W$39,IF(D953=Calcs!$X$40,Calcs!$W$40,IF(TRUE,0))))","v":0},952,"TRACK-564",9,"47 LINEAR FEET OF TRACK",23]
[{"$f":"IF(B954=0,0,MAX($A$2:A953)+1)","v":0},{"$f":"IF(D954=Calcs!$X$38,Calcs!$W$38,IF(D954=Calcs!$X$39,Calcs!$W$39,IF(D954=Calcs!$X$40,Calcs!$W$40,IF(TRUE,0))))","v":0},953,"TRACK-576",9,"48 LINEAR FEET OF TRACK",23]
[{"$f":"IF(B955=0,0,MAX($A$2:A954)+1)","v":0},{"$f":"IF(D955=Calcs!$X$38,Calcs!$W$38,IF(D955=Calcs!$X$39,Calcs!$W$39,IF(D955=Calcs!$X$40,Calcs!$W$40,IF(TRUE,0))))","v":0},954,"TRACK-588",9,"49 LINEAR FEET OF TRACK",23]
[{"$f":"IF(B956=0,0,MAX($A$2:A955)+1)","v":0},{"$f":"IF(D956=Calcs!$X$38,Calcs!$W$38,IF(D956=Calcs!$X$39,Calcs!$W$39,IF(D956=Calcs!$X$40,Calcs!$W$40,IF(TRUE,0))))","v":0},955,"TRACK-600",9,"50 LINEAR FEET OF TRACK",23]
[{"$f":"IF(B957=0,0,MAX($A$2:A956)+1)","v":0},{"$f":"IF(D957=Calcs!$X$38,Calcs!$W$38,IF(D957=Calcs!$X$39,Calcs!$W$39,IF(D957=Calcs!$X$40,Calcs!$W$40,IF(TRUE,0))))","v":0},956,"TRACK-612",9,"51 LINEAR FEET OF TRACK",23]
[{"$f":"IF(B958=0,0,MAX($A$2:A957)+1)","v":0},{"$f":"IF(D958=Calcs!$X$38,Calcs!$W$38,IF(D958=Calcs!$X$39,Calcs!$W$39,IF(D958=Calcs!$X$40,Calcs!$W$40,IF(TRUE,0))))","v":0},957,"TRACK-624",9,"52 LINEAR FEET OF TRACK",23]
[{"$f":"IF(B959=0,0,MAX($A$2:A958)+1)","v":0},{"$f":"IF(D959=Calcs!$X$38,Calcs!$W$38,IF(D959=Calcs!$X$39,Calcs!$W$39,IF(D959=Calcs!$X$40,Calcs!$W$40,IF(TRUE,0))))","v":0},958,"TRACK-636",9,"53 LINEAR FEET OF TRACK",23]
[{"$f":"IF(B960=0,0,MAX($A$2:A959)+1)","v":0},{"$f":"IF(D960=Calcs!$X$38,Calcs!$W$38,IF(D960=Calcs!$X$39,Calcs!$W$39,IF(D960=Calcs!$X$40,Calcs!$W$40,IF(TRUE,0))))","v":0},959,"TRACK-648",9,"54 LINEAR FEET OF TRACK",23]
[{"$f":"IF(B961=0,0,MAX($A$2:A960)+1)","v":0},{"$f":"IF(D961=Calcs!$X$38,Calcs!$W$38,IF(D961=Calcs!$X$39,Calcs!$W$39,IF(D961=Calcs!$X$40,Calcs!$W$40,IF(TRUE,0))))","v":0},960,"TRACK-660",9,"55 LINEAR FEET OF TRACK",23]
[{"$f":"IF(B962=0,0,MAX($A$2:A961)+1)","v":0},{"$f":"IF(D962=Calcs!$X$38,Calcs!$W$38,IF(D962=Calcs!$X$39,Calcs!$W$39,IF(D962=Calcs!$X$40,Calcs!$W$40,IF(TRUE,0))))","v":0},961,"TRACK-672",9,"56 LINEAR FEET OF TRACK",23]
[{"$f":"IF(B963=0,0,MAX($A$2:A962)+1)","v":0},{"$f":"IF(D963=Calcs!$X$38,Calcs!$W$38,IF(D963=Calcs!$X$39,Calcs!$W$39,IF(D963=Calcs!$X$40,Calcs!$W$40,IF(TRUE,0))))","v":0},962,"TRACK-684",9,"57 LINEAR FEET OF TRACK",23]
[{"$f":"IF(B964=0,0,MAX($A$2:A963)+1)","v":0},{"$f":"IF(D964=Calcs!$X$38,Calcs!$W$38,IF(D964=Calcs!$X$39,Calcs!$W$39,IF(D964=Calcs!$X$40,Calcs!$W$40,IF(TRUE,0))))","v":0},963,"TRACK-696",9,"58 LINEAR FEET OF TRACK",23]
[{"$f":"IF(B965=0,0,MAX($A$2:A964)+1)","v":0},{"$f":"IF(D965=Calcs!$X$38,Calcs!$W$38,IF(D965=Calcs!$X$39,Calcs!$W$39,IF(D965=Calcs!$X$40,Calcs!$W$40,IF(TRUE,0))))","v":0},964,"TRACK-708",9,"59 LINEAR FEET OF TRACK",23]
[{"$f":"IF(B966=0,0,MAX($A$2:A965)+1)","v":0},{"$f":"IF(D966=Calcs!$X$38,Calcs!$W$38,IF(D966=Calcs!$X$39,Calcs!$W$39,IF(D966=Calcs!$X$40,Calcs!$W$40,IF(TRUE,0))))","v":0},965,"TRACK-720",9,"60 LINEAR FEET OF TRACK",23]
[{"$f":"IF(B967=0,0,MAX($A$2:A966)+1)","v":0},{"$f":"IF(D967=Calcs!$X$38,Calcs!$W$38,IF(D967=Calcs!$X$39,Calcs!$W$39,IF(D967=Calcs!$X$40,Calcs!$W$40,IF(TRUE,0))))","v":0},966,"TRACK-732",9,"61 LINEAR FEET OF TRACK",23]
[{"$f":"IF(B968=0,0,MAX($A$2:A967)+1)","v":0},{"$f":"IF(D968=Calcs!$X$38,Calcs!$W$38,IF(D968=Calcs!$X$39,Calcs!$W$39,IF(D968=Calcs!$X$40,Calcs!$W$40,IF(TRUE,0))))","v":0},967,"TRACK-744",9,"62 LINEAR FEET OF TRACK",23]
[{"$f":"IF(B969=0,0,MAX($A$2:A968)+1)","v":0},{"$f":"IF(D969=Calcs!$X$38,Calcs!$W$38,IF(D969=Calcs!$X$39,Calcs!$W$39,IF(D969=Calcs!$X$40,Calcs!$W$40,IF(TRUE,0))))","v":0},968,"TRACK-756",9,"63 LINEAR FEET OF TRACK",23]
[{"$f":"IF(B970=0,0,MAX($A$2:A969)+1)","v":0},{"$f":"IF(D970=Calcs!$X$38,Calcs!$W$38,IF(D970=Calcs!$X$39,Calcs!$W$39,IF(D970=Calcs!$X$40,Calcs!$W$40,IF(TRUE,0))))","v":0},969,"TRACK-768",9,"64 LINEAR FEET OF TRACK",23]
[{"$f":"IF(B971=0,0,MAX($A$2:A970)+1)","v":0},{"$f":"IF(D971=Calcs!$X$38,Calcs!$W$38,IF(D971=Calcs!$X$39,Calcs!$W$39,IF(D971=Calcs!$X$40,Calcs!$W$40,IF(TRUE,0))))","v":0},970,"TRACK-780",9,"65 LINEAR FEET OF TRACK",23]
[{"$f":"IF(B972=0,0,MAX($A$2:A971)+1)","v":0},{"$f":"IF(D972=Calcs!$X$38,Calcs!$W$38,IF(D972=Calcs!$X$39,Calcs!$W$39,IF(D972=Calcs!$X$40,Calcs!$W$40,IF(TRUE,0))))","v":0},971,"TRACK-792",9,"66 LINEAR FEET OF TRACK",23]
[{"$f":"IF(B973=0,0,MAX($A$2:A972)+1)","v":0},{"$f":"IF(D973=Calcs!$X$38,Calcs!$W$38,IF(D973=Calcs!$X$39,Calcs!$W$39,IF(D973=Calcs!$X$40,Calcs!$W$40,IF(TRUE,0))))","v":0},972,"TRACK-804",9,"67 LINEAR FEET OF TRACK",23]
[{"$f":"IF(B974=0,0,MAX($A$2:A973)+1)","v":0},{"$f":"IF(D974=Calcs!$X$38,Calcs!$W$38,IF(D974=Calcs!$X$39,Calcs!$W$39,IF(D974=Calcs!$X$40,Calcs!$W$40,IF(TRUE,0))))","v":0},973,"TRACK-816",9,"68 LINEAR FEET OF TRACK",23]
[{"$f":"IF(B975=0,0,MAX($A$2:A974)+1)","v":0},{"$f":"IF(D975=Calcs!$X$38,Calcs!$W$38,IF(D975=Calcs!$X$39,Calcs!$W$39,IF(D975=Calcs!$X$40,Calcs!$W$40,IF(TRUE,0))))","v":0},974,"TRACK-828",9,"69 LINEAR FEET OF TRACK",23]
[{"$f":"IF(B976=0,0,MAX($A$2:A975)+1)","v":0},{"$f":"IF(D976=Calcs!$X$38,Calcs!$W$38,IF(D976=Calcs!$X$39,Calcs!$W$39,IF(D976=Calcs!$X$40,Calcs!$W$40,IF(TRUE,0))))","v":0},975,"TRACK-840",9,"70 LINEAR FEET OF TRACK",23]
[{"$f":"IF(B977=0,0,MAX($A$2:A976)+1)","v":0},{"$f":"IF(D977=Calcs!$X$38,Calcs!$W$38,IF(D977=Calcs!$X$39,Calcs!$W$39,IF(D977=Calcs!$X$40,Calcs!$W$40,IF(TRUE,0))))","v":0},976,"TRACK-852",9,"71 LINEAR FEET OF TRACK",23]
[{"$f":"IF(B978=0,0,MAX($A$2:A977)+1)","v":0},{"$f":"IF(D978=Calcs!$X$38,Calcs!$W$38,IF(D978=Calcs!$X$39,Calcs!$W$39,IF(D978=Calcs!$X$40,Calcs!$W$40,IF(TRUE,0))))","v":0},977,"TRACK-864",9,"72 LINEAR FEET OF TRACK",23]
[{"$f":"IF(B979=0,0,MAX($A$2:A978)+1)","v":0},{"$f":"IF(D979=Calcs!$X$38,Calcs!$W$38,IF(D979=Calcs!$X$39,Calcs!$W$39,IF(D979=Calcs!$X$40,Calcs!$W$40,IF(TRUE,0))))","v":0},978,"TRACK-876",9,"73 LINEAR FEET OF TRACK",23]
[{"$f":"IF(B980=0,0,MAX($A$2:A979)+1)","v":0},{"$f":"IF(D980=Calcs!$X$38,Calcs!$W$38,IF(D980=Calcs!$X$39,Calcs!$W$39,IF(D980=Calcs!$X$40,Calcs!$W$40,IF(TRUE,0))))","v":0},979,"TRACK-888",9,"74 LINEAR FEET OF TRACK",23]
[{"$f":"IF(B981=0,0,MAX($A$2:A980)+1)","v":0},{"$f":"IF(D981=Calcs!$X$38,Calcs!$W$38,IF(D981=Calcs!$X$39,Calcs!$W$39,IF(D981=Calcs!$X$40,Calcs!$W$40,IF(TRUE,0))))","v":0},980,"TRACK-900",9,"75 LINEAR FEET OF TRACK",23]
[{"$f":"IF(B982=0,0,MAX($A$2:A981)+1)","v":0},{"$f":"IF(D982=Calcs!$X$38,Calcs!$W$38,IF(D982=Calcs!$X$39,Calcs!$W$39,IF(D982=Calcs!$X$40,Calcs!$W$40,IF(TRUE,0))))","v":0},981,"TRACK-912",9,"76 LINEAR FEET OF TRACK",23]
[{"$f":"IF(B983=0,0,MAX($A$2:A982)+1)","v":0},{"$f":"IF(D983=Calcs!$X$38,Calcs!$W$38,IF(D983=Calcs!$X$39,Calcs!$W$39,IF(D983=Calcs!$X$40,Calcs!$W$40,IF(TRUE,0))))","v":0},982,"TRACK-924",9,"77 LINEAR FEET OF TRACK",23]
[{"$f":"IF(B984=0,0,MAX($A$2:A983)+1)","v":0},{"$f":"IF(D984=Calcs!$X$38,Calcs!$W$38,IF(D984=Calcs!$X$39,Calcs!$W$39,IF(D984=Calcs!$X$40,Calcs!$W$40,IF(TRUE,0))))","v":0},983,"TRACK-936",9,"78 LINEAR FEET OF TRACK",23]
[{"$f":"IF(B985=0,0,MAX($A$2:A984)+1)","v":0},{"$f":"IF(D985=Calcs!$X$38,Calcs!$W$38,IF(D985=Calcs!$X$39,Calcs!$W$39,IF(D985=Calcs!$X$40,Calcs!$W$40,IF(TRUE,0))))","v":0},984,"TRACK-948",9,"79 LINEAR FEET OF TRACK",23]
[{"$f":"IF(B986=0,0,MAX($A$2:A985)+1)","v":0},{"$f":"IF(D986=Calcs!$X$38,Calcs!$W$38,IF(D986=Calcs!$X$39,Calcs!$W$39,IF(D986=Calcs!$X$40,Calcs!$W$40,IF(TRUE,0))))","v":0},985,"TRACK-960",9,"80 LINEAR FEET OF TRACK",23]
[{"$f":"IF(B987=0,0,MAX($A$2:A986)+1)","v":0},{"$f":"IF(D987=Calcs!$X$38,Calcs!$W$38,IF(D987=Calcs!$X$39,Calcs!$W$39,IF(D987=Calcs!$X$40,Calcs!$W$40,IF(TRUE,0))))","v":0},986,"TRACK-972",9,"81 LINEAR FEET OF TRACK",23]
[{"$f":"IF(B988=0,0,MAX($A$2:A987)+1)","v":0},{"$f":"IF(D988=Calcs!$X$38,Calcs!$W$38,IF(D988=Calcs!$X$39,Calcs!$W$39,IF(D988=Calcs!$X$40,Calcs!$W$40,IF(TRUE,0))))","v":0},987,"TRACK-984",9,"82 LINEAR FEET OF TRACK",23]
[{"$f":"IF(B989=0,0,MAX($A$2:A988)+1)","v":0},{"$f":"IF(D989=Calcs!$X$38,Calcs!$W$38,IF(D989=Calcs!$X$39,Calcs!$W$39,IF(D989=Calcs!$X$40,Calcs!$W$40,IF(TRUE,0))))","v":0},988,"TRACK-996",9,"83 LINEAR FEET OF TRACK",23]
[{"$f":"IF(B990=0,0,MAX($A$2:A989)+1)","v":0},{"$f":"IF(D990=Calcs!$X$38,Calcs!$W$38,IF(D990=Calcs!$X$39,Calcs!$W$39,IF(D990=Calcs!$X$40,Calcs!$W$40,IF(TRUE,0))))","v":0},989,"TRACK-1008",10,"84 LINEAR FEET OF TRACK",23]
[{"$f":"IF(B991=0,0,MAX($A$2:A990)+1)","v":0},{"$f":"IF(D991=Calcs!$X$38,Calcs!$W$38,IF(D991=Calcs!$X$39,Calcs!$W$39,IF(D991=Calcs!$X$40,Calcs!$W$40,IF(TRUE,0))))","v":0},990,"TRACK-1020",10,"85 LINEAR FEET OF TRACK",23]
[{"$f":"IF(B992=0,0,MAX($A$2:A991)+1)","v":0},{"$f":"IF(D992=Calcs!$X$38,Calcs!$W$38,IF(D992=Calcs!$X$39,Calcs!$W$39,IF(D992=Calcs!$X$40,Calcs!$W$40,IF(TRUE,0))))","v":0},991,"TRACK-1032",10,"86 LINEAR FEET OF TRACK",23]
[{"$f":"IF(B993=0,0,MAX($A$2:A992)+1)","v":0},{"$f":"IF(D993=Calcs!$X$38,Calcs!$W$38,IF(D993=Calcs!$X$39,Calcs!$W$39,IF(D993=Calcs!$X$40,Calcs!$W$40,IF(TRUE,0))))","v":0},992,"TRACK-1044",10,"87 LINEAR FEET OF TRACK",23]
[{"$f":"IF(B994=0,0,MAX($A$2:A993)+1)","v":0},{"$f":"IF(D994=Calcs!$X$38,Calcs!$W$38,IF(D994=Calcs!$X$39,Calcs!$W$39,IF(D994=Calcs!$X$40,Calcs!$W$40,IF(TRUE,0))))","v":0},993,"TRACK-1056",10,"88 LINEAR FEET OF TRACK",23]
[{"$f":"IF(B995=0,0,MAX($A$2:A994)+1)","v":0},{"$f":"IF(D995=Calcs!$X$38,Calcs!$W$38,IF(D995=Calcs!$X$39,Calcs!$W$39,IF(D995=Calcs!$X$40,Calcs!$W$40,IF(TRUE,0))))","v":0},994,"TRACK-1068",10,"89 LINEAR FEET OF TRACK",23]
[{"$f":"IF(B996=0,0,MAX($A$2:A995)+1)","v":0},{"$f":"IF(D996=Calcs!$X$38,Calcs!$W$38,IF(D996=Calcs!$X$39,Calcs!$W$39,IF(D996=Calcs!$X$40,Calcs!$W$40,IF(TRUE,0))))","v":0},995,"TRACK-1080",10,"90 LINEAR FEET OF TRACK",23]
[{"$f":"IF(B997=0,0,MAX($A$2:A996)+1)","v":0},{"$f":"IF(D997=Calcs!$X$38,Calcs!$W$38,IF(D997=Calcs!$X$39,Calcs!$W$39,IF(D997=Calcs!$X$40,Calcs!$W$40,IF(TRUE,0))))","v":0},996,"TRACK-1092",10,"91 LINEAR FEET OF TRACK",23]
[{"$f":"IF(B998=0,0,MAX($A$2:A997)+1)","v":0},{"$f":"IF(D998=Calcs!$X$38,Calcs!$W$38,IF(D998=Calcs!$X$39,Calcs!$W$39,IF(D998=Calcs!$X$40,Calcs!$W$40,IF(TRUE,0))))","v":0},997,"TRACK-1104",10,"92 LINEAR FEET OF TRACK",23]
[{"$f":"IF(B999=0,0,MAX($A$2:A998)+1)","v":0},{"$f":"IF(D999=Calcs!$X$38,Calcs!$W$38,IF(D999=Calcs!$X$39,Calcs!$W$39,IF(D999=Calcs!$X$40,Calcs!$W$40,IF(TRUE,0))))","v":0},998,"TRACK-1116",10,"93 LINEAR FEET OF TRACK",23]
[{"$f":"IF(B1000=0,0,MAX($A$2:A999)+1)","v":0},{"$f":"IF(D1000=Calcs!$X$38,Calcs!$W$38,IF(D1000=Calcs!$X$39,Calcs!$W$39,IF(D1000=Calcs!$X$40,Calcs!$W$40,IF(TRUE,0))))","v":0},999,"TRACK-1128",10,"94 LINEAR FEET OF TRACK",23]
[{"$f":"IF(B1001=0,0,MAX($A$2:A1000)+1)","v":0},{"$f":"IF(D1001=Calcs!$X$38,Calcs!$W$38,IF(D1001=Calcs!$X$39,Calcs!$W$39,IF(D1001=Calcs!$X$40,Calcs!$W$40,IF(TRUE,0))))","v":0},1000,"TRACK-1140",10,"95 LINEAR FEET OF TRACK",23]
[{"$f":"IF(B1002=0,0,MAX($A$2:A1001)+1)","v":0},{"$f":"IF(D1002=Calcs!$X$38,Calcs!$W$38,IF(D1002=Calcs!$X$39,Calcs!$W$39,IF(D1002=Calcs!$X$40,Calcs!$W$40,IF(TRUE,0))))","v":0},1001,"TRACK-1152",10,"96 LINEAR FEET OF TRACK",23]
[{"$f":"IF(B1003=0,0,MAX($A$2:A1002)+1)","v":0},{"$f":"IF(D1003=Calcs!$X$38,Calcs!$W$38,IF(D1003=Calcs!$X$39,Calcs!$W$39,IF(D1003=Calcs!$X$40,Calcs!$W$40,IF(TRUE,0))))","v":0},1002,"TRACK-1164",10,"97 LINEAR FEET OF TRACK",23]
[{"$f":"IF(B1004=0,0,MAX($A$2:A1003)+1)","v":0},{"$f":"IF(D1004=Calcs!$X$38,Calcs!$W$38,IF(D1004=Calcs!$X$39,Calcs!$W$39,IF(D1004=Calcs!$X$40,Calcs!$W$40,IF(TRUE,0))))","v":0},1003,"TRACK-1176",10,"98 LINEAR FEET OF TRACK",23]
[{"$f":"IF(B1005=0,0,MAX($A$2:A1004)+1)","v":0},{"$f":"IF(D1005=Calcs!$X$38,Calcs!$W$38,IF(D1005=Calcs!$X$39,Calcs!$W$39,IF(D1005=Calcs!$X$40,Calcs!$W$40,IF(TRUE,0))))","v":0},1004,"TRACK-1188",10,"99 LINEAR FEET OF TRACK",23]
[{"$f":"IF(B1006=0,0,MAX($A$2:A1005)+1)","v":0},{"$f":"IF(D1006=Calcs!$X$38,Calcs!$W$38,IF(D1006=Calcs!$X$39,Calcs!$W$39,IF(D1006=Calcs!$X$40,Calcs!$W$40,IF(TRUE,0))))","v":0},1005,"TRACK-1200",10,"100 LINEAR FEET OF TRACK",24]
[{"$f":"IF(B1007=0,0,MAX($A$2:A1006)+1)","v":0},{"$f":"IF(D1007=Calcs!$X$38,Calcs!$W$38,IF(D1007=Calcs!$X$39,Calcs!$W$39,IF(D1007=Calcs!$X$40,Calcs!$W$40,IF(TRUE,0))))","v":0},1006,"TRACK-1212",10,"101 LINEAR FEET OF TRACK",24]
[{"$f":"IF(B1008=0,0,MAX($A$2:A1007)+1)","v":0},{"$f":"IF(D1008=Calcs!$X$38,Calcs!$W$38,IF(D1008=Calcs!$X$39,Calcs!$W$39,IF(D1008=Calcs!$X$40,Calcs!$W$40,IF(TRUE,0))))","v":0},1007,"TRACK-1224",10,"102 LINEAR FEET OF TRACK",24]
[{"$f":"IF(B1009=0,0,MAX($A$2:A1008)+1)","v":0},{"$f":"IF(D1009=Calcs!$X$38,Calcs!$W$38,IF(D1009=Calcs!$X$39,Calcs!$W$39,IF(D1009=Calcs!$X$40,Calcs!$W$40,IF(TRUE,0))))","v":0},1008,"TRACK-1236",10,"103 LINEAR FEET OF TRACK",24]
[{"$f":"IF(B1010=0,0,MAX($A$2:A1009)+1)","v":0},{"$f":"IF(D1010=Calcs!$X$38,Calcs!$W$38,IF(D1010=Calcs!$X$39,Calcs!$W$39,IF(D1010=Calcs!$X$40,Calcs!$W$40,IF(TRUE,0))))","v":0},1009,"TRACK-1248",10,"104 LINEAR FEET OF TRACK",24]
[{"$f":"IF(B1011=0,0,MAX($A$2:A1010)+1)","v":0},{"$f":"IF(D1011=Calcs!$X$38,Calcs!$W$38,IF(D1011=Calcs!$X$39,Calcs!$W$39,IF(D1011=Calcs!$X$40,Calcs!$W$40,IF(TRUE,0))))","v":0},1010,"TRACK-1260",10,"105 LINEAR FEET OF TRACK",24]
[{"$f":"IF(B1012=0,0,MAX($A$2:A1011)+1)","v":0},{"$f":"IF(D1012=Calcs!$X$38,Calcs!$W$38,IF(D1012=Calcs!$X$39,Calcs!$W$39,IF(D1012=Calcs!$X$40,Calcs!$W$40,IF(TRUE,0))))","v":0},1011,"TRACK-1272",10,"106 LINEAR FEET OF TRACK",24]
[{"$f":"IF(B1013=0,0,MAX($A$2:A1012)+1)","v":0},{"$f":"IF(D1013=Calcs!$X$38,Calcs!$W$38,IF(D1013=Calcs!$X$39,Calcs!$W$39,IF(D1013=Calcs!$X$40,Calcs!$W$40,IF(TRUE,0))))","v":0},1012,"TRACK-1284",10,"107 LINEAR FEET OF TRACK",24]
[{"$f":"IF(B1014=0,0,MAX($A$2:A1013)+1)","v":0},{"$f":"IF(D1014=Calcs!$X$38,Calcs!$W$38,IF(D1014=Calcs!$X$39,Calcs!$W$39,IF(D1014=Calcs!$X$40,Calcs!$W$40,IF(TRUE,0))))","v":0},1013,"TRACK-1296",10,"108 LINEAR FEET OF TRACK",24]
[{"$f":"IF(B1015=0,0,MAX($A$2:A1014)+1)","v":0},{"$f":"IF(D1015=Calcs!$X$38,Calcs!$W$38,IF(D1015=Calcs!$X$39,Calcs!$W$39,IF(D1015=Calcs!$X$40,Calcs!$W$40,IF(TRUE,0))))","v":0},1014,"TRACK-1308",10,"109 LINEAR FEET OF TRACK",24]
[{"$f":"IF(B1016=0,0,MAX($A$2:A1015)+1)","v":0},{"$f":"IF(D1016=Calcs!$X$38,Calcs!$W$38,IF(D1016=Calcs!$X$39,Calcs!$W$39,IF(D1016=Calcs!$X$40,Calcs!$W$40,IF(TRUE,0))))","v":0},1015,"TRACK-1320",10,"110 LINEAR FEET OF TRACK",24]
[{"$f":"IF(B1017=0,0,MAX($A$2:A1016)+1)","v":0},{"$f":"IF(D1017=Calcs!$X$38,Calcs!$W$38,IF(D1017=Calcs!$X$39,Calcs!$W$39,IF(D1017=Calcs!$X$40,Calcs!$W$40,IF(TRUE,0))))","v":0},1016,"TRACK-1332",10,"111 LINEAR FEET OF TRACK",24]
[{"$f":"IF(B1018=0,0,MAX($A$2:A1017)+1)","v":0},{"$f":"IF(D1018=Calcs!$X$38,Calcs!$W$38,IF(D1018=Calcs!$X$39,Calcs!$W$39,IF(D1018=Calcs!$X$40,Calcs!$W$40,IF(TRUE,0))))","v":0},1017,"TRACK-1344",10,"112 LINEAR FEET OF TRACK",24]
[{"$f":"IF(B1019=0,0,MAX($A$2:A1018)+1)","v":0},{"$f":"IF(D1019=Calcs!$X$38,Calcs!$W$38,IF(D1019=Calcs!$X$39,Calcs!$W$39,IF(D1019=Calcs!$X$40,Calcs!$W$40,IF(TRUE,0))))","v":0},1018,"TRACK-1356",10,"113 LINEAR FEET OF TRACK",24]
[{"$f":"IF(B1020=0,0,MAX($A$2:A1019)+1)","v":0},{"$f":"IF(D1020=Calcs!$X$38,Calcs!$W$38,IF(D1020=Calcs!$X$39,Calcs!$W$39,IF(D1020=Calcs!$X$40,Calcs!$W$40,IF(TRUE,0))))","v":0},1019,"TRACK-1368",10,"114 LINEAR FEET OF TRACK",24]
[{"$f":"IF(B1021=0,0,MAX($A$2:A1020)+1)","v":0},{"$f":"IF(D1021=Calcs!$X$38,Calcs!$W$38,IF(D1021=Calcs!$X$39,Calcs!$W$39,IF(D1021=Calcs!$X$40,Calcs!$W$40,IF(TRUE,0))))","v":0},1020,"TRACK-1380",10,"115 LINEAR FEET OF TRACK",24]
[{"$f":"IF(B1022=0,0,MAX($A$2:A1021)+1)","v":0},{"$f":"IF(D1022=Calcs!$X$38,Calcs!$W$38,IF(D1022=Calcs!$X$39,Calcs!$W$39,IF(D1022=Calcs!$X$40,Calcs!$W$40,IF(TRUE,0))))","v":0},1021,"TRACK-1392",10,"116 LINEAR FEET OF TRACK",24]
[{"$f":"IF(B1023=0,0,MAX($A$2:A1022)+1)","v":0},{"$f":"IF(D1023=Calcs!$X$38,Calcs!$W$38,IF(D1023=Calcs!$X$39,Calcs!$W$39,IF(D1023=Calcs!$X$40,Calcs!$W$40,IF(TRUE,0))))","v":0},1022,"TRACK-1404",10,"117 LINEAR FEET OF TRACK",24]
[{"$f":"IF(B1024=0,0,MAX($A$2:A1023)+1)","v":0},{"$f":"IF(D1024=Calcs!$X$38,Calcs!$W$38,IF(D1024=Calcs!$X$39,Calcs!$W$39,IF(D1024=Calcs!$X$40,Calcs!$W$40,IF(TRUE,0))))","v":0},1023,"TRACK-1416",10,"118 LINEAR FEET OF TRACK",24]
[{"$f":"IF(B1025=0,0,MAX($A$2:A1024)+1)","v":0},{"$f":"IF(D1025=Calcs!$X$38,Calcs!$W$38,IF(D1025=Calcs!$X$39,Calcs!$W$39,IF(D1025=Calcs!$X$40,Calcs!$W$40,IF(TRUE,0))))","v":0},1024,"TRACK-1428",10,"119 LINEAR FEET OF TRACK",24]
[{"$f":"IF(B1026=0,0,MAX($A$2:A1025)+1)","v":0},{"$f":"IF(D1026=Calcs!$X$38,Calcs!$W$38,IF(D1026=Calcs!$X$39,Calcs!$W$39,IF(D1026=Calcs!$X$40,Calcs!$W$40,IF(TRUE,0))))","v":0},1025,"TRACK-1440",10,"120 LINEAR FEET OF TRACK",24]
[{"$f":"IF(B1027=0,0,MAX($A$2:A1026)+1)","v":0},{"$f":"IF(D1027=Calcs!$X$38,Calcs!$W$38,IF(D1027=Calcs!$X$39,Calcs!$W$39,IF(D1027=Calcs!$X$40,Calcs!$W$40,IF(TRUE,0))))","v":0},1026,"SB48-642-20BG",null,"SLIDE BENCH: 4FTx53.5FTx20INxBG",31]
[{"$f":"IF(B1028=0,0,MAX($A$2:A1027)+1)","v":0},{"$f":"IF(D1028=Calcs!$X$38,Calcs!$W$38,IF(D1028=Calcs!$X$39,Calcs!$W$39,IF(D1028=Calcs!$X$40,Calcs!$W$40,IF(TRUE,0))))","v":0},1027,"SB48-654-20BG",null,"SLIDE BENCH: 4FTx54.5FTx20INxBG",31]
[{"$f":"IF(B1029=0,0,MAX($A$2:A1028)+1)","v":0},{"$f":"IF(D1029=Calcs!$X$38,Calcs!$W$38,IF(D1029=Calcs!$X$39,Calcs!$W$39,IF(D1029=Calcs!$X$40,Calcs!$W$40,IF(TRUE,0))))","v":0},1028,"SB48-666-20BG",null,"SLIDE BENCH: 4FTx55.5FTx20INxBG",31]
[{"$f":"IF(B1030=0,0,MAX($A$2:A1029)+1)","v":0},{"$f":"IF(D1030=Calcs!$X$38,Calcs!$W$38,IF(D1030=Calcs!$X$39,Calcs!$W$39,IF(D1030=Calcs!$X$40,Calcs!$W$40,IF(TRUE,0))))","v":0},1029,"SB48-690-20BG",null,"SLIDE BENCH: 4FTx57.5FTx20INxBG",31]
[{"$f":"IF(B1031=0,0,MAX($A$2:A1030)+1)","v":0},{"$f":"IF(D1031=Calcs!$X$38,Calcs!$W$38,IF(D1031=Calcs!$X$39,Calcs!$W$39,IF(D1031=Calcs!$X$40,Calcs!$W$40,IF(TRUE,0))))","v":0},1030,"SB48-702-20BG",null,"SLIDE BENCH: 4FTx58.5FTx20INxBG",31]
[{"$f":"IF(B1032=0,0,MAX($A$2:A1031)+1)","v":0},{"$f":"IF(D1032=Calcs!$X$38,Calcs!$W$38,IF(D1032=Calcs!$X$39,Calcs!$W$39,IF(D1032=Calcs!$X$40,Calcs!$W$40,IF(TRUE,0))))","v":0},1031,"SB48-714-20BG",null,"SLIDE BENCH: 4FTx59.5FTx20INxBG",31]
[{"$f":"IF(B1033=0,0,MAX($A$2:A1032)+1)","v":0},{"$f":"IF(D1033=Calcs!$X$38,Calcs!$W$38,IF(D1033=Calcs!$X$39,Calcs!$W$39,IF(D1033=Calcs!$X$40,Calcs!$W$40,IF(TRUE,0))))","v":0},1032,"SB48-726-20BG",null,"SLIDE BENCH: 4FTx60.5FTx20INxBG",31]
[{"$f":"IF(B1034=0,0,MAX($A$2:A1033)+1)","v":0},{"$f":"IF(D1034=Calcs!$X$38,Calcs!$W$38,IF(D1034=Calcs!$X$39,Calcs!$W$39,IF(D1034=Calcs!$X$40,Calcs!$W$40,IF(TRUE,0))))","v":0},1033,"SB48-750-20BG",null,"SLIDE BENCH: 4FTx62.5FTx20INxBG",31]
[{"$f":"IF(B1035=0,0,MAX($A$2:A1034)+1)","v":0},{"$f":"IF(D1035=Calcs!$X$38,Calcs!$W$38,IF(D1035=Calcs!$X$39,Calcs!$W$39,IF(D1035=Calcs!$X$40,Calcs!$W$40,IF(TRUE,0))))","v":0},1034,"SB48-762-20BG",null,"SLIDE BENCH: 4FTx63.5FTx20INxBG",31]
[{"$f":"IF(B1036=0,0,MAX($A$2:A1035)+1)","v":0},{"$f":"IF(D1036=Calcs!$X$38,Calcs!$W$38,IF(D1036=Calcs!$X$39,Calcs!$W$39,IF(D1036=Calcs!$X$40,Calcs!$W$40,IF(TRUE,0))))","v":0},1035,"SB48-774-20BG",null,"SLIDE BENCH: 4FTx64.5FTx20INxBG",31]
[{"$f":"IF(B1037=0,0,MAX($A$2:A1036)+1)","v":0},{"$f":"IF(D1037=Calcs!$X$38,Calcs!$W$38,IF(D1037=Calcs!$X$39,Calcs!$W$39,IF(D1037=Calcs!$X$40,Calcs!$W$40,IF(TRUE,0))))","v":0},1036,"SB48-786-20BG",null,"SLIDE BENCH: 4FTx65.5FTx20INxBG",31]
[{"$f":"IF(B1038=0,0,MAX($A$2:A1037)+1)","v":0},{"$f":"IF(D1038=Calcs!$X$38,Calcs!$W$38,IF(D1038=Calcs!$X$39,Calcs!$W$39,IF(D1038=Calcs!$X$40,Calcs!$W$40,IF(TRUE,0))))","v":0},1037,"SB48-810-20BG",null,"SLIDE BENCH: 4FTx67.5FTx20INxBG",31]
[{"$f":"IF(B1039=0,0,MAX($A$2:A1038)+1)","v":0},{"$f":"IF(D1039=Calcs!$X$38,Calcs!$W$38,IF(D1039=Calcs!$X$39,Calcs!$W$39,IF(D1039=Calcs!$X$40,Calcs!$W$40,IF(TRUE,0))))","v":0},1038,"SB48-822-20BG",null,"SLIDE BENCH: 4FTx68.5FTx20INxBG",31]
[{"$f":"IF(B1040=0,0,MAX($A$2:A1039)+1)","v":0},{"$f":"IF(D1040=Calcs!$X$38,Calcs!$W$38,IF(D1040=Calcs!$X$39,Calcs!$W$39,IF(D1040=Calcs!$X$40,Calcs!$W$40,IF(TRUE,0))))","v":0},1039,"SB48-834-20BG",null,"SLIDE BENCH: 4FTx69.5FTx20INxBG",31]
[{"$f":"IF(B1041=0,0,MAX($A$2:A1040)+1)","v":0},{"$f":"IF(D1041=Calcs!$X$38,Calcs!$W$38,IF(D1041=Calcs!$X$39,Calcs!$W$39,IF(D1041=Calcs!$X$40,Calcs!$W$40,IF(TRUE,0))))","v":0},1040,"SB48-846-20BG",null,"SLIDE BENCH: 4FTx70.5FTx20INxBG",31]
[{"$f":"IF(B1042=0,0,MAX($A$2:A1041)+1)","v":0},{"$f":"IF(D1042=Calcs!$X$38,Calcs!$W$38,IF(D1042=Calcs!$X$39,Calcs!$W$39,IF(D1042=Calcs!$X$40,Calcs!$W$40,IF(TRUE,0))))","v":0},1041,"SB48-870-20BG",null,"SLIDE BENCH: 4FTx72.5FTx20INxBG",31]
[{"$f":"IF(B1043=0,0,MAX($A$2:A1042)+1)","v":0},{"$f":"IF(D1043=Calcs!$X$38,Calcs!$W$38,IF(D1043=Calcs!$X$39,Calcs!$W$39,IF(D1043=Calcs!$X$40,Calcs!$W$40,IF(TRUE,0))))","v":0},1042,"SB48-882-20BG",null,"SLIDE BENCH: 4FTx73.5FTx20INxBG",31]
[{"$f":"IF(B1044=0,0,MAX($A$2:A1043)+1)","v":0},{"$f":"IF(D1044=Calcs!$X$38,Calcs!$W$38,IF(D1044=Calcs!$X$39,Calcs!$W$39,IF(D1044=Calcs!$X$40,Calcs!$W$40,IF(TRUE,0))))","v":0},1043,"SB48-894-20BG",null,"SLIDE BENCH: 4FTx74.5FTx20INxBG",31]
[{"$f":"IF(B1045=0,0,MAX($A$2:A1044)+1)","v":0},{"$f":"IF(D1045=Calcs!$X$38,Calcs!$W$38,IF(D1045=Calcs!$X$39,Calcs!$W$39,IF(D1045=Calcs!$X$40,Calcs!$W$40,IF(TRUE,0))))","v":0},1044,"SB48-906-20BG",null,"SLIDE BENCH: 4FTx75.5FTx20INxBG",31]
[{"$f":"IF(B1046=0,0,MAX($A$2:A1045)+1)","v":0},{"$f":"IF(D1046=Calcs!$X$38,Calcs!$W$38,IF(D1046=Calcs!$X$39,Calcs!$W$39,IF(D1046=Calcs!$X$40,Calcs!$W$40,IF(TRUE,0))))","v":0},1045,"SB48-930-20BG",null,"SLIDE BENCH: 4FTx77.5FTx20INxBG",31]
[{"$f":"IF(B1047=0,0,MAX($A$2:A1046)+1)","v":0},{"$f":"IF(D1047=Calcs!$X$38,Calcs!$W$38,IF(D1047=Calcs!$X$39,Calcs!$W$39,IF(D1047=Calcs!$X$40,Calcs!$W$40,IF(TRUE,0))))","v":0},1046,"SB48-942-20BG",null,"SLIDE BENCH: 4FTx78.5FTx20INxBG",31]
[{"$f":"IF(B1048=0,0,MAX($A$2:A1047)+1)","v":0},{"$f":"IF(D1048=Calcs!$X$38,Calcs!$W$38,IF(D1048=Calcs!$X$39,Calcs!$W$39,IF(D1048=Calcs!$X$40,Calcs!$W$40,IF(TRUE,0))))","v":0},1047,"SB48-954-20BG",null,"SLIDE BENCH: 4FTx79.5FTx20INxBG",31]
[{"$f":"IF(B1049=0,0,MAX($A$2:A1048)+1)","v":0},{"$f":"IF(D1049=Calcs!$X$38,Calcs!$W$38,IF(D1049=Calcs!$X$39,Calcs!$W$39,IF(D1049=Calcs!$X$40,Calcs!$W$40,IF(TRUE,0))))","v":0},1048,"SB48-966-20BG",null,"SLIDE BENCH: 4FTx80.5FTx20INxBG",31]
[{"$f":"IF(B1050=0,0,MAX($A$2:A1049)+1)","v":0},{"$f":"IF(D1050=Calcs!$X$38,Calcs!$W$38,IF(D1050=Calcs!$X$39,Calcs!$W$39,IF(D1050=Calcs!$X$40,Calcs!$W$40,IF(TRUE,0))))","v":0},1049,"SB48-990-20BG",null,"SLIDE BENCH: 4FTx82.5FTx20INxBG",31]
[{"$f":"IF(B1051=0,0,MAX($A$2:A1050)+1)","v":0},{"$f":"IF(D1051=Calcs!$X$38,Calcs!$W$38,IF(D1051=Calcs!$X$39,Calcs!$W$39,IF(D1051=Calcs!$X$40,Calcs!$W$40,IF(TRUE,0))))","v":0},1050,"SB48-1002-20BG",null,"SLIDE BENCH: 4FTx83.5FTx20INxBG",31]
[{"$f":"IF(B1052=0,0,MAX($A$2:A1051)+1)","v":0},{"$f":"IF(D1052=Calcs!$X$38,Calcs!$W$38,IF(D1052=Calcs!$X$39,Calcs!$W$39,IF(D1052=Calcs!$X$40,Calcs!$W$40,IF(TRUE,0))))","v":0},1051,"SB48-1014-20BG",null,"SLIDE BENCH: 4FTx84.5FTx20INxBG",31]
[{"$f":"IF(B1053=0,0,MAX($A$2:A1052)+1)","v":0},{"$f":"IF(D1053=Calcs!$X$38,Calcs!$W$38,IF(D1053=Calcs!$X$39,Calcs!$W$39,IF(D1053=Calcs!$X$40,Calcs!$W$40,IF(TRUE,0))))","v":0},1052,"SB48-1026-20BG",null,"SLIDE BENCH: 4FTx85.5FTx20INxBG",31]
[{"$f":"IF(B1054=0,0,MAX($A$2:A1053)+1)","v":0},{"$f":"IF(D1054=Calcs!$X$38,Calcs!$W$38,IF(D1054=Calcs!$X$39,Calcs!$W$39,IF(D1054=Calcs!$X$40,Calcs!$W$40,IF(TRUE,0))))","v":0},1053,"SB48-1050-20BG",null,"SLIDE BENCH: 4FTx87.5FTx20INxBG",31]
[{"$f":"IF(B1055=0,0,MAX($A$2:A1054)+1)","v":0},{"$f":"IF(D1055=Calcs!$X$38,Calcs!$W$38,IF(D1055=Calcs!$X$39,Calcs!$W$39,IF(D1055=Calcs!$X$40,Calcs!$W$40,IF(TRUE,0))))","v":0},1054,"SB48-1062-20BG",null,"SLIDE BENCH: 4FTx88.5FTx20INxBG",31]
[{"$f":"IF(B1056=0,0,MAX($A$2:A1055)+1)","v":0},{"$f":"IF(D1056=Calcs!$X$38,Calcs!$W$38,IF(D1056=Calcs!$X$39,Calcs!$W$39,IF(D1056=Calcs!$X$40,Calcs!$W$40,IF(TRUE,0))))","v":0},1055,"SB48-1074-20BG",null,"SLIDE BENCH: 4FTx89.5FTx20INxBG",31]
[{"$f":"IF(B1057=0,0,MAX($A$2:A1056)+1)","v":0},{"$f":"IF(D1057=Calcs!$X$38,Calcs!$W$38,IF(D1057=Calcs!$X$39,Calcs!$W$39,IF(D1057=Calcs!$X$40,Calcs!$W$40,IF(TRUE,0))))","v":0},1056,"SB48-1086-20BG",null,"SLIDE BENCH: 4FTx90.5FTx20INxBG",31]
[{"$f":"IF(B1058=0,0,MAX($A$2:A1057)+1)","v":0},{"$f":"IF(D1058=Calcs!$X$38,Calcs!$W$38,IF(D1058=Calcs!$X$39,Calcs!$W$39,IF(D1058=Calcs!$X$40,Calcs!$W$40,IF(TRUE,0))))","v":0},1057,"SB48-1110-20BG",null,"SLIDE BENCH: 4FTx92.5FTx20INxBG",31]
[{"$f":"IF(B1059=0,0,MAX($A$2:A1058)+1)","v":0},{"$f":"IF(D1059=Calcs!$X$38,Calcs!$W$38,IF(D1059=Calcs!$X$39,Calcs!$W$39,IF(D1059=Calcs!$X$40,Calcs!$W$40,IF(TRUE,0))))","v":0},1058,"SB48-1122-20BG",null,"SLIDE BENCH: 4FTx93.5FTx20INxBG",31]
[{"$f":"IF(B1060=0,0,MAX($A$2:A1059)+1)","v":0},{"$f":"IF(D1060=Calcs!$X$38,Calcs!$W$38,IF(D1060=Calcs!$X$39,Calcs!$W$39,IF(D1060=Calcs!$X$40,Calcs!$W$40,IF(TRUE,0))))","v":0},1059,"SB48-1134-20BG",null,"SLIDE BENCH: 4FTx94.5FTx20INxBG",31]
[{"$f":"IF(B1061=0,0,MAX($A$2:A1060)+1)","v":0},{"$f":"IF(D1061=Calcs!$X$38,Calcs!$W$38,IF(D1061=Calcs!$X$39,Calcs!$W$39,IF(D1061=Calcs!$X$40,Calcs!$W$40,IF(TRUE,0))))","v":0},1060,"SB48-1146-20BG",null,"SLIDE BENCH: 4FTx95.5FTx20INxBG",31]
[{"$f":"IF(B1062=0,0,MAX($A$2:A1061)+1)","v":0},{"$f":"IF(D1062=Calcs!$X$38,Calcs!$W$38,IF(D1062=Calcs!$X$39,Calcs!$W$39,IF(D1062=Calcs!$X$40,Calcs!$W$40,IF(TRUE,0))))","v":0},1061,"SB48-1170-20BG",null,"SLIDE BENCH: 4FTx97.5FTx20INxBG",31]
[{"$f":"IF(B1063=0,0,MAX($A$2:A1062)+1)","v":0},{"$f":"IF(D1063=Calcs!$X$38,Calcs!$W$38,IF(D1063=Calcs!$X$39,Calcs!$W$39,IF(D1063=Calcs!$X$40,Calcs!$W$40,IF(TRUE,0))))","v":0},1062,"SB48-1182-20BG",null,"SLIDE BENCH: 4FTx98.5FTx20INxBG",31]
[{"$f":"IF(B1064=0,0,MAX($A$2:A1063)+1)","v":0},{"$f":"IF(D1064=Calcs!$X$38,Calcs!$W$38,IF(D1064=Calcs!$X$39,Calcs!$W$39,IF(D1064=Calcs!$X$40,Calcs!$W$40,IF(TRUE,0))))","v":0},1063,"SB48-1194-20BG",null,"SLIDE BENCH: 4FTx99.5FTx20INxBG",31]
[{"$f":"IF(B1065=0,0,MAX($A$2:A1064)+1)","v":0},{"$f":"IF(D1065=Calcs!$X$38,Calcs!$W$38,IF(D1065=Calcs!$X$39,Calcs!$W$39,IF(D1065=Calcs!$X$40,Calcs!$W$40,IF(TRUE,0))))","v":0},1064,"SB48-1206-20BG",null,"SLIDE BENCH: 4FTx100.5FTx20INxBG",32]
[{"$f":"IF(B1066=0,0,MAX($A$2:A1065)+1)","v":0},{"$f":"IF(D1066=Calcs!$X$38,Calcs!$W$38,IF(D1066=Calcs!$X$39,Calcs!$W$39,IF(D1066=Calcs!$X$40,Calcs!$W$40,IF(TRUE,0))))","v":0},1065,"SB48-90-30BG",null,"SLIDE BENCH: 4FTx7.5FTx30INxBG",30]
[{"$f":"IF(B1067=0,0,MAX($A$2:A1066)+1)","v":0},{"$f":"IF(D1067=Calcs!$X$38,Calcs!$W$38,IF(D1067=Calcs!$X$39,Calcs!$W$39,IF(D1067=Calcs!$X$40,Calcs!$W$40,IF(TRUE,0))))","v":0},1066,"SB48-102-30BG",null,"SLIDE BENCH: 4FTx8.5FTx30INxBG",30]
[{"$f":"IF(B1068=0,0,MAX($A$2:A1067)+1)","v":0},{"$f":"IF(D1068=Calcs!$X$38,Calcs!$W$38,IF(D1068=Calcs!$X$39,Calcs!$W$39,IF(D1068=Calcs!$X$40,Calcs!$W$40,IF(TRUE,0))))","v":0},1067,"SB48-114-30BG",null,"SLIDE BENCH: 4FTx9.5FTx30INxBG",30]
[{"$f":"IF(B1069=0,0,MAX($A$2:A1068)+1)","v":0},{"$f":"IF(D1069=Calcs!$X$38,Calcs!$W$38,IF(D1069=Calcs!$X$39,Calcs!$W$39,IF(D1069=Calcs!$X$40,Calcs!$W$40,IF(TRUE,0))))","v":0},1068,"SB48-126-30BG",null,"SLIDE BENCH: 4FTx10.5FTx30INxBG",31]
[{"$f":"IF(B1070=0,0,MAX($A$2:A1069)+1)","v":0},{"$f":"IF(D1070=Calcs!$X$38,Calcs!$W$38,IF(D1070=Calcs!$X$39,Calcs!$W$39,IF(D1070=Calcs!$X$40,Calcs!$W$40,IF(TRUE,0))))","v":0},1069,"SB48-150-30BG",null,"SLIDE BENCH: 4FTx12.5FTx30INxBG",31]
[{"$f":"IF(B1071=0,0,MAX($A$2:A1070)+1)","v":0},{"$f":"IF(D1071=Calcs!$X$38,Calcs!$W$38,IF(D1071=Calcs!$X$39,Calcs!$W$39,IF(D1071=Calcs!$X$40,Calcs!$W$40,IF(TRUE,0))))","v":0},1070,"SB48-162-30BG",null,"SLIDE BENCH: 4FTx13.5FTx30INxBG",31]
[{"$f":"IF(B1072=0,0,MAX($A$2:A1071)+1)","v":0},{"$f":"IF(D1072=Calcs!$X$38,Calcs!$W$38,IF(D1072=Calcs!$X$39,Calcs!$W$39,IF(D1072=Calcs!$X$40,Calcs!$W$40,IF(TRUE,0))))","v":0},1071,"SB48-174-30BG",null,"SLIDE BENCH: 4FTx14.5FTx30INxBG",31]
[{"$f":"IF(B1073=0,0,MAX($A$2:A1072)+1)","v":0},{"$f":"IF(D1073=Calcs!$X$38,Calcs!$W$38,IF(D1073=Calcs!$X$39,Calcs!$W$39,IF(D1073=Calcs!$X$40,Calcs!$W$40,IF(TRUE,0))))","v":0},1072,"SB48-186-30BG",null,"SLIDE BENCH: 4FTx15.5FTx30INxBG",31]
[{"$f":"IF(B1074=0,0,MAX($A$2:A1073)+1)","v":0},{"$f":"IF(D1074=Calcs!$X$38,Calcs!$W$38,IF(D1074=Calcs!$X$39,Calcs!$W$39,IF(D1074=Calcs!$X$40,Calcs!$W$40,IF(TRUE,0))))","v":0},1073,"SB48-210-30BG",null,"SLIDE BENCH: 4FTx17.5FTx30INxBG",31]
[{"$f":"IF(B1075=0,0,MAX($A$2:A1074)+1)","v":0},{"$f":"IF(D1075=Calcs!$X$38,Calcs!$W$38,IF(D1075=Calcs!$X$39,Calcs!$W$39,IF(D1075=Calcs!$X$40,Calcs!$W$40,IF(TRUE,0))))","v":0},1074,"SB48-222-30BG",null,"SLIDE BENCH: 4FTx18.5FTx30INxBG",31]
[{"$f":"IF(B1076=0,0,MAX($A$2:A1075)+1)","v":0},{"$f":"IF(D1076=Calcs!$X$38,Calcs!$W$38,IF(D1076=Calcs!$X$39,Calcs!$W$39,IF(D1076=Calcs!$X$40,Calcs!$W$40,IF(TRUE,0))))","v":0},1075,"SB48-234-30BG",null,"SLIDE BENCH: 4FTx19.5FTx30INxBG",31]
[{"$f":"IF(B1077=0,0,MAX($A$2:A1076)+1)","v":0},{"$f":"IF(D1077=Calcs!$X$38,Calcs!$W$38,IF(D1077=Calcs!$X$39,Calcs!$W$39,IF(D1077=Calcs!$X$40,Calcs!$W$40,IF(TRUE,0))))","v":0},1076,"SB48-246-30BG",null,"SLIDE BENCH: 4FTx20.5FTx30INxBG",31]
[{"$f":"IF(B1078=0,0,MAX($A$2:A1077)+1)","v":0},{"$f":"IF(D1078=Calcs!$X$38,Calcs!$W$38,IF(D1078=Calcs!$X$39,Calcs!$W$39,IF(D1078=Calcs!$X$40,Calcs!$W$40,IF(TRUE,0))))","v":0},1077,"SB48-270-30BG",null,"SLIDE BENCH: 4FTx22.5FTx30INxBG",31]
[{"$f":"IF(B1079=0,0,MAX($A$2:A1078)+1)","v":0},{"$f":"IF(D1079=Calcs!$X$38,Calcs!$W$38,IF(D1079=Calcs!$X$39,Calcs!$W$39,IF(D1079=Calcs!$X$40,Calcs!$W$40,IF(TRUE,0))))","v":0},1078,"SB48-282-30BG",null,"SLIDE BENCH: 4FTx23.5FTx30INxBG",31]
[{"$f":"IF(B1080=0,0,MAX($A$2:A1079)+1)","v":0},{"$f":"IF(D1080=Calcs!$X$38,Calcs!$W$38,IF(D1080=Calcs!$X$39,Calcs!$W$39,IF(D1080=Calcs!$X$40,Calcs!$W$40,IF(TRUE,0))))","v":0},1079,"SB48-294-30BG",null,"SLIDE BENCH: 4FTx24.5FTx30INxBG",31]
[{"$f":"IF(B1081=0,0,MAX($A$2:A1080)+1)","v":0},{"$f":"IF(D1081=Calcs!$X$38,Calcs!$W$38,IF(D1081=Calcs!$X$39,Calcs!$W$39,IF(D1081=Calcs!$X$40,Calcs!$W$40,IF(TRUE,0))))","v":0},1080,"SB48-306-30BG",null,"SLIDE BENCH: 4FTx25.5FTx30INxBG",31]
[{"$f":"IF(B1082=0,0,MAX($A$2:A1081)+1)","v":0},{"$f":"IF(D1082=Calcs!$X$38,Calcs!$W$38,IF(D1082=Calcs!$X$39,Calcs!$W$39,IF(D1082=Calcs!$X$40,Calcs!$W$40,IF(TRUE,0))))","v":0},1081,"SB48-330-30BG",null,"SLIDE BENCH: 4FTx27.5FTx30INxBG",31]
[{"$f":"IF(B1083=0,0,MAX($A$2:A1082)+1)","v":0},{"$f":"IF(D1083=Calcs!$X$38,Calcs!$W$38,IF(D1083=Calcs!$X$39,Calcs!$W$39,IF(D1083=Calcs!$X$40,Calcs!$W$40,IF(TRUE,0))))","v":0},1082,"SB48-342-30BG",null,"SLIDE BENCH: 4FTx28.5FTx30INxBG",31]
[{"$f":"IF(B1084=0,0,MAX($A$2:A1083)+1)","v":0},{"$f":"IF(D1084=Calcs!$X$38,Calcs!$W$38,IF(D1084=Calcs!$X$39,Calcs!$W$39,IF(D1084=Calcs!$X$40,Calcs!$W$40,IF(TRUE,0))))","v":0},1083,"SB48-354-30BG",null,"SLIDE BENCH: 4FTx29.5FTx30INxBG",31]
[{"$f":"IF(B1085=0,0,MAX($A$2:A1084)+1)","v":0},{"$f":"IF(D1085=Calcs!$X$38,Calcs!$W$38,IF(D1085=Calcs!$X$39,Calcs!$W$39,IF(D1085=Calcs!$X$40,Calcs!$W$40,IF(TRUE,0))))","v":0},1084,"SB48-366-30BG",null,"SLIDE BENCH: 4FTx30.5FTx30INxBG",31]
[{"$f":"IF(B1086=0,0,MAX($A$2:A1085)+1)","v":0},{"$f":"IF(D1086=Calcs!$X$38,Calcs!$W$38,IF(D1086=Calcs!$X$39,Calcs!$W$39,IF(D1086=Calcs!$X$40,Calcs!$W$40,IF(TRUE,0))))","v":0},1085,"SB48-390-30BG",null,"SLIDE BENCH: 4FTx32.5FTx30INxBG",31]
[{"$f":"IF(B1087=0,0,MAX($A$2:A1086)+1)","v":0},{"$f":"IF(D1087=Calcs!$X$38,Calcs!$W$38,IF(D1087=Calcs!$X$39,Calcs!$W$39,IF(D1087=Calcs!$X$40,Calcs!$W$40,IF(TRUE,0))))","v":0},1086,"SB48-402-30BG",null,"SLIDE BENCH: 4FTx33.5FTx30INxBG",31]
[{"$f":"IF(B1088=0,0,MAX($A$2:A1087)+1)","v":0},{"$f":"IF(D1088=Calcs!$X$38,Calcs!$W$38,IF(D1088=Calcs!$X$39,Calcs!$W$39,IF(D1088=Calcs!$X$40,Calcs!$W$40,IF(TRUE,0))))","v":0},1087,"SB48-414-30BG",null,"SLIDE BENCH: 4FTx34.5FTx30INxBG",31]
[{"$f":"IF(B1089=0,0,MAX($A$2:A1088)+1)","v":0},{"$f":"IF(D1089=Calcs!$X$38,Calcs!$W$38,IF(D1089=Calcs!$X$39,Calcs!$W$39,IF(D1089=Calcs!$X$40,Calcs!$W$40,IF(TRUE,0))))","v":0},1088,"SB48-426-30BG",null,"SLIDE BENCH: 4FTx35.5FTx30INxBG",31]
[{"$f":"IF(B1090=0,0,MAX($A$2:A1089)+1)","v":0},{"$f":"IF(D1090=Calcs!$X$38,Calcs!$W$38,IF(D1090=Calcs!$X$39,Calcs!$W$39,IF(D1090=Calcs!$X$40,Calcs!$W$40,IF(TRUE,0))))","v":0},1089,"SB48-450-30BG",null,"SLIDE BENCH: 4FTx37.5FTx30INxBG",31]
[{"$f":"IF(B1091=0,0,MAX($A$2:A1090)+1)","v":0},{"$f":"IF(D1091=Calcs!$X$38,Calcs!$W$38,IF(D1091=Calcs!$X$39,Calcs!$W$39,IF(D1091=Calcs!$X$40,Calcs!$W$40,IF(TRUE,0))))","v":0},1090,"SB48-462-30BG",null,"SLIDE BENCH: 4FTx38.5FTx30INxBG",31]
[{"$f":"IF(B1092=0,0,MAX($A$2:A1091)+1)","v":0},{"$f":"IF(D1092=Calcs!$X$38,Calcs!$W$38,IF(D1092=Calcs!$X$39,Calcs!$W$39,IF(D1092=Calcs!$X$40,Calcs!$W$40,IF(TRUE,0))))","v":0},1091,"SB48-474-30BG",null,"SLIDE BENCH: 4FTx39.5FTx30INxBG",31]
[{"$f":"IF(B1093=0,0,MAX($A$2:A1092)+1)","v":0},{"$f":"IF(D1093=Calcs!$X$38,Calcs!$W$38,IF(D1093=Calcs!$X$39,Calcs!$W$39,IF(D1093=Calcs!$X$40,Calcs!$W$40,IF(TRUE,0))))","v":0},1092,"SB48-486-30BG",null,"SLIDE BENCH: 4FTx40.5FTx30INxBG",31]
[{"$f":"IF(B1094=0,0,MAX($A$2:A1093)+1)","v":0},{"$f":"IF(D1094=Calcs!$X$38,Calcs!$W$38,IF(D1094=Calcs!$X$39,Calcs!$W$39,IF(D1094=Calcs!$X$40,Calcs!$W$40,IF(TRUE,0))))","v":0},1093,"SB48-510-30BG",null,"SLIDE BENCH: 4FTx42.5FTx30INxBG",31]
[{"$f":"IF(B1095=0,0,MAX($A$2:A1094)+1)","v":0},{"$f":"IF(D1095=Calcs!$X$38,Calcs!$W$38,IF(D1095=Calcs!$X$39,Calcs!$W$39,IF(D1095=Calcs!$X$40,Calcs!$W$40,IF(TRUE,0))))","v":0},1094,"SB48-522-30BG",null,"SLIDE BENCH: 4FTx43.5FTx30INxBG",31]
[{"$f":"IF(B1096=0,0,MAX($A$2:A1095)+1)","v":0},{"$f":"IF(D1096=Calcs!$X$38,Calcs!$W$38,IF(D1096=Calcs!$X$39,Calcs!$W$39,IF(D1096=Calcs!$X$40,Calcs!$W$40,IF(TRUE,0))))","v":0},1095,"SB48-534-30BG",null,"SLIDE BENCH: 4FTx44.5FTx30INxBG",31]
[{"$f":"IF(B1097=0,0,MAX($A$2:A1096)+1)","v":0},{"$f":"IF(D1097=Calcs!$X$38,Calcs!$W$38,IF(D1097=Calcs!$X$39,Calcs!$W$39,IF(D1097=Calcs!$X$40,Calcs!$W$40,IF(TRUE,0))))","v":0},1096,"SB48-546-30BG",null,"SLIDE BENCH: 4FTx45.5FTx30INxBG",31]
[{"$f":"IF(B1098=0,0,MAX($A$2:A1097)+1)","v":0},{"$f":"IF(D1098=Calcs!$X$38,Calcs!$W$38,IF(D1098=Calcs!$X$39,Calcs!$W$39,IF(D1098=Calcs!$X$40,Calcs!$W$40,IF(TRUE,0))))","v":0},1097,"SB48-570-30BG",null,"SLIDE BENCH: 4FTx47.5FTx30INxBG",31]
[{"$f":"IF(B1099=0,0,MAX($A$2:A1098)+1)","v":0},{"$f":"IF(D1099=Calcs!$X$38,Calcs!$W$38,IF(D1099=Calcs!$X$39,Calcs!$W$39,IF(D1099=Calcs!$X$40,Calcs!$W$40,IF(TRUE,0))))","v":0},1098,"SB48-582-30BG",null,"SLIDE BENCH: 4FTx48.5FTx30INxBG",31]
[{"$f":"IF(B1100=0,0,MAX($A$2:A1099)+1)","v":0},{"$f":"IF(D1100=Calcs!$X$38,Calcs!$W$38,IF(D1100=Calcs!$X$39,Calcs!$W$39,IF(D1100=Calcs!$X$40,Calcs!$W$40,IF(TRUE,0))))","v":0},1099,"SB48-594-30BG",null,"SLIDE BENCH: 4FTx49.5FTx30INxBG",31]
[{"$f":"IF(B1101=0,0,MAX($A$2:A1100)+1)","v":0},{"$f":"IF(D1101=Calcs!$X$38,Calcs!$W$38,IF(D1101=Calcs!$X$39,Calcs!$W$39,IF(D1101=Calcs!$X$40,Calcs!$W$40,IF(TRUE,0))))","v":0},1100,"SB48-606-30BG",null,"SLIDE BENCH: 4FTx50.5FTx30INxBG",31]
[{"$f":"IF(B1102=0,0,MAX($A$2:A1101)+1)","v":0},{"$f":"IF(D1102=Calcs!$X$38,Calcs!$W$38,IF(D1102=Calcs!$X$39,Calcs!$W$39,IF(D1102=Calcs!$X$40,Calcs!$W$40,IF(TRUE,0))))","v":0},1101,"SB48-630-30BG",null,"SLIDE BENCH: 4FTx52.5FTx30INxBG",31]
[{"$f":"IF(B1103=0,0,MAX($A$2:A1102)+1)","v":0},{"$f":"IF(D1103=Calcs!$X$38,Calcs!$W$38,IF(D1103=Calcs!$X$39,Calcs!$W$39,IF(D1103=Calcs!$X$40,Calcs!$W$40,IF(TRUE,0))))","v":0},1102,"SB48-642-30BG",null,"SLIDE BENCH: 4FTx53.5FTx30INxBG",31]
[{"$f":"IF(B1104=0,0,MAX($A$2:A1103)+1)","v":0},{"$f":"IF(D1104=Calcs!$X$38,Calcs!$W$38,IF(D1104=Calcs!$X$39,Calcs!$W$39,IF(D1104=Calcs!$X$40,Calcs!$W$40,IF(TRUE,0))))","v":0},1103,"SB48-654-30BG",null,"SLIDE BENCH: 4FTx54.5FTx30INxBG",31]
[{"$f":"IF(B1105=0,0,MAX($A$2:A1104)+1)","v":0},{"$f":"IF(D1105=Calcs!$X$38,Calcs!$W$38,IF(D1105=Calcs!$X$39,Calcs!$W$39,IF(D1105=Calcs!$X$40,Calcs!$W$40,IF(TRUE,0))))","v":0},1104,"SB48-666-30BG",null,"SLIDE BENCH: 4FTx55.5FTx30INxBG",31]
[{"$f":"IF(B1106=0,0,MAX($A$2:A1105)+1)","v":0},{"$f":"IF(D1106=Calcs!$X$38,Calcs!$W$38,IF(D1106=Calcs!$X$39,Calcs!$W$39,IF(D1106=Calcs!$X$40,Calcs!$W$40,IF(TRUE,0))))","v":0},1105,"SB48-690-30BG",null,"SLIDE BENCH: 4FTx57.5FTx30INxBG",31]
[{"$f":"IF(B1107=0,0,MAX($A$2:A1106)+1)","v":0},{"$f":"IF(D1107=Calcs!$X$38,Calcs!$W$38,IF(D1107=Calcs!$X$39,Calcs!$W$39,IF(D1107=Calcs!$X$40,Calcs!$W$40,IF(TRUE,0))))","v":0},1106,"SB48-702-30BG",null,"SLIDE BENCH: 4FTx58.5FTx30INxBG",31]
[{"$f":"IF(B1108=0,0,MAX($A$2:A1107)+1)","v":0},{"$f":"IF(D1108=Calcs!$X$38,Calcs!$W$38,IF(D1108=Calcs!$X$39,Calcs!$W$39,IF(D1108=Calcs!$X$40,Calcs!$W$40,IF(TRUE,0))))","v":0},1107,"SB48-714-30BG",null,"SLIDE BENCH: 4FTx59.5FTx30INxBG",31]
[{"$f":"IF(B1109=0,0,MAX($A$2:A1108)+1)","v":0},{"$f":"IF(D1109=Calcs!$X$38,Calcs!$W$38,IF(D1109=Calcs!$X$39,Calcs!$W$39,IF(D1109=Calcs!$X$40,Calcs!$W$40,IF(TRUE,0))))","v":0},1108,"SB48-726-30BG",null,"SLIDE BENCH: 4FTx60.5FTx30INxBG",31]
[{"$f":"IF(B1110=0,0,MAX($A$2:A1109)+1)","v":0},{"$f":"IF(D1110=Calcs!$X$38,Calcs!$W$38,IF(D1110=Calcs!$X$39,Calcs!$W$39,IF(D1110=Calcs!$X$40,Calcs!$W$40,IF(TRUE,0))))","v":0},1109,"SB48-750-30BG",null,"SLIDE BENCH: 4FTx62.5FTx30INxBG",31]
[{"$f":"IF(B1111=0,0,MAX($A$2:A1110)+1)","v":0},{"$f":"IF(D1111=Calcs!$X$38,Calcs!$W$38,IF(D1111=Calcs!$X$39,Calcs!$W$39,IF(D1111=Calcs!$X$40,Calcs!$W$40,IF(TRUE,0))))","v":0},1110,"SB48-762-30BG",null,"SLIDE BENCH: 4FTx63.5FTx30INxBG",31]
[{"$f":"IF(B1112=0,0,MAX($A$2:A1111)+1)","v":0},{"$f":"IF(D1112=Calcs!$X$38,Calcs!$W$38,IF(D1112=Calcs!$X$39,Calcs!$W$39,IF(D1112=Calcs!$X$40,Calcs!$W$40,IF(TRUE,0))))","v":0},1111,"SB48-774-30BG",null,"SLIDE BENCH: 4FTx64.5FTx30INxBG",31]
[{"$f":"IF(B1113=0,0,MAX($A$2:A1112)+1)","v":0},{"$f":"IF(D1113=Calcs!$X$38,Calcs!$W$38,IF(D1113=Calcs!$X$39,Calcs!$W$39,IF(D1113=Calcs!$X$40,Calcs!$W$40,IF(TRUE,0))))","v":0},1112,"SB48-786-30BG",null,"SLIDE BENCH: 4FTx65.5FTx30INxBG",31]
[{"$f":"IF(B1114=0,0,MAX($A$2:A1113)+1)","v":0},{"$f":"IF(D1114=Calcs!$X$38,Calcs!$W$38,IF(D1114=Calcs!$X$39,Calcs!$W$39,IF(D1114=Calcs!$X$40,Calcs!$W$40,IF(TRUE,0))))","v":0},1113,"SB48-810-30BG",null,"SLIDE BENCH: 4FTx67.5FTx30INxBG",31]
[{"$f":"IF(B1115=0,0,MAX($A$2:A1114)+1)","v":0},{"$f":"IF(D1115=Calcs!$X$38,Calcs!$W$38,IF(D1115=Calcs!$X$39,Calcs!$W$39,IF(D1115=Calcs!$X$40,Calcs!$W$40,IF(TRUE,0))))","v":0},1114,"SB48-822-30BG",null,"SLIDE BENCH: 4FTx68.5FTx30INxBG",31]
[{"$f":"IF(B1116=0,0,MAX($A$2:A1115)+1)","v":0},{"$f":"IF(D1116=Calcs!$X$38,Calcs!$W$38,IF(D1116=Calcs!$X$39,Calcs!$W$39,IF(D1116=Calcs!$X$40,Calcs!$W$40,IF(TRUE,0))))","v":0},1115,"SB48-834-30BG",null,"SLIDE BENCH: 4FTx69.5FTx30INxBG",31]
[{"$f":"IF(B1117=0,0,MAX($A$2:A1116)+1)","v":0},{"$f":"IF(D1117=Calcs!$X$38,Calcs!$W$38,IF(D1117=Calcs!$X$39,Calcs!$W$39,IF(D1117=Calcs!$X$40,Calcs!$W$40,IF(TRUE,0))))","v":0},1116,"SB48-846-30BG",null,"SLIDE BENCH: 4FTx70.5FTx30INxBG",31]
[{"$f":"IF(B1118=0,0,MAX($A$2:A1117)+1)","v":0},{"$f":"IF(D1118=Calcs!$X$38,Calcs!$W$38,IF(D1118=Calcs!$X$39,Calcs!$W$39,IF(D1118=Calcs!$X$40,Calcs!$W$40,IF(TRUE,0))))","v":0},1117,"SB48-870-30BG",null,"SLIDE BENCH: 4FTx72.5FTx30INxBG",31]
[{"$f":"IF(B1119=0,0,MAX($A$2:A1118)+1)","v":0},{"$f":"IF(D1119=Calcs!$X$38,Calcs!$W$38,IF(D1119=Calcs!$X$39,Calcs!$W$39,IF(D1119=Calcs!$X$40,Calcs!$W$40,IF(TRUE,0))))","v":0},1118,"SB48-882-30BG",null,"SLIDE BENCH: 4FTx73.5FTx30INxBG",31]
[{"$f":"IF(B1120=0,0,MAX($A$2:A1119)+1)","v":0},{"$f":"IF(D1120=Calcs!$X$38,Calcs!$W$38,IF(D1120=Calcs!$X$39,Calcs!$W$39,IF(D1120=Calcs!$X$40,Calcs!$W$40,IF(TRUE,0))))","v":0},1119,"SB48-894-30BG",null,"SLIDE BENCH: 4FTx74.5FTx30INxBG",31]
[{"$f":"IF(B1121=0,0,MAX($A$2:A1120)+1)","v":0},{"$f":"IF(D1121=Calcs!$X$38,Calcs!$W$38,IF(D1121=Calcs!$X$39,Calcs!$W$39,IF(D1121=Calcs!$X$40,Calcs!$W$40,IF(TRUE,0))))","v":0},1120,"SB48-906-30BG",null,"SLIDE BENCH: 4FTx75.5FTx30INxBG",31]
[{"$f":"IF(B1122=0,0,MAX($A$2:A1121)+1)","v":0},{"$f":"IF(D1122=Calcs!$X$38,Calcs!$W$38,IF(D1122=Calcs!$X$39,Calcs!$W$39,IF(D1122=Calcs!$X$40,Calcs!$W$40,IF(TRUE,0))))","v":0},1121,"SB48-930-30BG",null,"SLIDE BENCH: 4FTx77.5FTx30INxBG",31]
[{"$f":"IF(B1123=0,0,MAX($A$2:A1122)+1)","v":0},{"$f":"IF(D1123=Calcs!$X$38,Calcs!$W$38,IF(D1123=Calcs!$X$39,Calcs!$W$39,IF(D1123=Calcs!$X$40,Calcs!$W$40,IF(TRUE,0))))","v":0},1122,"SB48-942-30BG",null,"SLIDE BENCH: 4FTx78.5FTx30INxBG",31]
[{"$f":"IF(B1124=0,0,MAX($A$2:A1123)+1)","v":0},{"$f":"IF(D1124=Calcs!$X$38,Calcs!$W$38,IF(D1124=Calcs!$X$39,Calcs!$W$39,IF(D1124=Calcs!$X$40,Calcs!$W$40,IF(TRUE,0))))","v":0},1123,"SB48-954-30BG",null,"SLIDE BENCH: 4FTx79.5FTx30INxBG",31]
[{"$f":"IF(B1125=0,0,MAX($A$2:A1124)+1)","v":0},{"$f":"IF(D1125=Calcs!$X$38,Calcs!$W$38,IF(D1125=Calcs!$X$39,Calcs!$W$39,IF(D1125=Calcs!$X$40,Calcs!$W$40,IF(TRUE,0))))","v":0},1124,"SB48-966-30BG",null,"SLIDE BENCH: 4FTx80.5FTx30INxBG",31]
[{"$f":"IF(B1126=0,0,MAX($A$2:A1125)+1)","v":0},{"$f":"IF(D1126=Calcs!$X$38,Calcs!$W$38,IF(D1126=Calcs!$X$39,Calcs!$W$39,IF(D1126=Calcs!$X$40,Calcs!$W$40,IF(TRUE,0))))","v":0},1125,"SB48-990-30BG",null,"SLIDE BENCH: 4FTx82.5FTx30INxBG",31]
[{"$f":"IF(B1127=0,0,MAX($A$2:A1126)+1)","v":0},{"$f":"IF(D1127=Calcs!$X$38,Calcs!$W$38,IF(D1127=Calcs!$X$39,Calcs!$W$39,IF(D1127=Calcs!$X$40,Calcs!$W$40,IF(TRUE,0))))","v":0},1126,"SB48-1002-30BG",null,"SLIDE BENCH: 4FTx83.5FTx30INxBG",31]
[{"$f":"IF(B1128=0,0,MAX($A$2:A1127)+1)","v":0},{"$f":"IF(D1128=Calcs!$X$38,Calcs!$W$38,IF(D1128=Calcs!$X$39,Calcs!$W$39,IF(D1128=Calcs!$X$40,Calcs!$W$40,IF(TRUE,0))))","v":0},1127,"SB48-1014-30BG",null,"SLIDE BENCH: 4FTx84.5FTx30INxBG",31]
[{"$f":"IF(B1129=0,0,MAX($A$2:A1128)+1)","v":0},{"$f":"IF(D1129=Calcs!$X$38,Calcs!$W$38,IF(D1129=Calcs!$X$39,Calcs!$W$39,IF(D1129=Calcs!$X$40,Calcs!$W$40,IF(TRUE,0))))","v":0},1128,"SB48-1026-30BG",null,"SLIDE BENCH: 4FTx85.5FTx30INxBG",31]
[{"$f":"IF(B1130=0,0,MAX($A$2:A1129)+1)","v":0},{"$f":"IF(D1130=Calcs!$X$38,Calcs!$W$38,IF(D1130=Calcs!$X$39,Calcs!$W$39,IF(D1130=Calcs!$X$40,Calcs!$W$40,IF(TRUE,0))))","v":0},1129,"SB48-1050-30BG",null,"SLIDE BENCH: 4FTx87.5FTx30INxBG",31]
[{"$f":"IF(B1131=0,0,MAX($A$2:A1130)+1)","v":0},{"$f":"IF(D1131=Calcs!$X$38,Calcs!$W$38,IF(D1131=Calcs!$X$39,Calcs!$W$39,IF(D1131=Calcs!$X$40,Calcs!$W$40,IF(TRUE,0))))","v":0},1130,"SB48-1062-30BG",null,"SLIDE BENCH: 4FTx88.5FTx30INxBG",31]
[{"$f":"IF(B1132=0,0,MAX($A$2:A1131)+1)","v":0},{"$f":"IF(D1132=Calcs!$X$38,Calcs!$W$38,IF(D1132=Calcs!$X$39,Calcs!$W$39,IF(D1132=Calcs!$X$40,Calcs!$W$40,IF(TRUE,0))))","v":0},1131,"SB48-1074-30BG",null,"SLIDE BENCH: 4FTx89.5FTx30INxBG",31]
[{"$f":"IF(B1133=0,0,MAX($A$2:A1132)+1)","v":0},{"$f":"IF(D1133=Calcs!$X$38,Calcs!$W$38,IF(D1133=Calcs!$X$39,Calcs!$W$39,IF(D1133=Calcs!$X$40,Calcs!$W$40,IF(TRUE,0))))","v":0},1132,"SB48-1086-30BG",null,"SLIDE BENCH: 4FTx90.5FTx30INxBG",31]
[{"$f":"IF(B1134=0,0,MAX($A$2:A1133)+1)","v":0},{"$f":"IF(D1134=Calcs!$X$38,Calcs!$W$38,IF(D1134=Calcs!$X$39,Calcs!$W$39,IF(D1134=Calcs!$X$40,Calcs!$W$40,IF(TRUE,0))))","v":0},1133,"SB48-1110-30BG",null,"SLIDE BENCH: 4FTx92.5FTx30INxBG",31]
[{"$f":"IF(B1135=0,0,MAX($A$2:A1134)+1)","v":0},{"$f":"IF(D1135=Calcs!$X$38,Calcs!$W$38,IF(D1135=Calcs!$X$39,Calcs!$W$39,IF(D1135=Calcs!$X$40,Calcs!$W$40,IF(TRUE,0))))","v":0},1134,"SB48-1122-30BG",null,"SLIDE BENCH: 4FTx93.5FTx30INxBG",31]
[{"$f":"IF(B1136=0,0,MAX($A$2:A1135)+1)","v":0},{"$f":"IF(D1136=Calcs!$X$38,Calcs!$W$38,IF(D1136=Calcs!$X$39,Calcs!$W$39,IF(D1136=Calcs!$X$40,Calcs!$W$40,IF(TRUE,0))))","v":0},1135,"SB48-1134-30BG",null,"SLIDE BENCH: 4FTx94.5FTx30INxBG",31]
[{"$f":"IF(B1137=0,0,MAX($A$2:A1136)+1)","v":0},{"$f":"IF(D1137=Calcs!$X$38,Calcs!$W$38,IF(D1137=Calcs!$X$39,Calcs!$W$39,IF(D1137=Calcs!$X$40,Calcs!$W$40,IF(TRUE,0))))","v":0},1136,"SB48-1146-30BG",null,"SLIDE BENCH: 4FTx95.5FTx30INxBG",31]
[{"$f":"IF(B1138=0,0,MAX($A$2:A1137)+1)","v":0},{"$f":"IF(D1138=Calcs!$X$38,Calcs!$W$38,IF(D1138=Calcs!$X$39,Calcs!$W$39,IF(D1138=Calcs!$X$40,Calcs!$W$40,IF(TRUE,0))))","v":0},1137,"SB48-1170-30BG",null,"SLIDE BENCH: 4FTx97.5FTx30INxBG",31]
[{"$f":"IF(B1139=0,0,MAX($A$2:A1138)+1)","v":0},{"$f":"IF(D1139=Calcs!$X$38,Calcs!$W$38,IF(D1139=Calcs!$X$39,Calcs!$W$39,IF(D1139=Calcs!$X$40,Calcs!$W$40,IF(TRUE,0))))","v":0},1138,"SB48-1182-30BG",null,"SLIDE BENCH: 4FTx98.5FTx30INxBG",31]
[{"$f":"IF(B1140=0,0,MAX($A$2:A1139)+1)","v":0},{"$f":"IF(D1140=Calcs!$X$38,Calcs!$W$38,IF(D1140=Calcs!$X$39,Calcs!$W$39,IF(D1140=Calcs!$X$40,Calcs!$W$40,IF(TRUE,0))))","v":0},1139,"SB48-1194-30BG",null,"SLIDE BENCH: 4FTx99.5FTx30INxBG",31]
[{"$f":"IF(B1141=0,0,MAX($A$2:A1140)+1)","v":0},{"$f":"IF(D1141=Calcs!$X$38,Calcs!$W$38,IF(D1141=Calcs!$X$39,Calcs!$W$39,IF(D1141=Calcs!$X$40,Calcs!$W$40,IF(TRUE,0))))","v":0},1140,"SB48-1206-30BG",null,"SLIDE BENCH: 4FTx100.5FTx30INxBG",32]
[{"$f":"IF(B1142=0,0,MAX($A$2:A1141)+1)","v":0},{"$f":"IF(D1142=Calcs!$X$38,Calcs!$W$38,IF(D1142=Calcs!$X$39,Calcs!$W$39,IF(D1142=Calcs!$X$40,Calcs!$W$40,IF(TRUE,0))))","v":0},1141,"SB60-90-12BG",null,"SLIDE BENCH: 5FTx7.5FTx12INxBG",30]
[{"$f":"IF(B1143=0,0,MAX($A$2:A1142)+1)","v":0},{"$f":"IF(D1143=Calcs!$X$38,Calcs!$W$38,IF(D1143=Calcs!$X$39,Calcs!$W$39,IF(D1143=Calcs!$X$40,Calcs!$W$40,IF(TRUE,0))))","v":0},1142,"SB60-102-12BG",null,"SLIDE BENCH: 5FTx8.5FTx12INxBG",30]
[{"$f":"IF(B1144=0,0,MAX($A$2:A1143)+1)","v":0},{"$f":"IF(D1144=Calcs!$X$38,Calcs!$W$38,IF(D1144=Calcs!$X$39,Calcs!$W$39,IF(D1144=Calcs!$X$40,Calcs!$W$40,IF(TRUE,0))))","v":0},1143,"SB60-114-12BG",null,"SLIDE BENCH: 5FTx9.5FTx12INxBG",30]
[{"$f":"IF(B1145=0,0,MAX($A$2:A1144)+1)","v":0},{"$f":"IF(D1145=Calcs!$X$38,Calcs!$W$38,IF(D1145=Calcs!$X$39,Calcs!$W$39,IF(D1145=Calcs!$X$40,Calcs!$W$40,IF(TRUE,0))))","v":0},1144,"SB60-126-12BG",null,"SLIDE BENCH: 5FTx10.5FTx12INxBG",31]
[{"$f":"IF(B1146=0,0,MAX($A$2:A1145)+1)","v":0},{"$f":"IF(D1146=Calcs!$X$38,Calcs!$W$38,IF(D1146=Calcs!$X$39,Calcs!$W$39,IF(D1146=Calcs!$X$40,Calcs!$W$40,IF(TRUE,0))))","v":0},1145,"SB60-150-12BG",null,"SLIDE BENCH: 5FTx12.5FTx12INxBG",31]
[{"$f":"IF(B1147=0,0,MAX($A$2:A1146)+1)","v":0},{"$f":"IF(D1147=Calcs!$X$38,Calcs!$W$38,IF(D1147=Calcs!$X$39,Calcs!$W$39,IF(D1147=Calcs!$X$40,Calcs!$W$40,IF(TRUE,0))))","v":0},1146,"SB60-162-12BG",null,"SLIDE BENCH: 5FTx13.5FTx12INxBG",31]
[{"$f":"IF(B1148=0,0,MAX($A$2:A1147)+1)","v":0},{"$f":"IF(D1148=Calcs!$X$38,Calcs!$W$38,IF(D1148=Calcs!$X$39,Calcs!$W$39,IF(D1148=Calcs!$X$40,Calcs!$W$40,IF(TRUE,0))))","v":0},1147,"SB60-174-12BG",null,"SLIDE BENCH: 5FTx14.5FTx12INxBG",31]
[{"$f":"IF(B1149=0,0,MAX($A$2:A1148)+1)","v":0},{"$f":"IF(D1149=Calcs!$X$38,Calcs!$W$38,IF(D1149=Calcs!$X$39,Calcs!$W$39,IF(D1149=Calcs!$X$40,Calcs!$W$40,IF(TRUE,0))))","v":0},1148,"SB60-186-12BG",null,"SLIDE BENCH: 5FTx15.5FTx12INxBG",31]
[{"$f":"IF(B1150=0,0,MAX($A$2:A1149)+1)","v":0},{"$f":"IF(D1150=Calcs!$X$38,Calcs!$W$38,IF(D1150=Calcs!$X$39,Calcs!$W$39,IF(D1150=Calcs!$X$40,Calcs!$W$40,IF(TRUE,0))))","v":0},1149,"SB60-210-12BG",null,"SLIDE BENCH: 5FTx17.5FTx12INxBG",31]
[{"$f":"IF(B1151=0,0,MAX($A$2:A1150)+1)","v":0},{"$f":"IF(D1151=Calcs!$X$38,Calcs!$W$38,IF(D1151=Calcs!$X$39,Calcs!$W$39,IF(D1151=Calcs!$X$40,Calcs!$W$40,IF(TRUE,0))))","v":0},1150,"SB60-222-12BG",null,"SLIDE BENCH: 5FTx18.5FTx12INxBG",31]
[{"$f":"IF(B1152=0,0,MAX($A$2:A1151)+1)","v":0},{"$f":"IF(D1152=Calcs!$X$38,Calcs!$W$38,IF(D1152=Calcs!$X$39,Calcs!$W$39,IF(D1152=Calcs!$X$40,Calcs!$W$40,IF(TRUE,0))))","v":0},1151,"SB60-234-12BG",null,"SLIDE BENCH: 5FTx19.5FTx12INxBG",31]
[{"$f":"IF(B1153=0,0,MAX($A$2:A1152)+1)","v":0},{"$f":"IF(D1153=Calcs!$X$38,Calcs!$W$38,IF(D1153=Calcs!$X$39,Calcs!$W$39,IF(D1153=Calcs!$X$40,Calcs!$W$40,IF(TRUE,0))))","v":0},1152,"SB60-246-12BG",null,"SLIDE BENCH: 5FTx20.5FTx12INxBG",31]
[{"$f":"IF(B1154=0,0,MAX($A$2:A1153)+1)","v":0},{"$f":"IF(D1154=Calcs!$X$38,Calcs!$W$38,IF(D1154=Calcs!$X$39,Calcs!$W$39,IF(D1154=Calcs!$X$40,Calcs!$W$40,IF(TRUE,0))))","v":0},1153,"SB60-270-12BG",null,"SLIDE BENCH: 5FTx22.5FTx12INxBG",31]
[{"$f":"IF(B1155=0,0,MAX($A$2:A1154)+1)","v":0},{"$f":"IF(D1155=Calcs!$X$38,Calcs!$W$38,IF(D1155=Calcs!$X$39,Calcs!$W$39,IF(D1155=Calcs!$X$40,Calcs!$W$40,IF(TRUE,0))))","v":0},1154,"SB60-282-12BG",null,"SLIDE BENCH: 5FTx23.5FTx12INxBG",31]
[{"$f":"IF(B1156=0,0,MAX($A$2:A1155)+1)","v":0},{"$f":"IF(D1156=Calcs!$X$38,Calcs!$W$38,IF(D1156=Calcs!$X$39,Calcs!$W$39,IF(D1156=Calcs!$X$40,Calcs!$W$40,IF(TRUE,0))))","v":0},1155,"SB60-294-12BG",null,"SLIDE BENCH: 5FTx24.5FTx12INxBG",31]
[{"$f":"IF(B1157=0,0,MAX($A$2:A1156)+1)","v":0},{"$f":"IF(D1157=Calcs!$X$38,Calcs!$W$38,IF(D1157=Calcs!$X$39,Calcs!$W$39,IF(D1157=Calcs!$X$40,Calcs!$W$40,IF(TRUE,0))))","v":0},1156,"SB60-306-12BG",null,"SLIDE BENCH: 5FTx25.5FTx12INxBG",31]
[{"$f":"IF(B1158=0,0,MAX($A$2:A1157)+1)","v":0},{"$f":"IF(D1158=Calcs!$X$38,Calcs!$W$38,IF(D1158=Calcs!$X$39,Calcs!$W$39,IF(D1158=Calcs!$X$40,Calcs!$W$40,IF(TRUE,0))))","v":0},1157,"SB60-330-12BG",null,"SLIDE BENCH: 5FTx27.5FTx12INxBG",31]
[{"$f":"IF(B1159=0,0,MAX($A$2:A1158)+1)","v":0},{"$f":"IF(D1159=Calcs!$X$38,Calcs!$W$38,IF(D1159=Calcs!$X$39,Calcs!$W$39,IF(D1159=Calcs!$X$40,Calcs!$W$40,IF(TRUE,0))))","v":0},1158,"SB60-342-12BG",null,"SLIDE BENCH: 5FTx28.5FTx12INxBG",31]
[{"$f":"IF(B1160=0,0,MAX($A$2:A1159)+1)","v":0},{"$f":"IF(D1160=Calcs!$X$38,Calcs!$W$38,IF(D1160=Calcs!$X$39,Calcs!$W$39,IF(D1160=Calcs!$X$40,Calcs!$W$40,IF(TRUE,0))))","v":0},1159,"SB60-354-12BG",null,"SLIDE BENCH: 5FTx29.5FTx12INxBG",31]
[{"$f":"IF(B1161=0,0,MAX($A$2:A1160)+1)","v":0},{"$f":"IF(D1161=Calcs!$X$38,Calcs!$W$38,IF(D1161=Calcs!$X$39,Calcs!$W$39,IF(D1161=Calcs!$X$40,Calcs!$W$40,IF(TRUE,0))))","v":0},1160,"SB60-366-12BG",null,"SLIDE BENCH: 5FTx30.5FTx12INxBG",31]
[{"$f":"IF(B1162=0,0,MAX($A$2:A1161)+1)","v":0},{"$f":"IF(D1162=Calcs!$X$38,Calcs!$W$38,IF(D1162=Calcs!$X$39,Calcs!$W$39,IF(D1162=Calcs!$X$40,Calcs!$W$40,IF(TRUE,0))))","v":0},1161,"SB60-390-12BG",null,"SLIDE BENCH: 5FTx32.5FTx12INxBG",31]
[{"$f":"IF(B1163=0,0,MAX($A$2:A1162)+1)","v":0},{"$f":"IF(D1163=Calcs!$X$38,Calcs!$W$38,IF(D1163=Calcs!$X$39,Calcs!$W$39,IF(D1163=Calcs!$X$40,Calcs!$W$40,IF(TRUE,0))))","v":0},1162,"SB60-402-12BG",null,"SLIDE BENCH: 5FTx33.5FTx12INxBG",31]
[{"$f":"IF(B1164=0,0,MAX($A$2:A1163)+1)","v":0},{"$f":"IF(D1164=Calcs!$X$38,Calcs!$W$38,IF(D1164=Calcs!$X$39,Calcs!$W$39,IF(D1164=Calcs!$X$40,Calcs!$W$40,IF(TRUE,0))))","v":0},1163,"SB60-414-12BG",null,"SLIDE BENCH: 5FTx34.5FTx12INxBG",31]
[{"$f":"IF(B1165=0,0,MAX($A$2:A1164)+1)","v":0},{"$f":"IF(D1165=Calcs!$X$38,Calcs!$W$38,IF(D1165=Calcs!$X$39,Calcs!$W$39,IF(D1165=Calcs!$X$40,Calcs!$W$40,IF(TRUE,0))))","v":0},1164,"SB60-426-12BG",null,"SLIDE BENCH: 5FTx35.5FTx12INxBG",31]
[{"$f":"IF(B1166=0,0,MAX($A$2:A1165)+1)","v":0},{"$f":"IF(D1166=Calcs!$X$38,Calcs!$W$38,IF(D1166=Calcs!$X$39,Calcs!$W$39,IF(D1166=Calcs!$X$40,Calcs!$W$40,IF(TRUE,0))))","v":0},1165,"SB60-450-12BG",null,"SLIDE BENCH: 5FTx37.5FTx12INxBG",31]
[{"$f":"IF(B1167=0,0,MAX($A$2:A1166)+1)","v":0},{"$f":"IF(D1167=Calcs!$X$38,Calcs!$W$38,IF(D1167=Calcs!$X$39,Calcs!$W$39,IF(D1167=Calcs!$X$40,Calcs!$W$40,IF(TRUE,0))))","v":0},1166,"SB60-462-12BG",null,"SLIDE BENCH: 5FTx38.5FTx12INxBG",31]
[{"$f":"IF(B1168=0,0,MAX($A$2:A1167)+1)","v":0},{"$f":"IF(D1168=Calcs!$X$38,Calcs!$W$38,IF(D1168=Calcs!$X$39,Calcs!$W$39,IF(D1168=Calcs!$X$40,Calcs!$W$40,IF(TRUE,0))))","v":0},1167,"SB60-474-12BG",null,"SLIDE BENCH: 5FTx39.5FTx12INxBG",31]
[{"$f":"IF(B1169=0,0,MAX($A$2:A1168)+1)","v":0},{"$f":"IF(D1169=Calcs!$X$38,Calcs!$W$38,IF(D1169=Calcs!$X$39,Calcs!$W$39,IF(D1169=Calcs!$X$40,Calcs!$W$40,IF(TRUE,0))))","v":0},1168,"SB60-486-12BG",null,"SLIDE BENCH: 5FTx40.5FTx12INxBG",31]
[{"$f":"IF(B1170=0,0,MAX($A$2:A1169)+1)","v":0},{"$f":"IF(D1170=Calcs!$X$38,Calcs!$W$38,IF(D1170=Calcs!$X$39,Calcs!$W$39,IF(D1170=Calcs!$X$40,Calcs!$W$40,IF(TRUE,0))))","v":0},1169,"SB60-510-12BG",null,"SLIDE BENCH: 5FTx42.5FTx12INxBG",31]
[{"$f":"IF(B1171=0,0,MAX($A$2:A1170)+1)","v":0},{"$f":"IF(D1171=Calcs!$X$38,Calcs!$W$38,IF(D1171=Calcs!$X$39,Calcs!$W$39,IF(D1171=Calcs!$X$40,Calcs!$W$40,IF(TRUE,0))))","v":0},1170,"SB60-522-12BG",null,"SLIDE BENCH: 5FTx43.5FTx12INxBG",31]
[{"$f":"IF(B1172=0,0,MAX($A$2:A1171)+1)","v":0},{"$f":"IF(D1172=Calcs!$X$38,Calcs!$W$38,IF(D1172=Calcs!$X$39,Calcs!$W$39,IF(D1172=Calcs!$X$40,Calcs!$W$40,IF(TRUE,0))))","v":0},1171,"SB60-534-12BG",null,"SLIDE BENCH: 5FTx44.5FTx12INxBG",31]
[{"$f":"IF(B1173=0,0,MAX($A$2:A1172)+1)","v":0},{"$f":"IF(D1173=Calcs!$X$38,Calcs!$W$38,IF(D1173=Calcs!$X$39,Calcs!$W$39,IF(D1173=Calcs!$X$40,Calcs!$W$40,IF(TRUE,0))))","v":0},1172,"SB60-546-12BG",null,"SLIDE BENCH: 5FTx45.5FTx12INxBG",31]
[{"$f":"IF(B1174=0,0,MAX($A$2:A1173)+1)","v":0},{"$f":"IF(D1174=Calcs!$X$38,Calcs!$W$38,IF(D1174=Calcs!$X$39,Calcs!$W$39,IF(D1174=Calcs!$X$40,Calcs!$W$40,IF(TRUE,0))))","v":0},1173,"SB60-570-12BG",null,"SLIDE BENCH: 5FTx47.5FTx12INxBG",31]
[{"$f":"IF(B1175=0,0,MAX($A$2:A1174)+1)","v":0},{"$f":"IF(D1175=Calcs!$X$38,Calcs!$W$38,IF(D1175=Calcs!$X$39,Calcs!$W$39,IF(D1175=Calcs!$X$40,Calcs!$W$40,IF(TRUE,0))))","v":0},1174,"SB60-582-12BG",null,"SLIDE BENCH: 5FTx48.5FTx12INxBG",31]
[{"$f":"IF(B1176=0,0,MAX($A$2:A1175)+1)","v":0},{"$f":"IF(D1176=Calcs!$X$38,Calcs!$W$38,IF(D1176=Calcs!$X$39,Calcs!$W$39,IF(D1176=Calcs!$X$40,Calcs!$W$40,IF(TRUE,0))))","v":0},1175,"SB60-594-12BG",null,"SLIDE BENCH: 5FTx49.5FTx12INxBG",31]
[{"$f":"IF(B1177=0,0,MAX($A$2:A1176)+1)","v":0},{"$f":"IF(D1177=Calcs!$X$38,Calcs!$W$38,IF(D1177=Calcs!$X$39,Calcs!$W$39,IF(D1177=Calcs!$X$40,Calcs!$W$40,IF(TRUE,0))))","v":0},1176,"SB60-606-12BG",null,"SLIDE BENCH: 5FTx50.5FTx12INxBG",31]
[{"$f":"IF(B1178=0,0,MAX($A$2:A1177)+1)","v":0},{"$f":"IF(D1178=Calcs!$X$38,Calcs!$W$38,IF(D1178=Calcs!$X$39,Calcs!$W$39,IF(D1178=Calcs!$X$40,Calcs!$W$40,IF(TRUE,0))))","v":0},1177,"SB60-630-12BG",null,"SLIDE BENCH: 5FTx52.5FTx12INxBG",31]
[{"$f":"IF(B1179=0,0,MAX($A$2:A1178)+1)","v":0},{"$f":"IF(D1179=Calcs!$X$38,Calcs!$W$38,IF(D1179=Calcs!$X$39,Calcs!$W$39,IF(D1179=Calcs!$X$40,Calcs!$W$40,IF(TRUE,0))))","v":0},1178,"SB60-642-12BG",null,"SLIDE BENCH: 5FTx53.5FTx12INxBG",31]
[{"$f":"IF(B1180=0,0,MAX($A$2:A1179)+1)","v":0},{"$f":"IF(D1180=Calcs!$X$38,Calcs!$W$38,IF(D1180=Calcs!$X$39,Calcs!$W$39,IF(D1180=Calcs!$X$40,Calcs!$W$40,IF(TRUE,0))))","v":0},1179,"SB60-654-12BG",null,"SLIDE BENCH: 5FTx54.5FTx12INxBG",31]
[{"$f":"IF(B1181=0,0,MAX($A$2:A1180)+1)","v":0},{"$f":"IF(D1181=Calcs!$X$38,Calcs!$W$38,IF(D1181=Calcs!$X$39,Calcs!$W$39,IF(D1181=Calcs!$X$40,Calcs!$W$40,IF(TRUE,0))))","v":0},1180,"SB60-666-12BG",null,"SLIDE BENCH: 5FTx55.5FTx12INxBG",31]
[{"$f":"IF(B1182=0,0,MAX($A$2:A1181)+1)","v":0},{"$f":"IF(D1182=Calcs!$X$38,Calcs!$W$38,IF(D1182=Calcs!$X$39,Calcs!$W$39,IF(D1182=Calcs!$X$40,Calcs!$W$40,IF(TRUE,0))))","v":0},1181,"SB60-690-12BG",null,"SLIDE BENCH: 5FTx57.5FTx12INxBG",31]
[{"$f":"IF(B1183=0,0,MAX($A$2:A1182)+1)","v":0},{"$f":"IF(D1183=Calcs!$X$38,Calcs!$W$38,IF(D1183=Calcs!$X$39,Calcs!$W$39,IF(D1183=Calcs!$X$40,Calcs!$W$40,IF(TRUE,0))))","v":0},1182,"SB60-702-12BG",null,"SLIDE BENCH: 5FTx58.5FTx12INxBG",31]
[{"$f":"IF(B1184=0,0,MAX($A$2:A1183)+1)","v":0},{"$f":"IF(D1184=Calcs!$X$38,Calcs!$W$38,IF(D1184=Calcs!$X$39,Calcs!$W$39,IF(D1184=Calcs!$X$40,Calcs!$W$40,IF(TRUE,0))))","v":0},1183,"SB60-714-12BG",null,"SLIDE BENCH: 5FTx59.5FTx12INxBG",31]
[{"$f":"IF(B1185=0,0,MAX($A$2:A1184)+1)","v":0},{"$f":"IF(D1185=Calcs!$X$38,Calcs!$W$38,IF(D1185=Calcs!$X$39,Calcs!$W$39,IF(D1185=Calcs!$X$40,Calcs!$W$40,IF(TRUE,0))))","v":0},1184,"SB60-726-12BG",null,"SLIDE BENCH: 5FTx60.5FTx12INxBG",31]
[{"$f":"IF(B1186=0,0,MAX($A$2:A1185)+1)","v":0},{"$f":"IF(D1186=Calcs!$X$38,Calcs!$W$38,IF(D1186=Calcs!$X$39,Calcs!$W$39,IF(D1186=Calcs!$X$40,Calcs!$W$40,IF(TRUE,0))))","v":0},1185,"SB60-750-12BG",null,"SLIDE BENCH: 5FTx62.5FTx12INxBG",31]
[{"$f":"IF(B1187=0,0,MAX($A$2:A1186)+1)","v":0},{"$f":"IF(D1187=Calcs!$X$38,Calcs!$W$38,IF(D1187=Calcs!$X$39,Calcs!$W$39,IF(D1187=Calcs!$X$40,Calcs!$W$40,IF(TRUE,0))))","v":0},1186,"SB60-762-12BG",null,"SLIDE BENCH: 5FTx63.5FTx12INxBG",31]
[{"$f":"IF(B1188=0,0,MAX($A$2:A1187)+1)","v":0},{"$f":"IF(D1188=Calcs!$X$38,Calcs!$W$38,IF(D1188=Calcs!$X$39,Calcs!$W$39,IF(D1188=Calcs!$X$40,Calcs!$W$40,IF(TRUE,0))))","v":0},1187,"SB60-774-12BG",null,"SLIDE BENCH: 5FTx64.5FTx12INxBG",31]
[{"$f":"IF(B1189=0,0,MAX($A$2:A1188)+1)","v":0},{"$f":"IF(D1189=Calcs!$X$38,Calcs!$W$38,IF(D1189=Calcs!$X$39,Calcs!$W$39,IF(D1189=Calcs!$X$40,Calcs!$W$40,IF(TRUE,0))))","v":0},1188,"SB60-786-12BG",null,"SLIDE BENCH: 5FTx65.5FTx12INxBG",31]
[{"$f":"IF(B1190=0,0,MAX($A$2:A1189)+1)","v":0},{"$f":"IF(D1190=Calcs!$X$38,Calcs!$W$38,IF(D1190=Calcs!$X$39,Calcs!$W$39,IF(D1190=Calcs!$X$40,Calcs!$W$40,IF(TRUE,0))))","v":0},1189,"SB60-810-12BG",null,"SLIDE BENCH: 5FTx67.5FTx12INxBG",31]
[{"$f":"IF(B1191=0,0,MAX($A$2:A1190)+1)","v":0},{"$f":"IF(D1191=Calcs!$X$38,Calcs!$W$38,IF(D1191=Calcs!$X$39,Calcs!$W$39,IF(D1191=Calcs!$X$40,Calcs!$W$40,IF(TRUE,0))))","v":0},1190,"SB60-822-12BG",null,"SLIDE BENCH: 5FTx68.5FTx12INxBG",31]
[{"$f":"IF(B1192=0,0,MAX($A$2:A1191)+1)","v":0},{"$f":"IF(D1192=Calcs!$X$38,Calcs!$W$38,IF(D1192=Calcs!$X$39,Calcs!$W$39,IF(D1192=Calcs!$X$40,Calcs!$W$40,IF(TRUE,0))))","v":0},1191,"SB60-834-12BG",null,"SLIDE BENCH: 5FTx69.5FTx12INxBG",31]
[{"$f":"IF(B1193=0,0,MAX($A$2:A1192)+1)","v":0},{"$f":"IF(D1193=Calcs!$X$38,Calcs!$W$38,IF(D1193=Calcs!$X$39,Calcs!$W$39,IF(D1193=Calcs!$X$40,Calcs!$W$40,IF(TRUE,0))))","v":0},1192,"SB60-846-12BG",null,"SLIDE BENCH: 5FTx70.5FTx12INxBG",31]
[{"$f":"IF(B1194=0,0,MAX($A$2:A1193)+1)","v":0},{"$f":"IF(D1194=Calcs!$X$38,Calcs!$W$38,IF(D1194=Calcs!$X$39,Calcs!$W$39,IF(D1194=Calcs!$X$40,Calcs!$W$40,IF(TRUE,0))))","v":0},1193,"SB60-870-12BG",null,"SLIDE BENCH: 5FTx72.5FTx12INxBG",31]
[{"$f":"IF(B1195=0,0,MAX($A$2:A1194)+1)","v":0},{"$f":"IF(D1195=Calcs!$X$38,Calcs!$W$38,IF(D1195=Calcs!$X$39,Calcs!$W$39,IF(D1195=Calcs!$X$40,Calcs!$W$40,IF(TRUE,0))))","v":0},1194,"SB60-882-12BG",null,"SLIDE BENCH: 5FTx73.5FTx12INxBG",31]
[{"$f":"IF(B1196=0,0,MAX($A$2:A1195)+1)","v":0},{"$f":"IF(D1196=Calcs!$X$38,Calcs!$W$38,IF(D1196=Calcs!$X$39,Calcs!$W$39,IF(D1196=Calcs!$X$40,Calcs!$W$40,IF(TRUE,0))))","v":0},1195,"SB60-894-12BG",null,"SLIDE BENCH: 5FTx74.5FTx12INxBG",31]
[{"$f":"IF(B1197=0,0,MAX($A$2:A1196)+1)","v":0},{"$f":"IF(D1197=Calcs!$X$38,Calcs!$W$38,IF(D1197=Calcs!$X$39,Calcs!$W$39,IF(D1197=Calcs!$X$40,Calcs!$W$40,IF(TRUE,0))))","v":0},1196,"SB60-906-12BG",null,"SLIDE BENCH: 5FTx75.5FTx12INxBG",31]
[{"$f":"IF(B1198=0,0,MAX($A$2:A1197)+1)","v":0},{"$f":"IF(D1198=Calcs!$X$38,Calcs!$W$38,IF(D1198=Calcs!$X$39,Calcs!$W$39,IF(D1198=Calcs!$X$40,Calcs!$W$40,IF(TRUE,0))))","v":0},1197,"SB60-930-12BG",null,"SLIDE BENCH: 5FTx77.5FTx12INxBG",31]
[{"$f":"IF(B1199=0,0,MAX($A$2:A1198)+1)","v":0},{"$f":"IF(D1199=Calcs!$X$38,Calcs!$W$38,IF(D1199=Calcs!$X$39,Calcs!$W$39,IF(D1199=Calcs!$X$40,Calcs!$W$40,IF(TRUE,0))))","v":0},1198,"SB60-942-12BG",null,"SLIDE BENCH: 5FTx78.5FTx12INxBG",31]
[{"$f":"IF(B1200=0,0,MAX($A$2:A1199)+1)","v":0},{"$f":"IF(D1200=Calcs!$X$38,Calcs!$W$38,IF(D1200=Calcs!$X$39,Calcs!$W$39,IF(D1200=Calcs!$X$40,Calcs!$W$40,IF(TRUE,0))))","v":0},1199,"SB60-954-12BG",null,"SLIDE BENCH: 5FTx79.5FTx12INxBG",31]
[{"$f":"IF(B1201=0,0,MAX($A$2:A1200)+1)","v":0},{"$f":"IF(D1201=Calcs!$X$38,Calcs!$W$38,IF(D1201=Calcs!$X$39,Calcs!$W$39,IF(D1201=Calcs!$X$40,Calcs!$W$40,IF(TRUE,0))))","v":0},1200,"SB60-966-12BG",null,"SLIDE BENCH: 5FTx80.5FTx12INxBG",31]
[{"$f":"IF(B1202=0,0,MAX($A$2:A1201)+1)","v":0},{"$f":"IF(D1202=Calcs!$X$38,Calcs!$W$38,IF(D1202=Calcs!$X$39,Calcs!$W$39,IF(D1202=Calcs!$X$40,Calcs!$W$40,IF(TRUE,0))))","v":0},1201,"SB60-990-12BG",null,"SLIDE BENCH: 5FTx82.5FTx12INxBG",31]
[{"$f":"IF(B1203=0,0,MAX($A$2:A1202)+1)","v":0},{"$f":"IF(D1203=Calcs!$X$38,Calcs!$W$38,IF(D1203=Calcs!$X$39,Calcs!$W$39,IF(D1203=Calcs!$X$40,Calcs!$W$40,IF(TRUE,0))))","v":0},1202,"SB60-1002-12BG",null,"SLIDE BENCH: 5FTx83.5FTx12INxBG",31]
[{"$f":"IF(B1204=0,0,MAX($A$2:A1203)+1)","v":0},{"$f":"IF(D1204=Calcs!$X$38,Calcs!$W$38,IF(D1204=Calcs!$X$39,Calcs!$W$39,IF(D1204=Calcs!$X$40,Calcs!$W$40,IF(TRUE,0))))","v":0},1203,"SB60-1014-12BG",null,"SLIDE BENCH: 5FTx84.5FTx12INxBG",31]
[{"$f":"IF(B1205=0,0,MAX($A$2:A1204)+1)","v":0},{"$f":"IF(D1205=Calcs!$X$38,Calcs!$W$38,IF(D1205=Calcs!$X$39,Calcs!$W$39,IF(D1205=Calcs!$X$40,Calcs!$W$40,IF(TRUE,0))))","v":0},1204,"SB60-1026-12BG",null,"SLIDE BENCH: 5FTx85.5FTx12INxBG",31]
[{"$f":"IF(B1206=0,0,MAX($A$2:A1205)+1)","v":0},{"$f":"IF(D1206=Calcs!$X$38,Calcs!$W$38,IF(D1206=Calcs!$X$39,Calcs!$W$39,IF(D1206=Calcs!$X$40,Calcs!$W$40,IF(TRUE,0))))","v":0},1205,"SB60-1050-12BG",null,"SLIDE BENCH: 5FTx87.5FTx12INxBG",31]
[{"$f":"IF(B1207=0,0,MAX($A$2:A1206)+1)","v":0},{"$f":"IF(D1207=Calcs!$X$38,Calcs!$W$38,IF(D1207=Calcs!$X$39,Calcs!$W$39,IF(D1207=Calcs!$X$40,Calcs!$W$40,IF(TRUE,0))))","v":0},1206,"SB60-1062-12BG",null,"SLIDE BENCH: 5FTx88.5FTx12INxBG",31]
[{"$f":"IF(B1208=0,0,MAX($A$2:A1207)+1)","v":0},{"$f":"IF(D1208=Calcs!$X$38,Calcs!$W$38,IF(D1208=Calcs!$X$39,Calcs!$W$39,IF(D1208=Calcs!$X$40,Calcs!$W$40,IF(TRUE,0))))","v":0},1207,"SB60-1074-12BG",null,"SLIDE BENCH: 5FTx89.5FTx12INxBG",31]
[{"$f":"IF(B1209=0,0,MAX($A$2:A1208)+1)","v":0},{"$f":"IF(D1209=Calcs!$X$38,Calcs!$W$38,IF(D1209=Calcs!$X$39,Calcs!$W$39,IF(D1209=Calcs!$X$40,Calcs!$W$40,IF(TRUE,0))))","v":0},1208,"SB60-1086-12BG",null,"SLIDE BENCH: 5FTx90.5FTx12INxBG",31]
[{"$f":"IF(B1210=0,0,MAX($A$2:A1209)+1)","v":0},{"$f":"IF(D1210=Calcs!$X$38,Calcs!$W$38,IF(D1210=Calcs!$X$39,Calcs!$W$39,IF(D1210=Calcs!$X$40,Calcs!$W$40,IF(TRUE,0))))","v":0},1209,"SB60-1110-12BG",null,"SLIDE BENCH: 5FTx92.5FTx12INxBG",31]
[{"$f":"IF(B1211=0,0,MAX($A$2:A1210)+1)","v":0},{"$f":"IF(D1211=Calcs!$X$38,Calcs!$W$38,IF(D1211=Calcs!$X$39,Calcs!$W$39,IF(D1211=Calcs!$X$40,Calcs!$W$40,IF(TRUE,0))))","v":0},1210,"SB60-1122-12BG",null,"SLIDE BENCH: 5FTx93.5FTx12INxBG",31]
[{"$f":"IF(B1212=0,0,MAX($A$2:A1211)+1)","v":0},{"$f":"IF(D1212=Calcs!$X$38,Calcs!$W$38,IF(D1212=Calcs!$X$39,Calcs!$W$39,IF(D1212=Calcs!$X$40,Calcs!$W$40,IF(TRUE,0))))","v":0},1211,"SB60-1134-12BG",null,"SLIDE BENCH: 5FTx94.5FTx12INxBG",31]
[{"$f":"IF(B1213=0,0,MAX($A$2:A1212)+1)","v":0},{"$f":"IF(D1213=Calcs!$X$38,Calcs!$W$38,IF(D1213=Calcs!$X$39,Calcs!$W$39,IF(D1213=Calcs!$X$40,Calcs!$W$40,IF(TRUE,0))))","v":0},1212,"SB60-1146-12BG",null,"SLIDE BENCH: 5FTx95.5FTx12INxBG",31]
[{"$f":"IF(B1214=0,0,MAX($A$2:A1213)+1)","v":0},{"$f":"IF(D1214=Calcs!$X$38,Calcs!$W$38,IF(D1214=Calcs!$X$39,Calcs!$W$39,IF(D1214=Calcs!$X$40,Calcs!$W$40,IF(TRUE,0))))","v":0},1213,"SB60-1170-12BG",null,"SLIDE BENCH: 5FTx97.5FTx12INxBG",31]
[{"$f":"IF(B1215=0,0,MAX($A$2:A1214)+1)","v":0},{"$f":"IF(D1215=Calcs!$X$38,Calcs!$W$38,IF(D1215=Calcs!$X$39,Calcs!$W$39,IF(D1215=Calcs!$X$40,Calcs!$W$40,IF(TRUE,0))))","v":0},1214,"SB60-1182-12BG",null,"SLIDE BENCH: 5FTx98.5FTx12INxBG",31]
[{"$f":"IF(B1216=0,0,MAX($A$2:A1215)+1)","v":0},{"$f":"IF(D1216=Calcs!$X$38,Calcs!$W$38,IF(D1216=Calcs!$X$39,Calcs!$W$39,IF(D1216=Calcs!$X$40,Calcs!$W$40,IF(TRUE,0))))","v":0},1215,"SB60-1194-12BG",null,"SLIDE BENCH: 5FTx99.5FTx12INxBG",31]
[{"$f":"IF(B1217=0,0,MAX($A$2:A1216)+1)","v":0},{"$f":"IF(D1217=Calcs!$X$38,Calcs!$W$38,IF(D1217=Calcs!$X$39,Calcs!$W$39,IF(D1217=Calcs!$X$40,Calcs!$W$40,IF(TRUE,0))))","v":0},1216,"SB60-1206-12BG",null,"SLIDE BENCH: 5FTx100.5FTx12INxBG",32]
[{"$f":"IF(B1218=0,0,MAX($A$2:A1217)+1)","v":0},{"$f":"IF(D1218=Calcs!$X$38,Calcs!$W$38,IF(D1218=Calcs!$X$39,Calcs!$W$39,IF(D1218=Calcs!$X$40,Calcs!$W$40,IF(TRUE,0))))","v":0},1217,"SB60-90-20BG",null,"SLIDE BENCH: 5FTx7.5FTx20INxBG",30]
[{"$f":"IF(B1219=0,0,MAX($A$2:A1218)+1)","v":0},{"$f":"IF(D1219=Calcs!$X$38,Calcs!$W$38,IF(D1219=Calcs!$X$39,Calcs!$W$39,IF(D1219=Calcs!$X$40,Calcs!$W$40,IF(TRUE,0))))","v":0},1218,"SB60-102-20BG",null,"SLIDE BENCH: 5FTx8.5FTx20INxBG",30]
[{"$f":"IF(B1220=0,0,MAX($A$2:A1219)+1)","v":0},{"$f":"IF(D1220=Calcs!$X$38,Calcs!$W$38,IF(D1220=Calcs!$X$39,Calcs!$W$39,IF(D1220=Calcs!$X$40,Calcs!$W$40,IF(TRUE,0))))","v":0},1219,"SB60-114-20BG",null,"SLIDE BENCH: 5FTx9.5FTx20INxBG",30]
[{"$f":"IF(B1221=0,0,MAX($A$2:A1220)+1)","v":0},{"$f":"IF(D1221=Calcs!$X$38,Calcs!$W$38,IF(D1221=Calcs!$X$39,Calcs!$W$39,IF(D1221=Calcs!$X$40,Calcs!$W$40,IF(TRUE,0))))","v":0},1220,"SB60-126-20BG",null,"SLIDE BENCH: 5FTx10.5FTx20INxBG",31]
[{"$f":"IF(B1222=0,0,MAX($A$2:A1221)+1)","v":0},{"$f":"IF(D1222=Calcs!$X$38,Calcs!$W$38,IF(D1222=Calcs!$X$39,Calcs!$W$39,IF(D1222=Calcs!$X$40,Calcs!$W$40,IF(TRUE,0))))","v":0},1221,"SB60-150-20BG",null,"SLIDE BENCH: 5FTx12.5FTx20INxBG",31]
[{"$f":"IF(B1223=0,0,MAX($A$2:A1222)+1)","v":0},{"$f":"IF(D1223=Calcs!$X$38,Calcs!$W$38,IF(D1223=Calcs!$X$39,Calcs!$W$39,IF(D1223=Calcs!$X$40,Calcs!$W$40,IF(TRUE,0))))","v":0},1222,"SB60-162-20BG",null,"SLIDE BENCH: 5FTx13.5FTx20INxBG",31]
[{"$f":"IF(B1224=0,0,MAX($A$2:A1223)+1)","v":0},{"$f":"IF(D1224=Calcs!$X$38,Calcs!$W$38,IF(D1224=Calcs!$X$39,Calcs!$W$39,IF(D1224=Calcs!$X$40,Calcs!$W$40,IF(TRUE,0))))","v":0},1223,"SB60-174-20BG",null,"SLIDE BENCH: 5FTx14.5FTx20INxBG",31]
[{"$f":"IF(B1225=0,0,MAX($A$2:A1224)+1)","v":0},{"$f":"IF(D1225=Calcs!$X$38,Calcs!$W$38,IF(D1225=Calcs!$X$39,Calcs!$W$39,IF(D1225=Calcs!$X$40,Calcs!$W$40,IF(TRUE,0))))","v":0},1224,"SB60-186-20BG",null,"SLIDE BENCH: 5FTx15.5FTx20INxBG",31]
[{"$f":"IF(B1226=0,0,MAX($A$2:A1225)+1)","v":0},{"$f":"IF(D1226=Calcs!$X$38,Calcs!$W$38,IF(D1226=Calcs!$X$39,Calcs!$W$39,IF(D1226=Calcs!$X$40,Calcs!$W$40,IF(TRUE,0))))","v":0},1225,"SB60-210-20BG",null,"SLIDE BENCH: 5FTx17.5FTx20INxBG",31]
[{"$f":"IF(B1227=0,0,MAX($A$2:A1226)+1)","v":0},{"$f":"IF(D1227=Calcs!$X$38,Calcs!$W$38,IF(D1227=Calcs!$X$39,Calcs!$W$39,IF(D1227=Calcs!$X$40,Calcs!$W$40,IF(TRUE,0))))","v":0},1226,"SB60-222-20BG",null,"SLIDE BENCH: 5FTx18.5FTx20INxBG",31]
[{"$f":"IF(B1228=0,0,MAX($A$2:A1227)+1)","v":0},{"$f":"IF(D1228=Calcs!$X$38,Calcs!$W$38,IF(D1228=Calcs!$X$39,Calcs!$W$39,IF(D1228=Calcs!$X$40,Calcs!$W$40,IF(TRUE,0))))","v":0},1227,"SB60-234-20BG",null,"SLIDE BENCH: 5FTx19.5FTx20INxBG",31]
[{"$f":"IF(B1229=0,0,MAX($A$2:A1228)+1)","v":0},{"$f":"IF(D1229=Calcs!$X$38,Calcs!$W$38,IF(D1229=Calcs!$X$39,Calcs!$W$39,IF(D1229=Calcs!$X$40,Calcs!$W$40,IF(TRUE,0))))","v":0},1228,"SB60-246-20BG",null,"SLIDE BENCH: 5FTx20.5FTx20INxBG",31]
[{"$f":"IF(B1230=0,0,MAX($A$2:A1229)+1)","v":0},{"$f":"IF(D1230=Calcs!$X$38,Calcs!$W$38,IF(D1230=Calcs!$X$39,Calcs!$W$39,IF(D1230=Calcs!$X$40,Calcs!$W$40,IF(TRUE,0))))","v":0},1229,"SB60-270-20BG",null,"SLIDE BENCH: 5FTx22.5FTx20INxBG",31]
[{"$f":"IF(B1231=0,0,MAX($A$2:A1230)+1)","v":0},{"$f":"IF(D1231=Calcs!$X$38,Calcs!$W$38,IF(D1231=Calcs!$X$39,Calcs!$W$39,IF(D1231=Calcs!$X$40,Calcs!$W$40,IF(TRUE,0))))","v":0},1230,"SB60-282-20BG",null,"SLIDE BENCH: 5FTx23.5FTx20INxBG",31]
[{"$f":"IF(B1232=0,0,MAX($A$2:A1231)+1)","v":0},{"$f":"IF(D1232=Calcs!$X$38,Calcs!$W$38,IF(D1232=Calcs!$X$39,Calcs!$W$39,IF(D1232=Calcs!$X$40,Calcs!$W$40,IF(TRUE,0))))","v":0},1231,"SB60-294-20BG",null,"SLIDE BENCH: 5FTx24.5FTx20INxBG",31]
[{"$f":"IF(B1233=0,0,MAX($A$2:A1232)+1)","v":0},{"$f":"IF(D1233=Calcs!$X$38,Calcs!$W$38,IF(D1233=Calcs!$X$39,Calcs!$W$39,IF(D1233=Calcs!$X$40,Calcs!$W$40,IF(TRUE,0))))","v":0},1232,"SB60-306-20BG",null,"SLIDE BENCH: 5FTx25.5FTx20INxBG",31]
[{"$f":"IF(B1234=0,0,MAX($A$2:A1233)+1)","v":0},{"$f":"IF(D1234=Calcs!$X$38,Calcs!$W$38,IF(D1234=Calcs!$X$39,Calcs!$W$39,IF(D1234=Calcs!$X$40,Calcs!$W$40,IF(TRUE,0))))","v":0},1233,"SB60-330-20BG",null,"SLIDE BENCH: 5FTx27.5FTx20INxBG",31]
[{"$f":"IF(B1235=0,0,MAX($A$2:A1234)+1)","v":0},{"$f":"IF(D1235=Calcs!$X$38,Calcs!$W$38,IF(D1235=Calcs!$X$39,Calcs!$W$39,IF(D1235=Calcs!$X$40,Calcs!$W$40,IF(TRUE,0))))","v":0},1234,"SB60-342-20BG",null,"SLIDE BENCH: 5FTx28.5FTx20INxBG",31]
[{"$f":"IF(B1236=0,0,MAX($A$2:A1235)+1)","v":0},{"$f":"IF(D1236=Calcs!$X$38,Calcs!$W$38,IF(D1236=Calcs!$X$39,Calcs!$W$39,IF(D1236=Calcs!$X$40,Calcs!$W$40,IF(TRUE,0))))","v":0},1235,"SB60-354-20BG",null,"SLIDE BENCH: 5FTx29.5FTx20INxBG",31]
[{"$f":"IF(B1237=0,0,MAX($A$2:A1236)+1)","v":0},{"$f":"IF(D1237=Calcs!$X$38,Calcs!$W$38,IF(D1237=Calcs!$X$39,Calcs!$W$39,IF(D1237=Calcs!$X$40,Calcs!$W$40,IF(TRUE,0))))","v":0},1236,"SB60-366-20BG",null,"SLIDE BENCH: 5FTx30.5FTx20INxBG",31]
[{"$f":"IF(B1238=0,0,MAX($A$2:A1237)+1)","v":0},{"$f":"IF(D1238=Calcs!$X$38,Calcs!$W$38,IF(D1238=Calcs!$X$39,Calcs!$W$39,IF(D1238=Calcs!$X$40,Calcs!$W$40,IF(TRUE,0))))","v":0},1237,"SB60-390-20BG",null,"SLIDE BENCH: 5FTx32.5FTx20INxBG",31]
[{"$f":"IF(B1239=0,0,MAX($A$2:A1238)+1)","v":0},{"$f":"IF(D1239=Calcs!$X$38,Calcs!$W$38,IF(D1239=Calcs!$X$39,Calcs!$W$39,IF(D1239=Calcs!$X$40,Calcs!$W$40,IF(TRUE,0))))","v":0},1238,"SB60-402-20BG",null,"SLIDE BENCH: 5FTx33.5FTx20INxBG",31]
[{"$f":"IF(B1240=0,0,MAX($A$2:A1239)+1)","v":0},{"$f":"IF(D1240=Calcs!$X$38,Calcs!$W$38,IF(D1240=Calcs!$X$39,Calcs!$W$39,IF(D1240=Calcs!$X$40,Calcs!$W$40,IF(TRUE,0))))","v":0},1239,"SB60-414-20BG",null,"SLIDE BENCH: 5FTx34.5FTx20INxBG",31]
[{"$f":"IF(B1241=0,0,MAX($A$2:A1240)+1)","v":0},{"$f":"IF(D1241=Calcs!$X$38,Calcs!$W$38,IF(D1241=Calcs!$X$39,Calcs!$W$39,IF(D1241=Calcs!$X$40,Calcs!$W$40,IF(TRUE,0))))","v":0},1240,"SB60-426-20BG",null,"SLIDE BENCH: 5FTx35.5FTx20INxBG",31]
[{"$f":"IF(B1242=0,0,MAX($A$2:A1241)+1)","v":0},{"$f":"IF(D1242=Calcs!$X$38,Calcs!$W$38,IF(D1242=Calcs!$X$39,Calcs!$W$39,IF(D1242=Calcs!$X$40,Calcs!$W$40,IF(TRUE,0))))","v":0},1241,"SB60-450-20BG",null,"SLIDE BENCH: 5FTx37.5FTx20INxBG",31]
[{"$f":"IF(B1243=0,0,MAX($A$2:A1242)+1)","v":0},{"$f":"IF(D1243=Calcs!$X$38,Calcs!$W$38,IF(D1243=Calcs!$X$39,Calcs!$W$39,IF(D1243=Calcs!$X$40,Calcs!$W$40,IF(TRUE,0))))","v":0},1242,"SB60-462-20BG",null,"SLIDE BENCH: 5FTx38.5FTx20INxBG",31]
[{"$f":"IF(B1244=0,0,MAX($A$2:A1243)+1)","v":0},{"$f":"IF(D1244=Calcs!$X$38,Calcs!$W$38,IF(D1244=Calcs!$X$39,Calcs!$W$39,IF(D1244=Calcs!$X$40,Calcs!$W$40,IF(TRUE,0))))","v":0},1243,"SB60-474-20BG",null,"SLIDE BENCH: 5FTx39.5FTx20INxBG",31]
[{"$f":"IF(B1245=0,0,MAX($A$2:A1244)+1)","v":0},{"$f":"IF(D1245=Calcs!$X$38,Calcs!$W$38,IF(D1245=Calcs!$X$39,Calcs!$W$39,IF(D1245=Calcs!$X$40,Calcs!$W$40,IF(TRUE,0))))","v":0},1244,"SB60-486-20BG",null,"SLIDE BENCH: 5FTx40.5FTx20INxBG",31]
[{"$f":"IF(B1246=0,0,MAX($A$2:A1245)+1)","v":0},{"$f":"IF(D1246=Calcs!$X$38,Calcs!$W$38,IF(D1246=Calcs!$X$39,Calcs!$W$39,IF(D1246=Calcs!$X$40,Calcs!$W$40,IF(TRUE,0))))","v":0},1245,"SB60-510-20BG",null,"SLIDE BENCH: 5FTx42.5FTx20INxBG",31]
[{"$f":"IF(B1247=0,0,MAX($A$2:A1246)+1)","v":0},{"$f":"IF(D1247=Calcs!$X$38,Calcs!$W$38,IF(D1247=Calcs!$X$39,Calcs!$W$39,IF(D1247=Calcs!$X$40,Calcs!$W$40,IF(TRUE,0))))","v":0},1246,"SB60-522-20BG",null,"SLIDE BENCH: 5FTx43.5FTx20INxBG",31]
[{"$f":"IF(B1248=0,0,MAX($A$2:A1247)+1)","v":0},{"$f":"IF(D1248=Calcs!$X$38,Calcs!$W$38,IF(D1248=Calcs!$X$39,Calcs!$W$39,IF(D1248=Calcs!$X$40,Calcs!$W$40,IF(TRUE,0))))","v":0},1247,"SB60-534-20BG",null,"SLIDE BENCH: 5FTx44.5FTx20INxBG",31]
[{"$f":"IF(B1249=0,0,MAX($A$2:A1248)+1)","v":0},{"$f":"IF(D1249=Calcs!$X$38,Calcs!$W$38,IF(D1249=Calcs!$X$39,Calcs!$W$39,IF(D1249=Calcs!$X$40,Calcs!$W$40,IF(TRUE,0))))","v":0},1248,"SB60-546-20BG",null,"SLIDE BENCH: 5FTx45.5FTx20INxBG",31]
[{"$f":"IF(B1250=0,0,MAX($A$2:A1249)+1)","v":0},{"$f":"IF(D1250=Calcs!$X$38,Calcs!$W$38,IF(D1250=Calcs!$X$39,Calcs!$W$39,IF(D1250=Calcs!$X$40,Calcs!$W$40,IF(TRUE,0))))","v":0},1249,"SB60-570-20BG",null,"SLIDE BENCH: 5FTx47.5FTx20INxBG",31]
[{"$f":"IF(B1251=0,0,MAX($A$2:A1250)+1)","v":0},{"$f":"IF(D1251=Calcs!$X$38,Calcs!$W$38,IF(D1251=Calcs!$X$39,Calcs!$W$39,IF(D1251=Calcs!$X$40,Calcs!$W$40,IF(TRUE,0))))","v":0},1250,"SB60-582-20BG",null,"SLIDE BENCH: 5FTx48.5FTx20INxBG",31]
[{"$f":"IF(B1252=0,0,MAX($A$2:A1251)+1)","v":0},{"$f":"IF(D1252=Calcs!$X$38,Calcs!$W$38,IF(D1252=Calcs!$X$39,Calcs!$W$39,IF(D1252=Calcs!$X$40,Calcs!$W$40,IF(TRUE,0))))","v":0},1251,"SB60-594-20BG",null,"SLIDE BENCH: 5FTx49.5FTx20INxBG",31]
[{"$f":"IF(B1253=0,0,MAX($A$2:A1252)+1)","v":0},{"$f":"IF(D1253=Calcs!$X$38,Calcs!$W$38,IF(D1253=Calcs!$X$39,Calcs!$W$39,IF(D1253=Calcs!$X$40,Calcs!$W$40,IF(TRUE,0))))","v":0},1252,"SB60-606-20BG",null,"SLIDE BENCH: 5FTx50.5FTx20INxBG",31]
[{"$f":"IF(B1254=0,0,MAX($A$2:A1253)+1)","v":0},{"$f":"IF(D1254=Calcs!$X$38,Calcs!$W$38,IF(D1254=Calcs!$X$39,Calcs!$W$39,IF(D1254=Calcs!$X$40,Calcs!$W$40,IF(TRUE,0))))","v":0},1253,"SB60-630-20BG",null,"SLIDE BENCH: 5FTx52.5FTx20INxBG",31]
[{"$f":"IF(B1255=0,0,MAX($A$2:A1254)+1)","v":0},{"$f":"IF(D1255=Calcs!$X$38,Calcs!$W$38,IF(D1255=Calcs!$X$39,Calcs!$W$39,IF(D1255=Calcs!$X$40,Calcs!$W$40,IF(TRUE,0))))","v":0},1254,"SB60-642-20BG",null,"SLIDE BENCH: 5FTx53.5FTx20INxBG",31]
[{"$f":"IF(B1256=0,0,MAX($A$2:A1255)+1)","v":0},{"$f":"IF(D1256=Calcs!$X$38,Calcs!$W$38,IF(D1256=Calcs!$X$39,Calcs!$W$39,IF(D1256=Calcs!$X$40,Calcs!$W$40,IF(TRUE,0))))","v":0},1255,"SB60-654-20BG",null,"SLIDE BENCH: 5FTx54.5FTx20INxBG",31]
[{"$f":"IF(B1257=0,0,MAX($A$2:A1256)+1)","v":0},{"$f":"IF(D1257=Calcs!$X$38,Calcs!$W$38,IF(D1257=Calcs!$X$39,Calcs!$W$39,IF(D1257=Calcs!$X$40,Calcs!$W$40,IF(TRUE,0))))","v":0},1256,"SB60-666-20BG",null,"SLIDE BENCH: 5FTx55.5FTx20INxBG",31]
[{"$f":"IF(B1258=0,0,MAX($A$2:A1257)+1)","v":0},{"$f":"IF(D1258=Calcs!$X$38,Calcs!$W$38,IF(D1258=Calcs!$X$39,Calcs!$W$39,IF(D1258=Calcs!$X$40,Calcs!$W$40,IF(TRUE,0))))","v":0},1257,"SB60-690-20BG",null,"SLIDE BENCH: 5FTx57.5FTx20INxBG",31]
[{"$f":"IF(B1259=0,0,MAX($A$2:A1258)+1)","v":0},{"$f":"IF(D1259=Calcs!$X$38,Calcs!$W$38,IF(D1259=Calcs!$X$39,Calcs!$W$39,IF(D1259=Calcs!$X$40,Calcs!$W$40,IF(TRUE,0))))","v":0},1258,"SB60-702-20BG",null,"SLIDE BENCH: 5FTx58.5FTx20INxBG",31]
[{"$f":"IF(B1260=0,0,MAX($A$2:A1259)+1)","v":0},{"$f":"IF(D1260=Calcs!$X$38,Calcs!$W$38,IF(D1260=Calcs!$X$39,Calcs!$W$39,IF(D1260=Calcs!$X$40,Calcs!$W$40,IF(TRUE,0))))","v":0},1259,"SB60-714-20BG",null,"SLIDE BENCH: 5FTx59.5FTx20INxBG",31]
[{"$f":"IF(B1261=0,0,MAX($A$2:A1260)+1)","v":0},{"$f":"IF(D1261=Calcs!$X$38,Calcs!$W$38,IF(D1261=Calcs!$X$39,Calcs!$W$39,IF(D1261=Calcs!$X$40,Calcs!$W$40,IF(TRUE,0))))","v":0},1260,"SB60-726-20BG",null,"SLIDE BENCH: 5FTx60.5FTx20INxBG",31]
[{"$f":"IF(B1262=0,0,MAX($A$2:A1261)+1)","v":0},{"$f":"IF(D1262=Calcs!$X$38,Calcs!$W$38,IF(D1262=Calcs!$X$39,Calcs!$W$39,IF(D1262=Calcs!$X$40,Calcs!$W$40,IF(TRUE,0))))","v":0},1261,"SB60-750-20BG",null,"SLIDE BENCH: 5FTx62.5FTx20INxBG",31]
[{"$f":"IF(B1263=0,0,MAX($A$2:A1262)+1)","v":0},{"$f":"IF(D1263=Calcs!$X$38,Calcs!$W$38,IF(D1263=Calcs!$X$39,Calcs!$W$39,IF(D1263=Calcs!$X$40,Calcs!$W$40,IF(TRUE,0))))","v":0},1262,"SB60-762-20BG",null,"SLIDE BENCH: 5FTx63.5FTx20INxBG",31]
[{"$f":"IF(B1264=0,0,MAX($A$2:A1263)+1)","v":0},{"$f":"IF(D1264=Calcs!$X$38,Calcs!$W$38,IF(D1264=Calcs!$X$39,Calcs!$W$39,IF(D1264=Calcs!$X$40,Calcs!$W$40,IF(TRUE,0))))","v":0},1263,"SB60-774-20BG",null,"SLIDE BENCH: 5FTx64.5FTx20INxBG",31]
[{"$f":"IF(B1265=0,0,MAX($A$2:A1264)+1)","v":0},{"$f":"IF(D1265=Calcs!$X$38,Calcs!$W$38,IF(D1265=Calcs!$X$39,Calcs!$W$39,IF(D1265=Calcs!$X$40,Calcs!$W$40,IF(TRUE,0))))","v":0},1264,"SB60-786-20BG",null,"SLIDE BENCH: 5FTx65.5FTx20INxBG",31]
[{"$f":"IF(B1266=0,0,MAX($A$2:A1265)+1)","v":0},{"$f":"IF(D1266=Calcs!$X$38,Calcs!$W$38,IF(D1266=Calcs!$X$39,Calcs!$W$39,IF(D1266=Calcs!$X$40,Calcs!$W$40,IF(TRUE,0))))","v":0},1265,"SB60-810-20BG",null,"SLIDE BENCH: 5FTx67.5FTx20INxBG",31]
[{"$f":"IF(B1267=0,0,MAX($A$2:A1266)+1)","v":0},{"$f":"IF(D1267=Calcs!$X$38,Calcs!$W$38,IF(D1267=Calcs!$X$39,Calcs!$W$39,IF(D1267=Calcs!$X$40,Calcs!$W$40,IF(TRUE,0))))","v":0},1266,"SB60-822-20BG",null,"SLIDE BENCH: 5FTx68.5FTx20INxBG",31]
[{"$f":"IF(B1268=0,0,MAX($A$2:A1267)+1)","v":0},{"$f":"IF(D1268=Calcs!$X$38,Calcs!$W$38,IF(D1268=Calcs!$X$39,Calcs!$W$39,IF(D1268=Calcs!$X$40,Calcs!$W$40,IF(TRUE,0))))","v":0},1267,"SB60-834-20BG",null,"SLIDE BENCH: 5FTx69.5FTx20INxBG",31]
[{"$f":"IF(B1269=0,0,MAX($A$2:A1268)+1)","v":0},{"$f":"IF(D1269=Calcs!$X$38,Calcs!$W$38,IF(D1269=Calcs!$X$39,Calcs!$W$39,IF(D1269=Calcs!$X$40,Calcs!$W$40,IF(TRUE,0))))","v":0},1268,"SB60-846-20BG",null,"SLIDE BENCH: 5FTx70.5FTx20INxBG",31]
[{"$f":"IF(B1270=0,0,MAX($A$2:A1269)+1)","v":0},{"$f":"IF(D1270=Calcs!$X$38,Calcs!$W$38,IF(D1270=Calcs!$X$39,Calcs!$W$39,IF(D1270=Calcs!$X$40,Calcs!$W$40,IF(TRUE,0))))","v":0},1269,"SB60-870-20BG",null,"SLIDE BENCH: 5FTx72.5FTx20INxBG",31]
[{"$f":"IF(B1271=0,0,MAX($A$2:A1270)+1)","v":0},{"$f":"IF(D1271=Calcs!$X$38,Calcs!$W$38,IF(D1271=Calcs!$X$39,Calcs!$W$39,IF(D1271=Calcs!$X$40,Calcs!$W$40,IF(TRUE,0))))","v":0},1270,"SB60-882-20BG",null,"SLIDE BENCH: 5FTx73.5FTx20INxBG",31]
[{"$f":"IF(B1272=0,0,MAX($A$2:A1271)+1)","v":0},{"$f":"IF(D1272=Calcs!$X$38,Calcs!$W$38,IF(D1272=Calcs!$X$39,Calcs!$W$39,IF(D1272=Calcs!$X$40,Calcs!$W$40,IF(TRUE,0))))","v":0},1271,"SB60-894-20BG",null,"SLIDE BENCH: 5FTx74.5FTx20INxBG",31]
[{"$f":"IF(B1273=0,0,MAX($A$2:A1272)+1)","v":0},{"$f":"IF(D1273=Calcs!$X$38,Calcs!$W$38,IF(D1273=Calcs!$X$39,Calcs!$W$39,IF(D1273=Calcs!$X$40,Calcs!$W$40,IF(TRUE,0))))","v":0},1272,"SB60-906-20BG",null,"SLIDE BENCH: 5FTx75.5FTx20INxBG",31]
[{"$f":"IF(B1274=0,0,MAX($A$2:A1273)+1)","v":0},{"$f":"IF(D1274=Calcs!$X$38,Calcs!$W$38,IF(D1274=Calcs!$X$39,Calcs!$W$39,IF(D1274=Calcs!$X$40,Calcs!$W$40,IF(TRUE,0))))","v":0},1273,"SB60-930-20BG",null,"SLIDE BENCH: 5FTx77.5FTx20INxBG",31]
[{"$f":"IF(B1275=0,0,MAX($A$2:A1274)+1)","v":0},{"$f":"IF(D1275=Calcs!$X$38,Calcs!$W$38,IF(D1275=Calcs!$X$39,Calcs!$W$39,IF(D1275=Calcs!$X$40,Calcs!$W$40,IF(TRUE,0))))","v":0},1274,"SB60-942-20BG",null,"SLIDE BENCH: 5FTx78.5FTx20INxBG",31]
[{"$f":"IF(B1276=0,0,MAX($A$2:A1275)+1)","v":0},{"$f":"IF(D1276=Calcs!$X$38,Calcs!$W$38,IF(D1276=Calcs!$X$39,Calcs!$W$39,IF(D1276=Calcs!$X$40,Calcs!$W$40,IF(TRUE,0))))","v":0},1275,"SB60-954-20BG",null,"SLIDE BENCH: 5FTx79.5FTx20INxBG",31]
[{"$f":"IF(B1277=0,0,MAX($A$2:A1276)+1)","v":0},{"$f":"IF(D1277=Calcs!$X$38,Calcs!$W$38,IF(D1277=Calcs!$X$39,Calcs!$W$39,IF(D1277=Calcs!$X$40,Calcs!$W$40,IF(TRUE,0))))","v":0},1276,"SB60-966-20BG",null,"SLIDE BENCH: 5FTx80.5FTx20INxBG",31]
[{"$f":"IF(B1278=0,0,MAX($A$2:A1277)+1)","v":0},{"$f":"IF(D1278=Calcs!$X$38,Calcs!$W$38,IF(D1278=Calcs!$X$39,Calcs!$W$39,IF(D1278=Calcs!$X$40,Calcs!$W$40,IF(TRUE,0))))","v":0},1277,"SB60-990-20BG",null,"SLIDE BENCH: 5FTx82.5FTx20INxBG",31]
[{"$f":"IF(B1279=0,0,MAX($A$2:A1278)+1)","v":0},{"$f":"IF(D1279=Calcs!$X$38,Calcs!$W$38,IF(D1279=Calcs!$X$39,Calcs!$W$39,IF(D1279=Calcs!$X$40,Calcs!$W$40,IF(TRUE,0))))","v":0},1278,"SB60-1002-20BG",null,"SLIDE BENCH: 5FTx83.5FTx20INxBG",31]
[{"$f":"IF(B1280=0,0,MAX($A$2:A1279)+1)","v":0},{"$f":"IF(D1280=Calcs!$X$38,Calcs!$W$38,IF(D1280=Calcs!$X$39,Calcs!$W$39,IF(D1280=Calcs!$X$40,Calcs!$W$40,IF(TRUE,0))))","v":0},1279,"SB60-1014-20BG",null,"SLIDE BENCH: 5FTx84.5FTx20INxBG",31]
[{"$f":"IF(B1281=0,0,MAX($A$2:A1280)+1)","v":0},{"$f":"IF(D1281=Calcs!$X$38,Calcs!$W$38,IF(D1281=Calcs!$X$39,Calcs!$W$39,IF(D1281=Calcs!$X$40,Calcs!$W$40,IF(TRUE,0))))","v":0},1280,"SB60-1026-20BG",null,"SLIDE BENCH: 5FTx85.5FTx20INxBG",31]
[{"$f":"IF(B1282=0,0,MAX($A$2:A1281)+1)","v":0},{"$f":"IF(D1282=Calcs!$X$38,Calcs!$W$38,IF(D1282=Calcs!$X$39,Calcs!$W$39,IF(D1282=Calcs!$X$40,Calcs!$W$40,IF(TRUE,0))))","v":0},1281,"SB60-1050-20BG",null,"SLIDE BENCH: 5FTx87.5FTx20INxBG",31]
[{"$f":"IF(B1283=0,0,MAX($A$2:A1282)+1)","v":0},{"$f":"IF(D1283=Calcs!$X$38,Calcs!$W$38,IF(D1283=Calcs!$X$39,Calcs!$W$39,IF(D1283=Calcs!$X$40,Calcs!$W$40,IF(TRUE,0))))","v":0},1282,"SB60-1062-20BG",null,"SLIDE BENCH: 5FTx88.5FTx20INxBG",31]
[{"$f":"IF(B1284=0,0,MAX($A$2:A1283)+1)","v":0},{"$f":"IF(D1284=Calcs!$X$38,Calcs!$W$38,IF(D1284=Calcs!$X$39,Calcs!$W$39,IF(D1284=Calcs!$X$40,Calcs!$W$40,IF(TRUE,0))))","v":0},1283,"SB60-1074-20BG",null,"SLIDE BENCH: 5FTx89.5FTx20INxBG",31]
[{"$f":"IF(B1285=0,0,MAX($A$2:A1284)+1)","v":0},{"$f":"IF(D1285=Calcs!$X$38,Calcs!$W$38,IF(D1285=Calcs!$X$39,Calcs!$W$39,IF(D1285=Calcs!$X$40,Calcs!$W$40,IF(TRUE,0))))","v":0},1284,"SB60-1086-20BG",null,"SLIDE BENCH: 5FTx90.5FTx20INxBG",31]
[{"$f":"IF(B1286=0,0,MAX($A$2:A1285)+1)","v":0},{"$f":"IF(D1286=Calcs!$X$38,Calcs!$W$38,IF(D1286=Calcs!$X$39,Calcs!$W$39,IF(D1286=Calcs!$X$40,Calcs!$W$40,IF(TRUE,0))))","v":0},1285,"SB60-1110-20BG",null,"SLIDE BENCH: 5FTx92.5FTx20INxBG",31]
[{"$f":"IF(B1287=0,0,MAX($A$2:A1286)+1)","v":0},{"$f":"IF(D1287=Calcs!$X$38,Calcs!$W$38,IF(D1287=Calcs!$X$39,Calcs!$W$39,IF(D1287=Calcs!$X$40,Calcs!$W$40,IF(TRUE,0))))","v":0},1286,"SB60-1122-20BG",null,"SLIDE BENCH: 5FTx93.5FTx20INxBG",31]
[{"$f":"IF(B1288=0,0,MAX($A$2:A1287)+1)","v":0},{"$f":"IF(D1288=Calcs!$X$38,Calcs!$W$38,IF(D1288=Calcs!$X$39,Calcs!$W$39,IF(D1288=Calcs!$X$40,Calcs!$W$40,IF(TRUE,0))))","v":0},1287,"SB60-1134-20BG",null,"SLIDE BENCH: 5FTx94.5FTx20INxBG",31]
[{"$f":"IF(B1289=0,0,MAX($A$2:A1288)+1)","v":0},{"$f":"IF(D1289=Calcs!$X$38,Calcs!$W$38,IF(D1289=Calcs!$X$39,Calcs!$W$39,IF(D1289=Calcs!$X$40,Calcs!$W$40,IF(TRUE,0))))","v":0},1288,"SB60-1146-20BG",null,"SLIDE BENCH: 5FTx95.5FTx20INxBG",31]
[{"$f":"IF(B1290=0,0,MAX($A$2:A1289)+1)","v":0},{"$f":"IF(D1290=Calcs!$X$38,Calcs!$W$38,IF(D1290=Calcs!$X$39,Calcs!$W$39,IF(D1290=Calcs!$X$40,Calcs!$W$40,IF(TRUE,0))))","v":0},1289,"SB60-1170-20BG",null,"SLIDE BENCH: 5FTx97.5FTx20INxBG",31]
[{"$f":"IF(B1291=0,0,MAX($A$2:A1290)+1)","v":0},{"$f":"IF(D1291=Calcs!$X$38,Calcs!$W$38,IF(D1291=Calcs!$X$39,Calcs!$W$39,IF(D1291=Calcs!$X$40,Calcs!$W$40,IF(TRUE,0))))","v":0},1290,"SB60-1182-20BG",null,"SLIDE BENCH: 5FTx98.5FTx20INxBG",31]
[{"$f":"IF(B1292=0,0,MAX($A$2:A1291)+1)","v":0},{"$f":"IF(D1292=Calcs!$X$38,Calcs!$W$38,IF(D1292=Calcs!$X$39,Calcs!$W$39,IF(D1292=Calcs!$X$40,Calcs!$W$40,IF(TRUE,0))))","v":0},1291,"SB60-1194-20BG",null,"SLIDE BENCH: 5FTx99.5FTx20INxBG",31]
[{"$f":"IF(B1293=0,0,MAX($A$2:A1292)+1)","v":0},{"$f":"IF(D1293=Calcs!$X$38,Calcs!$W$38,IF(D1293=Calcs!$X$39,Calcs!$W$39,IF(D1293=Calcs!$X$40,Calcs!$W$40,IF(TRUE,0))))","v":0},1292,"SB60-1206-20BG",null,"SLIDE BENCH: 5FTx100.5FTx20INxBG",32]
[{"$f":"IF(B1294=0,0,MAX($A$2:A1293)+1)","v":0},{"$f":"IF(D1294=Calcs!$X$38,Calcs!$W$38,IF(D1294=Calcs!$X$39,Calcs!$W$39,IF(D1294=Calcs!$X$40,Calcs!$W$40,IF(TRUE,0))))","v":0},1293,"SB60-90-30BG",null,"SLIDE BENCH: 5FTx7.5FTx30INxBG",30]
[{"$f":"IF(B1295=0,0,MAX($A$2:A1294)+1)","v":0},{"$f":"IF(D1295=Calcs!$X$38,Calcs!$W$38,IF(D1295=Calcs!$X$39,Calcs!$W$39,IF(D1295=Calcs!$X$40,Calcs!$W$40,IF(TRUE,0))))","v":0},1294,"SB60-102-30BG",null,"SLIDE BENCH: 5FTx8.5FTx30INxBG",30]
[{"$f":"IF(B1296=0,0,MAX($A$2:A1295)+1)","v":0},{"$f":"IF(D1296=Calcs!$X$38,Calcs!$W$38,IF(D1296=Calcs!$X$39,Calcs!$W$39,IF(D1296=Calcs!$X$40,Calcs!$W$40,IF(TRUE,0))))","v":0},1295,"SB60-114-30BG",null,"SLIDE BENCH: 5FTx9.5FTx30INxBG",30]
[{"$f":"IF(B1297=0,0,MAX($A$2:A1296)+1)","v":0},{"$f":"IF(D1297=Calcs!$X$38,Calcs!$W$38,IF(D1297=Calcs!$X$39,Calcs!$W$39,IF(D1297=Calcs!$X$40,Calcs!$W$40,IF(TRUE,0))))","v":0},1296,"SB60-126-30BG",null,"SLIDE BENCH: 5FTx10.5FTx30INxBG",31]
[{"$f":"IF(B1298=0,0,MAX($A$2:A1297)+1)","v":0},{"$f":"IF(D1298=Calcs!$X$38,Calcs!$W$38,IF(D1298=Calcs!$X$39,Calcs!$W$39,IF(D1298=Calcs!$X$40,Calcs!$W$40,IF(TRUE,0))))","v":0},1297,"SB60-150-30BG",null,"SLIDE BENCH: 5FTx12.5FTx30INxBG",31]
[{"$f":"IF(B1299=0,0,MAX($A$2:A1298)+1)","v":0},{"$f":"IF(D1299=Calcs!$X$38,Calcs!$W$38,IF(D1299=Calcs!$X$39,Calcs!$W$39,IF(D1299=Calcs!$X$40,Calcs!$W$40,IF(TRUE,0))))","v":0},1298,"SB60-162-30BG",null,"SLIDE BENCH: 5FTx13.5FTx30INxBG",31]
[{"$f":"IF(B1300=0,0,MAX($A$2:A1299)+1)","v":0},{"$f":"IF(D1300=Calcs!$X$38,Calcs!$W$38,IF(D1300=Calcs!$X$39,Calcs!$W$39,IF(D1300=Calcs!$X$40,Calcs!$W$40,IF(TRUE,0))))","v":0},1299,"SB60-174-30BG",null,"SLIDE BENCH: 5FTx14.5FTx30INxBG",31]
[{"$f":"IF(B1301=0,0,MAX($A$2:A1300)+1)","v":0},{"$f":"IF(D1301=Calcs!$X$38,Calcs!$W$38,IF(D1301=Calcs!$X$39,Calcs!$W$39,IF(D1301=Calcs!$X$40,Calcs!$W$40,IF(TRUE,0))))","v":0},1300,"SB60-186-30BG",null,"SLIDE BENCH: 5FTx15.5FTx30INxBG",31]
[{"$f":"IF(B1302=0,0,MAX($A$2:A1301)+1)","v":0},{"$f":"IF(D1302=Calcs!$X$38,Calcs!$W$38,IF(D1302=Calcs!$X$39,Calcs!$W$39,IF(D1302=Calcs!$X$40,Calcs!$W$40,IF(TRUE,0))))","v":0},1301,"SB60-210-30BG",null,"SLIDE BENCH: 5FTx17.5FTx30INxBG",31]
[{"$f":"IF(B1303=0,0,MAX($A$2:A1302)+1)","v":0},{"$f":"IF(D1303=Calcs!$X$38,Calcs!$W$38,IF(D1303=Calcs!$X$39,Calcs!$W$39,IF(D1303=Calcs!$X$40,Calcs!$W$40,IF(TRUE,0))))","v":0},1302,"SB60-222-30BG",null,"SLIDE BENCH: 5FTx18.5FTx30INxBG",31]
[{"$f":"IF(B1304=0,0,MAX($A$2:A1303)+1)","v":0},{"$f":"IF(D1304=Calcs!$X$38,Calcs!$W$38,IF(D1304=Calcs!$X$39,Calcs!$W$39,IF(D1304=Calcs!$X$40,Calcs!$W$40,IF(TRUE,0))))","v":0},1303,"SB60-234-30BG",null,"SLIDE BENCH: 5FTx19.5FTx30INxBG",31]
[{"$f":"IF(B1305=0,0,MAX($A$2:A1304)+1)","v":0},{"$f":"IF(D1305=Calcs!$X$38,Calcs!$W$38,IF(D1305=Calcs!$X$39,Calcs!$W$39,IF(D1305=Calcs!$X$40,Calcs!$W$40,IF(TRUE,0))))","v":0},1304,"SB60-246-30BG",null,"SLIDE BENCH: 5FTx20.5FTx30INxBG",31]
[{"$f":"IF(B1306=0,0,MAX($A$2:A1305)+1)","v":0},{"$f":"IF(D1306=Calcs!$X$38,Calcs!$W$38,IF(D1306=Calcs!$X$39,Calcs!$W$39,IF(D1306=Calcs!$X$40,Calcs!$W$40,IF(TRUE,0))))","v":0},1305,"SB60-270-30BG",null,"SLIDE BENCH: 5FTx22.5FTx30INxBG",31]
[{"$f":"IF(B1307=0,0,MAX($A$2:A1306)+1)","v":0},{"$f":"IF(D1307=Calcs!$X$38,Calcs!$W$38,IF(D1307=Calcs!$X$39,Calcs!$W$39,IF(D1307=Calcs!$X$40,Calcs!$W$40,IF(TRUE,0))))","v":0},1306,"SB60-282-30BG",null,"SLIDE BENCH: 5FTx23.5FTx30INxBG",31]
[{"$f":"IF(B1308=0,0,MAX($A$2:A1307)+1)","v":0},{"$f":"IF(D1308=Calcs!$X$38,Calcs!$W$38,IF(D1308=Calcs!$X$39,Calcs!$W$39,IF(D1308=Calcs!$X$40,Calcs!$W$40,IF(TRUE,0))))","v":0},1307,"SB60-294-30BG",null,"SLIDE BENCH: 5FTx24.5FTx30INxBG",31]
[{"$f":"IF(B1309=0,0,MAX($A$2:A1308)+1)","v":0},{"$f":"IF(D1309=Calcs!$X$38,Calcs!$W$38,IF(D1309=Calcs!$X$39,Calcs!$W$39,IF(D1309=Calcs!$X$40,Calcs!$W$40,IF(TRUE,0))))","v":0},1308,"SB60-306-30BG",null,"SLIDE BENCH: 5FTx25.5FTx30INxBG",31]
[{"$f":"IF(B1310=0,0,MAX($A$2:A1309)+1)","v":0},{"$f":"IF(D1310=Calcs!$X$38,Calcs!$W$38,IF(D1310=Calcs!$X$39,Calcs!$W$39,IF(D1310=Calcs!$X$40,Calcs!$W$40,IF(TRUE,0))))","v":0},1309,"SB60-330-30BG",null,"SLIDE BENCH: 5FTx27.5FTx30INxBG",31]
[{"$f":"IF(B1311=0,0,MAX($A$2:A1310)+1)","v":0},{"$f":"IF(D1311=Calcs!$X$38,Calcs!$W$38,IF(D1311=Calcs!$X$39,Calcs!$W$39,IF(D1311=Calcs!$X$40,Calcs!$W$40,IF(TRUE,0))))","v":0},1310,"SB60-342-30BG",null,"SLIDE BENCH: 5FTx28.5FTx30INxBG",31]
[{"$f":"IF(B1312=0,0,MAX($A$2:A1311)+1)","v":0},{"$f":"IF(D1312=Calcs!$X$38,Calcs!$W$38,IF(D1312=Calcs!$X$39,Calcs!$W$39,IF(D1312=Calcs!$X$40,Calcs!$W$40,IF(TRUE,0))))","v":0},1311,"SB60-354-30BG",null,"SLIDE BENCH: 5FTx29.5FTx30INxBG",31]
[{"$f":"IF(B1313=0,0,MAX($A$2:A1312)+1)","v":0},{"$f":"IF(D1313=Calcs!$X$38,Calcs!$W$38,IF(D1313=Calcs!$X$39,Calcs!$W$39,IF(D1313=Calcs!$X$40,Calcs!$W$40,IF(TRUE,0))))","v":0},1312,"SB60-366-30BG",null,"SLIDE BENCH: 5FTx30.5FTx30INxBG",31]
[{"$f":"IF(B1314=0,0,MAX($A$2:A1313)+1)","v":0},{"$f":"IF(D1314=Calcs!$X$38,Calcs!$W$38,IF(D1314=Calcs!$X$39,Calcs!$W$39,IF(D1314=Calcs!$X$40,Calcs!$W$40,IF(TRUE,0))))","v":0},1313,"SB60-390-30BG",null,"SLIDE BENCH: 5FTx32.5FTx30INxBG",31]
[{"$f":"IF(B1315=0,0,MAX($A$2:A1314)+1)","v":0},{"$f":"IF(D1315=Calcs!$X$38,Calcs!$W$38,IF(D1315=Calcs!$X$39,Calcs!$W$39,IF(D1315=Calcs!$X$40,Calcs!$W$40,IF(TRUE,0))))","v":0},1314,"SB60-402-30BG",null,"SLIDE BENCH: 5FTx33.5FTx30INxBG",31]
[{"$f":"IF(B1316=0,0,MAX($A$2:A1315)+1)","v":0},{"$f":"IF(D1316=Calcs!$X$38,Calcs!$W$38,IF(D1316=Calcs!$X$39,Calcs!$W$39,IF(D1316=Calcs!$X$40,Calcs!$W$40,IF(TRUE,0))))","v":0},1315,"SB60-414-30BG",null,"SLIDE BENCH: 5FTx34.5FTx30INxBG",31]
[{"$f":"IF(B1317=0,0,MAX($A$2:A1316)+1)","v":0},{"$f":"IF(D1317=Calcs!$X$38,Calcs!$W$38,IF(D1317=Calcs!$X$39,Calcs!$W$39,IF(D1317=Calcs!$X$40,Calcs!$W$40,IF(TRUE,0))))","v":0},1316,"SB60-426-30BG",null,"SLIDE BENCH: 5FTx35.5FTx30INxBG",31]
[{"$f":"IF(B1318=0,0,MAX($A$2:A1317)+1)","v":0},{"$f":"IF(D1318=Calcs!$X$38,Calcs!$W$38,IF(D1318=Calcs!$X$39,Calcs!$W$39,IF(D1318=Calcs!$X$40,Calcs!$W$40,IF(TRUE,0))))","v":0},1317,"SB60-450-30BG",null,"SLIDE BENCH: 5FTx37.5FTx30INxBG",31]
[{"$f":"IF(B1319=0,0,MAX($A$2:A1318)+1)","v":0},{"$f":"IF(D1319=Calcs!$X$38,Calcs!$W$38,IF(D1319=Calcs!$X$39,Calcs!$W$39,IF(D1319=Calcs!$X$40,Calcs!$W$40,IF(TRUE,0))))","v":0},1318,"SB60-462-30BG",null,"SLIDE BENCH: 5FTx38.5FTx30INxBG",31]
[{"$f":"IF(B1320=0,0,MAX($A$2:A1319)+1)","v":0},{"$f":"IF(D1320=Calcs!$X$38,Calcs!$W$38,IF(D1320=Calcs!$X$39,Calcs!$W$39,IF(D1320=Calcs!$X$40,Calcs!$W$40,IF(TRUE,0))))","v":0},1319,"SB60-474-30BG",null,"SLIDE BENCH: 5FTx39.5FTx30INxBG",31]
[{"$f":"IF(B1321=0,0,MAX($A$2:A1320)+1)","v":0},{"$f":"IF(D1321=Calcs!$X$38,Calcs!$W$38,IF(D1321=Calcs!$X$39,Calcs!$W$39,IF(D1321=Calcs!$X$40,Calcs!$W$40,IF(TRUE,0))))","v":0},1320,"SB60-486-30BG",null,"SLIDE BENCH: 5FTx40.5FTx30INxBG",31]
[{"$f":"IF(B1322=0,0,MAX($A$2:A1321)+1)","v":0},{"$f":"IF(D1322=Calcs!$X$38,Calcs!$W$38,IF(D1322=Calcs!$X$39,Calcs!$W$39,IF(D1322=Calcs!$X$40,Calcs!$W$40,IF(TRUE,0))))","v":0},1321,"SB60-510-30BG",null,"SLIDE BENCH: 5FTx42.5FTx30INxBG",31]
[{"$f":"IF(B1323=0,0,MAX($A$2:A1322)+1)","v":0},{"$f":"IF(D1323=Calcs!$X$38,Calcs!$W$38,IF(D1323=Calcs!$X$39,Calcs!$W$39,IF(D1323=Calcs!$X$40,Calcs!$W$40,IF(TRUE,0))))","v":0},1322,"SB60-522-30BG",null,"SLIDE BENCH: 5FTx43.5FTx30INxBG",31]
[{"$f":"IF(B1324=0,0,MAX($A$2:A1323)+1)","v":0},{"$f":"IF(D1324=Calcs!$X$38,Calcs!$W$38,IF(D1324=Calcs!$X$39,Calcs!$W$39,IF(D1324=Calcs!$X$40,Calcs!$W$40,IF(TRUE,0))))","v":0},1323,"SB60-534-30BG",null,"SLIDE BENCH: 5FTx44.5FTx30INxBG",31]
[{"$f":"IF(B1325=0,0,MAX($A$2:A1324)+1)","v":0},{"$f":"IF(D1325=Calcs!$X$38,Calcs!$W$38,IF(D1325=Calcs!$X$39,Calcs!$W$39,IF(D1325=Calcs!$X$40,Calcs!$W$40,IF(TRUE,0))))","v":0},1324,"SB60-546-30BG",null,"SLIDE BENCH: 5FTx45.5FTx30INxBG",31]
[{"$f":"IF(B1326=0,0,MAX($A$2:A1325)+1)","v":0},{"$f":"IF(D1326=Calcs!$X$38,Calcs!$W$38,IF(D1326=Calcs!$X$39,Calcs!$W$39,IF(D1326=Calcs!$X$40,Calcs!$W$40,IF(TRUE,0))))","v":0},1325,"SB60-570-30BG",null,"SLIDE BENCH: 5FTx47.5FTx30INxBG",31]
[{"$f":"IF(B1327=0,0,MAX($A$2:A1326)+1)","v":0},{"$f":"IF(D1327=Calcs!$X$38,Calcs!$W$38,IF(D1327=Calcs!$X$39,Calcs!$W$39,IF(D1327=Calcs!$X$40,Calcs!$W$40,IF(TRUE,0))))","v":0},1326,"SB60-582-30BG",null,"SLIDE BENCH: 5FTx48.5FTx30INxBG",31]
[{"$f":"IF(B1328=0,0,MAX($A$2:A1327)+1)","v":0},{"$f":"IF(D1328=Calcs!$X$38,Calcs!$W$38,IF(D1328=Calcs!$X$39,Calcs!$W$39,IF(D1328=Calcs!$X$40,Calcs!$W$40,IF(TRUE,0))))","v":0},1327,"SB60-594-30BG",null,"SLIDE BENCH: 5FTx49.5FTx30INxBG",31]
[{"$f":"IF(B1329=0,0,MAX($A$2:A1328)+1)","v":0},{"$f":"IF(D1329=Calcs!$X$38,Calcs!$W$38,IF(D1329=Calcs!$X$39,Calcs!$W$39,IF(D1329=Calcs!$X$40,Calcs!$W$40,IF(TRUE,0))))","v":0},1328,"SB60-606-30BG",null,"SLIDE BENCH: 5FTx50.5FTx30INxBG",31]
[{"$f":"IF(B1330=0,0,MAX($A$2:A1329)+1)","v":0},{"$f":"IF(D1330=Calcs!$X$38,Calcs!$W$38,IF(D1330=Calcs!$X$39,Calcs!$W$39,IF(D1330=Calcs!$X$40,Calcs!$W$40,IF(TRUE,0))))","v":0},1329,"SB60-630-30BG",null,"SLIDE BENCH: 5FTx52.5FTx30INxBG",31]
[{"$f":"IF(B1331=0,0,MAX($A$2:A1330)+1)","v":0},{"$f":"IF(D1331=Calcs!$X$38,Calcs!$W$38,IF(D1331=Calcs!$X$39,Calcs!$W$39,IF(D1331=Calcs!$X$40,Calcs!$W$40,IF(TRUE,0))))","v":0},1330,"SB60-642-30BG",null,"SLIDE BENCH: 5FTx53.5FTx30INxBG",31]
[{"$f":"IF(B1332=0,0,MAX($A$2:A1331)+1)","v":0},{"$f":"IF(D1332=Calcs!$X$38,Calcs!$W$38,IF(D1332=Calcs!$X$39,Calcs!$W$39,IF(D1332=Calcs!$X$40,Calcs!$W$40,IF(TRUE,0))))","v":0},1331,"SB60-654-30BG",null,"SLIDE BENCH: 5FTx54.5FTx30INxBG",31]
[{"$f":"IF(B1333=0,0,MAX($A$2:A1332)+1)","v":0},{"$f":"IF(D1333=Calcs!$X$38,Calcs!$W$38,IF(D1333=Calcs!$X$39,Calcs!$W$39,IF(D1333=Calcs!$X$40,Calcs!$W$40,IF(TRUE,0))))","v":0},1332,"SB60-666-30BG",null,"SLIDE BENCH: 5FTx55.5FTx30INxBG",31]
[{"$f":"IF(B1334=0,0,MAX($A$2:A1333)+1)","v":0},{"$f":"IF(D1334=Calcs!$X$38,Calcs!$W$38,IF(D1334=Calcs!$X$39,Calcs!$W$39,IF(D1334=Calcs!$X$40,Calcs!$W$40,IF(TRUE,0))))","v":0},1333,"SB60-690-30BG",null,"SLIDE BENCH: 5FTx57.5FTx30INxBG",31]
[{"$f":"IF(B1335=0,0,MAX($A$2:A1334)+1)","v":0},{"$f":"IF(D1335=Calcs!$X$38,Calcs!$W$38,IF(D1335=Calcs!$X$39,Calcs!$W$39,IF(D1335=Calcs!$X$40,Calcs!$W$40,IF(TRUE,0))))","v":0},1334,"SB60-702-30BG",null,"SLIDE BENCH: 5FTx58.5FTx30INxBG",31]
[{"$f":"IF(B1336=0,0,MAX($A$2:A1335)+1)","v":0},{"$f":"IF(D1336=Calcs!$X$38,Calcs!$W$38,IF(D1336=Calcs!$X$39,Calcs!$W$39,IF(D1336=Calcs!$X$40,Calcs!$W$40,IF(TRUE,0))))","v":0},1335,"SB60-714-30BG",null,"SLIDE BENCH: 5FTx59.5FTx30INxBG",31]
[{"$f":"IF(B1337=0,0,MAX($A$2:A1336)+1)","v":0},{"$f":"IF(D1337=Calcs!$X$38,Calcs!$W$38,IF(D1337=Calcs!$X$39,Calcs!$W$39,IF(D1337=Calcs!$X$40,Calcs!$W$40,IF(TRUE,0))))","v":0},1336,"SB60-726-30BG",null,"SLIDE BENCH: 5FTx60.5FTx30INxBG",31]
[{"$f":"IF(B1338=0,0,MAX($A$2:A1337)+1)","v":0},{"$f":"IF(D1338=Calcs!$X$38,Calcs!$W$38,IF(D1338=Calcs!$X$39,Calcs!$W$39,IF(D1338=Calcs!$X$40,Calcs!$W$40,IF(TRUE,0))))","v":0},1337,"SB60-750-30BG",null,"SLIDE BENCH: 5FTx62.5FTx30INxBG",31]
[{"$f":"IF(B1339=0,0,MAX($A$2:A1338)+1)","v":0},{"$f":"IF(D1339=Calcs!$X$38,Calcs!$W$38,IF(D1339=Calcs!$X$39,Calcs!$W$39,IF(D1339=Calcs!$X$40,Calcs!$W$40,IF(TRUE,0))))","v":0},1338,"SB60-762-30BG",null,"SLIDE BENCH: 5FTx63.5FTx30INxBG",31]
[{"$f":"IF(B1340=0,0,MAX($A$2:A1339)+1)","v":0},{"$f":"IF(D1340=Calcs!$X$38,Calcs!$W$38,IF(D1340=Calcs!$X$39,Calcs!$W$39,IF(D1340=Calcs!$X$40,Calcs!$W$40,IF(TRUE,0))))","v":0},1339,"SB60-774-30BG",null,"SLIDE BENCH: 5FTx64.5FTx30INxBG",31]
[{"$f":"IF(B1341=0,0,MAX($A$2:A1340)+1)","v":0},{"$f":"IF(D1341=Calcs!$X$38,Calcs!$W$38,IF(D1341=Calcs!$X$39,Calcs!$W$39,IF(D1341=Calcs!$X$40,Calcs!$W$40,IF(TRUE,0))))","v":0},1340,"SB60-786-30BG",null,"SLIDE BENCH: 5FTx65.5FTx30INxBG",31]
[{"$f":"IF(B1342=0,0,MAX($A$2:A1341)+1)","v":0},{"$f":"IF(D1342=Calcs!$X$38,Calcs!$W$38,IF(D1342=Calcs!$X$39,Calcs!$W$39,IF(D1342=Calcs!$X$40,Calcs!$W$40,IF(TRUE,0))))","v":0},1341,"SB60-810-30BG",null,"SLIDE BENCH: 5FTx67.5FTx30INxBG",31]
[{"$f":"IF(B1343=0,0,MAX($A$2:A1342)+1)","v":0},{"$f":"IF(D1343=Calcs!$X$38,Calcs!$W$38,IF(D1343=Calcs!$X$39,Calcs!$W$39,IF(D1343=Calcs!$X$40,Calcs!$W$40,IF(TRUE,0))))","v":0},1342,"SB60-822-30BG",null,"SLIDE BENCH: 5FTx68.5FTx30INxBG",31]
[{"$f":"IF(B1344=0,0,MAX($A$2:A1343)+1)","v":0},{"$f":"IF(D1344=Calcs!$X$38,Calcs!$W$38,IF(D1344=Calcs!$X$39,Calcs!$W$39,IF(D1344=Calcs!$X$40,Calcs!$W$40,IF(TRUE,0))))","v":0},1343,"SB60-834-30BG",null,"SLIDE BENCH: 5FTx69.5FTx30INxBG",31]
[{"$f":"IF(B1345=0,0,MAX($A$2:A1344)+1)","v":0},{"$f":"IF(D1345=Calcs!$X$38,Calcs!$W$38,IF(D1345=Calcs!$X$39,Calcs!$W$39,IF(D1345=Calcs!$X$40,Calcs!$W$40,IF(TRUE,0))))","v":0},1344,"SB60-846-30BG",null,"SLIDE BENCH: 5FTx70.5FTx30INxBG",31]
[{"$f":"IF(B1346=0,0,MAX($A$2:A1345)+1)","v":0},{"$f":"IF(D1346=Calcs!$X$38,Calcs!$W$38,IF(D1346=Calcs!$X$39,Calcs!$W$39,IF(D1346=Calcs!$X$40,Calcs!$W$40,IF(TRUE,0))))","v":0},1345,"SB60-870-30BG",null,"SLIDE BENCH: 5FTx72.5FTx30INxBG",31]
[{"$f":"IF(B1347=0,0,MAX($A$2:A1346)+1)","v":0},{"$f":"IF(D1347=Calcs!$X$38,Calcs!$W$38,IF(D1347=Calcs!$X$39,Calcs!$W$39,IF(D1347=Calcs!$X$40,Calcs!$W$40,IF(TRUE,0))))","v":0},1346,"SB60-882-30BG",null,"SLIDE BENCH: 5FTx73.5FTx30INxBG",31]
[{"$f":"IF(B1348=0,0,MAX($A$2:A1347)+1)","v":0},{"$f":"IF(D1348=Calcs!$X$38,Calcs!$W$38,IF(D1348=Calcs!$X$39,Calcs!$W$39,IF(D1348=Calcs!$X$40,Calcs!$W$40,IF(TRUE,0))))","v":0},1347,"SB60-894-30BG",null,"SLIDE BENCH: 5FTx74.5FTx30INxBG",31]
[{"$f":"IF(B1349=0,0,MAX($A$2:A1348)+1)","v":0},{"$f":"IF(D1349=Calcs!$X$38,Calcs!$W$38,IF(D1349=Calcs!$X$39,Calcs!$W$39,IF(D1349=Calcs!$X$40,Calcs!$W$40,IF(TRUE,0))))","v":0},1348,"SB60-906-30BG",null,"SLIDE BENCH: 5FTx75.5FTx30INxBG",31]
[{"$f":"IF(B1350=0,0,MAX($A$2:A1349)+1)","v":0},{"$f":"IF(D1350=Calcs!$X$38,Calcs!$W$38,IF(D1350=Calcs!$X$39,Calcs!$W$39,IF(D1350=Calcs!$X$40,Calcs!$W$40,IF(TRUE,0))))","v":0},1349,"SB60-930-30BG",null,"SLIDE BENCH: 5FTx77.5FTx30INxBG",31]
[{"$f":"IF(B1351=0,0,MAX($A$2:A1350)+1)","v":0},{"$f":"IF(D1351=Calcs!$X$38,Calcs!$W$38,IF(D1351=Calcs!$X$39,Calcs!$W$39,IF(D1351=Calcs!$X$40,Calcs!$W$40,IF(TRUE,0))))","v":0},1350,"SB60-942-30BG",null,"SLIDE BENCH: 5FTx78.5FTx30INxBG",31]
[{"$f":"IF(B1352=0,0,MAX($A$2:A1351)+1)","v":0},{"$f":"IF(D1352=Calcs!$X$38,Calcs!$W$38,IF(D1352=Calcs!$X$39,Calcs!$W$39,IF(D1352=Calcs!$X$40,Calcs!$W$40,IF(TRUE,0))))","v":0},1351,"SB60-954-30BG",null,"SLIDE BENCH: 5FTx79.5FTx30INxBG",31]
[{"$f":"IF(B1353=0,0,MAX($A$2:A1352)+1)","v":0},{"$f":"IF(D1353=Calcs!$X$38,Calcs!$W$38,IF(D1353=Calcs!$X$39,Calcs!$W$39,IF(D1353=Calcs!$X$40,Calcs!$W$40,IF(TRUE,0))))","v":0},1352,"SB60-966-30BG",null,"SLIDE BENCH: 5FTx80.5FTx30INxBG",31]
[{"$f":"IF(B1354=0,0,MAX($A$2:A1353)+1)","v":0},{"$f":"IF(D1354=Calcs!$X$38,Calcs!$W$38,IF(D1354=Calcs!$X$39,Calcs!$W$39,IF(D1354=Calcs!$X$40,Calcs!$W$40,IF(TRUE,0))))","v":0},1353,"SB60-990-30BG",null,"SLIDE BENCH: 5FTx82.5FTx30INxBG",31]
[{"$f":"IF(B1355=0,0,MAX($A$2:A1354)+1)","v":0},{"$f":"IF(D1355=Calcs!$X$38,Calcs!$W$38,IF(D1355=Calcs!$X$39,Calcs!$W$39,IF(D1355=Calcs!$X$40,Calcs!$W$40,IF(TRUE,0))))","v":0},1354,"SB60-1002-30BG",null,"SLIDE BENCH: 5FTx83.5FTx30INxBG",31]
[{"$f":"IF(B1356=0,0,MAX($A$2:A1355)+1)","v":0},{"$f":"IF(D1356=Calcs!$X$38,Calcs!$W$38,IF(D1356=Calcs!$X$39,Calcs!$W$39,IF(D1356=Calcs!$X$40,Calcs!$W$40,IF(TRUE,0))))","v":0},1355,"SB60-1014-30BG",null,"SLIDE BENCH: 5FTx84.5FTx30INxBG",31]
[{"$f":"IF(B1357=0,0,MAX($A$2:A1356)+1)","v":0},{"$f":"IF(D1357=Calcs!$X$38,Calcs!$W$38,IF(D1357=Calcs!$X$39,Calcs!$W$39,IF(D1357=Calcs!$X$40,Calcs!$W$40,IF(TRUE,0))))","v":0},1356,"SB60-1026-30BG",null,"SLIDE BENCH: 5FTx85.5FTx30INxBG",31]
[{"$f":"IF(B1358=0,0,MAX($A$2:A1357)+1)","v":0},{"$f":"IF(D1358=Calcs!$X$38,Calcs!$W$38,IF(D1358=Calcs!$X$39,Calcs!$W$39,IF(D1358=Calcs!$X$40,Calcs!$W$40,IF(TRUE,0))))","v":0},1357,"SB60-1050-30BG",null,"SLIDE BENCH: 5FTx87.5FTx30INxBG",31]
[{"$f":"IF(B1359=0,0,MAX($A$2:A1358)+1)","v":0},{"$f":"IF(D1359=Calcs!$X$38,Calcs!$W$38,IF(D1359=Calcs!$X$39,Calcs!$W$39,IF(D1359=Calcs!$X$40,Calcs!$W$40,IF(TRUE,0))))","v":0},1358,"SB60-1062-30BG",null,"SLIDE BENCH: 5FTx88.5FTx30INxBG",31]
[{"$f":"IF(B1360=0,0,MAX($A$2:A1359)+1)","v":0},{"$f":"IF(D1360=Calcs!$X$38,Calcs!$W$38,IF(D1360=Calcs!$X$39,Calcs!$W$39,IF(D1360=Calcs!$X$40,Calcs!$W$40,IF(TRUE,0))))","v":0},1359,"SB60-1074-30BG",null,"SLIDE BENCH: 5FTx89.5FTx30INxBG",31]
[{"$f":"IF(B1361=0,0,MAX($A$2:A1360)+1)","v":0},{"$f":"IF(D1361=Calcs!$X$38,Calcs!$W$38,IF(D1361=Calcs!$X$39,Calcs!$W$39,IF(D1361=Calcs!$X$40,Calcs!$W$40,IF(TRUE,0))))","v":0},1360,"SB60-1086-30BG",null,"SLIDE BENCH: 5FTx90.5FTx30INxBG",31]
[{"$f":"IF(B1362=0,0,MAX($A$2:A1361)+1)","v":0},{"$f":"IF(D1362=Calcs!$X$38,Calcs!$W$38,IF(D1362=Calcs!$X$39,Calcs!$W$39,IF(D1362=Calcs!$X$40,Calcs!$W$40,IF(TRUE,0))))","v":0},1361,"SB60-1110-30BG",null,"SLIDE BENCH: 5FTx92.5FTx30INxBG",31]
[{"$f":"IF(B1363=0,0,MAX($A$2:A1362)+1)","v":0},{"$f":"IF(D1363=Calcs!$X$38,Calcs!$W$38,IF(D1363=Calcs!$X$39,Calcs!$W$39,IF(D1363=Calcs!$X$40,Calcs!$W$40,IF(TRUE,0))))","v":0},1362,"SB60-1122-30BG",null,"SLIDE BENCH: 5FTx93.5FTx30INxBG",31]
[{"$f":"IF(B1364=0,0,MAX($A$2:A1363)+1)","v":0},{"$f":"IF(D1364=Calcs!$X$38,Calcs!$W$38,IF(D1364=Calcs!$X$39,Calcs!$W$39,IF(D1364=Calcs!$X$40,Calcs!$W$40,IF(TRUE,0))))","v":0},1363,"SB60-1134-30BG",null,"SLIDE BENCH: 5FTx94.5FTx30INxBG",31]
[{"$f":"IF(B1365=0,0,MAX($A$2:A1364)+1)","v":0},{"$f":"IF(D1365=Calcs!$X$38,Calcs!$W$38,IF(D1365=Calcs!$X$39,Calcs!$W$39,IF(D1365=Calcs!$X$40,Calcs!$W$40,IF(TRUE,0))))","v":0},1364,"SB60-1146-30BG",null,"SLIDE BENCH: 5FTx95.5FTx30INxBG",31]
[{"$f":"IF(B1366=0,0,MAX($A$2:A1365)+1)","v":0},{"$f":"IF(D1366=Calcs!$X$38,Calcs!$W$38,IF(D1366=Calcs!$X$39,Calcs!$W$39,IF(D1366=Calcs!$X$40,Calcs!$W$40,IF(TRUE,0))))","v":0},1365,"SB60-1170-30BG",null,"SLIDE BENCH: 5FTx97.5FTx30INxBG",31]
[{"$f":"IF(B1367=0,0,MAX($A$2:A1366)+1)","v":0},{"$f":"IF(D1367=Calcs!$X$38,Calcs!$W$38,IF(D1367=Calcs!$X$39,Calcs!$W$39,IF(D1367=Calcs!$X$40,Calcs!$W$40,IF(TRUE,0))))","v":0},1366,"SB60-1182-30BG",null,"SLIDE BENCH: 5FTx98.5FTx30INxBG",31]
[{"$f":"IF(B1368=0,0,MAX($A$2:A1367)+1)","v":0},{"$f":"IF(D1368=Calcs!$X$38,Calcs!$W$38,IF(D1368=Calcs!$X$39,Calcs!$W$39,IF(D1368=Calcs!$X$40,Calcs!$W$40,IF(TRUE,0))))","v":0},1367,"SB60-1194-30BG",null,"SLIDE BENCH: 5FTx99.5FTx30INxBG",31]
[{"$f":"IF(B1369=0,0,MAX($A$2:A1368)+1)","v":0},{"$f":"IF(D1369=Calcs!$X$38,Calcs!$W$38,IF(D1369=Calcs!$X$39,Calcs!$W$39,IF(D1369=Calcs!$X$40,Calcs!$W$40,IF(TRUE,0))))","v":0},1368,"SB60-1206-30BG",null,"SLIDE BENCH: 5FTx100.5FTx30INxBG",32]

{"sheet":"Purchase Order (RL)","index":10,"n_rows":52,"n_cols":10,"rows_kept":52,"cut":false,"hidden":true,"merged":[[47,3,47,4],[48,3,48,4],[49,3,49,4],[51,2,51,4],[39,1,43,9],[34,1,34,7],[34,8,34,9],[35,1,35,7],[35,8,35,9],[36,1,36,7],[36,8,36,9],[29,2,29,6],[30,2,30,6],[31,2,31,6],[32,2,32,6],[33,2,33,6],[24,2,24,6],[25,2,25,6],[26,2,26,6],[27,2,27,6],[28,2,28,6],[19,2,19,6],[20,2,20,6],[21,2,21,6],[22,2,22,6],[23,2,23,6],[4,4,4,8],[15,2,15,6],[16,2,16,6],[17,2,17,6],[18,2,18,6]]}
[]
[]
[]
[]
[null,"Hawthorne Hydroponics",null,null,"Order Information"]
[null,"3204 NW 38th Circle",null,null,"Order Date:"]
[null,"Vancouver, WA 98660",null,null,"Requested Delivery Date:"]
[null,"Phone  877-753-0404",null,null,"Customer P.O.:"]
[]
[null,"Payer:",null,null,"Bill To:",null,null,"Ship To:"]
[null,"name",null,null,"name",null,null,"name"]
[null,"address 1",null,null,"address 1",null,null,"address 1"]
[null,"address 2",null,null,"address 2",null,null,"address 2"]
[null,"city, state, zip",null,null,"city, state, zip",null,null,"city, state, zip"]
[]
[null,"Stock Number","Description",null,null,null,null,"Quantity","Unit Price","Ext Price"]
[1,{"$f":"IFERROR(VLOOKUP($A17,'Order BOM''s'!$A$3:$E$35,2,FALSE),\"\")","v":"HGC117004-01"},{"$f":"IFERROR(VLOOKUP($A17,'Order BOM''s'!$A$3:$E$35,3,FALSE),\"\")","v":"Slide Bench Instruction Manual"},{"$f":"IFERROR(VLOOKUP($A17,'Order BOM''s'!$A$3:$E$20,2,FALSE),\"\")","v":""},{"$f":"IFERROR(VLOOKUP($A17,'Order BOM''s'!$A$3:$E$20,2,FALSE),\"\")","v":""},{"$f":"IFERROR(VLOOKUP($A17,'Order BOM''s'!$A$3:$E$20,2,FALSE),\"\")","v":""},{"$f":"IFERROR(VLOOKUP($A17,'Order BOM''s'!$A$3:$E$20,2,FALSE),\"\")","v":""},{"$f":"IFERROR(VLOOKUP($A17,'Order BOM''s'!$A$3:$E$35,4,FALSE),0)","v":1},{"$f":"IFERROR(VLOOKUP($A17,'Order BOM''s'!$A$3:$E$35,5,FALSE),0)","v":0},{"$f":"I17*H17","v":0}]
[2,{"$f":"IFERROR(VLOOKUP($A18,'Order BOM''s'!$A$3:$E$35,2,FALSE),\"\")","v":""},{"$f":"IFERROR(VLOOKUP($A18,'Order BOM''s'!$A$3:$E$35,3,FALSE),\"\")","v":""},null,null,null,null,{"$f":"IFERROR(VLOOKUP($A18,'Order BOM''s'!$A$3:$E$35,4,FALSE),0)","v":0},{"$f":"IFERROR(VLOOKUP($A18,'Order BOM''s'!$A$3:$E$35,5,FALSE),0)","v":0},{"$f":"I18*H18","v":0}]
[3,{"$f":"IFERROR(VLOOKUP($A19,'Order BOM''s'!$A$3:$E$35,2,FALSE),\"\")","v":""},{"$f":"IFERROR(VLOOKUP($A19,'Order BOM''s'!$A$3:$E$35,3,FALSE),\"\")","v":""},null,null,null,null,{"$f":"IFERROR(VLOOKUP($A19,'Order BOM''s'!$A$3:$E$35,4,FALSE),0)","v":0},{"$f":"IFERROR(VLOOKUP($A19,'Order BOM''s'!$A$3:$E$35,5,FALSE),0)","v":0},0]
[4,{"$f":"IFERROR(VLOOKUP($A20,'Order BOM''s'!$A$3:$E$35,2,FALSE),\"\")","v":""},{"$f":"IFERROR(VLOOKUP($A20,'Order BOM''s'!$A$3:$E$35,3,FALSE),\"\")","v":""},null,null,null,null,{"$f":"IFERROR(VLOOKUP($A20,'Order BOM''s'!$A$3:$E$35,4,FALSE),0)","v":0},{"$f":"IFERROR(VLOOKUP($A20,'Order BOM''s'!$A$3:$E$35,5,FALSE),0)","v":0},0]
[5,{"$f":"IFERROR(VLOOKUP($A21,'Order BOM''s'!$A$3:$E$35,2,FALSE),\"\")","v":""},{"$f":"IFERROR(VLOOKUP($A21,'Order BOM''s'!$A$3:$E$35,3,FALSE),\"\")","v":""},null,null,null,null,{"$f":"IFERROR(VLOOKUP($A21,'Order BOM''s'!$A$3:$E$35,4,FALSE),0)","v":0},{"$f":"IFERROR(VLOOKUP($A21,'Order BOM''s'!$A$3:$E$35,5,FALSE),0)","v":0},0]
[6,{"$f":"IFERROR(VLOOKUP($A22,'Order BOM''s'!$A$3:$E$35,2,FALSE),\"\")","v":""},{"$f":"IFERROR(VLOOKUP($A22,'Order BOM''s'!$A$3:$E$35,3,FALSE),\"\")","v":""},null,null,null,null,{"$f":"IFERROR(VLOOKUP($A22,'Order BOM''s'!$A$3:$E$35,4,FALSE),0)","v":0},{"$f":"IFERROR(VLOOKUP($A22,'Order BOM''s'!$A$3:$E$35,5,FALSE),0)","v":0},0]
[7,{"$f":"IFERROR(VLOOKUP($A23,'Order BOM''s'!$A$3:$E$35,2,FALSE),\"\")","v":""},{"$f":"IFERROR(VLOOKUP($A23,'Order BOM''s'!$A$3:$E$35,3,FALSE),\"\")","v":""},null,null,null,null,{"$f":"IFERROR(VLOOKUP($A23,'Order BOM''s'!$A$3:$E$35,4,FALSE),0)","v":0},{"$f":"IFERROR(VLOOKUP($A23,'Order BOM''s'!$A$3:$E$35,5,FALSE),0)","v":0},0]
[8,{"$f":"IFERROR(VLOOKUP($A24,'Order BOM''s'!$A$3:$E$35,2,FALSE),\"\")","v":""},{"$f":"IFERROR(VLOOKUP($A24,'Order BOM''s'!$A$3:$E$35,3,FALSE),\"\")","v":""},null,null,null,null,{"$f":"IFERROR(VLOOKUP($A24,'Order BOM''s'!$A$3:$E$35,4,FALSE),0)","v":0},{"$f":"IFERROR(VLOOKUP($A24,'Order BOM''s'!$A$3:$E$35,5,FALSE),0)","v":0},0]
[9,{"$f":"IFERROR(VLOOKUP($A25,'Order BOM''s'!$A$3:$E$35,2,FALSE),\"\")","v":""},{"$f":"IFERROR(VLOOKUP($A25,'Order BOM''s'!$A$3:$E$35,3,FALSE),\"\")","v":""},null,null,null,null,{"$f":"IFERROR(VLOOKUP($A25,'Order BOM''s'!$A$3:$E$35,4,FALSE),0)","v":0},{"$f":"IFERROR(VLOOKUP($A25,'Order BOM''s'!$A$3:$E$35,5,FALSE),0)","v":0},0]
[10,{"$f":"IFERROR(VLOOKUP($A26,'Order BOM''s'!$A$3:$E$35,2,FALSE),\"\")","v":""},{"$f":"IFERROR(VLOOKUP($A26,'Order BOM''s'!$A$3:$E$35,3,FALSE),\"\")","v":""},null,null,null,null,{"$f":"IFERROR(VLOOKUP($A26,'Order BOM''s'!$A$3:$E$35,4,FALSE),0)","v":0},{"$f":"IFERROR(VLOOKUP($A26,'Order BOM''s'!$A$3:$E$35,5,FALSE),0)","v":0},0]
[11,{"$f":"IFERROR(VLOOKUP($A27,'Order BOM''s'!$A$3:$E$35,2,FALSE),\"\")","v":""},{"$f":"IFERROR(VLOOKUP($A27,'Order BOM''s'!$A$3:$E$35,3,FALSE),\"\")","v":""},null,null,null,null,{"$f":"IFERROR(VLOOKUP($A27,'Order BOM''s'!$A$3:$E$35,4,FALSE),0)","v":0},{"$f":"IFERROR(VLOOKUP($A27,'Order BOM''s'!$A$3:$E$35,5,FALSE),0)","v":0},0]
[12,{"$f":"IFERROR(VLOOKUP($A28,'Order BOM''s'!$A$3:$E$35,2,FALSE),\"\")","v":""},{"$f":"IFERROR(VLOOKUP($A28,'Order BOM''s'!$A$3:$E$35,3,FALSE),\"\")","v":""},null,null,null,null,{"$f":"IFERROR(VLOOKUP($A28,'Order BOM''s'!$A$3:$E$35,4,FALSE),0)","v":0},{"$f":"IFERROR(VLOOKUP($A28,'Order BOM''s'!$A$3:$E$35,5,FALSE),0)","v":0},0]
[13,{"$f":"IFERROR(VLOOKUP($A29,'Order BOM''s'!$A$3:$E$35,2,FALSE),\"\")","v":""},{"$f":"IFERROR(VLOOKUP($A29,'Order BOM''s'!$A$3:$E$35,3,FALSE),\"\")","v":""},null,null,null,null,{"$f":"IFERROR(VLOOKUP($A29,'Order BOM''s'!$A$3:$E$35,4,FALSE),0)","v":0},{"$f":"IFERROR(VLOOKUP($A29,'Order BOM''s'!$A$3:$E$35,5,FALSE),0)","v":0},0]
[14,{"$f":"IFERROR(VLOOKUP($A30,'Order BOM''s'!$A$3:$E$35,2,FALSE),\"\")","v":""},{"$f":"IFERROR(VLOOKUP($A30,'Order BOM''s'!$A$3:$E$35,3,FALSE),\"\")","v":""},null,null,null,null,{"$f":"IFERROR(VLOOKUP($A30,'Order BOM''s'!$A$3:$E$35,4,FALSE),0)","v":0},{"$f":"IFERROR(VLOOKUP($A30,'Order BOM''s'!$A$3:$E$35,5,FALSE),0)","v":0},0]
[15,{"$f":"IFERROR(VLOOKUP($A31,'Order BOM''s'!$A$3:$E$35,2,FALSE),\"\")","v":""},{"$f":"IFERROR(VLOOKUP($A31,'Order BOM''s'!$A$3:$E$35,3,FALSE),\"\")","v":""},null,null,null,null,{"$f":"IFERROR(VLOOKUP($A31,'Order BOM''s'!$A$3:$E$35,4,FALSE),0)","v":0},{"$f":"IFERROR(VLOOKUP($A31,'Order BOM''s'!$A$3:$E$35,5,FALSE),0)","v":0},0]
[16,{"$f":"IFERROR(VLOOKUP($A32,'Order BOM''s'!$A$3:$E$35,2,FALSE),\"\")","v":""},{"$f":"IFERROR(VLOOKUP($A32,'Order BOM''s'!$A$3:$E$35,3,FALSE),\"\")","v":""},null,null,null,null,{"$f":"IFERROR(VLOOKUP($A32,'Order BOM''s'!$A$3:$E$35,4,FALSE),0)","v":0},{"$f":"IFERROR(VLOOKUP($A32,'Order BOM''s'!$A$3:$E$35,5,FALSE),0)","v":0},0]
[17,{"$f":"IFERROR(VLOOKUP($A33,'Order BOM''s'!$A$3:$E$35,2,FALSE),\"\")","v":""},{"$f":"IFERROR(VLOOKUP($A33,'Order BOM''s'!$A$3:$E$35,3,FALSE),\"\")","v":""},null,null,null,null,{"$f":"IFERROR(VLOOKUP($A33,'Order BOM''s'!$A$3:$E$35,4,FALSE),0)","v":0},{"$f":"IFERROR(VLOOKUP($A33,'Order BOM''s'!$A$3:$E$35,5,FALSE),0)","v":0},0]
[18,{"$f":"IFERROR(VLOOKUP($A34,'Order BOM''s'!$A$3:$E$35,2,FALSE),\"\")","v":""},{"$f":"IFERROR(VLOOKUP($A34,'Order BOM''s'!$A$3:$E$35,3,FALSE),\"\")","v":""},null,null,null,null,{"$f":"IFERROR(VLOOKUP($A34,'Order BOM''s'!$A$3:$E$35,4,FALSE),0)","v":0},{"$f":"IFERROR(VLOOKUP($A34,'Order BOM''s'!$A$3:$E$35,5,FALSE),0)","v":0},0]
[null,"Subtotal",null,null,null,null,null,null,{"$f":"SUM(J17:J34)","v":0}]
[null,"Freight Charges",null,null,null,null,null,null,0]
[null,"Total",null,null,null,null,null,null,{"$f":"I35+J36","v":0}]
[]
[null,"Special Instructions"]
[]
[]
[]
[]
[]
[]
[null,"Reference Sizes Ordered"]
[]
[null,null,"Length","Height",null,"Qty"]
[null,"4' Wide",{"$f":"'Room Layout (Inputs)'!D34","v":39.5},{"$f":"VLOOKUP(Calcs!P4,'LU Table'!C3:M6,11)","v":"--"},null,{"$f":"Calcs!Q4","v":0}]
[null,"5' Wide",{"$f":"C49","v":39.5},{"$f":"D49","v":"--"},null,{"$f":"Calcs!Q16","v":0}]
[]
[null,null,"Number of Identical Rooms",null,null,{"$f":"Calcs!R4","v":1}]

{"sheet":"Bulk Order Parts List","index":11,"n_rows":70,"n_cols":8,"rows_kept":70,"cut":false,"hidden":true,"merged":[[1,4,1,8]]}
[]
[null,null,null,null,"Bulk Order Parts List"]
[]
[null,"Sold By:",null,null,"Ship To:"]
[null,"name",null,null,"name"]
[null,"address 1",null,null,"address 1"]
[null,"address 2",null,null,"address 2"]
[null,"city, state, zip",null,null,"city, state, zip"]
[]
[null,"Stock Number","Description",null,null,null,null,"Quantity"]
[1,{"$f":"IFERROR(VLOOKUP($A11,'Order BOM''s'!$A$48:$D$127,2,FALSE),\" \")","v":117004},{"$f":"IFERROR(VLOOKUP($A11,'Order BOM''s'!$A$48:$D$127,3,FALSE),\" \")","v":"Slide Bench Instruction Manual"},null,null,null,null,{"$f":"IFERROR(VLOOKUP($A11,'Order BOM''s'!$A$48:$D$127,4,FALSE),\" \")","v":1}]
[2,{"$f":"IFERROR(VLOOKUP($A12,'Order BOM''s'!$A$48:$D$127,2,FALSE),\" \")","v":" "},{"$f":"IFERROR(VLOOKUP($A12,'Order BOM''s'!$A$48:$D$127,3,FALSE),\" \")","v":" "},null,null,null,null,{"$f":"IFERROR(VLOOKUP($A12,'Order BOM''s'!$A$48:$D$127,4,FALSE),\" \")","v":" "}]
[3,{"$f":"IFERROR(VLOOKUP($A13,'Order BOM''s'!$A$48:$D$127,2,FALSE),\" \")","v":" "},{"$f":"IFERROR(VLOOKUP($A13,'Order BOM''s'!$A$48:$D$127,3,FALSE),\" \")","v":" "},null,null,null,null,{"$f":"IFERROR(VLOOKUP($A13,'Order BOM''s'!$A$48:$D$127,4,FALSE),\" \")","v":" "}]
[4,{"$f":"IFERROR(VLOOKUP($A14,'Order BOM''s'!$A$48:$D$127,2,FALSE),\" \")","v":" "},{"$f":"IFERROR(VLOOKUP($A14,'Order BOM''s'!$A$48:$D$127,3,FALSE),\" \")","v":" "},null,null,null,null,{"$f":"IFERROR(VLOOKUP($A14,'Order BOM''s'!$A$48:$D$127,4,FALSE),\" \")","v":" "}]
[5,{"$f":"IFERROR(VLOOKUP($A15,'Order BOM''s'!$A$48:$D$127,2,FALSE),\" \")","v":" "},{"$f":"IFERROR(VLOOKUP($A15,'Order BOM''s'!$A$48:$D$127,3,FALSE),\" \")","v":" "},null,null,null,null,{"$f":"IFERROR(VLOOKUP($A15,'Order BOM''s'!$A$48:$D$127,4,FALSE),\" \")","v":" "}]
[6,{"$f":"IFERROR(VLOOKUP($A16,'Order BOM''s'!$A$48:$D$127,2,FALSE),\" \")","v":" "},{"$f":"IFERROR(VLOOKUP($A16,'Order BOM''s'!$A$48:$D$127,3,FALSE),\" \")","v":" "},null,null,null,null,{"$f":"IFERROR(VLOOKUP($A16,'Order BOM''s'!$A$48:$D$127,4,FALSE),\" \")","v":" "}]
[7,{"$f":"IFERROR(VLOOKUP($A17,'Order BOM''s'!$A$48:$D$127,2,FALSE),\" \")","v":" "},{"$f":"IFERROR(VLOOKUP($A17,'Order BOM''s'!$A$48:$D$127,3,FALSE),\" \")","v":" "},null,null,null,null,{"$f":"IFERROR(VLOOKUP($A17,'Order BOM''s'!$A$48:$D$127,4,FALSE),\" \")","v":" "}]
[8,{"$f":"IFERROR(VLOOKUP($A18,'Order BOM''s'!$A$48:$D$127,2,FALSE),\" \")","v":" "},{"$f":"IFERROR(VLOOKUP($A18,'Order BOM''s'!$A$48:$D$127,3,FALSE),\" \")","v":" "},null,null,null,null,{"$f":"IFERROR(VLOOKUP($A18,'Order BOM''s'!$A$48:$D$127,4,FALSE),\" \")","v":" "}]
[9,{"$f":"IFERROR(VLOOKUP($A19,'Order BOM''s'!$A$48:$D$127,2,FALSE),\" \")","v":" "},{"$f":"IFERROR(VLOOKUP($A19,'Order BOM''s'!$A$48:$D$127,3,FALSE),\" \")","v":" "},null,null,null,null,{"$f":"IFERROR(VLOOKUP($A19,'Order BOM''s'!$A$48:$D$127,4,FALSE),\" \")","v":" "}]
[10,{"$f":"IFERROR(VLOOKUP($A20,'Order BOM''s'!$A$48:$D$127,2,FALSE),\" \")","v":" "},{"$f":"IFERROR(VLOOKUP($A20,'Order BOM''s'!$A$48:$D$127,3,FALSE),\" \")","v":" "},null,null,null,null,{"$f":"IFERROR(VLOOKUP($A20,'Order BOM''s'!$A$48:$D$127,4,FALSE),\" \")","v":" "}]
[11,{"$f":"IFERROR(VLOOKUP($A21,'Order BOM''s'!$A$48:$D$127,2,FALSE),\" \")","v":" "},{"$f":"IFERROR(VLOOKUP($A21,'Order BOM''s'!$A$48:$D$127,3,FALSE),\" \")","v":" "},null,null,null,null,{"$f":"IFERROR(VLOOKUP($A21,'Order BOM''s'!$A$48:$D$127,4,FALSE),\" \")","v":" "}]
[12,{"$f":"IFERROR(VLOOKUP($A22,'Order BOM''s'!$A$48:$D$127,2,FALSE),\" \")","v":" "},{"$f":"IFERROR(VLOOKUP($A22,'Order BOM''s'!$A$48:$D$127,3,FALSE),\" \")","v":" "},null,null,null,null,{"$f":"IFERROR(VLOOKUP($A22,'Order BOM''s'!$A$48:$D$127,4,FALSE),\" \")","v":" "}]
[13,{"$f":"IFERROR(VLOOKUP($A23,'Order BOM''s'!$A$48:$D$127,2,FALSE),\" \")","v":" "},{"$f":"IFERROR(VLOOKUP($A23,'Order BOM''s'!$A$48:$D$127,3,FALSE),\" \")","v":" "},null,null,null,null,{"$f":"IFERROR(VLOOKUP($A23,'Order BOM''s'!$A$48:$D$127,4,FALSE),\" \")","v":" "}]
[14,{"$f":"IFERROR(VLOOKUP($A24,'Order BOM''s'!$A$48:$D$127,2,FALSE),\" \")","v":" "},{"$f":"IFERROR(VLOOKUP($A24,'Order BOM''s'!$A$48:$D$127,3,FALSE),\" \")","v":" "},null,null,null,null,{"$f":"IFERROR(VLOOKUP($A24,'Order BOM''s'!$A$48:$D$127,4,FALSE),\" \")","v":" "}]
[15,{"$f":"IFERROR(VLOOKUP($A25,'Order BOM''s'!$A$48:$D$127,2,FALSE),\" \")","v":" "},{"$f":"IFERROR(VLOOKUP($A25,'Order BOM''s'!$A$48:$D$127,3,FALSE),\" \")","v":" "},null,null,null,null,{"$f":"IFERROR(VLOOKUP($A25,'Order BOM''s'!$A$48:$D$127,4,FALSE),\" \")","v":" "}]
[16,{"$f":"IFERROR(VLOOKUP($A26,'Order BOM''s'!$A$48:$D$127,2,FALSE),\" \")","v":" "},{"$f":"IFERROR(VLOOKUP($A26,'Order BOM''s'!$A$48:$D$127,3,FALSE),\" \")","v":" "},null,null,null,null,{"$f":"IFERROR(VLOOKUP($A26,'Order BOM''s'!$A$48:$D$127,4,FALSE),\" \")","v":" "}]
[17,{"$f":"IFERROR(VLOOKUP($A27,'Order BOM''s'!$A$48:$D$127,2,FALSE),\" \")","v":" "},{"$f":"IFERROR(VLOOKUP($A27,'Order BOM''s'!$A$48:$D$127,3,FALSE),\" \")","v":" "},null,null,null,null,{"$f":"IFERROR(VLOOKUP($A27,'Order BOM''s'!$A$48:$D$127,4,FALSE),\" \")","v":" "}]
[18,{"$f":"IFERROR(VLOOKUP($A28,'Order BOM''s'!$A$48:$D$127,2,FALSE),\" \")","v":" "},{"$f":"IFERROR(VLOOKUP($A28,'Order BOM''s'!$A$48:$D$127,3,FALSE),\" \")","v":" "},null,null,null,null,{"$f":"IFERROR(VLOOKUP($A28,'Order BOM''s'!$A$48:$D$127,4,FALSE),\" \")","v":" "}]
[19,{"$f":"IFERROR(VLOOKUP($A29,'Order BOM''s'!$A$48:$D$127,2,FALSE),\" \")","v":" "},{"$f":"IFERROR(VLOOKUP($A29,'Order BOM''s'!$A$48:$D$127,3,FALSE),\" \")","v":" "},null,null,null,null,{"$f":"IFERROR(VLOOKUP($A29,'Order BOM''s'!$A$48:$D$127,4,FALSE),\" \")","v":" "}]
[20,{"$f":"IFERROR(VLOOKUP($A30,'Order BOM''s'!$A$48:$D$127,2,FALSE),\" \")","v":" "},{"$f":"IFERROR(VLOOKUP($A30,'Order BOM''s'!$A$48:$D$127,3,FALSE),\" \")","v":" "},null,null,null,null,{"$f":"IFERROR(VLOOKUP($A30,'Order BOM''s'!$A$48:$D$127,4,FALSE),\" \")","v":" "}]
[21,{"$f":"IFERROR(VLOOKUP($A31,'Order BOM''s'!$A$48:$D$127,2,FALSE),\" \")","v":" "},{"$f":"IFERROR(VLOOKUP($A31,'Order BOM''s'!$A$48:$D$127,3,FALSE),\" \")","v":" "},null,null,null,null,{"$f":"IFERROR(VLOOKUP($A31,'Order BOM''s'!$A$48:$D$127,4,FALSE),\" \")","v":" "}]
[22,{"$f":"IFERROR(VLOOKUP($A32,'Order BOM''s'!$A$48:$D$127,2,FALSE),\" \")","v":" "},{"$f":"IFERROR(VLOOKUP($A32,'Order BOM''s'!$A$48:$D$127,3,FALSE),\" \")","v":" "},null,null,null,null,{"$f":"IFERROR(VLOOKUP($A32,'Order BOM''s'!$A$48:$D$127,4,FALSE),\" \")","v":" "}]
[23,{"$f":"IFERROR(VLOOKUP($A33,'Order BOM''s'!$A$48:$D$127,2,FALSE),\" \")","v":" "},{"$f":"IFERROR(VLOOKUP($A33,'Order BOM''s'!$A$48:$D$127,3,FALSE),\" \")","v":" "},null,null,null,null,{"$f":"IFERROR(VLOOKUP($A33,'Order BOM''s'!$A$48:$D$127,4,FALSE),\" \")","v":" "}]
[24,{"$f":"IFERROR(VLOOKUP($A34,'Order BOM''s'!$A$48:$D$127,2,FALSE),\" \")","v":" "},{"$f":"IFERROR(VLOOKUP($A34,'Order BOM''s'!$A$48:$D$127,3,FALSE),\" \")","v":" "},null,null,null,null,{"$f":"IFERROR(VLOOKUP($A34,'Order BOM''s'!$A$48:$D$127,4,FALSE),\" \")","v":" "}]
[25,{"$f":"IFERROR(VLOOKUP($A35,'Order BOM''s'!$A$48:$D$127,2,FALSE),\" \")","v":" "},{"$f":"IFERROR(VLOOKUP($A35,'Order BOM''s'!$A$48:$D$127,3,FALSE),\" \")","v":" "},null,null,null,null,{"$f":"IFERROR(VLOOKUP($A35,'Order BOM''s'!$A$48:$D$127,4,FALSE),\" \")","v":" "}]
[26,{"$f":"IFERROR(VLOOKUP($A36,'Order BOM''s'!$A$48:$D$127,2,FALSE),\" \")","v":" "},{"$f":"IFERROR(VLOOKUP($A36,'Order BOM''s'!$A$48:$D$127,3,FALSE),\" \")","v":" "},null,null,null,null,{"$f":"IFERROR(VLOOKUP($A36,'Order BOM''s'!$A$48:$D$127,4,FALSE),\" \")","v":" "}]
[27,{"$f":"IFERROR(VLOOKUP($A37,'Order BOM''s'!$A$48:$D$127,2,FALSE),\" \")","v":" "},{"$f":"IFERROR(VLOOKUP($A37,'Order BOM''s'!$A$48:$D$127,3,FALSE),\" \")","v":" "},null,null,null,null,{"$f":"IFERROR(VLOOKUP($A37,'Order BOM''s'!$A$48:$D$127,4,FALSE),\" \")","v":" "}]
[28,{"$f":"IFERROR(VLOOKUP($A38,'Order BOM''s'!$A$48:$D$127,2,FALSE),\" \")","v":" "},{"$f":"IFERROR(VLOOKUP($A38,'Order BOM''s'!$A$48:$D$127,3,FALSE),\" \")","v":" "},null,null,null,null,{"$f":"IFERROR(VLOOKUP($A38,'Order BOM''s'!$A$48:$D$127,4,FALSE),\" \")","v":" "}]
[29,{"$f":"IFERROR(VLOOKUP($A39,'Order BOM''s'!$A$48:$D$127,2,FALSE),\" \")","v":" "},{"$f":"IFERROR(VLOOKUP($A39,'Order BOM''s'!$A$48:$D$127,3,FALSE),\" \")","v":" "},null,null,null,null,{"$f":"IFERROR(VLOOKUP($A39,'Order BOM''s'!$A$48:$D$127,4,FALSE),\" \")","v":" "}]
[30,{"$f":"IFERROR(VLOOKUP($A40,'Order BOM''s'!$A$48:$D$127,2,FALSE),\" \")","v":" "},{"$f":"IFERROR(VLOOKUP($A40,'Order BOM''s'!$A$48:$D$127,3,FALSE),\" \")","v":" "},null,null,null,null,{"$f":"IFERROR(VLOOKUP($A40,'Order BOM''s'!$A$48:$D$127,4,FALSE),\" \")","v":" "}]
[31,{"$f":"IFERROR(VLOOKUP($A41,'Order BOM''s'!$A$48:$D$127,2,FALSE),\" \")","v":" "},{"$f":"IFERROR(VLOOKUP($A41,'Order BOM''s'!$A$48:$D$127,3,FALSE),\" \")","v":" "},null,null,null,null,{"$f":"IFERROR(VLOOKUP($A41,'Order BOM''s'!$A$48:$D$127,4,FALSE),\" \")","v":" "}]
[32,{"$f":"IFERROR(VLOOKUP($A42,'Order BOM''s'!$A$48:$D$127,2,FALSE),\" \")","v":" "},{"$f":"IFERROR(VLOOKUP($A42,'Order BOM''s'!$A$48:$D$127,3,FALSE),\" \")","v":" "},null,null,null,null,{"$f":"IFERROR(VLOOKUP($A42,'Order BOM''s'!$A$48:$D$127,4,FALSE),\" \")","v":" "}]
[33,{"$f":"IFERROR(VLOOKUP($A43,'Order BOM''s'!$A$48:$D$127,2,FALSE),\" \")","v":" "},{"$f":"IFERROR(VLOOKUP($A43,'Order BOM''s'!$A$48:$D$127,3,FALSE),\" \")","v":" "},null,null,null,null,{"$f":"IFERROR(VLOOKUP($A43,'Order BOM''s'!$A$48:$D$127,4,FALSE),\" \")","v":" "}]
[34,{"$f":"IFERROR(VLOOKUP($A44,'Order BOM''s'!$A$48:$D$127,2,FALSE),\" \")","v":" "},{"$f":"IFERROR(VLOOKUP($A44,'Order BOM''s'!$A$48:$D$127,3,FALSE),\" \")","v":" "},null,null,null,null,{"$f":"IFERROR(VLOOKUP($A44,'Order BOM''s'!$A$48:$D$127,4,FALSE),\" \")","v":" "}]
[35,{"$f":"IFERROR(VLOOKUP($A45,'Order BOM''s'!$A$48:$D$127,2,FALSE),\" \")","v":" "},{"$f":"IFERROR(VLOOKUP($A45,'Order BOM''s'!$A$48:$D$127,3,FALSE),\" \")","v":" "},null,null,null,null,{"$f":"IFERROR(VLOOKUP($A45,'Order BOM''s'!$A$48:$D$127,4,FALSE),\" \")","v":" "}]
[36,{"$f":"IFERROR(VLOOKUP($A46,'Order BOM''s'!$A$48:$D$127,2,FALSE),\" \")","v":" "},{"$f":"IFERROR(VLOOKUP($A46,'Order BOM''s'!$A$48:$D$127,3,FALSE),\" \")","v":" "},null,null,null,null,{"$f":"IFERROR(VLOOKUP($A46,'Order BOM''s'!$A$48:$D$127,4,FALSE),\" \")","v":" "}]
[37,{"$f":"IFERROR(VLOOKUP($A47,'Order BOM''s'!$A$48:$D$127,2,FALSE),\" \")","v":" "},{"$f":"IFERROR(VLOOKUP($A47,'Order BOM''s'!$A$48:$D$127,3,FALSE),\" \")","v":" "},null,null,null,null,{"$f":"IFERROR(VLOOKUP($A47,'Order BOM''s'!$A$48:$D$127,4,FALSE),\" \")","v":" "}]
[38,{"$f":"IFERROR(VLOOKUP($A48,'Order BOM''s'!$A$48:$D$127,2,FALSE),\" \")","v":" "},{"$f":"IFERROR(VLOOKUP($A48,'Order BOM''s'!$A$48:$D$127,3,FALSE),\" \")","v":" "},null,null,null,null,{"$f":"IFERROR(VLOOKUP($A48,'Order BOM''s'!$A$48:$D$127,4,FALSE),\" \")","v":" "}]
[39,{"$f":"IFERROR(VLOOKUP($A49,'Order BOM''s'!$A$48:$D$127,2,FALSE),\" \")","v":" "},{"$f":"IFERROR(VLOOKUP($A49,'Order BOM''s'!$A$48:$D$127,3,FALSE),\" \")","v":" "},null,null,null,null,{"$f":"IFERROR(VLOOKUP($A49,'Order BOM''s'!$A$48:$D$127,4,FALSE),\" \")","v":" "}]
[40,{"$f":"IFERROR(VLOOKUP($A50,'Order BOM''s'!$A$48:$D$127,2,FALSE),\" \")","v":" "},{"$f":"IFERROR(VLOOKUP($A50,'Order BOM''s'!$A$48:$D$127,3,FALSE),\" \")","v":" "},null,null,null,null,{"$f":"IFERROR(VLOOKUP($A50,'Order BOM''s'!$A$48:$D$127,4,FALSE),\" \")","v":" "}]
[41,{"$f":"IFERROR(VLOOKUP($A51,'Order BOM''s'!$A$48:$D$127,2,FALSE),\" \")","v":" "},{"$f":"IFERROR(VLOOKUP($A51,'Order BOM''s'!$A$48:$D$127,3,FALSE),\" \")","v":" "},null,null,null,null,{"$f":"IFERROR(VLOOKUP($A51,'Order BOM''s'!$A$48:$D$127,4,FALSE),\" \")","v":" "}]
[42,{"$f":"IFERROR(VLOOKUP($A52,'Order BOM''s'!$A$48:$D$127,2,FALSE),\" \")","v":" "},{"$f":"IFERROR(VLOOKUP($A52,'Order BOM''s'!$A$48:$D$127,3,FALSE),\" \")","v":" "},null,null,null,null,{"$f":"IFERROR(VLOOKUP($A52,'Order BOM''s'!$A$48:$D$127,4,FALSE),\" \")","v":" "}]
[43,{"$f":"IFERROR(VLOOKUP($A53,'Order BOM''s'!$A$48:$D$127,2,FALSE),\" \")","v":" "},{"$f":"IFERROR(VLOOKUP($A53,'Order BOM''s'!$A$48:$D$127,3,FALSE),\" \")","v":" "},null,null,null,null,{"$f":"IFERROR(VLOOKUP($A53,'Order BOM''s'!$A$48:$D$127,4,FALSE),\" \")","v":" "}]
[44,{"$f":"IFERROR(VLOOKUP($A54,'Order BOM''s'!$A$48:$D$127,2,FALSE),\" \")","v":" "},{"$f":"IFERROR(VLOOKUP($A54,'Order BOM''s'!$A$48:$D$127,3,FALSE),\" \")","v":" "},null,null,null,null,{"$f":"IFERROR(VLOOKUP($A54,'Order BOM''s'!$A$48:$D$127,4,FALSE),\" \")","v":" "}]
[45,{"$f":"IFERROR(VLOOKUP($A55,'Order BOM''s'!$A$48:$D$127,2,FALSE),\" \")","v":" "},{"$f":"IFERROR(VLOOKUP($A55,'Order BOM''s'!$A$48:$D$127,3,FALSE),\" \")","v":" "},null,null,null,null,{"$f":"IFERROR(VLOOKUP($A55,'Order BOM''s'!$A$48:$D$127,4,FALSE),\" \")","v":" "}]
[46,{"$f":"IFERROR(VLOOKUP($A56,'Order BOM''s'!$A$48:$D$127,2,FALSE),\" \")","v":" "},{"$f":"IFERROR(VLOOKUP($A56,'Order BOM''s'!$A$48:$D$127,3,FALSE),\" \")","v":" "},null,null,null,null,{"$f":"IFERROR(VLOOKUP($A56,'Order BOM''s'!$A$48:$D$127,4,FALSE),\" \")","v":" "}]
[47,{"$f":"IFERROR(VLOOKUP($A57,'Order BOM''s'!$A$48:$D$127,2,FALSE),\" \")","v":" "},{"$f":"IFERROR(VLOOKUP($A57,'Order BOM''s'!$A$48:$D$127,3,FALSE),\" \")","v":" "},null,null,null,null,{"$f":"IFERROR(VLOOKUP($A57,'Order BOM''s'!$A$48:$D$127,4,FALSE),\" \")","v":" "}]
[48,{"$f":"IFERROR(VLOOKUP($A58,'Order BOM''s'!$A$48:$D$127,2,FALSE),\" \")","v":" "},{"$f":"IFERROR(VLOOKUP($A58,'Order BOM''s'!$A$48:$D$127,3,FALSE),\" \")","v":" "},null,null,null,null,{"$f":"IFERROR(VLOOKUP($A58,'Order BOM''s'!$A$48:$D$127,4,FALSE),\" \")","v":" "}]
[49,{"$f":"IFERROR(VLOOKUP($A59,'Order BOM''s'!$A$48:$D$127,2,FALSE),\" \")","v":" "},{"$f":"IFERROR(VLOOKUP($A59,'Order BOM''s'!$A$48:$D$127,3,FALSE),\" \")","v":" "},null,null,null,null,{"$f":"IFERROR(VLOOKUP($A59,'Order BOM''s'!$A$48:$D$127,4,FALSE),\" \")","v":" "}]
[50,{"$f":"IFERROR(VLOOKUP($A60,'Order BOM''s'!$A$48:$D$127,2,FALSE),\" \")","v":" "},{"$f":"IFERROR(VLOOKUP($A60,'Order BOM''s'!$A$48:$D$127,3,FALSE),\" \")","v":" "},null,null,null,null,{"$f":"IFERROR(VLOOKUP($A60,'Order BOM''s'!$A$48:$D$127,4,FALSE),\" \")","v":" "}]
[51,{"$f":"IFERROR(VLOOKUP($A61,'Order BOM''s'!$A$48:$D$127,2,FALSE),\" \")","v":" "},{"$f":"IFERROR(VLOOKUP($A61,'Order BOM''s'!$A$48:$D$127,3,FALSE),\" \")","v":" "},null,null,null,null,{"$f":"IFERROR(VLOOKUP($A61,'Order BOM''s'!$A$48:$D$127,4,FALSE),\" \")","v":" "}]
[52,{"$f":"IFERROR(VLOOKUP($A62,'Order BOM''s'!$A$48:$D$127,2,FALSE),\" \")","v":" "},{"$f":"IFERROR(VLOOKUP($A62,'Order BOM''s'!$A$48:$D$127,3,FALSE),\" \")","v":" "},null,null,null,null,{"$f":"IFERROR(VLOOKUP($A62,'Order BOM''s'!$A$48:$D$127,4,FALSE),\" \")","v":" "}]
[53,{"$f":"IFERROR(VLOOKUP($A63,'Order BOM''s'!$A$48:$D$127,2,FALSE),\" \")","v":" "},{"$f":"IFERROR(VLOOKUP($A63,'Order BOM''s'!$A$48:$D$127,3,FALSE),\" \")","v":" "},null,null,null,null,{"$f":"IFERROR(VLOOKUP($A63,'Order BOM''s'!$A$48:$D$127,4,FALSE),\" \")","v":" "}]
[54,{"$f":"IFERROR(VLOOKUP($A64,'Order BOM''s'!$A$48:$D$127,2,FALSE),\" \")","v":" "},{"$f":"IFERROR(VLOOKUP($A64,'Order BOM''s'!$A$48:$D$127,3,FALSE),\" \")","v":" "},null,null,null,null,{"$f":"IFERROR(VLOOKUP($A64,'Order BOM''s'!$A$48:$D$127,4,FALSE),\" \")","v":" "}]
[55,{"$f":"IFERROR(VLOOKUP($A65,'Order BOM''s'!$A$48:$D$127,2,FALSE),\" \")","v":" "},{"$f":"IFERROR(VLOOKUP($A65,'Order BOM''s'!$A$48:$D$127,3,FALSE),\" \")","v":" "},null,null,null,null,{"$f":"IFERROR(VLOOKUP($A65,'Order BOM''s'!$A$48:$D$127,4,FALSE),\" \")","v":" "}]
[56,{"$f":"IFERROR(VLOOKUP($A66,'Order BOM''s'!$A$48:$D$127,2,FALSE),\" \")","v":" "},{"$f":"IFERROR(VLOOKUP($A66,'Order BOM''s'!$A$48:$D$127,3,FALSE),\" \")","v":" "},null,null,null,null,{"$f":"IFERROR(VLOOKUP($A66,'Order BOM''s'!$A$48:$D$127,4,FALSE),\" \")","v":" "}]
[57,{"$f":"IFERROR(VLOOKUP($A67,'Order BOM''s'!$A$48:$D$127,2,FALSE),\" \")","v":" "},{"$f":"IFERROR(VLOOKUP($A67,'Order BOM''s'!$A$48:$D$127,3,FALSE),\" \")","v":" "},null,null,null,null,{"$f":"IFERROR(VLOOKUP($A67,'Order BOM''s'!$A$48:$D$127,4,FALSE),\" \")","v":" "}]
[58,{"$f":"IFERROR(VLOOKUP($A68,'Order BOM''s'!$A$48:$D$127,2,FALSE),\" \")","v":" "},{"$f":"IFERROR(VLOOKUP($A68,'Order BOM''s'!$A$48:$D$127,3,FALSE),\" \")","v":" "},null,null,null,null,{"$f":"IFERROR(VLOOKUP($A68,'Order BOM''s'!$A$48:$D$127,4,FALSE),\" \")","v":" "}]
[59,{"$f":"IFERROR(VLOOKUP($A69,'Order BOM''s'!$A$48:$D$127,2,FALSE),\" \")","v":" "},{"$f":"IFERROR(VLOOKUP($A69,'Order BOM''s'!$A$48:$D$127,3,FALSE),\" \")","v":" "},null,null,null,null,{"$f":"IFERROR(VLOOKUP($A69,'Order BOM''s'!$A$48:$D$127,4,FALSE),\" \")","v":" "}]
[60,{"$f":"IFERROR(VLOOKUP($A70,'Order BOM''s'!$A$48:$D$127,2,FALSE),\" \")","v":" "},{"$f":"IFERROR(VLOOKUP($A70,'Order BOM''s'!$A$48:$D$127,3,FALSE),\" \")","v":" "},null,null,null,null,{"$f":"IFERROR(VLOOKUP($A70,'Order BOM''s'!$A$48:$D$127,4,FALSE),\" \")","v":" "}]

{"sheet":"Room Layout Summary","index":12,"n_rows":38,"n_cols":9,"rows_kept":38,"cut":false,"hidden":false,"merged":[[26,1,26,2],[27,1,27,2],[27,3,27,7],[28,1,28,2],[25,1,25,2],[25,3,25,7],[28,3,28,7],[6,7,6,9],[30,6,30,8],[26,0,28,0],[30,0,30,4],[7,8,8,9],[9,8,10,9],[13,8,14,9],[15,8,16,9],[29,6,29,8],[9,7,10,7],[7,7,8,7],[12,7,12,9],[18,8,20,9],[13,7,14,7],[15,7,16,7],[18,7,20,7],[26,3,26,7]]}
[]
[]
[]
[]
[]
[]
[null,null,null,null,null,null,null,"Room Dimensions:"]
[null,null,null,null,null,null,null,{"$f":"'Room Layout (Inputs)'!$B$45","v":40},"ft Length"]
[]
[null,null,null,null,null,null,null,{"$f":"'Room Layout (Inputs)'!$B$46","v":40},"ft Width"]
[]
[]
[null,null,null,null,null,null,null,"Benching Area Summary:"]
[null,null,null,null,null,null,null,{"$f":"'Room Layout (Inputs)'!$D$33","v":1496.0625},"sq feet of bench"]
[]
[null,null,null,null,null,null,null,{"$f":"IF($A$27=\"Track Bench w/ Gutter\",'Room Layout (Inputs)'!$D$32,\"\")","v":""},{"$f":"IF($A$27=\"Track Bench w/ Gutter\", \"sq feet of planting area\",\"\")","v":""}]
[]
[]
[null,null,null,null,null,null,null,{"$f":"IF($A$27=\"Track Bench w/ Gutter\",($H$14-$H$16)/$H$14,\"\")","v":""},{"$f":"IF(A27=\"Track Bench w/ Gutter\",\"approximate increase in area for air passage between trays vs. OG\",\"\")","v":""}]
[]
[]
[]
[]
[]
[]
["Type","SKU",null,"Description",null,null,null,null,"Qty"]
[{"$f":"INDEX(Calcs!$J$38:$J$40,Calcs!$C$41)","v":"Track Bench w/ OG"},{"$f":"IFERROR(VLOOKUP(1,Calcs!$Q$38:$Y$40,8,FALSE),\"\")","v":""},null,{"$f":"IFERROR(VLOOKUP(1,Calcs!$Q$38:$Y$40,9,FALSE),\"\")","v":""},null,null,null,null,{"$f":"IFERROR(VLOOKUP(1,Calcs!$Q$38:$Y$40,7,FALSE),\"\")","v":""}]
[null,{"$f":"IFERROR(VLOOKUP(2,Calcs!$Q$38:$Y$40,8,FALSE),\"\")","v":""},null,{"$f":"IFERROR(VLOOKUP(2,Calcs!$Q$38:$Y$40,9,FALSE),\"\")","v":""},null,null,null,null,{"$f":"IFERROR(VLOOKUP(2,Calcs!$Q$38:$Y$40,7,FALSE),\"\")","v":""}]
[null,{"$f":"IFERROR(VLOOKUP(3,Calcs!$Q$38:$Y$40,8,FALSE),\"\")","v":""},null,{"$f":"IFERROR(VLOOKUP(3,Calcs!$Q$38:$Y$40,9,FALSE),\"\")","v":""},null,null,null,null,{"$f":"IFERROR(VLOOKUP(3,Calcs!$Q$38:$Y$40,7,FALSE),\"\")","v":""}]
[null,null,null,null,null,null,{"$f":"IF(ISERROR(Calcs!C97),\"Track SKU not shown - fill out Room Layout Tab completely\",\"\")","v":""}]
["Aisle Dimensions",null,null,null,null,null,"Bench Dimensions"]
["Right Side Aisle Width Range",{"$f":"'Room Layout (Inputs)'!B37","v":0},"Inches",{"$f":"'Room Layout (Inputs)'!D37","v":25.5},"Inches",null,"Bench Length",{"$f":"Calcs!C54","v":39.5},"Feet"]
["Left Side Aisle Width Range",{"$f":"'Room Layout (Inputs)'!B36","v":0},"Inches",{"$f":"'Room Layout (Inputs)'!D36","v":25.5},"Inches",null,"Bench Length w/ Handle",{"$f":"H32+3/12","v":39.75},"Feet"]
["Center Aisle Width Range",{"$f":"'Room Layout (Inputs)'!B38","v":0},"Inches",{"$f":"'Room Layout (Inputs)'!D38","v":25.5},"Inches",null,"Bench Width (Total)",{"$f":"Calcs!$G$64/12","v":37.875},"Feet"]
["Front Aisle Width",{"$f":"'Room Layout (Inputs)'!B40","v":3},"Inches",null,null,null,"Bench Height",{"$f":"Calcs!T38","v":false},"Inches"]
["Drain Aisle Width",{"$f":"'Room Layout (Inputs)'!B19","v":0},"Inches",null,null,null,"Bench Count - 4ft",{"$f":"Calcs!E63","v":9}]
[null,null,null,null,null,null,"Bench Count - 5ft",{"$f":"Calcs!F63","v":0}]
[null,null,null,null,null,null,"Total Benches",{"$f":"Calcs!G63","v":9}]

{"sheet":"Order Summary","index":13,"n_rows":18,"n_cols":11,"rows_kept":18,"cut":false,"hidden":false,"merged":[[0,9,0,10],[1,9,1,10],[0,0,0,7],[1,0,1,2],[7,0,7,2],[1,3,1,7],[7,3,7,5],[3,5,3,6],[5,5,5,6],[2,5,2,6],[3,3,5,3],[4,5,4,6]]}
["Summary",null,null,null,null,null,null,null,null,"Quick Order"]
["Room Summary",null,null,"Bench Summary",null,null,null,null,null,"Copy and paste quantities and part #s below."]
["Length",{"$f":"Calcs!$C$35/12","v":40},"ft","Type","SKU","Description",null,"Quantity",null,"Quantity","SKU / Part #"]
["Width",{"$f":"Calcs!$C$36/12","v":40},"ft",{"$f":"INDEX(Calcs!$J$38:$J$40,Calcs!$C$41)","v":"Track Bench w/ OG"},{"$f":"'Room Layout Summary'!B27","v":""},{"$f":"'Room Layout Summary'!D27","v":""},null,{"$f":"'Room Layout Summary'!I27","v":""},null,{"$f":"H4","v":""},{"$f":"E4","v":""}]
[null,null,null,null,{"$f":"'Room Layout Summary'!B28","v":""},{"$f":"'Room Layout Summary'!D28","v":""},null,{"$f":"'Room Layout Summary'!I28","v":""},null,{"$f":"H5","v":""},{"$f":"E5","v":""}]
[null,null,null,null,{"$f":"'Room Layout Summary'!B29","v":""},{"$f":"'Room Layout Summary'!D29","v":""},null,{"$f":"'Room Layout Summary'!I29","v":""},null,"",""]
[]
["Bench Details",null,null,"Tray Details"]
["Length",{"$f":"Calcs!$C$54","v":39.5},"Feet","Benching Area",{"$f":"'Room Layout (Inputs)'!D33","v":1496.0625},"Sq Feet"]
["Length (w/ Handle)",{"$f":"B9+3/12","v":39.75},"Feet","Planting Area",{"$f":"Calcs!$G$66","v":1309.0784999999998},"Sq Feet"]
["Width (Total)",{"$f":"Calcs!$G$64/12","v":37.875},"Feet","# of 4' rows",{"$f":"'Room Layout (Inputs)'!B59","v":9},"Rows"]
["Height (H)",{"$f":"INDEX(Calcs!$I$31:$I$34,Calcs!$P$4,1)","v":"--"},"Inches","# of 5' rows",{"$f":"'Room Layout (Inputs)'!B60","v":0},"Rows"]
["Width (Aisle)",{"$f":"Calcs!C100","v":25.5},"Inches","# of Gutter rows",{"$f":"'Room Layout (Inputs)'!B61","v":0},"Rows"]
[{"$f":"IF(Calcs!$C$60=3,\"Width1 (W1)\",\"Width (W)\")","v":"Width (W)"},{"$f":"IF(Calcs!$C$41=1, IF(Calcs!$C$60=2, Calcs!$D$9,Calcs!$C$9), IF(Calcs!$C$60=2, Calcs!$F$9,Calcs!$E$9))","v":50.5},"Inches","Total rows",{"$f":"SUM(E11:E13)","v":9},"Rows"]
[{"$f":"IF(A14=\"Width1 (W1)\",\"Width2 (W2)\",\"\")","v":""},{"$f":"IF(A14=\"Width1 (W1)\",Calcs!D9,\"\")","v":""},{"$f":"IF(A14=\"Width1 (W1)\",\"Inches\",\"\")","v":""}]
["# of 4' Wide",{"$f":"Calcs!$E$63","v":9},"Benches"]
["# of 5' Wide",{"$f":"Calcs!$F$63","v":0},"Benches"]
["Total Benches",{"$f":"Calcs!$G$63","v":9},"Benches"]

{"sheet":"Layout Dimensions","index":14,"n_rows":7,"n_cols":6,"rows_kept":7,"cut":false,"hidden":false,"merged":[[1,5,1,17],[2,1,2,3]]}
[]
[null,null,null,null,null,"Track Bench Room Layout Dimensions"]
[null,"Dimensions"]
[null,"A",{"$f":"Calcs!C88","v":4.5},"in"]
[null,"B",{"$f":"Calcs!C89","v":3},"in"]
[null,"C",{"$f":"Calcs!C90","v":474},"in"]
[null,"L",{"$f":"Calcs!C91","v":462},"in"]

{"sheet":"Bench Pictures","index":16,"n_rows":7,"n_cols":3,"rows_kept":7,"cut":false,"hidden":true,"merged":[]}
[null,"FRONT","TOP"]
["TB-4"]
["TB-5"]
["TB-M"]
["TB-4G"]
["TB-5G"]
["TB-MG"]

{"sheet":"Existing Comparison","index":17,"n_rows":16,"n_cols":6,"rows_kept":16,"cut":false,"hidden":true,"merged":[[15,1,15,2],[15,3,15,4],[16,1,16,2],[16,3,16,4],[12,1,12,2],[12,3,12,4],[13,1,13,2],[13,3,13,4],[14,1,14,2],[14,3,14,4],[8,1,8,2],[8,3,8,4],[9,1,9,2],[9,3,9,4],[11,0,11,5],[1,3,1,5],[5,0,5,5],[6,1,6,2],[6,3,6,4],[7,1,7,2],[7,3,7,4]]}
[]
[null,null,null,"Room Comparison"]
[]
[]
[]
["Existing Installation"]
["Number of Benches",0,null,"#"]
["Bench Length ",0,null,"Inches"]
["Tray Width ",0,null,"Inches"]
["Bench Area",{"$f":"((B9*B8)/144)*B7","v":0},null,"Sq Feet"]
[]
["Room Efficiency"]
[null,"Existing Installation",null,"Botanicares Bench"]
["Total Room Area",{"$f":"(Calcs!C35*Calcs!C36)/144","v":1600},null,{"$f":"B14","v":1600},null,"Sq Feet"]
["Total Bench Area",{"$f":"B10","v":0},null,{"$f":"'Room Layout (Inputs)'!D33","v":1496.0625},null,"Sq Feet"]
["Percent Room Utilized",{"$f":"B15/B14","v":0},null,{"$f":"D15/D14","v":0.93503906250000002}]

{"sheet":"Slope-Fractional","index":18,"n_rows":0,"n_cols":0,"rows_kept":0,"cut":false,"hidden":true,"merged":[]}

{"sheet":"Slope-Decimal","index":19,"n_rows":24,"n_cols":20,"rows_kept":24,"cut":false,"hidden":true,"merged":[[0,0,0,19],[1,1,1,19],[1,0,2,0]]}
["Arch Height Adjustment Distance for Slope (Decimal Inches)"]
["Arch Number","Nominal Bench Length(ft)"]
[null,10,15,20,25,30,35,40,45,50,55,60,65,70,75,80,85,90,95,100]
["1\n(Drain)",0,0,0,0,0,0,0,0,0,0,0,0,0,0,0,0,0,0,0]
[2,0.625,0.625,0.625,0.625,0.625,0.625,0.625,0.55555555555555602,0.5,0.45454545454545497,0.41666666666666702,0.38461538461538503,0.35714285714285698,0.33333333333333298,0.3125,0.29411764705882398,0.27777777777777801,0.26315789473684198,0.25]
[3,1.25,1.25,1.25,1.25,1.25,1.25,1.25,1.1111111111111101,1,0.90909090909090895,0.83333333333333304,0.76923076923076905,0.71428571428571397,0.66666666666666696,0.625,0.58823529411764697,0.55555555555555602,0.52631578947368396,0.5]
[4,null,1.875,1.875,1.875,1.875,1.875,1.875,1.6666666666666701,1.5,1.36363636363636,1.25,1.15384615384615,1.0714285714285701,1,0.9375,0.88235294117647101,0.83333333333333304,0.78947368421052599,0.75]
[5,null,null,2.5,2.5,2.5,2.5,2.5,2.2222222222222201,2,1.8181818181818199,1.6666666666666701,1.5384615384615401,1.4285714285714299,1.3333333333333299,1.25,1.1764705882352899,1.1111111111111101,1.0526315789473699,1]
[6,null,null,null,3.125,3.125,3.125,3.125,2.7777777777777799,2.5,2.2727272727272698,2.0833333333333299,1.92307692307692,1.78571428571429,1.6666666666666701,1.5625,1.47058823529412,1.3888888888888899,1.31578947368421,1.25]
[7,null,null,null,null,3.75,3.75,3.75,3.3333333333333299,3,2.7272727272727302,2.5,2.3076923076923102,2.1428571428571401,2,1.875,1.76470588235294,1.6666666666666701,1.57894736842105,1.5]
[8,null,null,null,null,null,4.375,4.375,3.8888888888888902,3.5,3.1818181818181799,2.9166666666666701,2.6923076923076898,2.5,2.3333333333333299,2.1875,2.0588235294117601,1.94444444444444,1.84210526315789,1.75]
[9,null,null,null,null,null,null,5,4.4444444444444402,4,3.6363636363636398,3.3333333333333299,3.0769230769230802,2.8571428571428599,2.6666666666666701,2.5,2.3529411764705901,2.2222222222222201,2.1052631578947398,2]
[10,null,null,null,null,null,null,null,5,4.5,4.0909090909090899,3.75,3.4615384615384599,3.21428571428571,3,2.8125,2.6470588235294099,2.5,2.3684210526315801,2.25]
[11,null,null,null,null,null,null,null,null,5,4.5454545454545396,4.1666666666666696,3.8461538461538498,3.5714285714285698,3.3333333333333299,3.125,2.9411764705882302,2.7777777777777799,2.6315789473684199,2.5]
[12,null,null,null,null,null,null,null,null,null,5,4.5833333333333304,4.2307692307692299,3.9285714285714302,3.6666666666666701,3.4375,3.2352941176470602,3.05555555555555,2.8947368421052602,2.75]
[13,null,null,null,null,null,null,null,null,null,null,5,4.6153846153846203,4.28571428571429,4,3.75,3.52941176470588,3.3333333333333299,3.1578947368421,3]
[14,null,null,null,null,null,null,null,null,null,null,null,5,4.6428571428571397,4.3333333333333304,4.0625,3.8235294117646998,3.6111111111111098,3.42105263157895,3.25]
[15,null,null,null,null,null,null,null,null,null,null,null,null,5,4.6666666666666696,4.375,4.1176470588235299,3.8888888888888902,3.6842105263157898,3.5]
[16,null,null,null,null,null,null,null,null,null,null,null,null,null,5,4.6875,4.4117647058823497,4.1666666666666696,3.9473684210526301,3.75]
[17,null,null,null,null,null,null,null,null,null,null,null,null,null,null,5,4.7058823529411802,4.4444444444444402,4.2105263157894699,4]
[18,null,null,null,null,null,null,null,null,null,null,null,null,null,null,null,5,4.7222222222222197,4.4736842105263204,4.25]
[19,null,null,null,null,null,null,null,null,null,null,null,null,null,null,null,null,5,4.7368421052631602,4.5]
[20,null,null,null,null,null,null,null,null,null,null,null,null,null,null,null,null,null,5,4.75]
[21,null,null,null,null,null,null,null,null,null,null,null,null,null,null,null,null,null,null,5]

{"sheet":"Slope-Metric","index":20,"n_rows":24,"n_cols":20,"rows_kept":24,"cut":false,"hidden":true,"merged":[[0,0,0,19],[1,1,1,19],[1,0,2,0]]}
["Arch Height Adjustment Distance for Slope (mm)"]
["Arch Number","Nominal Bench Length (ft)"]
[null,10,15,20,25,30,35,40,45,50,55,60,65,70,75,80,85,90,95,100]
["1\n(Drain)",0,0,0,0,0,0,0,0,0,0,0,0,0,0,0,0,0,0,0]
[2,15.875,15.875,15.875,15.875,15.875,15.875,15.875,14.1111111111111,12.7,11.545454545454501,10.5833333333333,9.7692307692307701,9.0714285714285694,8.4666666666666597,7.9375,7.4705882352941204,7.0555555555555598,6.6842105263157903,6.35]
[3,31.75,31.75,31.75,31.75,31.75,31.75,31.75,28.2222222222222,25.4,23.090909090909101,21.1666666666667,19.538461538461501,18.1428571428571,16.933333333333302,15.875,14.9411764705882,14.1111111111111,13.3684210526316,12.7]
[4,null,47.625,47.625,47.625,47.625,47.625,47.625,42.3333333333333,38.1,34.636363636363598,31.75,29.307692307692299,27.214285714285701,25.4,23.8125,22.411764705882401,21.1666666666667,20.052631578947398,19.05]
[5,null,null,63.5,63.5,63.5,63.5,63.5,56.4444444444444,50.8,46.181818181818201,42.3333333333333,39.076923076923102,36.285714285714299,33.866666666666703,31.75,29.882352941176499,28.2222222222222,26.7368421052632,25.4]
[6,null,null,null,79.375,79.375,79.375,79.375,70.5555555555555,63.5,57.727272727272698,52.9166666666667,48.846153846153797,45.357142857142897,42.3333333333333,39.6875,37.352941176470601,35.2777777777778,33.421052631578902,31.75]
[7,null,null,null,null,95.25,95.25,95.25,84.6666666666667,76.2,69.272727272727295,63.5,58.615384615384599,54.428571428571402,50.8,47.625,44.823529411764703,42.3333333333333,40.105263157894697,38.1]
[8,null,null,null,null,null,111.125,111.125,98.7777777777778,88.9,80.818181818181799,74.0833333333333,68.384615384615401,63.5,59.266666666666701,55.5625,52.294117647058798,49.3888888888889,46.789473684210499,44.45]
[9,null,null,null,null,null,null,127,112.888888888889,101.6,92.363636363636402,84.6666666666667,78.153846153846203,72.571428571428598,67.733333333333306,63.5,59.764705882352899,56.4444444444444,53.473684210526301,50.8]
[10,null,null,null,null,null,null,null,127,114.3,103.90909090909101,95.25,87.923076923076906,81.642857142857096,76.2,71.4375,67.235294117647101,63.5,60.157894736842103,57.15]
[11,null,null,null,null,null,null,null,null,127,115.454545454545,105.833333333333,97.692307692307693,90.714285714285694,84.6666666666667,79.375,74.705882352941202,70.5555555555555,66.842105263157904,63.5]
[12,null,null,null,null,null,null,null,null,null,127,116.416666666667,107.461538461538,99.785714285714306,93.133333333333297,87.3125,82.176470588235304,77.6111111111111,73.526315789473699,69.849999999999994]
[13,null,null,null,null,null,null,null,null,null,null,127,117.230769230769,108.857142857143,101.6,95.25,89.647058823529406,84.6666666666666,80.210526315789494,76.2]
[14,null,null,null,null,null,null,null,null,null,null,null,127,117.928571428571,110.066666666667,103.1875,97.117647058823493,91.7222222222222,86.894736842105203,82.55]
[15,null,null,null,null,null,null,null,null,null,null,null,null,127,118.533333333333,111.125,104.58823529411799,98.7777777777777,93.578947368420998,88.9]
[16,null,null,null,null,null,null,null,null,null,null,null,null,null,127,119.0625,112.058823529412,105.833333333333,100.26315789473701,95.25]
[17,null,null,null,null,null,null,null,null,null,null,null,null,null,null,127,119.529411764706,112.888888888889,106.947368421053,101.6]
[18,null,null,null,null,null,null,null,null,null,null,null,null,null,null,null,127,119.944444444444,113.631578947368,107.95]
[19,null,null,null,null,null,null,null,null,null,null,null,null,null,null,null,null,127,120.31578947368401,114.3]
[20,null,null,null,null,null,null,null,null,null,null,null,null,null,null,null,null,null,127,120.65]
[21,null,null,null,null,null,null,null,null,null,null,null,null,null,null,null,null,null,null,127]